{"text_format":"1","workbook":"xlsx","n_sheets":21,"sheets":["Cov ","DE_Areas & Ind","DE_Capacity",".","Calculations","Cover","General","I","II","III","IV","V","VI","VII","VIII","IX","X","Improvement","Detail","Spread","Chart_"],"not_rendered":{"charts":817,"images":490,"macros":1,"external_links":0,"defined_names":59,"comments":0,"pivot_tables":0},"unopened":[],"bounds":{"document_bytes":16777216,"sheet_cells":100000,"rows_first":2000,"rows_last":500,"rows_between":2000,"halvings":0,"cell_chars":16384,"cell_head_chars":4096},"cells_cut":0,"cells_raw":0,"read":"whole","date_system":"1900"}

{"sheet":"Cov ","index":0,"n_rows":24,"n_cols":15,"rows_kept":24,"cut":false,"hidden":false,"merged":[[8,1,8,16],[11,1,11,16],[10,1,10,16]]}
[]
[]
[]
[]
[]
[]
[]
[]
[null,"Organizational Capacity Assessment"]
[]
[null,"Spreadsheet"]
[]
[]
[]
[]
[]
[]
[]
[]
[]
[]
[]
[]
[null,null,null,null,null,null,null,null,null,null,null,null,null,null,"Developed by Guillermo Rivero"]

{"sheet":"DE_Areas & Ind","index":1,"n_rows":47,"n_cols":229,"rows_kept":47,"cut":false,"hidden":false,"merged":[[25,25,27,25],[3,25,5,25],[1,2,1,27],[27,8,27,9],[27,14,27,15],[27,20,27,21],[27,26,27,27],[4,20,4,21],[4,26,4,27],[26,20,26,21],[26,26,26,27],[5,26,5,27],[27,2,27,3],[5,2,5,3],[5,8,5,9],[5,14,5,15],[5,20,5,21],[25,19,27,19],[3,1,5,1],[3,7,5,7],[3,13,5,13],[3,19,5,19],[25,1,27,1],[26,2,26,3],[26,8,26,9],[26,14,26,15],[25,7,27,7],[4,2,4,3],[4,8,4,9],[4,14,4,15],[25,13,27,13]]}
[]
[null,null,"Capacity Areas & Indicators"]
[]
[]
[null,null,"Area I",null," ",null,null,null,"Area II",null," ",null,null,null,"Area III",null," ",null,null,null,"Area IV",null," ",null,null,null,"Area V",null," ",null,null,null,null,null,null,null,null,null,null,null,null,null,null,null,null,null,null,null,null,null,null,null,null,null,null,null,null,null,null,null,null,null,null,null,null,null,null,null,null,null,null,null,null,null,null,null,null,null,"Capactity Areas",{"$f":"+C7","v":0},{"$f":"+I7","v":0},{"$f":"+O7","v":0},{"$f":"+U7","v":0},{"$f":"+AA7","v":0},{"$f":"+C29","v":0},{"$f":"+I29","v":0},{"$f":"+O29","v":0},{"$f":"+U29","v":0},{"$f":"+AA29","v":0}]
[null,null,null,null," ",null,null,null,null,null," ",null,null,null,null,null," ",null,null,null,null,null," ",null,null,null,null,null," ",null,null,null,null,null,null,null,null,null,null,null,null,null,null,null,null,null,null,null,null,null,null,null,null,null,null,null,null,null,null,null,null,null,null,null,null,null,null,null,null,null,null,null,null,null,null,null,null,null,null,1,2,3,4,5,6,7,8,9,10,11,12,13,14,15,16,17,18,19,20,21,22,23,24,25,26,27,28,29,30,31,32,33,34,35,36,37,38,39,40,41,42,43,44,45,46,47,48,49,50,51,52,53,54,55,56,57,58,59,60,61,62,63,64,65,66,67,68,69,70,71,72,73,74,75,76,77,78,79,80,81,82,83,84,85,86,87,88,89,90,91,92,93,94,95,96,97,98,99,100,101,102,103,104,105,106,107,108,109,110,111,112,113,114,115,116,117,118,119,120,121,122,123,124,125,126,127,128,129,130,131,132,133,134,135,136,137,138,139,140,141,142,143,144,145,146,147,148,149,150]
[null,"#",null,"Indicator Description"," ",null,null,"#",null,"Indicator Description"," ",null,null,"#",null,"Indicator Description"," ",null,null,"#",null,"Indicator Description"," ",null,null,"#",null,"Indicator Description"," "]
[null,1,null,null," ",null,null,16,null,null," ",null,null,31,null,null," ",null,null,46,null,null," ",null,null,61,null,null," ",null,null,null,null,null,null,null,null,null,null,null,null,null,null,null,null,null,null,null,null,null,null,null,null,null,null,null,null,null,null,null,null,null,null,null,null,null,null,null,null,null,null,null,null,null,null,null,null,null,"Indicators"]
[null,2,null,null," ",null,null,17,null,null," ",null,null,32,null,null," ",null,null,47,null,null," ",null,null,62,null,null," "]
[null,3,null,null," ",null,null,18,null,null," ",null,null,33,null,null," ",null,null,48,null,null," ",null,null,63,null,null," "]
[null,4,null,null," ",null,null,19,null,null," ",null,null,34,null,null," ",null,null,49,null,null," ",null,null,64,null,null," "]
[null,5,null,null," ",null,null,20,null,null," ",null,null,35,null,null," ",null,null,50,null,null," ",null,null,65,null,null," "]
[null,6,null,null," ",null,null,21,null,null," ",null,null,36,null,null," ",null,null,51,null,null," ",null,null,66,null,null," "]
[null,7,null,null," ",null,null,22,null,null," ",null,null,37,null,null," ",null,null,52,null,null," ",null,null,67,null,null," "]
[null,8,null,null," ",null,null,23,null,null," ",null,null,38,null,null," ",null,null,53,null,null," ",null,null,68,null,null," "]
[null,9,null,null," ",null,null,24,null,null," ",null,null,39,null,null," ",null,null,54,null,null," ",null,null,69,null,null," "]
[null,10,null,null," ",null,null,25,null,null," ",null,null,40,null,null," ",null,null,55,null,null," ",null,null,70,null,null," "]
[null,11,null,null," ",null,null,26,null,null," ",null,null,41,null,null," ",null,null,56,null,null," ",null,null,71,null,null," "]
[null,12,null,null," ",null,null,27,null,null," ",null,null,42,null,null," ",null,null,57,null,null," ",null,null,72,null,null," "]
[null,13,null,null," ",null,null,28,null,null," ",null,null,43,null,null," ",null,null,58,null,null," ",null,null,73,null,null," "]
[null,14,null,null," ",null,null,29,null,null," ",null,null,44,null,null," ",null,null,59,null,null," ",null,null,74,null,null," "]
[null,15,null,null," ",null,null,30,null,null," ",null,null,45,null,null," ",null,null,60,null,null," ",null,null,75,null,null," "]
[null,null,null,null," ",null,null,null,null,null," ",null,null,null,null,null," ",null,null,null,null,null," ",null,null,null,null,null," "]
[null,null,null,null," ",null,null,null,null,null," ",null,null,null,null,null," ",null,null,null,null,null," ",null,null,null,null,null," "]
[null,null,null,null," ",null,null,null,null,null," ",null,null,null,null,null," ",null,null,null,null,null," ",null,null,null,null,null," "]
[null,null,null,null," ",null,null,null,null,null," ",null,null,null,null,null," ",null,null,null,null,null," ",null,null,null,null,null," "]
[null,null,"Area VI",null," ",null,null,null,"Area VII",null," ",null,null,null,"Area VIII",null," ",null,null,null,"Area IX",null," ",null,null,null,"Area X",null," "]
[null,null,null,null," ",null,null,null,null,null," ",null,null,null,null,null," ",null,null,null,null,null," ",null,null,null,null,null," "]
[null,"#",null,"Indicator Description"," ",null,null,"#",null,"Indicator Description"," ",null,null,"#",null,"Indicator Description"," ",null,null,"#",null,"Indicator Description"," ",null,null,"#",null,"Indicator Description"," "]
[null,76,null,null," ",null,null,91,null,null," ",null,null,106,null,null," ",null,null,121,null,null," ",null,null,136,null,null," "]
[null,77,null,null," ",null,null,92,null,null," ",null,null,107,null,null," ",null,null,122,null,null," ",null,null,137,null,null," "]
[null,78,null,null," ",null,null,93,null,null," ",null,null,108,null,null," ",null,null,123,null,null," ",null,null,138,null,null," "]
[null,79,null,null," ",null,null,94,null,null," ",null,null,109,null,null," ",null,null,124,null,null," ",null,null,139,null,null," "]
[null,80,null,null," ",null,null,95,null,null," ",null,null,110,null,null," ",null,null,125,null,null," ",null,null,140,null,null," "]
[null,81,null,null," ",null,null,96,null,null," ",null,null,111,null,null," ",null,null,126,null,null," ",null,null,141,null,null," "]
[null,82,null,null," ",null,null,97,null,null," ",null,null,112,null,null," ",null,null,127,null,null," ",null,null,142,null,null," "]
[null,83,null,null," ",null,null,98,null,null," ",null,null,113,null,null," ",null,null,128,null,null," ",null,null,143,null,null," "]
[null,84,null,null," ",null,null,99,null,null," ",null,null,114,null,null," ",null,null,129,null,null," ",null,null,144,null,null," "]
[null,85,null,null," ",null,null,100,null,null," ",null,null,115,null,null," ",null,null,130,null,null," ",null,null,145,null,null," "]
[null,86,null,null," ",null,null,101,null,null," ",null,null,116,null,null," ",null,null,131,null,null," ",null,null,146,null,null," "]
[null,87,null,null," ",null,null,102,null,null," ",null,null,117,null,null," ",null,null,132,null,null," ",null,null,147,null,null," "]
[null,88,null,null," ",null,null,103,null,null," ",null,null,118,null,null," ",null,null,133,null,null," ",null,null,148,null,null," "]
[null,89,null,null," ",null,null,104,null,null," ",null,null,119,null,null," ",null,null,134,null,null," ",null,null,149,null,null," "]
[null,90,null,null," ",null,null,105,null,null," ",null,null,120,null,null," ",null,null,135,null,null," ",null,null,150,null,null," "]
[null,null,null,null," ",null,null,null,null,null," ",null,null,null,null,null," ",null,null,null,null,null," ",null,null,null,null,null," "]
[null,null,null,null," ",null,null,null,null,null," ",null,null,null,null,null," ",null,null,null,null,null," ",null,null,null,null,null," "]
[null,null,null,null," "]

{"sheet":"DE_Capacity","index":2,"n_rows":3236,"n_cols":2181,"rows_kept":139,"cut":true,"hidden":false,"merged":[[0,1,0,151],[12,2,12,151],[2,2,2,13],[4,2,4,7],[2,26,2,27],[4,22,4,27],[2,31,2,34]],"bounds":{"rows_first":62,"rows_last":15,"rows_between":62,"halvings":5}}
[null,"Capacity Assessment - Data Entry Sheet"]
[]
[null,"Organization's Name",null,null,null,null,null,null,null,null,null,null,null,null,null,null,"Number of Participants ",null,null,null,null,null,null,null,null,null,null,null,null,"Country"]
[]
[null,"Assessment Date",null,null,null,null,null,null,null,null,null,null,null,null,null,null,"Results Debriefing Date"]
[]
[null,"Indicador Valor Ordinal",1,2,3,4,5,6,7,8,9,10,11,12,13,14,15,16,17,18,19,20,21,22,23,24,25,26,27,28,29,30,31,32,33,34,35,36,37,38,39,40,41,42,43,44,45,46,47,48,49,50,51,52,53,54,55,56,57,58,59,60,61,62,63,64,65,66,67,68,69,70,71,72,73,74,75,76,77,78,79,80,81,82,83,84,85,86,87,88,89,90,91,92,93,94,95,96,97,98,99,100,101,102,103,104,105,106,107,108,109,110,111,112,113,114,115,116,117,118,119,120,121,122,123,124,125,126,127,128,129,130,131,132,133,134,135,136,137,138,139,140,141,142,143,144,145,146,147,148,149,150]
[null,"Categoria",{"$f":"IF(C9=0,\" \",+'DE_Areas & Ind'!$C$7)","v":" "},{"$f":"IF(D9=0,\" \",+'DE_Areas & Ind'!$C$7)","v":" "},{"$f":"IF(E9=0,\" \",+'DE_Areas & Ind'!$C$7)","v":" "},{"$f":"IF(F9=0,\" \",+'DE_Areas & Ind'!$C$7)","v":" "},{"$f":"IF(G9=0,\" \",+'DE_Areas & Ind'!$C$7)","v":" "},{"$f":"IF(H9=0,\" \",+'DE_Areas & Ind'!$C$7)","v":" "},{"$f":"IF(I9=0,\" \",+'DE_Areas & Ind'!$C$7)","v":" "},{"$f":"IF(J9=0,\" \",+'DE_Areas & Ind'!$C$7)","v":" "},{"$f":"IF(K9=0,\" \",+'DE_Areas & Ind'!$C$7)","v":" "},{"$f":"IF(L9=0,\" \",+'DE_Areas & Ind'!$C$7)","v":" "},{"$f":"IF(M9=0,\" \",+'DE_Areas & Ind'!$C$7)","v":" "},{"$f":"IF(N9=0,\" \",+'DE_Areas & Ind'!$C$7)","v":" "},{"$f":"IF(O9=0,\" \",+'DE_Areas & Ind'!$C$7)","v":" "},{"$f":"IF(P9=0,\" \",+'DE_Areas & Ind'!$C$7)","v":" "},{"$f":"IF(Q9=0,\" \",+'DE_Areas & Ind'!$C$7)","v":" "},{"$f":"+IF(R9=0,\" \",'DE_Areas & Ind'!$I$7)","v":" "},{"$f":"+IF(S9=0,\" \",'DE_Areas & Ind'!$I$7)","v":" "},{"$f":"+IF(T9=0,\" \",'DE_Areas & Ind'!$I$7)","v":" "},{"$f":"+IF(U9=0,\" \",'DE_Areas & Ind'!$I$7)","v":" "},{"$f":"+IF(V9=0,\" \",'DE_Areas & Ind'!$I$7)","v":" "},{"$f":"+IF(W9=0,\" \",'DE_Areas & Ind'!$I$7)","v":" "},{"$f":"+IF(X9=0,\" \",'DE_Areas & Ind'!$I$7)","v":" "},{"$f":"+IF(Y9=0,\" \",'DE_Areas & Ind'!$I$7)","v":" "},{"$f":"+IF(Z9=0,\" \",'DE_Areas & Ind'!$I$7)","v":" "},{"$f":"+IF(AA9=0,\" \",'DE_Areas & Ind'!$I$7)","v":" "},{"$f":"+IF(AB9=0,\" \",'DE_Areas & Ind'!$I$7)","v":" "},{"$f":"+IF(AC9=0,\" \",'DE_Areas & Ind'!$I$7)","v":" "},{"$f":"+IF(AD9=0,\" \",'DE_Areas & Ind'!$I$7)","v":" "},{"$f":"+IF(AE9=0,\" \",'DE_Areas & Ind'!$I$7)","v":" "},{"$f":"+IF(AF9=0,\" \",'DE_Areas & Ind'!$I$7)","v":" "},{"$f":"IF(AG9=0,\" \",+'DE_Areas & Ind'!$O$7)","v":" "},{"$f":"IF(AH9=0,\" \",+'DE_Areas & Ind'!$O$7)","v":" "},{"$f":"IF(AI9=0,\" \",+'DE_Areas & Ind'!$O$7)","v":" "},{"$f":"IF(AJ9=0,\" \",+'DE_Areas & Ind'!$O$7)","v":" "},{"$f":"IF(AK9=0,\" \",+'DE_Areas & Ind'!$O$7)","v":" "},{"$f":"IF(AL9=0,\" \",+'DE_Areas & Ind'!$O$7)","v":" "},{"$f":"IF(AM9=0,\" \",+'DE_Areas & Ind'!$O$7)","v":" "},{"$f":"IF(AN9=0,\" \",+'DE_Areas & Ind'!$O$7)","v":" "},{"$f":"IF(AO9=0,\" \",+'DE_Areas & Ind'!$O$7)","v":" "},{"$f":"IF(AP9=0,\" \",+'DE_Areas & Ind'!$O$7)","v":" "},{"$f":"IF(AQ9=0,\" \",+'DE_Areas & Ind'!$O$7)","v":" "},{"$f":"IF(AR9=0,\" \",+'DE_Areas & Ind'!$O$7)","v":" "},{"$f":"IF(AS9=0,\" \",+'DE_Areas & Ind'!$O$7)","v":" "},{"$f":"IF(AT9=0,\" \",+'DE_Areas & Ind'!$O$7)","v":" "},{"$f":"IF(AU9=0,\" \",+'DE_Areas & Ind'!$O$7)","v":" "},{"$f":"IF(AV9=0,\" \",+'DE_Areas & Ind'!$U$7)","v":" "},{"$f":"IF(AW9=0,\" \",+'DE_Areas & Ind'!$U$7)","v":" "},{"$f":"IF(AX9=0,\" \",+'DE_Areas & Ind'!$U$7)","v":" "},{"$f":"IF(AY9=0,\" \",+'DE_Areas & Ind'!$U$7)","v":" "},{"$f":"IF(AZ9=0,\" \",+'DE_Areas & Ind'!$U$7)","v":" "},{"$f":"IF(BA9=0,\" \",+'DE_Areas & Ind'!$U$7)","v":" "},{"$f":"IF(BB9=0,\" \",+'DE_Areas & Ind'!$U$7)","v":" "},{"$f":"IF(BC9=0,\" \",+'DE_Areas & Ind'!$U$7)","v":" "},{"$f":"IF(BD9=0,\" \",+'DE_Areas & Ind'!$U$7)","v":" "},{"$f":"IF(BE9=0,\" \",+'DE_Areas & Ind'!$U$7)","v":" "},{"$f":"IF(BF9=0,\" \",+'DE_Areas & Ind'!$U$7)","v":" "},{"$f":"IF(BG9=0,\" \",+'DE_Areas & Ind'!$U$7)","v":" "},{"$f":"IF(BH9=0,\" \",+'DE_Areas & Ind'!$U$7)","v":" "},{"$f":"IF(BI9=0,\" \",+'DE_Areas & Ind'!$U$7)","v":" "},{"$f":"IF(BJ9=0,\" \",+'DE_Areas & Ind'!$U$7)","v":" "},{"$f":"IF(BK9=0,\" \",+'DE_Areas & Ind'!$AA$7)","v":" "},{"$f":"IF(BL9=0,\" \",+'DE_Areas & Ind'!$AA$7)","v":" "},{"$f":"IF(BM9=0,\" \",+'DE_Areas & Ind'!$AA$7)","v":" "},{"$f":"IF(BN9=0,\" \",+'DE_Areas & Ind'!$AA$7)","v":" "},{"$f":"IF(BO9=0,\" \",+'DE_Areas & Ind'!$AA$7)","v":" "},{"$f":"IF(BP9=0,\" \",+'DE_Areas & Ind'!$AA$7)","v":" "},{"$f":"IF(BQ9=0,\" \",+'DE_Areas & Ind'!$AA$7)","v":" "},{"$f":"IF(BR9=0,\" \",+'DE_Areas & Ind'!$AA$7)","v":" "},{"$f":"IF(BS9=0,\" \",+'DE_Areas & Ind'!$AA$7)","v":" "},{"$f":"IF(BT9=0,\" \",+'DE_Areas & Ind'!$AA$7)","v":" "},{"$f":"IF(BU9=0,\" \",+'DE_Areas & Ind'!$AA$7)","v":" "},{"$f":"IF(BV9=0,\" \",+'DE_Areas & Ind'!$AA$7)","v":" "},{"$f":"IF(BW9=0,\" \",+'DE_Areas & Ind'!$AA$7)","v":" "},{"$f":"IF(BX9=0,\" \",+'DE_Areas & Ind'!$AA$7)","v":" "},{"$f":"IF(BY9=0,\" \",+'DE_Areas & Ind'!$AA$7)","v":" "},{"$f":"IF(BZ9=0,\" \",+'DE_Areas & Ind'!$C$29)","v":" "},{"$f":"IF(CA9=0,\" \",+'DE_Areas & Ind'!$C$29)","v":" "},{"$f":"IF(CB9=0,\" \",+'DE_Areas & Ind'!$C$29)","v":" "},{"$f":"IF(CC9=0,\" \",+'DE_Areas & Ind'!$C$29)","v":" "},{"$f":"IF(CD9=0,\" \",+'DE_Areas & Ind'!$C$29)","v":" "},{"$f":"IF(CE9=0,\" \",+'DE_Areas & Ind'!$C$29)","v":" "},{"$f":"IF(CF9=0,\" \",+'DE_Areas & Ind'!$C$29)","v":" "},{"$f":"IF(CG9=0,\" \",+'DE_Areas & Ind'!$C$29)","v":" "},{"$f":"IF(CH9=0,\" \",+'DE_Areas & Ind'!$C$29)","v":" "},{"$f":"IF(CI9=0,\" \",+'DE_Areas & Ind'!$C$29)","v":" "},{"$f":"IF(CJ9=0,\" \",+'DE_Areas & Ind'!$C$29)","v":" "},{"$f":"IF(CK9=0,\" \",+'DE_Areas & Ind'!$C$29)","v":" "},{"$f":"IF(CL9=0,\" \",+'DE_Areas & Ind'!$C$29)","v":" "},{"$f":"IF(CM9=0,\" \",+'DE_Areas & Ind'!$C$29)","v":" "},{"$f":"IF(CN9=0,\" \",+'DE_Areas & Ind'!$C$29)","v":" "},{"$f":"IF(CO9=0,\" \",+'DE_Areas & Ind'!$I$29)","v":" "},{"$f":"IF(CP9=0,\" \",+'DE_Areas & Ind'!$I$29)","v":" "},{"$f":"IF(CQ9=0,\" \",+'DE_Areas & Ind'!$I$29)","v":" "},{"$f":"IF(CR9=0,\" \",+'DE_Areas & Ind'!$I$29)","v":" "},{"$f":"IF(CS9=0,\" \",+'DE_Areas & Ind'!$I$29)","v":" "},{"$f":"IF(CT9=0,\" \",+'DE_Areas & Ind'!$I$29)","v":" "},{"$f":"IF(CU9=0,\" \",+'DE_Areas & Ind'!$I$29)","v":" "},{"$f":"IF(CV9=0,\" \",+'DE_Areas & Ind'!$I$29)","v":" "},{"$f":"IF(CW9=0,\" \",+'DE_Areas & Ind'!$I$29)","v":" "},{"$f":"IF(CX9=0,\" \",+'DE_Areas & Ind'!$I$29)","v":" "},{"$f":"IF(CY9=0,\" \",+'DE_Areas & Ind'!$I$29)","v":" "},{"$f":"IF(CZ9=0,\" \",+'DE_Areas & Ind'!$I$29)","v":" "},{"$f":"IF(DA9=0,\" \",+'DE_Areas & Ind'!$I$29)","v":" "},{"$f":"IF(DB9=0,\" \",+'DE_Areas & Ind'!$I$29)","v":" "},{"$f":"IF(DC9=0,\" \",+'DE_Areas & Ind'!$I$29)","v":" "},{"$f":"IF(DD9=0,\" \",+'DE_Areas & Ind'!$O$29)","v":" "},{"$f":"IF(DE9=0,\" \",+'DE_Areas & Ind'!$O$29)","v":" "},{"$f":"IF(DF9=0,\" \",+'DE_Areas & Ind'!$O$29)","v":" "},{"$f":"IF(DG9=0,\" \",+'DE_Areas & Ind'!$O$29)","v":" "},{"$f":"IF(DH9=0,\" \",+'DE_Areas & Ind'!$O$29)","v":" "},{"$f":"IF(DI9=0,\" \",+'DE_Areas & Ind'!$O$29)","v":" "},{"$f":"IF(DJ9=0,\" \",+'DE_Areas & Ind'!$O$29)","v":" "},{"$f":"IF(DK9=0,\" \",+'DE_Areas & Ind'!$O$29)","v":" "},{"$f":"IF(DL9=0,\" \",+'DE_Areas & Ind'!$O$29)","v":" "},{"$f":"IF(DM9=0,\" \",+'DE_Areas & Ind'!$O$29)","v":" "},{"$f":"IF(DN9=0,\" \",+'DE_Areas & Ind'!$O$29)","v":" "},{"$f":"IF(DO9=0,\" \",+'DE_Areas & Ind'!$O$29)","v":" "},{"$f":"IF(DP9=0,\" \",+'DE_Areas & Ind'!$O$29)","v":" "},{"$f":"IF(DQ9=0,\" \",+'DE_Areas & Ind'!$O$29)","v":" "},{"$f":"IF(DR9=0,\" \",+'DE_Areas & Ind'!$O$29)","v":" "},{"$f":"IF(DS9=0,\" \",+'DE_Areas & Ind'!$U$29)","v":" "},{"$f":"IF(DT9=0,\" \",+'DE_Areas & Ind'!$U$29)","v":" "},{"$f":"IF(DU9=0,\" \",+'DE_Areas & Ind'!$U$29)","v":" "},{"$f":"IF(DV9=0,\" \",+'DE_Areas & Ind'!$U$29)","v":" "},{"$f":"IF(DW9=0,\" \",+'DE_Areas & Ind'!$U$29)","v":" "},{"$f":"IF(DX9=0,\" \",+'DE_Areas & Ind'!$U$29)","v":" "},{"$f":"IF(DY9=0,\" \",+'DE_Areas & Ind'!$U$29)","v":" "},{"$f":"IF(DZ9=0,\" \",+'DE_Areas & Ind'!$U$29)","v":" "},{"$f":"IF(EA9=0,\" \",+'DE_Areas & Ind'!$U$29)","v":" "},{"$f":"IF(EB9=0,\" \",+'DE_Areas & Ind'!$U$29)","v":" "},{"$f":"IF(EC9=0,\" \",+'DE_Areas & Ind'!$U$29)","v":" "},{"$f":"IF(ED9=0,\" \",+'DE_Areas & Ind'!$U$29)","v":" "},{"$f":"IF(EE9=0,\" \",+'DE_Areas & Ind'!$U$29)","v":" "},{"$f":"IF(EF9=0,\" \",+'DE_Areas & Ind'!$U$29)","v":" "},{"$f":"IF(EG9=0,\" \",+'DE_Areas & Ind'!$U$29)","v":" "},{"$f":"IF(EH9=0,\" \",+'DE_Areas & Ind'!$AA$29)","v":" "},{"$f":"IF(EI9=0,\" \",+'DE_Areas & Ind'!$AA$29)","v":" "},{"$f":"IF(EJ9=0,\" \",+'DE_Areas & Ind'!$AA$29)","v":" "},{"$f":"IF(EK9=0,\" \",+'DE_Areas & Ind'!$AA$29)","v":" "},{"$f":"IF(EL9=0,\" \",+'DE_Areas & Ind'!$AA$29)","v":" "},{"$f":"IF(EM9=0,\" \",+'DE_Areas & Ind'!$AA$29)","v":" "},{"$f":"IF(EN9=0,\" \",+'DE_Areas & Ind'!$AA$29)","v":" "},{"$f":"IF(EO9=0,\" \",+'DE_Areas & Ind'!$AA$29)","v":" "},{"$f":"IF(EP9=0,\" \",+'DE_Areas & Ind'!$AA$29)","v":" "},{"$f":"IF(EQ9=0,\" \",+'DE_Areas & Ind'!$AA$29)","v":" "},{"$f":"IF(ER9=0,\" \",+'DE_Areas & Ind'!$AA$29)","v":" "},{"$f":"IF(ES9=0,\" \",+'DE_Areas & Ind'!$AA$29)","v":" "},{"$f":"IF(ET9=0,\" \",+'DE_Areas & Ind'!$AA$29)","v":" "},{"$f":"IF(EU9=0,\" \",+'DE_Areas & Ind'!$AA$29)","v":" "},{"$f":"IF(EV9=0,\" \",+'DE_Areas & Ind'!$AA$29)","v":" "}]
[null,"Code",{"$f":"'DE_Areas & Ind'!CB8","v":0},{"$f":"'DE_Areas & Ind'!CC8","v":0},{"$f":"'DE_Areas & Ind'!CD8","v":0},{"$f":"'DE_Areas & Ind'!CE8","v":0},{"$f":"'DE_Areas & Ind'!CF8","v":0},{"$f":"'DE_Areas & Ind'!CG8","v":0},{"$f":"'DE_Areas & Ind'!CH8","v":0},{"$f":"'DE_Areas & Ind'!CI8","v":0},{"$f":"'DE_Areas & Ind'!CJ8","v":0},{"$f":"'DE_Areas & Ind'!CK8","v":0},{"$f":"'DE_Areas & Ind'!CL8","v":0},{"$f":"'DE_Areas & Ind'!CM8","v":0},{"$f":"'DE_Areas & Ind'!CN8","v":0},{"$f":"'DE_Areas & Ind'!CO8","v":0},{"$f":"'DE_Areas & Ind'!CP8","v":0},{"$f":"'DE_Areas & Ind'!CQ8","v":0},{"$f":"'DE_Areas & Ind'!CR8","v":0},{"$f":"'DE_Areas & Ind'!CS8","v":0},{"$f":"'DE_Areas & Ind'!CT8","v":0},{"$f":"'DE_Areas & Ind'!CU8","v":0},{"$f":"'DE_Areas & Ind'!CV8","v":0},{"$f":"'DE_Areas & Ind'!CW8","v":0},{"$f":"'DE_Areas & Ind'!CX8","v":0},{"$f":"'DE_Areas & Ind'!CY8","v":0},{"$f":"'DE_Areas & Ind'!CZ8","v":0},{"$f":"'DE_Areas & Ind'!DA8","v":0},{"$f":"'DE_Areas & Ind'!DB8","v":0},{"$f":"'DE_Areas & Ind'!DC8","v":0},{"$f":"'DE_Areas & Ind'!DD8","v":0},{"$f":"'DE_Areas & Ind'!DE8","v":0},{"$f":"'DE_Areas & Ind'!DF8","v":0},{"$f":"'DE_Areas & Ind'!DG8","v":0},{"$f":"'DE_Areas & Ind'!DH8","v":0},{"$f":"'DE_Areas & Ind'!DI8","v":0},{"$f":"'DE_Areas & Ind'!DJ8","v":0},{"$f":"'DE_Areas & Ind'!DK8","v":0},{"$f":"'DE_Areas & Ind'!DL8","v":0},{"$f":"'DE_Areas & Ind'!DM8","v":0},{"$f":"'DE_Areas & Ind'!DN8","v":0},{"$f":"'DE_Areas & Ind'!DO8","v":0},{"$f":"'DE_Areas & Ind'!DP8","v":0},{"$f":"'DE_Areas & Ind'!DQ8","v":0},{"$f":"'DE_Areas & Ind'!DR8","v":0},{"$f":"'DE_Areas & Ind'!DS8","v":0},{"$f":"'DE_Areas & Ind'!DT8","v":0},{"$f":"'DE_Areas & Ind'!DU8","v":0},{"$f":"'DE_Areas & Ind'!DV8","v":0},{"$f":"'DE_Areas & Ind'!DW8","v":0},{"$f":"'DE_Areas & Ind'!DX8","v":0},{"$f":"'DE_Areas & Ind'!DY8","v":0},{"$f":"'DE_Areas & Ind'!DZ8","v":0},{"$f":"'DE_Areas & Ind'!EA8","v":0},{"$f":"'DE_Areas & Ind'!EB8","v":0},{"$f":"'DE_Areas & Ind'!EC8","v":0},{"$f":"'DE_Areas & Ind'!ED8","v":0},{"$f":"'DE_Areas & Ind'!EE8","v":0},{"$f":"'DE_Areas & Ind'!EF8","v":0},{"$f":"'DE_Areas & Ind'!EG8","v":0},{"$f":"'DE_Areas & Ind'!EH8","v":0},{"$f":"'DE_Areas & Ind'!EI8","v":0},{"$f":"'DE_Areas & Ind'!EJ8","v":0},{"$f":"'DE_Areas & Ind'!EK8","v":0},{"$f":"'DE_Areas & Ind'!EL8","v":0},{"$f":"'DE_Areas & Ind'!EM8","v":0},{"$f":"'DE_Areas & Ind'!EN8","v":0},{"$f":"'DE_Areas & Ind'!EO8","v":0},{"$f":"'DE_Areas & Ind'!EP8","v":0},{"$f":"'DE_Areas & Ind'!EQ8","v":0},{"$f":"'DE_Areas & Ind'!ER8","v":0},{"$f":"'DE_Areas & Ind'!ES8","v":0},{"$f":"'DE_Areas & Ind'!ET8","v":0},{"$f":"'DE_Areas & Ind'!EU8","v":0},{"$f":"'DE_Areas & Ind'!EV8","v":0},{"$f":"'DE_Areas & Ind'!EW8","v":0},{"$f":"'DE_Areas & Ind'!EX8","v":0},{"$f":"'DE_Areas & Ind'!EY8","v":0},{"$f":"'DE_Areas & Ind'!EZ8","v":0},{"$f":"'DE_Areas & Ind'!FA8","v":0},{"$f":"'DE_Areas & Ind'!FB8","v":0},{"$f":"'DE_Areas & Ind'!FC8","v":0},{"$f":"'DE_Areas & Ind'!FD8","v":0},{"$f":"'DE_Areas & Ind'!FE8","v":0},{"$f":"'DE_Areas & Ind'!FF8","v":0},{"$f":"'DE_Areas & Ind'!FG8","v":0},{"$f":"'DE_Areas & Ind'!FH8","v":0},{"$f":"'DE_Areas & Ind'!FI8","v":0},{"$f":"'DE_Areas & Ind'!FJ8","v":0},{"$f":"'DE_Areas & Ind'!FK8","v":0},{"$f":"'DE_Areas & Ind'!FL8","v":0},{"$f":"'DE_Areas & Ind'!FM8","v":0},{"$f":"'DE_Areas & Ind'!FN8","v":0},{"$f":"'DE_Areas & Ind'!FO8","v":0},{"$f":"'DE_Areas & Ind'!FP8","v":0},{"$f":"'DE_Areas & Ind'!FQ8","v":0},{"$f":"'DE_Areas & Ind'!FR8","v":0},{"$f":"'DE_Areas & Ind'!FS8","v":0},{"$f":"'DE_Areas & Ind'!FT8","v":0},{"$f":"'DE_Areas & Ind'!FU8","v":0},{"$f":"'DE_Areas & Ind'!FV8","v":0},{"$f":"'DE_Areas & Ind'!FW8","v":0},{"$f":"'DE_Areas & Ind'!FX8","v":0},{"$f":"'DE_Areas & Ind'!FY8","v":0},{"$f":"'DE_Areas & Ind'!FZ8","v":0},{"$f":"'DE_Areas & Ind'!GA8","v":0},{"$f":"'DE_Areas & Ind'!GB8","v":0},{"$f":"'DE_Areas & Ind'!GC8","v":0},{"$f":"'DE_Areas & Ind'!GD8","v":0},{"$f":"'DE_Areas & Ind'!GE8","v":0},{"$f":"'DE_Areas & Ind'!GF8","v":0},{"$f":"'DE_Areas & Ind'!GG8","v":0},{"$f":"'DE_Areas & Ind'!GH8","v":0},{"$f":"'DE_Areas & Ind'!GI8","v":0},{"$f":"'DE_Areas & Ind'!GJ8","v":0},{"$f":"'DE_Areas & Ind'!GK8","v":0},{"$f":"'DE_Areas & Ind'!GL8","v":0},{"$f":"'DE_Areas & Ind'!GM8","v":0},{"$f":"'DE_Areas & Ind'!GN8","v":0},{"$f":"'DE_Areas & Ind'!GO8","v":0},{"$f":"'DE_Areas & Ind'!GP8","v":0},{"$f":"'DE_Areas & Ind'!GQ8","v":0},{"$f":"'DE_Areas & Ind'!GR8","v":0},{"$f":"'DE_Areas & Ind'!GS8","v":0},{"$f":"'DE_Areas & Ind'!GT8","v":0},{"$f":"'DE_Areas & Ind'!GU8","v":0},{"$f":"'DE_Areas & Ind'!GV8","v":0},{"$f":"'DE_Areas & Ind'!GW8","v":0},{"$f":"'DE_Areas & Ind'!GX8","v":0},{"$f":"'DE_Areas & Ind'!GY8","v":0},{"$f":"'DE_Areas & Ind'!GZ8","v":0},{"$f":"'DE_Areas & Ind'!HA8","v":0},{"$f":"'DE_Areas & Ind'!HB8","v":0},{"$f":"'DE_Areas & Ind'!HC8","v":0},{"$f":"'DE_Areas & Ind'!HD8","v":0},{"$f":"'DE_Areas & Ind'!HE8","v":0},{"$f":"'DE_Areas & Ind'!HF8","v":0},{"$f":"'DE_Areas & Ind'!HG8","v":0},{"$f":"'DE_Areas & Ind'!HH8","v":0},{"$f":"'DE_Areas & Ind'!HI8","v":0},{"$f":"'DE_Areas & Ind'!HJ8","v":0},{"$f":"'DE_Areas & Ind'!HK8","v":0},{"$f":"'DE_Areas & Ind'!HL8","v":0},{"$f":"'DE_Areas & Ind'!HM8","v":0},{"$f":"'DE_Areas & Ind'!HN8","v":0},{"$f":"'DE_Areas & Ind'!HO8","v":0},{"$f":"'DE_Areas & Ind'!HP8","v":0},{"$f":"'DE_Areas & Ind'!HQ8","v":0},{"$f":"'DE_Areas & Ind'!HR8","v":0},{"$f":"'DE_Areas & Ind'!HS8","v":0},{"$f":"'DE_Areas & Ind'!HT8","v":0},{"$f":"'DE_Areas & Ind'!HU8","v":0},151]
[]
[]
[]
[null,"Participant","Individual Assessment Scores"]
[]
[]
[]
[]
[]
[]
[]
[]
[]
[]
[]
[]
[]
[]
[]
[]
[]
[]
[]
[]
[]
[]
[]
[]
[]
[]
[]
[]
[]
[]
[]
[]
[]
[]
[]
[]
[]
[]
[]
[]
[]
[]
[]
[]
[]
[]
[]
[]
[]
[]
[]
[]
[]
[]
[]
[]
[]
[]
[null,null,null,null,null,null,null,null,null,null,null,null,null,null,null,null,null,null,null,null,null,null,null,null,null,null,null,null,null,null,null,null,null,null,null,null,null,null,null,null,null,null,null,null,null,null,null,null,null,null,null,null,null,null,null,null,null,null,null,null,null,null,null,null,null,null,null,null,null,null,null,null,null,null,null,null,null,null,null,null,null,null,null,null,null,null,null,null,null,null,null,null,null,null,null,null,null,null,null,null,null,null,null,null,null,null,null,null,null,null,null,null,null,null,null,null,null,null,null,null,null,null,null,null,null,null,null,null,null,null,null,null,null,null,null,null,null,null,null,null,null,null,null,null,null,null,null,null,null,null,null,null,null,null,null,null,null,null,null,null,null,null,null,null,null,null,null,null,null,null,null,null,null,null,null,null,null,null,null,null,null,null,null,null,null,null,null,null,null,null,null,null,null,null,null,null,null,null,null,null,null,null,null,null,null,null,null,null,null,null,null,null,null,null,null,null,null,null,null,null,null,null,null,null,null,null,null,null,null,null,null,null,null,null,null,null,null,null,null,null,null,null,null,null,null,null,null,null,null,null,null,null,null,null,null,null,null,null,null,null,null,null,null,null,null,null,null,null,null,null,null,null,null,null,null,null,null,null,null,null,null,null,null,null,null,null,null,null,null,null,null,null,null,null,null,null,null,null,null,null,null,null,null,null,null,null,null,null,null,null,null,null,null,null,null,null,null,null,null,null,null,null,null,null,null,null,null,null,null,null,null,null,null,null,null,null,null,null,null,null,null,null,null,null,null,null,null,null,null,null,null,null,null,null,null,null,null,null,null,null,null,null,null,null,null,null,null,null,null,null,null,null,null,null,null,null,null,null,null,null,null,null,null,null,null,null,null,null,null,null,null,null,null,null,null,null,null,null,null,null,null,null,null,null,null,null,null,null,null,null,null,null,null,null,null,null,null,null,null,null,null,null,null,null,null,null,null,null,null,null,null,null,null,null,null,null,null,null,null,null,null,null,null,null,null,null,null,null,null,null,null,null,null,null,null,null,null,null,null,null,null,null,null,null,null,null,null,null,null,null,null,null,null,null,null,null,null,null,null,null,null,null,null,null,null,null,null,null,null,null,null,null,null,null,null,null,null,null,null,null,null,null,null,null,null,null,null,null,null,null,null,null,null,null,null,null,null,null,null,null,null,null,null,null,null,null,null,null,null,null,null,null,null,null,null,null,null,null,null,null,null,null,null,null,null,null,null,null,null,null,null,null,null,null,null,null,null,null,null,null,null,null,null,null,null,null,null,null,null,null,null,null,null,null,null,null,null,null,null,null,null,null,null,null,null,null,null,null,null,null,null,null,null,null,null,null,null,null,null,null,null,null,null,null,null,null,null,null,null,null,null,null,null,null,null,null,null,null,null,null,null,null,null,null,null,null,null,null,null,null,null,null,null,null,null,null,null,null,null,null,null,null,null,null,null,null,null,null,null,null,null,null,null,null,null,null,null,null,null,null,null,null,null,null,null,null,null,null,null,null,null,null,null,null,null,null,null,null,null,null,null,null,null,null,null,null,null,null,null,null,null,null,null,null,null,null,null,null,null,null,null,null,null,null,null,null,null,null,null,null,null,null,null,null,null,null,null,null,null,null,null,null,null,null,null,null,null,null,null,null,null,null,null,null,null,null,null,null,null,null,null,null,null,null,null,null,null,null,null,null,null,null,null,null,null,null,null,null,null,null,null,null,null,null,null,null,null,null,null,null,null,null,null,null,null,null,null,null,null,null,null,null,null,null,null,null,null,null,null,null,null,null,null,null,null,null,null,null,null,null,null,null,null,null,null,null,null,null,null,null,null,null,null,null,null,null,null,null,null,null,null,null,null,null,null,null,null,null,null,null,null,null,null,null,null,null,null,null,null,null,null,null,null,null,null,null,null,null,null,null,null,null,null,null,null,null,null,null,null,null,null,null,null,null,null,null,null,null,null,null,null,null,null,null,null,null,null,null,null,null,null,null,null,null,null,null,null,null,null,null,null,null,null,null,null,null,null,null,null,null,null,null,null,"Importance (Votacion)",{"$f":"+#REF!","v":{"$error":"#REF!"}},{"$f":"+#REF!","v":{"$error":"#REF!"}},{"$f":"+#REF!","v":{"$error":"#REF!"}},{"$f":"+#REF!","v":{"$error":"#REF!"}},{"$f":"+#REF!","v":{"$error":"#REF!"}},{"$f":"+#REF!","v":{"$error":"#REF!"}},{"$f":"+#REF!","v":{"$error":"#REF!"}},{"$f":"+#REF!","v":{"$error":"#REF!"}},{"$f":"+#REF!","v":{"$error":"#REF!"}},{"$f":"+#REF!","v":{"$error":"#REF!"}}]
[null,null,null,null,"Capacity",null,"Consensus",null,null,null,null,null,null,null,null,null,null,null,null,"Capacity",null,"Consensus",null,null,null,null,null,null,null,null,null,null,null,null,"Capacity",null,"Consensus",null,null,null,null,null,null,null,null,null,null,null,null,"Capacity",null,"Consensus",null,null,null,null,null,null,null,null,null,null,null,null,"Capacity",null,"Consensus",null,null,null,null,null,null,null,null,null,null,null,null,"Capacity",null,"Consensus",null,null,null,null,null,null,null,null,null,null,null,null,"Capacity",null,"Consensus",null,null,null,null,null,null,null,null,null,null,null,null,"Capacity",null,"Consensus",null,null,null,null,null,null,null,null,null,null,null,null,"Capacity",null,"Consensus",null,null,null,null,null,null,null,null,null,null,null,null,"Capacity",null,"Consensus"]
[9,null,null,null,{"$error":"#DIV/0!"},null,{"$error":"#DIV/0!"},null,null,null,null,null,null,null,null,null,null,null,null,{"$error":"#DIV/0!"},null,{"$error":"#DIV/0!"},null,null,null,null,null,null,null,null,null,null,null,null,{"$error":"#DIV/0!"},null,{"$error":"#DIV/0!"},null,null,null,null,null,null,null,null,null,null,null,null,{"$error":"#DIV/0!"},null,{"$error":"#DIV/0!"},null,null,null,null,null,null,null,null,null,null,null,null,{"$error":"#DIV/0!"},null,{"$error":"#DIV/0!"},null,null,null,null,null,null,null,null,null,null,null,null,{"$error":"#DIV/0!"},null,{"$error":"#DIV/0!"},null,null,null,null,null,null,null,null,null,null,null,null,{"$error":"#DIV/0!"},null,{"$error":"#DIV/0!"},null,null,null,null,null,null,null,null,null,null,null,null,{"$error":"#DIV/0!"},null,{"$error":"#DIV/0!"},null,null,null,null,null,null,null,null,null,null,null,null,{"$error":"#DIV/0!"},null,{"$error":"#DIV/0!"},null,null,null,null,null,null,null,null,null,null,null,null,{"$error":"#DIV/0!"},null,{"$error":"#DIV/0!"}]
[null,7,null,null,{"$error":"#DIV/0!"}]
[null,58,null,null,{"$error":"#DIV/0!"}]
[null,110,null,null,{"$error":"#DIV/0!"}]
[null,161]
[null,213]
[null,264]
[null,315]
[null,367]
[null,420]
[null,469]
[null,520]
[null,571]
[null,623]
[null,674]
[null,725]
[null,777]
[]
[]
[]
[]
[]
[]
[]
[]
[]
[]
[]
[]
[]
[]
[]
[]
[]
[]
[]
[null,null,null,null,null,null,null,null,null,null,null,null,null,null,null,null,null,null,null,null,null,null,null,null,null,null,null,null,null,null,null,null,null,null,null,null,null,null,null,null,null,null,null,null,null,null,null,null,null,null,null,null,null,null,null,null,null,null,null,null,null,null,null,null,null,null,null,null,null,null,null,null,null,null,null,null,null,null,null,null,null,null,null,null,null,null,null,null,null,null,null,null,null,null,null,null,null,null,null,null,null,null,null,null,null,null,null,null,null,null,null,null,null,null,null,null,null,null,null,null,null,null,null,null,null,null,null,null,null,null,null,null,null,null,null,null,null,null,null,null,null,null,null,null,null,null,null,null,null,null,null,null,null,null,null,null,null,null,null,null,null,null,null,null,null,null,null,null,null,null,null,null,null,null,null,null,null,null,null,null,null,null,null,null,null,null,null,null,null,null,null,null,null,null,null,null,null,null,null,null,null,null,null,null,null,null,null,null,null,null,null,null,null,null,null,null,null,null,null,null,null,null,null,null,null,null,null,null,null,null,null,null,null,null,null,null,null,null,null,null,null,null,null,null,null,null,null,null,null,null,null,null,null,null,null,null,null,null,null,null,null,null,null,null,null,null,null,null,null,null,null,null,null,null,null,null,null,null,null,null,null,null,null,null,null,null,null,null,null,null,null,null,null,null,null,null,null,null,null,null,null,null,null,null,null,null,null,null,null,null,null,null,null,null,null,null,null,null,null,null,null,null,null,null,null,null,null,null,null,null,null,null,null,null,null,null,null,null,null,null,null,null,null,null,null,null,null,null,null,null,null,null,null,null,null,null,null,null,null,null,null,null,null,null,null,null,null,null,null,null,null,null,null,null,null,null,null,null,null,null,null,null,null,null,null,null,null,null,null,null,null,null,null,null,null,null,null,null,null,null,null,null,null,null,null,null,null,null,null,null,null,null,null,null,null,null,null,null,null,null,null,null,null,null,null,null,null,null,null,null,null,null,null,null,null,null,null,null,null,null,null,null,null,null,null,null,null,null,null,null,null,null,null,null,null,null,null,null,null,null,null,null,null,null,null,null,null,null,null,null,null,null,null,null,null,null,null,null,null,null,null,null,null,null,null,null,null,null,null,null,null,null,null,null,null,null,null,null,null,null,null,null,null,null,null,null,null,null,null,null,null,null,null,null,null,null,null,null,null,null,null,null,null,null,null,null,null,null,null,null,null,null,null,null,null,null,null,null,null,null,null,null,null,null,null,null,null,null,null,null,null,null,null,null,null,null,null,null,null,null,null,null,null,null,null,null,null,null,null,null,null,null,null,null,null,null,null,null,null,null,null,null,null,null,null,null,null,null,null,null,null,null,null,null,null,null,null,null,null,null,null,null,null,null,null,null,null,null,null,null,null,null,null,null,null,null,null,null,null,null,null,null,null,null,null,null,null,null,null,null,null,null,null,null,null,null,null,null,null,null,null,null,null,null,null,null,null,null,null,null,null,null,null,null,null,null,null,null,null,null,null,null,null,null,null,null,null,null,null,null,null,null,null,null,null,null,null,null,null,null,null,null,null,null,null,null,null,null,null,null,null,null,null,null,null,null,null,null,null,null,null,null,null,null,null,null,null,null,null,null,null,null,null,null,null,null,null,null,null,null,null,null,null,null,null,null,null,null,null,null,null,null,null,null,null,null,null,null,null,null,null,null,null,null,null,null,null,null,null,null,null,null,null,null,null,null,null,null,null,null,null,null,null,null,null,null,null,null,null,null,null,null,null,null,null,null,null,null,null,null,null,null,null,null,null,null,null,null,null,null,null,null,null,null,null,null,null,null,null,null,null,null,null,null,null,null,null,null,null,null,null,null,null,null,null,null,null,null,null,null,null,null,null,null,null,null,null,null,null,null,null,null,null,null,null,null,null,null,null,null,null,null,null,null,null,null,null,null,null,null,null,null,null,null,null,null,null,null,null,null,null,null,null,null,null,null,null,null,null,null,null,null,null,null,null,null,null,null,null,null,null,null,null,null,null,null,null,null,null,null,null,null,null,null,null,null,null,null,null,null,null,null,null,null,null,null,null,null,null,null,null,null,null,null,null,null,null,null,null,null,null,null,null,null,null,null,null,null,null,null,null,null,null,null,null,null,null,null,null,null,null,null,null,null,null,null,null,null,null,null,null,null,null,null,null,null,null,null,null,null,null,null,null,null,null,null,null,null,null,null,null,null,null,null,null,null,null,null,null,null,null,null,null,null,null,null,null,null,null,null,null,null,null,null,null,null,null,null,null,null,null,null,null,null,null,null,null,null,null,null,null,null,null,null,null,null,null,null,null,null,null,null,null,null,null,null,null,null,null,null,null,null,null,null,null,null,null,null,null,null,null,null,null,null,null,null,null,null,null,null,null,null,null,null,null,null,null,null,null,null,null,null,null,null,null,null,null,null,null,null,null,null,null,null,null,null,null,null,null,null,null,null,null,null,null,null,null,null,null,null,null,null,null,null,null,null,null,null,null,null,null,null,null,43,null,null,null,null,null,null,null,null,null,null,null,null,null,null,null,null,null,null,null,null,null,null,null,null,null,null,null,null,null,null,null,null,null,null,null,null,null,null,null,null,null,null,null,null,null,null,null,null,null,null,null,null,null,null,null,null,null,null,null,null,null,null,null,null,null,null,null,null,null,null,null,null,null,null,null,null,null,null,null,null,null,null,null,null,null,null,null,null,null,null,null,null,null,null,null,null,null,null,null,null,null,null,null,null,null,null,null,null,null,null,null,null,null,null,null,null,null,null,null,null,null,null,null,null,null,null,null,null,null,null,null,null,null,null,null,null,null,null,null,null,null,null,null,null,null,null,null,null,null,null,null,null,null,null,null,null,null,null,null,null,null,null,null,null,null,null,null,null,null,null,null,null,null,null,null,null,null,null,null,null,null,null,null,null,null,null,null,null,null,null,null,null,null,null,null,null,null,null,null,null,null,null,null,null,null,null,null,null,null,null,null,null,null,null,null,null,null,null,null,null,null,null,null,null,null,null,null,null,null,null,null,null,null,null,null,null,null,null,null,null,null,null,null,null,null,null,null,null,null,null,null,null,null,null,null,null,null,null,null,null,null,null,null,null,null,null,null,null,null,null,null,null,null,null,null,null,null,null,null,null,null,null,null,null,null,null,null,null,null,null,null,null,null,null,null,null,null,null,null,null,null,null,null,null,null,null,null,null,null,null,null,null,null,null,null,null,null,null,null,null,null,null,null,null,null,null,null,null,null,null,null,null,null,null,null,null,null,null,null,null,null,null,null,null,null,null,null,null,null,null,null,null,null,null,null,null,null,null,null,null,null,null,null,null,null,null,null,null,null,null,null,null,null,null,null,null,null,null,null,null,null,null,null,null,null,null,null,null,null,null,null,null,null,null,null,null,null,null,null,null,null,null,null,null,null,null,null,null,null,null,null,null,null,null,null,null,null,null,null,null,null,null,null,null,null,null,null,null,null,null,null,null,null,null,null,null,null,null,null,null,null,null,null,null,null,null,null,null,null,null,null,null,null,null,null,null,null,null,null,null,null,null,null,null,null,null,null,null,null,null,null,null,null,null,null,null,null,null,null,null,null,null,null,null,null,null,null,null,null,null,null,null,null,null,null,null,null,null,null,null,null,null,null,null,null,null,null,null,null,null,null,null,null,null,null,null,null,null,null,null,null,null,null,null,null,null,null,null,null,null,null,null,null,null,null,null,null,null,null,null,null,null,null,null,null,null,null,null,null,null,null,null,null,null,null,null,null,null,null,null,null,null,null,null,null,null,null,null,null,null,null,null,null,null,null,null,null,null,null,null,null,null,null,null,null,null,null,null,null,null,null,null,null,null,null,null,null,null,null,null,null,null,null,null,null,null,null,null,null,null,null,null,null,null,null,null,null,null,null,null,null,null,null,null,null,null,null,null,null,null,null,null,null,null,null,null,null,null,null,null,null,null,null,null,null,null,null,null,null,null,null,null,null,null,null,null,null,null,null,null,null,null,null,null,null,null,null,null,null,null,null,null,null,null,null,null,null,null,null,null,null,null,null,null,null,null,null,null,null,null,null,null,null,null,null,null,null,null,null,null,null,null,null,null,null,null,null,null,null,null,null,null,null,null,null,null,null,null,null,null,null,null,null,null,null,null,null,null,null,null,null,null,null,null,null,null,null,null,null,null,null,null,null,null,null,null,null,null,null,null,null,null,null,null,null,null,null,null,null,null,null,null,null,null,null,null,null,null,null,null,null,null,null,null,null,null,null,null,null,null,null,null,null,null,null,null,null,null,null,null,null,null,null,null,null,null,null,null,null,null,null,null,null,null,null,null,null,null,null,null,null,null,null,null,null,null,null,null,null,null,null,null,null,null,null,null,null,null,null,null,null,null,null,null,null,null,null,null,null,null,null,null,null,null,null,null,null,null,null,null,null,null,null,null,null,null,null,null,null,null,null,null,null,null,null,null,null,null,null,null,null,null,null,null,null,null,null,null,null,null,null,null,null,null,null,null,null,null,null,null,null,null,null,null,null,null,null,null,null,null,null,null,null,null,null,null,42,{"$f":"+Calculations!G865","v":109},{"$f":"+Calculations!H865","v":0},{"$f":"+Calculations!I865","v":{"$error":"#DIV/0!"}},{"$f":"+Calculations!J865","v":{"$error":"#DIV/0!"}},null,{"$f":"+Calculations!H52","v":0},{"$f":"+Calculations!K52","v":0},{"$f":"+Calculations!L52","v":0},{"$f":"+Calculations!M52","v":0},{"$f":"+Calculations!N52","v":0},{"$f":"+Calculations!O52","v":0}]
[null,null,null,null,null,null,null,null,null,null,null,null,null,null,null,null,null,null,null,null,null,null,null,null,null,null,null,null,null,null,null,null,null,null,null,null,null,null,null,null,null,null,null,null,null,null,null,null,null,null,null,null,null,null,null,null,null,null,null,null,null,null,null,null,null,null,null,null,null,null,null,null,null,null,null,null,null,null,null,null,null,null,null,null,null,null,null,null,null,null,null,null,null,null,null,null,null,null,null,null,null,null,null,null,null,null,null,null,null,null,null,null,null,null,null,null,null,null,null,null,null,null,null,null,null,null,null,null,null,null,null,null,null,null,null,null,null,null,null,null,null,null,null,null,null,null,null,null,null,null,null,null,null,null,null,null,null,null,null,null,null,null,null,null,null,null,null,null,null,null,null,null,null,null,null,null,null,null,null,null,null,null,null,null,null,null,null,null,null,null,null,null,null,null,null,null,null,null,null,null,null,null,null,null,null,null,null,null,null,null,null,null,null,null,null,null,null,null,null,null,null,null,null,null,null,null,null,null,null,null,null,null,null,null,null,null,null,null,null,null,null,null,null,null,null,null,null,null,null,null,null,null,null,null,null,null,null,null,null,null,null,null,null,null,null,null,null,null,null,null,null,null,null,null,null,null,null,null,null,null,null,null,null,null,null,null,null,null,null,null,null,null,null,null,null,null,null,null,null,null,null,null,null,null,null,null,null,null,null,null,null,null,null,null,null,null,null,null,null,null,null,null,null,null,null,null,null,null,null,null,null,null,null,null,null,null,null,null,null,null,null,null,null,null,null,null,null,null,null,null,null,null,null,null,null,null,null,null,null,null,null,null,null,null,null,null,null,null,null,null,null,null,null,null,null,null,null,null,null,null,null,null,null,null,null,null,null,null,null,null,null,null,null,null,null,null,null,null,null,null,null,null,null,null,null,null,null,null,null,null,null,null,null,null,null,null,null,null,null,null,null,null,null,null,null,null,null,null,null,null,null,null,null,null,null,null,null,null,null,null,null,null,null,null,null,null,null,null,null,null,null,null,null,null,null,null,null,null,null,null,null,null,null,null,null,null,null,null,null,null,null,null,null,null,null,null,null,null,null,null,null,null,null,null,null,null,null,null,null,null,null,null,null,null,null,null,null,null,null,null,null,null,null,null,null,null,null,null,null,null,null,null,null,null,null,null,null,null,null,null,null,null,null,null,null,null,null,null,null,null,null,null,null,null,null,null,null,null,null,null,null,null,null,null,null,null,null,null,null,null,null,null,null,null,null,null,null,null,null,null,null,null,null,null,null,null,null,null,null,null,null,null,null,null,null,null,null,null,null,null,null,null,null,null,null,null,null,null,null,null,null,null,null,null,null,null,null,null,null,null,null,null,null,null,null,null,null,null,null,null,null,null,null,null,null,null,null,null,null,null,null,null,null,null,null,null,null,null,null,null,null,null,null,null,null,null,null,null,null,null,null,null,null,null,null,null,null,null,null,null,null,null,null,null,null,null,null,null,null,null,null,null,null,null,null,null,null,null,null,null,null,null,null,null,null,null,null,null,null,null,null,null,null,null,null,null,null,null,null,null,null,null,null,null,null,null,null,null,null,null,null,null,null,null,null,null,null,null,null,null,null,null,null,null,null,null,null,null,null,null,null,null,null,null,null,null,null,null,null,null,null,null,null,null,null,null,null,null,null,null,null,null,null,null,null,null,null,null,null,null,null,null,null,null,null,null,null,null,null,null,null,null,null,null,null,null,null,null,null,null,null,null,null,null,null,null,null,null,null,null,null,null,null,null,null,null,null,null,null,null,null,null,null,null,null,null,null,null,null,null,null,null,null,null,null,null,null,null,null,null,null,null,null,null,null,null,null,null,null,null,null,null,null,null,null,null,null,null,null,null,null,null,null,null,null,null,null,null,null,null,null,null,null,null,null,null,null,null,null,null,null,null,null,null,null,null,null,null,null,null,null,null,null,null,null,null,null,null,null,null,null,null,null,null,null,null,null,null,null,null,null,null,null,null,null,null,null,null,null,null,null,null,null,null,null,null,null,null,null,null,null,null,null,null,null,null,null,null,null,null,null,null,null,null,null,null,null,null,null,null,null,null,null,null,null,null,null,null,null,null,null,null,null,null,null,null,null,null,null,null,null,null,null,null,null,null,null,null,null,null,null,null,null,null,null,null,null,null,null,null,null,null,null,null,null,null,null,null,null,null,null,null,null,null,null,null,null,null,null,null,null,null,null,null,null,null,null,null,null,null,null,null,null,null,null,null,null,null,null,null,null,null,null,null,null,null,null,null,null,null,null,null,null,null,null,null,null,null,null,null,null,null,null,null,null,null,null,null,null,null,null,null,null,null,null,null,null,null,null,null,null,null,null,null,null,null,null,null,null,null,null,null,null,null,null,null,null,null,null,null,null,null,null,null,null,null,null,null,null,null,null,null,null,null,null,null,null,null,null,null,null,null,null,null,null,null,null,null,null,null,null,null,null,null,null,null,null,null,null,null,null,null,null,null,null,null,null,null,null,null,null,null,null,null,null,null,null,null,null,null,null,null,null,null,null,null,null,null,null,null,null,null,null,null,null,null,null,null,null,null,null,null,null,null,null,null,null,null,null,null,null,null,null,null,null,null,null,null,null,null,null,null,null,null,null,null,null,null,null,null,null,null,null,null,null,null,null,null,null,null,null,null,null,null,null,null,null,null,null,null,null,null,null,null,null,null,null,null,null,null,null,null,null,null,null,null,null,null,null,null,null,null,null,null,null,null,null,null,null,null,null,null,null,null,null,null,null,null,null,null,null,null,null,null,null,null,null,null,null,null,null,null,null,null,null,null,null,null,null,null,null,null,null,null,null,null,null,null,null,null,null,null,null,null,null,null,null,null,null,null,null,null,null,null,null,null,null,null,null,null,null,null,null,null,null,null,null,null,null,null,null,null,null,null,null,null,null,null,null,null,null,null,null,null,null,null,null,null,null,null,null,null,null,null,null,null,null,null,null,null,null,null,null,null,null,null,null,null,null,null,null,null,null,null,null,null,null,null,null,null,null,null,null,null,null,null,null,null,null,null,null,null,null,null,null,null,null,null,null,null,null,null,null,null,null,null,null,null,null,null,null,null,null,null,null,null,null,null,null,null,null,null,null,null,null,null,null,null,null,null,null,null,null,null,null,null,null,null,null,null,null,null,null,null,null,null,null,null,null,null,null,null,null,null,null,null,null,null,null,null,null,null,null,null,null,null,null,null,null,null,null,null,null,null,null,null,null,null,null,null,null,null,null,null,null,null,null,null,null,null,null,null,null,null,null,null,null,null,null,null,null,null,null,null,null,null,null,null,null,null,null,null,null,null,null,null,null,null,null,null,null,null,null,null,null,null,null,null,null,null,null,null,null,null,null,null,null,null,null,null,null,null,null,null,null,null,null,null,null,null,null,null,null,null,null,null,null,null,null,null,null,null,null,null,null,null,null,null,null,null,null,null,null,null,null,null,null,null,null,null,null,null,null,null,null,null,null,null,null,null,null,null,null,null,null,null,null,null,null,null,null,null,null,null,null,null,null,null,null,null,null,null,null,null,null,null,null,null,null,null,null,null,null,null,null,null,null,null,null,null,null,null,null,null,null,null,null,null,null,null,null,null,null,null,null,null,null,null,null,null,null,null,null,null,null,null,null,null,null,null,null,null,null,null,null,null,null,null,null,null,null,null,null,null,null,null,null,null,null,null,null,null,null,null,null,null,null,null,null,null,null,null,null,null,null,null,null,null,null,null,null,null,null,null,null,null,null,null,null,null,null,null,null,null,null,null,null,null,null,null,null,null,null,null,null,null,null,null,null,null,null,null,null,null,null,null,null,null,null,null,null,null,null,null,null,null,null,null,null,null,null,null,null,null,null,null,null,null,null,null,null,null,null,null,null,null,null,null,null,null,null,null,null,null,null,null,null,null,null,null,null,null,null,null,null,null,null,null,null,null,null,null,null,null,null,null,null,null,null,null,null,null,null,null,null,null,null,null,null,null,null,null,null,null,null,null,null,null,null,null,null,null,null,null,null,null,null,null,null,null,null,null,null,null,null,null,null,null,null,null,null,null,null,null,null,null,null,null,null,null,null,null,null,null,null,null,null,null,null,null,null,null,null,null,null,null,null,null,null,null,null,null,null,null,null,null,null,null,null,null,null,null,null,null,null,null,null,null,null,null,null,null,null,null,null,null,null,null,null,null,null,null,null,null,null,null,null,null,null,null,null,null,null,null,null,null,null,null,null,null,null,null,null,null,null,null,null,null,null,null,null,null,null,null,null,null,null,null,null,null,null,null,null,null,null,null,null,null,null,null,null,null,null,null,null,null,null,null,null,null,null,null,null,null,null,null,null,null,null,null,null,null,null,null,null,null,null,null,null,null,null,null,null,null,null,null,null,null,null,null,null,null,null,null,null,null,null,null,null,null,null,null,null,null,null,null,null,null,null,null,null,null,null,null,null,null,null,null,null,null,null,null,null,null,null,null,null,null,null,null,null,null,null,null,null,null,null,null,null,null,null,null,null,null,null,null,null,null,null,null,94,{"$f":"+Calculations!G917","v":57},{"$f":"+Calculations!H917","v":0},{"$f":"+Calculations!I917","v":{"$error":"#DIV/0!"}},{"$f":"+Calculations!J917","v":{"$error":"#DIV/0!"}},null,{"$f":"+Calculations!H104","v":0},{"$f":"+Calculations!K104","v":0},{"$f":"+Calculations!L104","v":0},{"$f":"+Calculations!M104","v":0},{"$f":"+Calculations!N104","v":0},{"$f":"+Calculations!O104","v":0}]
[null,null,null,null,null,null,null,null,null,null,null,null,null,null,null,null,null,null,null,null,null,null,null,null,null,null,null,null,null,null,null,null,null,null,null,null,null,null,null,null,null,null,null,null,null,null,null,null,null,null,null,null,null,null,null,null,null,null,null,null,null,null,null,null,null,null,null,null,null,null,null,null,null,null,null,null,null,null,null,null,null,null,null,null,null,null,null,null,null,null,null,null,null,null,null,null,null,null,null,null,null,null,null,null,null,null,null,null,null,null,null,null,null,null,null,null,null,null,null,null,null,null,null,null,null,null,null,null,null,null,null,null,null,null,null,null,null,null,null,null,null,null,null,null,null,null,null,null,null,null,null,null,null,null,null,null,null,null,null,null,null,null,null,null,null,null,null,null,null,null,null,null,null,null,null,null,null,null,null,null,null,null,null,null,null,null,null,null,null,null,null,null,null,null,null,null,null,null,null,null,null,null,null,null,null,null,null,null,null,null,null,null,null,null,null,null,null,null,null,null,null,null,null,null,null,null,null,null,null,null,null,null,null,null,null,null,null,null,null,null,null,null,null,null,null,null,null,null,null,null,null,null,null,null,null,null,null,null,null,null,null,null,null,null,null,null,null,null,null,null,null,null,null,null,null,null,null,null,null,null,null,null,null,null,null,null,null,null,null,null,null,null,null,null,null,null,null,null,null,null,null,null,null,null,null,null,null,null,null,null,null,null,null,null,null,null,null,null,null,null,null,null,null,null,null,null,null,null,null,null,null,null,null,null,null,null,null,null,null,null,null,null,null,null,null,null,null,null,null,null,null,null,null,null,null,null,null,null,null,null,null,null,null,null,null,null,null,null,null,null,null,null,null,null,null,null,null,null,null,null,null,null,null,null,null,null,null,null,null,null,null,null,null,null,null,null,null,null,null,null,null,null,null,null,null,null,null,null,null,null,null,null,null,null,null,null,null,null,null,null,null,null,null,null,null,null,null,null,null,null,null,null,null,null,null,null,null,null,null,null,null,null,null,null,null,null,null,null,null,null,null,null,null,null,null,null,null,null,null,null,null,null,null,null,null,null,null,null,null,null,null,null,null,null,null,null,null,null,null,null,null,null,null,null,null,null,null,null,null,null,null,null,null,null,null,null,null,null,null,null,null,null,null,null,null,null,null,null,null,null,null,null,null,null,null,null,null,null,null,null,null,null,null,null,null,null,null,null,null,null,null,null,null,null,null,null,null,null,null,null,null,null,null,null,null,null,null,null,null,null,null,null,null,null,null,null,null,null,null,null,null,null,null,null,null,null,null,null,null,null,null,null,null,null,null,null,null,null,null,null,null,null,null,null,null,null,null,null,null,null,null,null,null,null,null,null,null,null,null,null,null,null,null,null,null,null,null,null,null,null,null,null,null,null,null,null,null,null,null,null,null,null,null,null,null,null,null,null,null,null,null,null,null,null,null,null,null,null,null,null,null,null,null,null,null,null,null,null,null,null,null,null,null,null,null,null,null,null,null,null,null,null,null,null,null,null,null,null,null,null,null,null,null,null,null,null,null,null,null,null,null,null,null,null,null,null,null,null,null,null,null,null,null,null,null,null,null,null,null,null,null,null,null,null,null,null,null,null,null,null,null,null,null,null,null,null,null,null,null,null,null,null,null,null,null,null,null,null,null,null,null,null,null,null,null,null,null,null,null,null,null,null,null,null,null,null,null,null,null,null,null,null,null,null,null,null,null,null,null,null,null,null,null,null,null,null,null,null,null,null,null,null,null,null,null,null,null,null,null,null,null,null,null,null,null,null,null,null,null,null,null,null,null,null,null,null,null,null,null,null,null,null,null,null,null,null,null,null,null,null,null,null,null,null,null,null,null,null,null,null,null,null,null,null,null,null,null,null,null,null,null,null,null,null,null,null,null,null,null,null,null,null,null,null,null,null,null,null,null,null,null,null,null,null,null,null,null,null,null,null,null,null,null,null,null,null,null,null,null,null,null,null,null,null,null,null,null,null,null,null,null,null,null,null,null,null,null,null,null,null,null,null,null,null,null,null,null,null,null,null,null,null,null,null,null,null,null,null,null,null,null,null,null,null,null,null,null,null,null,null,null,null,null,null,null,null,null,null,null,null,null,null,null,null,null,null,null,null,null,null,null,null,null,null,null,null,null,null,null,null,null,null,null,null,null,null,null,null,null,null,null,null,null,null,null,null,null,null,null,null,null,null,null,null,null,null,null,null,null,null,null,null,null,null,null,null,null,null,null,null,null,null,null,null,null,null,null,null,null,null,null,null,null,null,null,null,null,null,null,null,null,null,null,null,null,null,null,null,null,null,null,null,null,null,null,null,null,null,null,null,null,null,null,null,null,null,null,null,null,null,null,null,null,null,null,null,null,null,null,null,null,null,null,null,null,null,null,null,null,null,null,null,null,null,null,null,null,null,null,null,null,null,null,null,null,null,null,null,null,null,null,null,null,null,null,null,null,null,null,null,null,null,null,null,null,null,null,null,null,null,null,null,null,null,null,null,null,null,null,null,null,null,null,null,null,null,null,null,null,null,null,null,null,null,null,null,null,null,null,null,null,null,null,null,null,null,null,null,null,null,null,null,null,null,null,null,null,null,null,null,null,null,null,null,null,null,null,null,null,null,null,null,null,null,null,null,null,null,null,null,null,null,null,null,null,null,null,null,null,null,null,null,null,null,null,null,null,null,null,null,null,null,null,null,null,null,null,null,null,null,null,null,null,null,null,null,null,null,null,null,null,null,null,null,null,null,null,null,null,null,null,null,null,null,null,null,null,null,null,null,null,null,null,null,null,null,null,null,null,null,null,null,null,null,null,null,null,null,null,null,null,null,null,null,null,null,null,null,null,null,null,null,null,null,null,null,null,null,null,null,null,null,null,null,null,null,null,null,null,null,null,null,null,null,null,null,null,null,null,null,null,null,null,null,null,null,null,null,null,null,null,null,null,null,null,null,null,null,null,null,null,null,null,null,null,null,null,null,null,null,null,null,null,null,null,null,null,null,null,null,null,null,null,null,null,null,null,null,null,null,null,null,null,null,null,null,null,null,null,null,null,null,null,null,null,null,null,null,null,null,null,null,null,null,null,null,null,null,null,null,null,null,null,null,null,null,null,null,null,null,null,null,null,null,null,null,null,null,null,null,null,null,null,null,null,null,null,null,null,null,null,null,null,null,null,null,null,null,null,null,null,null,null,null,null,null,null,null,null,null,null,null,null,null,null,null,null,null,null,null,null,null,null,null,null,null,null,null,null,null,null,null,null,null,null,null,null,null,null,null,null,null,null,null,null,null,null,null,null,null,null,null,null,null,null,null,null,null,null,null,null,null,null,null,null,null,null,null,null,null,null,null,null,null,null,null,null,null,null,null,null,null,null,null,null,null,null,null,null,null,null,null,null,null,null,null,null,null,null,null,null,null,null,null,null,null,null,null,null,null,null,null,null,null,null,null,null,null,null,null,null,null,null,null,null,null,null,null,null,null,null,null,null,null,null,null,null,null,null,null,null,null,null,null,null,null,null,null,null,null,null,null,null,null,null,null,null,null,null,null,null,null,null,null,null,null,null,null,null,null,null,null,null,null,null,null,null,null,null,null,null,null,null,null,null,null,null,null,null,null,null,null,null,null,null,null,null,null,null,null,null,null,null,null,null,null,null,null,null,null,null,null,null,null,null,null,null,null,null,null,null,null,null,null,null,null,null,null,null,null,null,null,null,null,null,null,null,null,null,null,null,null,null,null,null,null,null,null,null,null,null,null,null,null,null,null,null,null,null,null,null,null,null,null,null,null,null,null,null,null,null,null,null,null,null,null,null,null,null,null,null,null,null,null,null,null,null,null,null,null,null,null,null,null,null,null,null,null,null,null,null,null,null,null,null,null,null,null,null,null,null,null,null,null,null,null,null,null,null,null,null,null,null,null,null,null,null,null,null,null,null,null,null,null,null,null,null,null,null,null,null,null,null,null,null,null,null,null,null,null,null,null,null,null,null,null,null,null,null,null,null,null,null,null,null,null,null,null,null,null,null,null,null,null,null,null,null,null,null,null,null,null,null,null,null,null,null,null,null,null,null,null,null,null,null,null,null,null,null,null,null,null,null,null,null,null,null,null,null,null,null,null,null,null,null,null,null,null,null,null,null,null,null,null,null,null,null,null,null,null,null,null,null,null,null,null,null,null,null,null,null,null,null,null,null,null,null,null,null,null,null,null,null,null,null,null,null,null,null,null,null,null,null,null,null,null,null,null,null,null,null,null,null,null,null,null,null,null,null,null,null,null,null,null,null,null,null,null,null,null,null,null,null,null,null,null,null,null,null,null,null,null,null,null,null,null,null,null,null,null,null,null,null,null,null,null,null,null,null,null,null,null,null,null,null,null,null,null,null,null,null,null,null,null,null,null,null,null,null,null,null,null,null,null,null,null,null,null,null,null,null,null,null,null,null,null,null,null,null,null,null,null,null,null,null,null,null,null,null,null,null,null,null,null,null,null,null,null,null,null,null,null,null,null,null,null,null,null,null,null,null,null,null,null,null,null,null,null,null,null,145,{"$f":"+Calculations!G968","v":6},{"$f":"+Calculations!H968","v":0},{"$f":"+Calculations!I968","v":{"$error":"#DIV/0!"}},{"$f":"+Calculations!J968","v":{"$error":"#DIV/0!"}},null,{"$f":"+Calculations!H155","v":0},{"$f":"+Calculations!K155","v":0},{"$f":"+Calculations!L155","v":0},{"$f":"+Calculations!M155","v":0},{"$f":"+Calculations!N155","v":0},{"$f":"+Calculations!O155","v":0}]
[null,null,null,null,null,null,null,null,null,null,null,null,null,null,null,null,null,null,null,null,null,null,null,null,null,null,null,null,null,null,null,null,null,null,null,null,null,null,null,null,null,null,null,null,null,null,null,null,null,null,null,null,null,null,null,null,null,null,null,null,null,null,null,null,null,null,null,null,null,null,null,null,null,null,null,null,null,null,null,null,null,null,null,null,null,null,null,null,null,null,null,null,null,null,null,null,null,null,null,null,null,null,null,null,null,null,null,null,null,null,null,null,null,null,null,null,null,null,null,null,null,null,null,null,null,null,null,null,null,null,null,null,null,null,null,null,null,null,null,null,null,null,null,null,null,null,null,null,null,null,null,null,null,null,null,null,null,null,null,null,null,null,null,null,null,null,null,null,null,null,null,null,null,null,null,null,null,null,null,null,null,null,null,null,null,null,null,null,null,null,null,null,null,null,null,null,null,null,null,null,null,null,null,null,null,null,null,null,null,null,null,null,null,null,null,null,null,null,null,null,null,null,null,null,null,null,null,null,null,null,null,null,null,null,null,null,null,null,null,null,null,null,null,null,null,null,null,null,null,null,null,null,null,null,null,null,null,null,null,null,null,null,null,null,null,null,null,null,null,null,null,null,null,null,null,null,null,null,null,null,null,null,null,null,null,null,null,null,null,null,null,null,null,null,null,null,null,null,null,null,null,null,null,null,null,null,null,null,null,null,null,null,null,null,null,null,null,null,null,null,null,null,null,null,null,null,null,null,null,null,null,null,null,null,null,null,null,null,null,null,null,null,null,null,null,null,null,null,null,null,null,null,null,null,null,null,null,null,null,null,null,null,null,null,null,null,null,null,null,null,null,null,null,null,null,null,null,null,null,null,null,null,null,null,null,null,null,null,null,null,null,null,null,null,null,null,null,null,null,null,null,null,null,null,null,null,null,null,null,null,null,null,null,null,null,null,null,null,null,null,null,null,null,null,null,null,null,null,null,null,null,null,null,null,null,null,null,null,null,null,null,null,null,null,null,null,null,null,null,null,null,null,null,null,null,null,null,null,null,null,null,null,null,null,null,null,null,null,null,null,null,null,null,null,null,null,null,null,null,null,null,null,null,null,null,null,null,null,null,null,null,null,null,null,null,null,null,null,null,null,null,null,null,null,null,null,null,null,null,null,null,null,null,null,null,null,null,null,null,null,null,null,null,null,null,null,null,null,null,null,null,null,null,null,null,null,null,null,null,null,null,null,null,null,null,null,null,null,null,null,null,null,null,null,null,null,null,null,null,null,null,null,null,null,null,null,null,null,null,null,null,null,null,null,null,null,null,null,null,null,null,null,null,null,null,null,null,null,null,null,null,null,null,null,null,null,null,null,null,null,null,null,null,null,null,null,null,null,null,null,null,null,null,null,null,null,null,null,null,null,null,null,null,null,null,null,null,null,null,null,null,null,null,null,null,null,null,null,null,null,null,null,null,null,null,null,null,null,null,null,null,null,null,null,null,null,null,null,null,null,null,null,null,null,null,null,null,null,null,null,null,null,null,null,null,null,null,null,null,null,null,null,null,null,null,null,null,null,null,null,null,null,null,null,null,null,null,null,null,null,null,null,null,null,null,null,null,null,null,null,null,null,null,null,null,null,null,null,null,null,null,null,null,null,null,null,null,null,null,null,null,null,null,null,null,null,null,null,null,null,null,null,null,null,null,null,null,null,null,null,null,null,null,null,null,null,null,null,null,null,null,null,null,null,null,null,null,null,null,null,null,null,null,null,null,null,null,null,null,null,null,null,null,null,null,null,null,null,null,null,null,null,null,null,null,null,null,null,null,null,null,null,null,null,null,null,null,null,null,null,null,null,null,null,null,null,null,null,null,null,null,null,null,null,null,null,null,null,null,null,null,null,null,null,null,null,null,null,null,null,null,null,null,null,null,null,null,null,null,null,null,null,null,null,null,null,null,null,null,null,null,null,null,null,null,null,null,null,null,null,null,null,null,null,null,null,null,null,null,null,null,null,null,null,null,null,null,null,null,null,null,null,null,null,null,null,null,null,null,null,null,null,null,null,null,null,null,null,null,null,null,null,null,null,null,null,null,null,null,null,null,null,null,null,null,null,null,null,null,null,null,null,null,null,null,null,null,null,null,null,null,null,null,null,null,null,null,null,null,null,null,null,null,null,null,null,null,null,null,null,null,null,null,null,null,null,null,null,null,null,null,null,null,null,null,null,null,null,null,null,null,null,null,null,null,null,null,null,null,null,null,null,null,null,null,null,null,null,null,null,null,null,null,null,null,null,null,null,null,null,null,null,null,null,null,null,null,null,null,null,null,null,null,null,null,null,null,null,null,null,null,null,null,null,null,null,null,null,null,null,null,null,null,null,null,null,null,null,null,null,null,null,null,null,null,null,null,null,null,null,null,null,null,null,null,null,null,null,null,null,null,null,null,null,null,null,null,null,null,null,null,null,null,null,null,null,null,null,null,null,null,null,null,null,null,null,null,null,null,null,null,null,null,null,null,null,null,null,null,null,null,null,null,null,null,null,null,null,null,null,null,null,null,null,null,null,null,null,null,null,null,null,null,null,null,null,null,null,null,null,null,null,null,null,null,null,null,null,null,null,null,null,null,null,null,null,null,null,null,null,null,null,null,null,null,null,null,null,null,null,null,null,null,null,null,null,null,null,null,null,null,null,null,null,null,null,null,null,null,null,null,null,null,null,null,null,null,null,null,null,null,null,null,null,null,null,null,null,null,null,null,null,null,null,null,null,null,null,null,null,null,null,null,null,null,null,null,null,null,null,null,null,null,null,null,null,null,null,null,null,null,null,null,null,null,null,null,null,null,null,null,null,null,null,null,null,null,null,null,null,null,null,null,null,null,null,null,null,null,null,null,null,null,null,null,null,null,null,null,null,null,null,null,null,null,null,null,null,null,null,null,null,null,null,null,null,null,null,null,null,null,null,null,null,null,null,null,null,null,null,null,null,null,null,null,null,null,null,null,null,null,null,null,null,null,null,null,null,null,null,null,null,null,null,null,null,null,null,null,null,null,null,null,null,null,null,null,null,null,null,null,null,null,null,null,null,null,null,null,null,null,null,null,null,null,null,null,null,null,null,null,null,null,null,null,null,null,null,null,null,null,null,null,null,null,null,null,null,null,null,null,null,null,null,null,null,null,null,null,null,null,null,null,null,null,null,null,null,null,null,null,null,null,null,null,null,null,null,null,null,null,null,null,null,null,null,null,null,null,null,null,null,null,null,null,null,null,null,null,null,null,null,null,null,null,null,null,null,null,null,null,null,null,null,null,null,null,null,null,null,null,null,null,null,null,null,null,null,null,null,null,null,null,null,null,null,null,null,null,null,null,null,null,null,null,null,null,null,null,null,null,null,null,null,null,null,null,null,null,null,null,null,null,null,null,null,null,null,null,null,null,null,null,null,null,null,null,null,null,null,null,null,null,null,null,null,null,null,null,null,null,null,null,null,null,null,null,null,null,null,null,null,null,null,null,null,null,null,null,null,null,null,null,null,null,null,null,null,null,null,null,null,null,null,null,null,null,null,null,null,null,null,null,null,null,null,null,null,null,null,null,null,null,null,null,null,null,null,null,null,null,null,null,null,null,null,null,null,null,null,null,null,null,null,null,null,null,null,null,null,null,null,null,null,null,null,null,null,null,null,null,null,null,null,null,null,null,null,null,null,null,null,null,null,null,null,null,null,null,null,null,null,null,null,null,null,null,null,null,null,null,null,null,null,null,null,null,null,null,null,null,null,null,null,null,null,null,null,null,null,null,null,null,null,null,null,null,null,null,null,null,null,null,null,null,null,null,null,null,null,null,null,null,null,null,null,null,null,null,null,null,null,null,null,null,null,null,null,null,null,null,null,null,null,null,null,null,null,null,null,null,null,null,null,null,null,null,null,null,null,null,null,null,null,null,null,null,null,null,null,null,null,null,null,null,null,null,null,null,null,null,null,null,null,null,null,null,null,null,null,null,null,null,null,null,null,null,null,null,null,null,null,null,null,null,null,null,null,null,null,null,null,null,null,null,null,null,null,null,null,null,null,null,null,null,null,null,null,null,null,null,null,null,null,null,null,null,null,null,null,null,null,null,null,null,null,null,null,null,null,null,null,null,null,null,null,null,null,null,null,null,null,null,null,null,null,null,null,null,null,null,null,null,null,null,null,null,null,null,null,null,null,null,null,null,null,null,null,null,null,null,null,null,null,null,null,null,null,null,null,null,null,null,null,null,null,null,null,null,null,null,null,null,null,null,null,null,null,null,null,null,null,null,null,null,null,null,null,null,null,null,null,null,null,null,null,null,null,null,null,null,null,null,null,null,null,null,null,null,null,null,null,null,null,null,null,null,null,null,null,null,null,null,null,null,null,null,null,null,null,null,null,null,null,null,null,null,null,null,null,null,null,null,null,null,null,null,null,null,null,null,null,null,null,null,null,null,null,null,null,null,null,null,null,null,null,null,null,null,null,null,null,null,null,null,null,null,null,null,null,null,null,null,null,null,null,null,null,null,null,null,null,null,null,null,null,null,null,null,null,197]
[null,null,null,null,null,null,null,null,null,null,null,null,null,null,null,null,null,null,null,null,null,null,null,null,null,null,null,null,null,null,null,null,null,null,null,null,null,null,null,null,null,null,null,null,null,null,null,null,null,null,null,null,null,null,null,null,null,null,null,null,null,null,null,null,null,null,null,null,null,null,null,null,null,null,null,null,null,null,null,null,null,null,null,null,null,null,null,null,null,null,null,null,null,null,null,null,null,null,null,null,null,null,null,null,null,null,null,null,null,null,null,null,null,null,null,null,null,null,null,null,null,null,null,null,null,null,null,null,null,null,null,null,null,null,null,null,null,null,null,null,null,null,null,null,null,null,null,null,null,null,null,null,null,null,null,null,null,null,null,null,null,null,null,null,null,null,null,null,null,null,null,null,null,null,null,null,null,null,null,null,null,null,null,null,null,null,null,null,null,null,null,null,null,null,null,null,null,null,null,null,null,null,null,null,null,null,null,null,null,null,null,null,null,null,null,null,null,null,null,null,null,null,null,null,null,null,null,null,null,null,null,null,null,null,null,null,null,null,null,null,null,null,null,null,null,null,null,null,null,null,null,null,null,null,null,null,null,null,null,null,null,null,null,null,null,null,null,null,null,null,null,null,null,null,null,null,null,null,null,null,null,null,null,null,null,null,null,null,null,null,null,null,null,null,null,null,null,null,null,null,null,null,null,null,null,null,null,null,null,null,null,null,null,null,null,null,null,null,null,null,null,null,null,null,null,null,null,null,null,null,null,null,null,null,null,null,null,null,null,null,null,null,null,null,null,null,null,null,null,null,null,null,null,null,null,null,null,null,null,null,null,null,null,null,null,null,null,null,null,null,null,null,null,null,null,null,null,null,null,null,null,null,null,null,null,null,null,null,null,null,null,null,null,null,null,null,null,null,null,null,null,null,null,null,null,null,null,null,null,null,null,null,null,null,null,null,null,null,null,null,null,null,null,null,null,null,null,null,null,null,null,null,null,null,null,null,null,null,null,null,null,null,null,null,null,null,null,null,null,null,null,null,null,null,null,null,null,null,null,null,null,null,null,null,null,null,null,null,null,null,null,null,null,null,null,null,null,null,null,null,null,null,null,null,null,null,null,null,null,null,null,null,null,null,null,null,null,null,null,null,null,null,null,null,null,null,null,null,null,null,null,null,null,null,null,null,null,null,null,null,null,null,null,null,null,null,null,null,null,null,null,null,null,null,null,null,null,null,null,null,null,null,null,null,null,null,null,null,null,null,null,null,null,null,null,null,null,null,null,null,null,null,null,null,null,null,null,null,null,null,null,null,null,null,null,null,null,null,null,null,null,null,null,null,null,null,null,null,null,null,null,null,null,null,null,null,null,null,null,null,null,null,null,null,null,null,null,null,null,null,null,null,null,null,null,null,null,null,null,null,null,null,null,null,null,null,null,null,null,null,null,null,null,null,null,null,null,null,null,null,null,null,null,null,null,null,null,null,null,null,null,null,null,null,null,null,null,null,null,null,null,null,null,null,null,null,null,null,null,null,null,null,null,null,null,null,null,null,null,null,null,null,null,null,null,null,null,null,null,null,null,null,null,null,null,null,null,null,null,null,null,null,null,null,null,null,null,null,null,null,null,null,null,null,null,null,null,null,null,null,null,null,null,null,null,null,null,null,null,null,null,null,null,null,null,null,null,null,null,null,null,null,null,null,null,null,null,null,null,null,null,null,null,null,null,null,null,null,null,null,null,null,null,null,null,null,null,null,null,null,null,null,null,null,null,null,null,null,null,null,null,null,null,null,null,null,null,null,null,null,null,null,null,null,null,null,null,null,null,null,null,null,null,null,null,null,null,null,null,null,null,null,null,null,null,null,null,null,null,null,null,null,null,null,null,null,null,null,null,null,null,null,null,null,null,null,null,null,null,null,null,null,null,null,null,null,null,null,null,null,null,null,null,null,null,null,null,null,null,null,null,null,null,null,null,null,null,null,null,null,null,null,null,null,null,null,null,null,null,null,null,null,null,null,null,null,null,null,null,null,null,null,null,null,null,null,null,null,null,null,null,null,null,null,null,null,null,null,null,null,null,null,null,null,null,null,null,null,null,null,null,null,null,null,null,null,null,null,null,null,null,null,null,null,null,null,null,null,null,null,null,null,null,null,null,null,null,null,null,null,null,null,null,null,null,null,null,null,null,null,null,null,null,null,null,null,null,null,null,null,null,null,null,null,null,null,null,null,null,null,null,null,null,null,null,null,null,null,null,null,null,null,null,null,null,null,null,null,null,null,null,null,null,null,null,null,null,null,null,null,null,null,null,null,null,null,null,null,null,null,null,null,null,null,null,null,null,null,null,null,null,null,null,null,null,null,null,null,null,null,null,null,null,null,null,null,null,null,null,null,null,null,null,null,null,null,null,null,null,null,null,null,null,null,null,null,null,null,null,null,null,null,null,null,null,null,null,null,null,null,null,null,null,null,null,null,null,null,null,null,null,null,null,null,null,null,null,null,null,null,null,null,null,null,null,null,null,null,null,null,null,null,null,null,null,null,null,null,null,null,null,null,null,null,null,null,null,null,null,null,null,null,null,null,null,null,null,null,null,null,null,null,null,null,null,null,null,null,null,null,null,null,null,null,null,null,null,null,null,null,null,null,null,null,null,null,null,null,null,null,null,null,null,null,null,null,null,null,null,null,null,null,null,null,null,null,null,null,null,null,null,null,null,null,null,null,null,null,null,null,null,null,null,null,null,null,null,null,null,null,null,null,null,null,null,null,null,null,null,null,null,null,null,null,null,null,null,null,null,null,null,null,null,null,null,null,null,null,null,null,null,null,null,null,null,null,null,null,null,null,null,null,null,null,null,null,null,null,null,null,null,null,null,null,null,null,null,null,null,null,null,null,null,null,null,null,null,null,null,null,null,null,null,null,null,null,null,null,null,null,null,null,null,null,null,null,null,null,null,null,null,null,null,null,null,null,null,null,null,null,null,null,null,null,null,null,null,null,null,null,null,null,null,null,null,null,null,null,null,null,null,null,null,null,null,null,null,null,null,null,null,null,null,null,null,null,null,null,null,null,null,null,null,null,null,null,null,null,null,null,null,null,null,null,null,null,null,null,null,null,null,null,null,null,null,null,null,null,null,null,null,null,null,null,null,null,null,null,null,null,null,null,null,null,null,null,null,null,null,null,null,null,null,null,null,null,null,null,null,null,null,null,null,null,null,null,null,null,null,null,null,null,null,null,null,null,null,null,null,null,null,null,null,null,null,null,null,null,null,null,null,null,null,null,null,null,null,null,null,null,null,null,null,null,null,null,null,null,null,null,null,null,null,null,null,null,null,null,null,null,null,null,null,null,null,null,null,null,null,null,null,null,null,null,null,null,null,null,null,null,null,null,null,null,null,null,null,null,null,null,null,null,null,null,null,null,null,null,null,null,null,null,null,null,null,null,null,null,null,null,null,null,null,null,null,null,null,null,null,null,null,null,null,null,null,null,null,null,null,null,null,null,null,null,null,null,null,null,null,null,null,null,null,null,null,null,null,null,null,null,null,null,null,null,null,null,null,null,null,null,null,null,null,null,null,null,null,null,null,null,null,null,null,null,null,null,null,null,null,null,null,null,null,null,null,null,null,null,null,null,null,null,null,null,null,null,null,null,null,null,null,null,null,null,null,null,null,null,null,null,null,null,null,null,null,null,null,null,null,null,null,null,null,null,null,null,null,null,null,null,null,null,null,null,null,null,null,null,null,null,null,null,null,null,null,null,null,null,null,null,null,null,null,null,null,null,null,null,null,null,null,null,null,null,null,null,null,null,null,null,null,null,null,null,null,null,null,null,null,null,null,null,null,null,null,null,null,null,null,null,null,null,null,null,null,null,null,null,null,null,null,null,null,null,null,null,null,null,null,null,null,null,null,null,null,null,null,null,null,null,null,null,null,null,null,null,null,null,null,null,null,null,null,null,null,null,null,null,null,null,null,null,null,null,null,null,null,null,null,null,null,null,null,null,null,null,null,null,null,null,null,null,null,null,null,null,null,null,null,null,null,null,null,null,null,null,null,null,null,null,null,null,null,null,null,null,null,null,null,null,null,null,null,null,null,null,null,null,null,null,null,null,null,null,null,null,null,null,null,null,null,null,null,null,null,null,null,null,null,null,null,null,null,null,null,null,null,null,null,null,null,null,null,null,null,null,null,null,null,null,null,null,null,null,null,null,null,null,null,null,null,null,null,null,null,null,null,null,null,null,null,null,null,null,null,null,null,null,null,null,null,null,null,null,null,null,null,null,null,null,null,null,null,null,null,null,null,null,null,null,null,null,null,null,null,null,null,null,null,null,null,null,null,null,null,null,null,null,null,null,null,null,null,null,null,null,null,null,null,null,null,null,null,null,null,null,null,null,null,null,null,null,null,null,null,null,null,null,null,null,null,null,null,null,null,null,null,null,null,null,null,null,null,null,null,null,null,null,null,null,null,null,null,null,null,null,null,null,null,null,null,null,null,null,null,null,null,null,null,null,null,null,null,null,null,null,null,null,null,null,null,null,null,null,null,null,null,null,null,null,248]
[null,null,null,null,null,null,null,null,null,null,null,null,null,null,null,null,null,null,null,null,null,null,null,null,null,null,null,null,null,null,null,null,null,null,null,null,null,null,null,null,null,null,null,null,null,null,null,null,null,null,null,null,null,null,null,null,null,null,null,null,null,null,null,null,null,null,null,null,null,null,null,null,null,null,null,null,null,null,null,null,null,null,null,null,null,null,null,null,null,null,null,null,null,null,null,null,null,null,null,null,null,null,null,null,null,null,null,null,null,null,null,null,null,null,null,null,null,null,null,null,null,null,null,null,null,null,null,null,null,null,null,null,null,null,null,null,null,null,null,null,null,null,null,null,null,null,null,null,null,null,null,null,null,null,null,null,null,null,null,null,null,null,null,null,null,null,null,null,null,null,null,null,null,null,null,null,null,null,null,null,null,null,null,null,null,null,null,null,null,null,null,null,null,null,null,null,null,null,null,null,null,null,null,null,null,null,null,null,null,null,null,null,null,null,null,null,null,null,null,null,null,null,null,null,null,null,null,null,null,null,null,null,null,null,null,null,null,null,null,null,null,null,null,null,null,null,null,null,null,null,null,null,null,null,null,null,null,null,null,null,null,null,null,null,null,null,null,null,null,null,null,null,null,null,null,null,null,null,null,null,null,null,null,null,null,null,null,null,null,null,null,null,null,null,null,null,null,null,null,null,null,null,null,null,null,null,null,null,null,null,null,null,null,null,null,null,null,null,null,null,null,null,null,null,null,null,null,null,null,null,null,null,null,null,null,null,null,null,null,null,null,null,null,null,null,null,null,null,null,null,null,null,null,null,null,null,null,null,null,null,null,null,null,null,null,null,null,null,null,null,null,null,null,null,null,null,null,null,null,null,null,null,null,null,null,null,null,null,null,null,null,null,null,null,null,null,null,null,null,null,null,null,null,null,null,null,null,null,null,null,null,null,null,null,null,null,null,null,null,null,null,null,null,null,null,null,null,null,null,null,null,null,null,null,null,null,null,null,null,null,null,null,null,null,null,null,null,null,null,null,null,null,null,null,null,null,null,null,null,null,null,null,null,null,null,null,null,null,null,null,null,null,null,null,null,null,null,null,null,null,null,null,null,null,null,null,null,null,null,null,null,null,null,null,null,null,null,null,null,null,null,null,null,null,null,null,null,null,null,null,null,null,null,null,null,null,null,null,null,null,null,null,null,null,null,null,null,null,null,null,null,null,null,null,null,null,null,null,null,null,null,null,null,null,null,null,null,null,null,null,null,null,null,null,null,null,null,null,null,null,null,null,null,null,null,null,null,null,null,null,null,null,null,null,null,null,null,null,null,null,null,null,null,null,null,null,null,null,null,null,null,null,null,null,null,null,null,null,null,null,null,null,null,null,null,null,null,null,null,null,null,null,null,null,null,null,null,null,null,null,null,null,null,null,null,null,null,null,null,null,null,null,null,null,null,null,null,null,null,null,null,null,null,null,null,null,null,null,null,null,null,null,null,null,null,null,null,null,null,null,null,null,null,null,null,null,null,null,null,null,null,null,null,null,null,null,null,null,null,null,null,null,null,null,null,null,null,null,null,null,null,null,null,null,null,null,null,null,null,null,null,null,null,null,null,null,null,null,null,null,null,null,null,null,null,null,null,null,null,null,null,null,null,null,null,null,null,null,null,null,null,null,null,null,null,null,null,null,null,null,null,null,null,null,null,null,null,null,null,null,null,null,null,null,null,null,null,null,null,null,null,null,null,null,null,null,null,null,null,null,null,null,null,null,null,null,null,null,null,null,null,null,null,null,null,null,null,null,null,null,null,null,null,null,null,null,null,null,null,null,null,null,null,null,null,null,null,null,null,null,null,null,null,null,null,null,null,null,null,null,null,null,null,null,null,null,null,null,null,null,null,null,null,null,null,null,null,null,null,null,null,null,null,null,null,null,null,null,null,null,null,null,null,null,null,null,null,null,null,null,null,null,null,null,null,null,null,null,null,null,null,null,null,null,null,null,null,null,null,null,null,null,null,null,null,null,null,null,null,null,null,null,null,null,null,null,null,null,null,null,null,null,null,null,null,null,null,null,null,null,null,null,null,null,null,null,null,null,null,null,null,null,null,null,null,null,null,null,null,null,null,null,null,null,null,null,null,null,null,null,null,null,null,null,null,null,null,null,null,null,null,null,null,null,null,null,null,null,null,null,null,null,null,null,null,null,null,null,null,null,null,null,null,null,null,null,null,null,null,null,null,null,null,null,null,null,null,null,null,null,null,null,null,null,null,null,null,null,null,null,null,null,null,null,null,null,null,null,null,null,null,null,null,null,null,null,null,null,null,null,null,null,null,null,null,null,null,null,null,null,null,null,null,null,null,null,null,null,null,null,null,null,null,null,null,null,null,null,null,null,null,null,null,null,null,null,null,null,null,null,null,null,null,null,null,null,null,null,null,null,null,null,null,null,null,null,null,null,null,null,null,null,null,null,null,null,null,null,null,null,null,null,null,null,null,null,null,null,null,null,null,null,null,null,null,null,null,null,null,null,null,null,null,null,null,null,null,null,null,null,null,null,null,null,null,null,null,null,null,null,null,null,null,null,null,null,null,null,null,null,null,null,null,null,null,null,null,null,null,null,null,null,null,null,null,null,null,null,null,null,null,null,null,null,null,null,null,null,null,null,null,null,null,null,null,null,null,null,null,null,null,null,null,null,null,null,null,null,null,null,null,null,null,null,null,null,null,null,null,null,null,null,null,null,null,null,null,null,null,null,null,null,null,null,null,null,null,null,null,null,null,null,null,null,null,null,null,null,null,null,null,null,null,null,null,null,null,null,null,null,null,null,null,null,null,null,null,null,null,null,null,null,null,null,null,null,null,null,null,null,null,null,null,null,null,null,null,null,null,null,null,null,null,null,null,null,null,null,null,null,null,null,null,null,null,null,null,null,null,null,null,null,null,null,null,null,null,null,null,null,null,null,null,null,null,null,null,null,null,null,null,null,null,null,null,null,null,null,null,null,null,null,null,null,null,null,null,null,null,null,null,null,null,null,null,null,null,null,null,null,null,null,null,null,null,null,null,null,null,null,null,null,null,null,null,null,null,null,null,null,null,null,null,null,null,null,null,null,null,null,null,null,null,null,null,null,null,null,null,null,null,null,null,null,null,null,null,null,null,null,null,null,null,null,null,null,null,null,null,null,null,null,null,null,null,null,null,null,null,null,null,null,null,null,null,null,null,null,null,null,null,null,null,null,null,null,null,null,null,null,null,null,null,null,null,null,null,null,null,null,null,null,null,null,null,null,null,null,null,null,null,null,null,null,null,null,null,null,null,null,null,null,null,null,null,null,null,null,null,null,null,null,null,null,null,null,null,null,null,null,null,null,null,null,null,null,null,null,null,null,null,null,null,null,null,null,null,null,null,null,null,null,null,null,null,null,null,null,null,null,null,null,null,null,null,null,null,null,null,null,null,null,null,null,null,null,null,null,null,null,null,null,null,null,null,null,null,null,null,null,null,null,null,null,null,null,null,null,null,null,null,null,null,null,null,null,null,null,null,null,null,null,null,null,null,null,null,null,null,null,null,null,null,null,null,null,null,null,null,null,null,null,null,null,null,null,null,null,null,null,null,null,null,null,null,null,null,null,null,null,null,null,null,null,null,null,null,null,null,null,null,null,null,null,null,null,null,null,null,null,null,null,null,null,null,null,null,null,null,null,null,null,null,null,null,null,null,null,null,null,null,null,null,null,null,null,null,null,null,null,null,null,null,null,null,null,null,null,null,null,null,null,null,null,null,null,null,null,null,null,null,null,null,null,null,null,null,null,null,null,null,null,null,null,null,null,null,null,null,null,null,null,null,null,null,null,null,null,null,null,null,null,null,null,null,null,null,null,null,null,null,null,null,null,null,null,null,null,null,null,null,null,null,null,null,null,null,null,null,null,null,null,null,null,null,null,null,null,null,null,null,null,null,null,null,null,null,null,null,null,null,null,null,null,null,null,null,null,null,null,null,null,null,null,null,null,null,null,null,null,null,null,null,null,null,null,null,null,null,null,null,null,null,null,null,null,null,null,null,null,null,null,null,null,null,null,null,null,null,null,null,null,null,null,null,null,null,null,null,null,null,null,null,null,null,null,null,null,null,null,null,null,null,null,null,null,null,null,null,null,null,null,null,null,null,null,null,null,null,null,null,null,null,null,null,null,null,null,null,null,null,null,null,null,null,null,null,null,null,null,null,null,null,null,null,null,null,null,null,null,null,null,null,null,null,null,null,null,null,null,null,null,null,null,null,null,null,null,null,null,null,null,null,null,null,null,null,null,null,null,null,null,null,null,null,null,null,null,null,null,null,null,null,null,null,null,null,null,null,null,null,null,null,null,null,null,null,null,null,null,null,null,null,null,null,null,null,null,null,null,null,null,null,null,null,null,null,null,null,null,null,null,null,null,null,null,null,null,null,null,null,null,null,null,null,null,null,null,null,null,null,null,null,null,null,null,null,null,null,null,null,null,null,null,null,null,null,null,null,null,null,null,null,null,null,null,null,null,null,null,null,null,null,null,null,null,null,null,null,null,299]
[null,null,null,null,null,null,null,null,null,null,null,null,null,null,null,null,null,null,null,null,null,null,null,null,null,null,null,null,null,null,null,null,null,null,null,null,null,null,null,null,null,null,null,null,null,null,null,null,null,null,null,null,null,null,null,null,null,null,null,null,null,null,null,null,null,null,null,null,null,null,null,null,null,null,null,null,null,null,null,null,null,null,null,null,null,null,null,null,null,null,null,null,null,null,null,null,null,null,null,null,null,null,null,null,null,null,null,null,null,null,null,null,null,null,null,null,null,null,null,null,null,null,null,null,null,null,null,null,null,null,null,null,null,null,null,null,null,null,null,null,null,null,null,null,null,null,null,null,null,null,null,null,null,null,null,null,null,null,null,null,null,null,null,null,null,null,null,null,null,null,null,null,null,null,null,null,null,null,null,null,null,null,null,null,null,null,null,null,null,null,null,null,null,null,null,null,null,null,null,null,null,null,null,null,null,null,null,null,null,null,null,null,null,null,null,null,null,null,null,null,null,null,null,null,null,null,null,null,null,null,null,null,null,null,null,null,null,null,null,null,null,null,null,null,null,null,null,null,null,null,null,null,null,null,null,null,null,null,null,null,null,null,null,null,null,null,null,null,null,null,null,null,null,null,null,null,null,null,null,null,null,null,null,null,null,null,null,null,null,null,null,null,null,null,null,null,null,null,null,null,null,null,null,null,null,null,null,null,null,null,null,null,null,null,null,null,null,null,null,null,null,null,null,null,null,null,null,null,null,null,null,null,null,null,null,null,null,null,null,null,null,null,null,null,null,null,null,null,null,null,null,null,null,null,null,null,null,null,null,null,null,null,null,null,null,null,null,null,null,null,null,null,null,null,null,null,null,null,null,null,null,null,null,null,null,null,null,null,null,null,null,null,null,null,null,null,null,null,null,null,null,null,null,null,null,null,null,null,null,null,null,null,null,null,null,null,null,null,null,null,null,null,null,null,null,null,null,null,null,null,null,null,null,null,null,null,null,null,null,null,null,null,null,null,null,null,null,null,null,null,null,null,null,null,null,null,null,null,null,null,null,null,null,null,null,null,null,null,null,null,null,null,null,null,null,null,null,null,null,null,null,null,null,null,null,null,null,null,null,null,null,null,null,null,null,null,null,null,null,null,null,null,null,null,null,null,null,null,null,null,null,null,null,null,null,null,null,null,null,null,null,null,null,null,null,null,null,null,null,null,null,null,null,null,null,null,null,null,null,null,null,null,null,null,null,null,null,null,null,null,null,null,null,null,null,null,null,null,null,null,null,null,null,null,null,null,null,null,null,null,null,null,null,null,null,null,null,null,null,null,null,null,null,null,null,null,null,null,null,null,null,null,null,null,null,null,null,null,null,null,null,null,null,null,null,null,null,null,null,null,null,null,null,null,null,null,null,null,null,null,null,null,null,null,null,null,null,null,null,null,null,null,null,null,null,null,null,null,null,null,null,null,null,null,null,null,null,null,null,null,null,null,null,null,null,null,null,null,null,null,null,null,null,null,null,null,null,null,null,null,null,null,null,null,null,null,null,null,null,null,null,null,null,null,null,null,null,null,null,null,null,null,null,null,null,null,null,null,null,null,null,null,null,null,null,null,null,null,null,null,null,null,null,null,null,null,null,null,null,null,null,null,null,null,null,null,null,null,null,null,null,null,null,null,null,null,null,null,null,null,null,null,null,null,null,null,null,null,null,null,null,null,null,null,null,null,null,null,null,null,null,null,null,null,null,null,null,null,null,null,null,null,null,null,null,null,null,null,null,null,null,null,null,null,null,null,null,null,null,null,null,null,null,null,null,null,null,null,null,null,null,null,null,null,null,null,null,null,null,null,null,null,null,null,null,null,null,null,null,null,null,null,null,null,null,null,null,null,null,null,null,null,null,null,null,null,null,null,null,null,null,null,null,null,null,null,null,null,null,null,null,null,null,null,null,null,null,null,null,null,null,null,null,null,null,null,null,null,null,null,null,null,null,null,null,null,null,null,null,null,null,null,null,null,null,null,null,null,null,null,null,null,null,null,null,null,null,null,null,null,null,null,null,null,null,null,null,null,null,null,null,null,null,null,null,null,null,null,null,null,null,null,null,null,null,null,null,null,null,null,null,null,null,null,null,null,null,null,null,null,null,null,null,null,null,null,null,null,null,null,null,null,null,null,null,null,null,null,null,null,null,null,null,null,null,null,null,null,null,null,null,null,null,null,null,null,null,null,null,null,null,null,null,null,null,null,null,null,null,null,null,null,null,null,null,null,null,null,null,null,null,null,null,null,null,null,null,null,null,null,null,null,null,null,null,null,null,null,null,null,null,null,null,null,null,null,null,null,null,null,null,null,null,null,null,null,null,null,null,null,null,null,null,null,null,null,null,null,null,null,null,null,null,null,null,null,null,null,null,null,null,null,null,null,null,null,null,null,null,null,null,null,null,null,null,null,null,null,null,null,null,null,null,null,null,null,null,null,null,null,null,null,null,null,null,null,null,null,null,null,null,null,null,null,null,null,null,null,null,null,null,null,null,null,null,null,null,null,null,null,null,null,null,null,null,null,null,null,null,null,null,null,null,null,null,null,null,null,null,null,null,null,null,null,null,null,null,null,null,null,null,null,null,null,null,null,null,null,null,null,null,null,null,null,null,null,null,null,null,null,null,null,null,null,null,null,null,null,null,null,null,null,null,null,null,null,null,null,null,null,null,null,null,null,null,null,null,null,null,null,null,null,null,null,null,null,null,null,null,null,null,null,null,null,null,null,null,null,null,null,null,null,null,null,null,null,null,null,null,null,null,null,null,null,null,null,null,null,null,null,null,null,null,null,null,null,null,null,null,null,null,null,null,null,null,null,null,null,null,null,null,null,null,null,null,null,null,null,null,null,null,null,null,null,null,null,null,null,null,null,null,null,null,null,null,null,null,null,null,null,null,null,null,null,null,null,null,null,null,null,null,null,null,null,null,null,null,null,null,null,null,null,null,null,null,null,null,null,null,null,null,null,null,null,null,null,null,null,null,null,null,null,null,null,null,null,null,null,null,null,null,null,null,null,null,null,null,null,null,null,null,null,null,null,null,null,null,null,null,null,null,null,null,null,null,null,null,null,null,null,null,null,null,null,null,null,null,null,null,null,null,null,null,null,null,null,null,null,null,null,null,null,null,null,null,null,null,null,null,null,null,null,null,null,null,null,null,null,null,null,null,null,null,null,null,null,null,null,null,null,null,null,null,null,null,null,null,null,null,null,null,null,null,null,null,null,null,null,null,null,null,null,null,null,null,null,null,null,null,null,null,null,null,null,null,null,null,null,null,null,null,null,null,null,null,null,null,null,null,null,null,null,null,null,null,null,null,null,null,null,null,null,null,null,null,null,null,null,null,null,null,null,null,null,null,null,null,null,null,null,null,null,null,null,null,null,null,null,null,null,null,null,null,null,null,null,null,null,null,null,null,null,null,null,null,null,null,null,null,null,null,null,null,null,null,null,null,null,null,null,null,null,null,null,null,null,null,null,null,null,null,null,null,null,null,null,null,null,null,null,null,null,null,null,null,null,null,null,null,null,null,null,null,null,null,null,null,null,null,null,null,null,null,null,null,null,null,null,null,null,null,null,null,null,null,null,null,null,null,null,null,null,null,null,null,null,null,null,null,null,null,null,null,null,null,null,null,null,null,null,null,null,null,null,null,null,null,null,null,null,null,null,null,null,null,null,null,null,null,null,null,null,null,null,null,null,null,null,null,null,null,null,null,null,null,null,null,null,null,null,null,null,null,null,null,null,null,null,null,null,null,null,null,null,null,null,null,null,null,null,null,null,null,null,null,null,null,null,null,null,null,null,null,null,null,null,null,null,null,null,null,null,null,null,null,null,null,null,null,null,null,null,null,null,null,null,null,null,null,null,null,null,null,null,null,null,null,null,null,null,null,null,null,null,null,null,null,null,null,null,null,null,null,null,null,null,null,null,null,null,null,null,null,null,null,null,null,null,null,null,null,null,null,null,null,null,null,null,null,null,null,null,null,null,null,null,null,null,null,null,null,null,null,null,null,null,null,null,null,null,null,null,null,null,null,null,null,null,null,null,null,null,null,null,null,null,null,null,null,null,null,null,null,null,null,null,null,null,null,null,null,null,null,null,null,null,null,null,null,null,null,null,null,null,null,null,null,null,null,null,null,null,null,null,null,null,null,null,null,null,null,null,null,null,null,null,null,null,null,null,null,null,null,null,null,null,null,null,null,null,null,null,null,null,null,null,null,null,null,null,null,null,null,null,null,null,null,null,null,null,null,null,null,null,null,null,null,null,null,null,null,null,null,null,null,null,null,null,null,null,null,null,null,null,null,null,null,null,null,null,null,null,null,null,null,null,null,null,null,null,null,null,null,null,null,null,null,null,null,null,null,null,null,null,null,null,null,null,null,null,null,null,null,null,null,null,null,null,null,null,null,null,null,null,null,null,null,null,null,null,null,null,null,null,null,null,null,null,null,null,null,null,null,null,null,null,null,null,null,null,null,null,null,null,null,null,null,null,null,null,null,null,null,null,null,null,null,null,null,null,351]
[null,null,null,null,null,null,null,null,null,null,null,null,null,null,null,null,null,null,null,null,null,null,null,null,null,null,null,null,null,null,null,null,null,null,null,null,null,null,null,null,null,null,null,null,null,null,null,null,null,null,null,null,null,null,null,null,null,null,null,null,null,null,null,null,null,null,null,null,null,null,null,null,null,null,null,null,null,null,null,null,null,null,null,null,null,null,null,null,null,null,null,null,null,null,null,null,null,null,null,null,null,null,null,null,null,null,null,null,null,null,null,null,null,null,null,null,null,null,null,null,null,null,null,null,null,null,null,null,null,null,null,null,null,null,null,null,null,null,null,null,null,null,null,null,null,null,null,null,null,null,null,null,null,null,null,null,null,null,null,null,null,null,null,null,null,null,null,null,null,null,null,null,null,null,null,null,null,null,null,null,null,null,null,null,null,null,null,null,null,null,null,null,null,null,null,null,null,null,null,null,null,null,null,null,null,null,null,null,null,null,null,null,null,null,null,null,null,null,null,null,null,null,null,null,null,null,null,null,null,null,null,null,null,null,null,null,null,null,null,null,null,null,null,null,null,null,null,null,null,null,null,null,null,null,null,null,null,null,null,null,null,null,null,null,null,null,null,null,null,null,null,null,null,null,null,null,null,null,null,null,null,null,null,null,null,null,null,null,null,null,null,null,null,null,null,null,null,null,null,null,null,null,null,null,null,null,null,null,null,null,null,null,null,null,null,null,null,null,null,null,null,null,null,null,null,null,null,null,null,null,null,null,null,null,null,null,null,null,null,null,null,null,null,null,null,null,null,null,null,null,null,null,null,null,null,null,null,null,null,null,null,null,null,null,null,null,null,null,null,null,null,null,null,null,null,null,null,null,null,null,null,null,null,null,null,null,null,null,null,null,null,null,null,null,null,null,null,null,null,null,null,null,null,null,null,null,null,null,null,null,null,null,null,null,null,null,null,null,null,null,null,null,null,null,null,null,null,null,null,null,null,null,null,null,null,null,null,null,null,null,null,null,null,null,null,null,null,null,null,null,null,null,null,null,null,null,null,null,null,null,null,null,null,null,null,null,null,null,null,null,null,null,null,null,null,null,null,null,null,null,null,null,null,null,null,null,null,null,null,null,null,null,null,null,null,null,null,null,null,null,null,null,null,null,null,null,null,null,null,null,null,null,null,null,null,null,null,null,null,null,null,null,null,null,null,null,null,null,null,null,null,null,null,null,null,null,null,null,null,null,null,null,null,null,null,null,null,null,null,null,null,null,null,null,null,null,null,null,null,null,null,null,null,null,null,null,null,null,null,null,null,null,null,null,null,null,null,null,null,null,null,null,null,null,null,null,null,null,null,null,null,null,null,null,null,null,null,null,null,null,null,null,null,null,null,null,null,null,null,null,null,null,null,null,null,null,null,null,null,null,null,null,null,null,null,null,null,null,null,null,null,null,null,null,null,null,null,null,null,null,null,null,null,null,null,null,null,null,null,null,null,null,null,null,null,null,null,null,null,null,null,null,null,null,null,null,null,null,null,null,null,null,null,null,null,null,null,null,null,null,null,null,null,null,null,null,null,null,null,null,null,null,null,null,null,null,null,null,null,null,null,null,null,null,null,null,null,null,null,null,null,null,null,null,null,null,null,null,null,null,null,null,null,null,null,null,null,null,null,null,null,null,null,null,null,null,null,null,null,null,null,null,null,null,null,null,null,null,null,null,null,null,null,null,null,null,null,null,null,null,null,null,null,null,null,null,null,null,null,null,null,null,null,null,null,null,null,null,null,null,null,null,null,null,null,null,null,null,null,null,null,null,null,null,null,null,null,null,null,null,null,null,null,null,null,null,null,null,null,null,null,null,null,null,null,null,null,null,null,null,null,null,null,null,null,null,null,null,null,null,null,null,null,null,null,null,null,null,null,null,null,null,null,null,null,null,null,null,null,null,null,null,null,null,null,null,null,null,null,null,null,null,null,null,null,null,null,null,null,null,null,null,null,null,null,null,null,null,null,null,null,null,null,null,null,null,null,null,null,null,null,null,null,null,null,null,null,null,null,null,null,null,null,null,null,null,null,null,null,null,null,null,null,null,null,null,null,null,null,null,null,null,null,null,null,null,null,null,null,null,null,null,null,null,null,null,null,null,null,null,null,null,null,null,null,null,null,null,null,null,null,null,null,null,null,null,null,null,null,null,null,null,null,null,null,null,null,null,null,null,null,null,null,null,null,null,null,null,null,null,null,null,null,null,null,null,null,null,null,null,null,null,null,null,null,null,null,null,null,null,null,null,null,null,null,null,null,null,null,null,null,null,null,null,null,null,null,null,null,null,null,null,null,null,null,null,null,null,null,null,null,null,null,null,null,null,null,null,null,null,null,null,null,null,null,null,null,null,null,null,null,null,null,null,null,null,null,null,null,null,null,null,null,null,null,null,null,null,null,null,null,null,null,null,null,null,null,null,null,null,null,null,null,null,null,null,null,null,null,null,null,null,null,null,null,null,null,null,null,null,null,null,null,null,null,null,null,null,null,null,null,null,null,null,null,null,null,null,null,null,null,null,null,null,null,null,null,null,null,null,null,null,null,null,null,null,null,null,null,null,null,null,null,null,null,null,null,null,null,null,null,null,null,null,null,null,null,null,null,null,null,null,null,null,null,null,null,null,null,null,null,null,null,null,null,null,null,null,null,null,null,null,null,null,null,null,null,null,null,null,null,null,null,null,null,null,null,null,null,null,null,null,null,null,null,null,null,null,null,null,null,null,null,null,null,null,null,null,null,null,null,null,null,null,null,null,null,null,null,null,null,null,null,null,null,null,null,null,null,null,null,null,null,null,null,null,null,null,null,null,null,null,null,null,null,null,null,null,null,null,null,null,null,null,null,null,null,null,null,null,null,null,null,null,null,null,null,null,null,null,null,null,null,null,null,null,null,null,null,null,null,null,null,null,null,null,null,null,null,null,null,null,null,null,null,null,null,null,null,null,null,null,null,null,null,null,null,null,null,null,null,null,null,null,null,null,null,null,null,null,null,null,null,null,null,null,null,null,null,null,null,null,null,null,null,null,null,null,null,null,null,null,null,null,null,null,null,null,null,null,null,null,null,null,null,null,null,null,null,null,null,null,null,null,null,null,null,null,null,null,null,null,null,null,null,null,null,null,null,null,null,null,null,null,null,null,null,null,null,null,null,null,null,null,null,null,null,null,null,null,null,null,null,null,null,null,null,null,null,null,null,null,null,null,null,null,null,null,null,null,null,null,null,null,null,null,null,null,null,null,null,null,null,null,null,null,null,null,null,null,null,null,null,null,null,null,null,null,null,null,null,null,null,null,null,null,null,null,null,null,null,null,null,null,null,null,null,null,null,null,null,null,null,null,null,null,null,null,null,null,null,null,null,null,null,null,null,null,null,null,null,null,null,null,null,null,null,null,null,null,null,null,null,null,null,null,null,null,null,null,null,null,null,null,null,null,null,null,null,null,null,null,null,null,null,null,null,null,null,null,null,null,null,null,null,null,null,null,null,null,null,null,null,null,null,null,null,null,null,null,null,null,null,null,null,null,null,null,null,null,null,null,null,null,null,null,null,null,null,null,null,null,null,null,null,null,null,null,null,null,null,null,null,null,null,null,null,null,null,null,null,null,null,null,null,null,null,null,null,null,null,null,null,null,null,null,null,null,null,null,null,null,null,null,null,null,null,null,null,null,null,null,null,null,null,null,null,null,null,null,null,null,null,null,null,null,null,null,null,null,null,null,null,null,null,null,null,null,null,null,null,null,null,null,null,null,null,null,null,null,null,null,null,null,null,null,null,null,null,null,null,null,null,null,null,null,null,null,null,null,null,null,null,null,null,null,null,null,null,null,null,null,null,null,null,null,null,null,null,null,null,null,null,null,null,null,null,null,null,null,null,null,null,null,null,null,null,null,null,null,null,null,null,null,null,null,null,null,null,null,null,null,null,null,null,null,null,null,null,null,null,null,null,null,null,null,null,null,null,null,null,null,null,null,null,null,null,null,null,null,null,null,null,null,null,null,null,null,null,null,null,null,null,null,null,null,null,null,null,null,null,null,null,null,null,null,null,null,null,null,null,null,null,null,null,null,null,null,null,null,null,null,null,null,null,null,null,null,null,null,null,null,null,null,null,null,null,null,null,null,null,null,null,null,null,null,null,null,null,null,null,null,null,null,null,null,null,null,null,null,null,null,null,null,null,null,null,null,null,null,null,null,null,null,null,null,null,null,null,null,null,null,null,null,null,null,null,null,null,null,null,null,null,null,null,null,null,null,null,null,null,null,null,null,null,null,null,null,null,null,null,null,null,null,null,null,null,null,null,null,null,null,null,null,null,null,null,null,null,null,null,null,null,null,null,null,null,null,null,null,null,null,null,null,null,null,null,null,null,null,null,null,null,null,null,null,null,null,null,null,null,null,null,null,null,null,null,null,null,null,null,null,null,null,null,null,null,null,null,null,null,null,null,null,null,null,null,null,null,null,null,null,null,null,null,null,null,null,null,null,null,null,null,null,null,null,null,null,null,null,null,null,null,null,null,null,null,null,null,null,402]
[null,null,null,null,null,null,null,null,null,null,null,null,null,null,null,null,null,null,null,null,null,null,null,null,null,null,null,null,null,null,null,null,null,null,null,null,null,null,null,null,null,null,null,null,null,null,null,null,null,null,null,null,null,null,null,null,null,null,null,null,null,null,null,null,null,null,null,null,null,null,null,null,null,null,null,null,null,null,null,null,null,null,null,null,null,null,null,null,null,null,null,null,null,null,null,null,null,null,null,null,null,null,null,null,null,null,null,null,null,null,null,null,null,null,null,null,null,null,null,null,null,null,null,null,null,null,null,null,null,null,null,null,null,null,null,null,null,null,null,null,null,null,null,null,null,null,null,null,null,null,null,null,null,null,null,null,null,null,null,null,null,null,null,null,null,null,null,null,null,null,null,null,null,null,null,null,null,null,null,null,null,null,null,null,null,null,null,null,null,null,null,null,null,null,null,null,null,null,null,null,null,null,null,null,null,null,null,null,null,null,null,null,null,null,null,null,null,null,null,null,null,null,null,null,null,null,null,null,null,null,null,null,null,null,null,null,null,null,null,null,null,null,null,null,null,null,null,null,null,null,null,null,null,null,null,null,null,null,null,null,null,null,null,null,null,null,null,null,null,null,null,null,null,null,null,null,null,null,null,null,null,null,null,null,null,null,null,null,null,null,null,null,null,null,null,null,null,null,null,null,null,null,null,null,null,null,null,null,null,null,null,null,null,null,null,null,null,null,null,null,null,null,null,null,null,null,null,null,null,null,null,null,null,null,null,null,null,null,null,null,null,null,null,null,null,null,null,null,null,null,null,null,null,null,null,null,null,null,null,null,null,null,null,null,null,null,null,null,null,null,null,null,null,null,null,null,null,null,null,null,null,null,null,null,null,null,null,null,null,null,null,null,null,null,null,null,null,null,null,null,null,null,null,null,null,null,null,null,null,null,null,null,null,null,null,null,null,null,null,null,null,null,null,null,null,null,null,null,null,null,null,null,null,null,null,null,null,null,null,null,null,null,null,null,null,null,null,null,null,null,null,null,null,null,null,null,null,null,null,null,null,null,null,null,null,null,null,null,null,null,null,null,null,null,null,null,null,null,null,null,null,null,null,null,null,null,null,null,null,null,null,null,null,null,null,null,null,null,null,null,null,null,null,null,null,null,null,null,null,null,null,null,null,null,null,null,null,null,null,null,null,null,null,null,null,null,null,null,null,null,null,null,null,null,null,null,null,null,null,null,null,null,null,null,null,null,null,null,null,null,null,null,null,null,null,null,null,null,null,null,null,null,null,null,null,null,null,null,null,null,null,null,null,null,null,null,null,null,null,null,null,null,null,null,null,null,null,null,null,null,null,null,null,null,null,null,null,null,null,null,null,null,null,null,null,null,null,null,null,null,null,null,null,null,null,null,null,null,null,null,null,null,null,null,null,null,null,null,null,null,null,null,null,null,null,null,null,null,null,null,null,null,null,null,null,null,null,null,null,null,null,null,null,null,null,null,null,null,null,null,null,null,null,null,null,null,null,null,null,null,null,null,null,null,null,null,null,null,null,null,null,null,null,null,null,null,null,null,null,null,null,null,null,null,null,null,null,null,null,null,null,null,null,null,null,null,null,null,null,null,null,null,null,null,null,null,null,null,null,null,null,null,null,null,null,null,null,null,null,null,null,null,null,null,null,null,null,null,null,null,null,null,null,null,null,null,null,null,null,null,null,null,null,null,null,null,null,null,null,null,null,null,null,null,null,null,null,null,null,null,null,null,null,null,null,null,null,null,null,null,null,null,null,null,null,null,null,null,null,null,null,null,null,null,null,null,null,null,null,null,null,null,null,null,null,null,null,null,null,null,null,null,null,null,null,null,null,null,null,null,null,null,null,null,null,null,null,null,null,null,null,null,null,null,null,null,null,null,null,null,null,null,null,null,null,null,null,null,null,null,null,null,null,null,null,null,null,null,null,null,null,null,null,null,null,null,null,null,null,null,null,null,null,null,null,null,null,null,null,null,null,null,null,null,null,null,null,null,null,null,null,null,null,null,null,null,null,null,null,null,null,null,null,null,null,null,null,null,null,null,null,null,null,null,null,null,null,null,null,null,null,null,null,null,null,null,null,null,null,null,null,null,null,null,null,null,null,null,null,null,null,null,null,null,null,null,null,null,null,null,null,null,null,null,null,null,null,null,null,null,null,null,null,null,null,null,null,null,null,null,null,null,null,null,null,null,null,null,null,null,null,null,null,null,null,null,null,null,null,null,null,null,null,null,null,null,null,null,null,null,null,null,null,null,null,null,null,null,null,null,null,null,null,null,null,null,null,null,null,null,null,null,null,null,null,null,null,null,null,null,null,null,null,null,null,null,null,null,null,null,null,null,null,null,null,null,null,null,null,null,null,null,null,null,null,null,null,null,null,null,null,null,null,null,null,null,null,null,null,null,null,null,null,null,null,null,null,null,null,null,null,null,null,null,null,null,null,null,null,null,null,null,null,null,null,null,null,null,null,null,null,null,null,null,null,null,null,null,null,null,null,null,null,null,null,null,null,null,null,null,null,null,null,null,null,null,null,null,null,null,null,null,null,null,null,null,null,null,null,null,null,null,null,null,null,null,null,null,null,null,null,null,null,null,null,null,null,null,null,null,null,null,null,null,null,null,null,null,null,null,null,null,null,null,null,null,null,null,null,null,null,null,null,null,null,null,null,null,null,null,null,null,null,null,null,null,null,null,null,null,null,null,null,null,null,null,null,null,null,null,null,null,null,null,null,null,null,null,null,null,null,null,null,null,null,null,null,null,null,null,null,null,null,null,null,null,null,null,null,null,null,null,null,null,null,null,null,null,null,null,null,null,null,null,null,null,null,null,null,null,null,null,null,null,null,null,null,null,null,null,null,null,null,null,null,null,null,null,null,null,null,null,null,null,null,null,null,null,null,null,null,null,null,null,null,null,null,null,null,null,null,null,null,null,null,null,null,null,null,null,null,null,null,null,null,null,null,null,null,null,null,null,null,null,null,null,null,null,null,null,null,null,null,null,null,null,null,null,null,null,null,null,null,null,null,null,null,null,null,null,null,null,null,null,null,null,null,null,null,null,null,null,null,null,null,null,null,null,null,null,null,null,null,null,null,null,null,null,null,null,null,null,null,null,null,null,null,null,null,null,null,null,null,null,null,null,null,null,null,null,null,null,null,null,null,null,null,null,null,null,null,null,null,null,null,null,null,null,null,null,null,null,null,null,null,null,null,null,null,null,null,null,null,null,null,null,null,null,null,null,null,null,null,null,null,null,null,null,null,null,null,null,null,null,null,null,null,null,null,null,null,null,null,null,null,null,null,null,null,null,null,null,null,null,null,null,null,null,null,null,null,null,null,null,null,null,null,null,null,null,null,null,null,null,null,null,null,null,null,null,null,null,null,null,null,null,null,null,null,null,null,null,null,null,null,null,null,null,null,null,null,null,null,null,null,null,null,null,null,null,null,null,null,null,null,null,null,null,null,null,null,null,null,null,null,null,null,null,null,null,null,null,null,null,null,null,null,null,null,null,null,null,null,null,null,null,null,null,null,null,null,null,null,null,null,null,null,null,null,null,null,null,null,null,null,null,null,null,null,null,null,null,null,null,null,null,null,null,null,null,null,null,null,null,null,null,null,null,null,null,null,null,null,null,null,null,null,null,null,null,null,null,null,null,null,null,null,null,null,null,null,null,null,null,null,null,null,null,null,null,null,null,null,null,null,null,null,null,null,null,null,null,null,null,null,null,null,null,null,null,null,null,null,null,null,null,null,null,null,null,null,null,null,null,null,null,null,null,null,null,null,null,null,null,null,null,null,null,null,null,null,null,null,null,null,null,null,null,null,null,null,null,null,null,null,null,null,null,null,null,null,null,null,null,null,null,null,null,null,null,null,null,null,null,null,null,null,null,null,null,null,null,null,null,null,null,null,null,null,null,null,null,null,null,null,null,null,null,null,null,null,null,null,null,null,null,null,null,null,null,null,null,null,null,null,null,null,null,null,null,null,null,null,null,null,null,null,null,null,null,null,null,null,null,null,null,null,null,null,null,null,null,null,null,null,null,null,null,null,null,null,null,null,null,null,null,null,null,null,null,null,null,null,null,null,null,null,null,null,null,null,null,null,null,null,null,null,null,null,null,null,null,null,null,null,null,null,null,null,null,null,null,null,null,null,null,null,null,null,null,null,null,null,null,null,null,null,null,null,null,null,null,null,null,null,null,null,null,null,null,null,null,null,null,null,null,null,null,null,null,null,null,null,null,null,null,null,null,null,null,null,null,null,null,null,null,null,null,null,null,null,null,null,null,null,null,null,null,null,null,null,null,null,null,null,null,null,null,null,null,null,null,null,null,null,null,null,null,null,null,null,null,null,null,null,null,null,null,null,null,null,null,null,null,null,null,null,null,null,null,null,null,null,null,null,null,null,null,null,null,null,null,null,null,null,null,null,null,null,null,null,null,null,null,null,null,null,null,null,null,null,null,null,null,null,null,null,null,null,null,null,null,null,null,null,null,null,null,null,null,null,null,null,null,null,null,null,null,null,null,454]
[null,null,null,null,null,null,null,null,null,null,null,null,null,null,null,null,null,null,null,null,null,null,null,null,null,null,null,null,null,null,null,null,null,null,null,null,null,null,null,null,null,null,null,null,null,null,null,null,null,null,null,null,null,null,null,null,null,null,null,null,null,null,null,null,null,null,null,null,null,null,null,null,null,null,null,null,null,null,null,null,null,null,null,null,null,null,null,null,null,null,null,null,null,null,null,null,null,null,null,null,null,null,null,null,null,null,null,null,null,null,null,null,null,null,null,null,null,null,null,null,null,null,null,null,null,null,null,null,null,null,null,null,null,null,null,null,null,null,null,null,null,null,null,null,null,null,null,null,null,null,null,null,null,null,null,null,null,null,null,null,null,null,null,null,null,null,null,null,null,null,null,null,null,null,null,null,null,null,null,null,null,null,null,null,null,null,null,null,null,null,null,null,null,null,null,null,null,null,null,null,null,null,null,null,null,null,null,null,null,null,null,null,null,null,null,null,null,null,null,null,null,null,null,null,null,null,null,null,null,null,null,null,null,null,null,null,null,null,null,null,null,null,null,null,null,null,null,null,null,null,null,null,null,null,null,null,null,null,null,null,null,null,null,null,null,null,null,null,null,null,null,null,null,null,null,null,null,null,null,null,null,null,null,null,null,null,null,null,null,null,null,null,null,null,null,null,null,null,null,null,null,null,null,null,null,null,null,null,null,null,null,null,null,null,null,null,null,null,null,null,null,null,null,null,null,null,null,null,null,null,null,null,null,null,null,null,null,null,null,null,null,null,null,null,null,null,null,null,null,null,null,null,null,null,null,null,null,null,null,null,null,null,null,null,null,null,null,null,null,null,null,null,null,null,null,null,null,null,null,null,null,null,null,null,null,null,null,null,null,null,null,null,null,null,null,null,null,null,null,null,null,null,null,null,null,null,null,null,null,null,null,null,null,null,null,null,null,null,null,null,null,null,null,null,null,null,null,null,null,null,null,null,null,null,null,null,null,null,null,null,null,null,null,null,null,null,null,null,null,null,null,null,null,null,null,null,null,null,null,null,null,null,null,null,null,null,null,null,null,null,null,null,null,null,null,null,null,null,null,null,null,null,null,null,null,null,null,null,null,null,null,null,null,null,null,null,null,null,null,null,null,null,null,null,null,null,null,null,null,null,null,null,null,null,null,null,null,null,null,null,null,null,null,null,null,null,null,null,null,null,null,null,null,null,null,null,null,null,null,null,null,null,null,null,null,null,null,null,null,null,null,null,null,null,null,null,null,null,null,null,null,null,null,null,null,null,null,null,null,null,null,null,null,null,null,null,null,null,null,null,null,null,null,null,null,null,null,null,null,null,null,null,null,null,null,null,null,null,null,null,null,null,null,null,null,null,null,null,null,null,null,null,null,null,null,null,null,null,null,null,null,null,null,null,null,null,null,null,null,null,null,null,null,null,null,null,null,null,null,null,null,null,null,null,null,null,null,null,null,null,null,null,null,null,null,null,null,null,null,null,null,null,null,null,null,null,null,null,null,null,null,null,null,null,null,null,null,null,null,null,null,null,null,null,null,null,null,null,null,null,null,null,null,null,null,null,null,null,null,null,null,null,null,null,null,null,null,null,null,null,null,null,null,null,null,null,null,null,null,null,null,null,null,null,null,null,null,null,null,null,null,null,null,null,null,null,null,null,null,null,null,null,null,null,null,null,null,null,null,null,null,null,null,null,null,null,null,null,null,null,null,null,null,null,null,null,null,null,null,null,null,null,null,null,null,null,null,null,null,null,null,null,null,null,null,null,null,null,null,null,null,null,null,null,null,null,null,null,null,null,null,null,null,null,null,null,null,null,null,null,null,null,null,null,null,null,null,null,null,null,null,null,null,null,null,null,null,null,null,null,null,null,null,null,null,null,null,null,null,null,null,null,null,null,null,null,null,null,null,null,null,null,null,null,null,null,null,null,null,null,null,null,null,null,null,null,null,null,null,null,null,null,null,null,null,null,null,null,null,null,null,null,null,null,null,null,null,null,null,null,null,null,null,null,null,null,null,null,null,null,null,null,null,null,null,null,null,null,null,null,null,null,null,null,null,null,null,null,null,null,null,null,null,null,null,null,null,null,null,null,null,null,null,null,null,null,null,null,null,null,null,null,null,null,null,null,null,null,null,null,null,null,null,null,null,null,null,null,null,null,null,null,null,null,null,null,null,null,null,null,null,null,null,null,null,null,null,null,null,null,null,null,null,null,null,null,null,null,null,null,null,null,null,null,null,null,null,null,null,null,null,null,null,null,null,null,null,null,null,null,null,null,null,null,null,null,null,null,null,null,null,null,null,null,null,null,null,null,null,null,null,null,null,null,null,null,null,null,null,null,null,null,null,null,null,null,null,null,null,null,null,null,null,null,null,null,null,null,null,null,null,null,null,null,null,null,null,null,null,null,null,null,null,null,null,null,null,null,null,null,null,null,null,null,null,null,null,null,null,null,null,null,null,null,null,null,null,null,null,null,null,null,null,null,null,null,null,null,null,null,null,null,null,null,null,null,null,null,null,null,null,null,null,null,null,null,null,null,null,null,null,null,null,null,null,null,null,null,null,null,null,null,null,null,null,null,null,null,null,null,null,null,null,null,null,null,null,null,null,null,null,null,null,null,null,null,null,null,null,null,null,null,null,null,null,null,null,null,null,null,null,null,null,null,null,null,null,null,null,null,null,null,null,null,null,null,null,null,null,null,null,null,null,null,null,null,null,null,null,null,null,null,null,null,null,null,null,null,null,null,null,null,null,null,null,null,null,null,null,null,null,null,null,null,null,null,null,null,null,null,null,null,null,null,null,null,null,null,null,null,null,null,null,null,null,null,null,null,null,null,null,null,null,null,null,null,null,null,null,null,null,null,null,null,null,null,null,null,null,null,null,null,null,null,null,null,null,null,null,null,null,null,null,null,null,null,null,null,null,null,null,null,null,null,null,null,null,null,null,null,null,null,null,null,null,null,null,null,null,null,null,null,null,null,null,null,null,null,null,null,null,null,null,null,null,null,null,null,null,null,null,null,null,null,null,null,null,null,null,null,null,null,null,null,null,null,null,null,null,null,null,null,null,null,null,null,null,null,null,null,null,null,null,null,null,null,null,null,null,null,null,null,null,null,null,null,null,null,null,null,null,null,null,null,null,null,null,null,null,null,null,null,null,null,null,null,null,null,null,null,null,null,null,null,null,null,null,null,null,null,null,null,null,null,null,null,null,null,null,null,null,null,null,null,null,null,null,null,null,null,null,null,null,null,null,null,null,null,null,null,null,null,null,null,null,null,null,null,null,null,null,null,null,null,null,null,null,null,null,null,null,null,null,null,null,null,null,null,null,null,null,null,null,null,null,null,null,null,null,null,null,null,null,null,null,null,null,null,null,null,null,null,null,null,null,null,null,null,null,null,null,null,null,null,null,null,null,null,null,null,null,null,null,null,null,null,null,null,null,null,null,null,null,null,null,null,null,null,null,null,null,null,null,null,null,null,null,null,null,null,null,null,null,null,null,null,null,null,null,null,null,null,null,null,null,null,null,null,null,null,null,null,null,null,null,null,null,null,null,null,null,null,null,null,null,null,null,null,null,null,null,null,null,null,null,null,null,null,null,null,null,null,null,null,null,null,null,null,null,null,null,null,null,null,null,null,null,null,null,null,null,null,null,null,null,null,null,null,null,null,null,null,null,null,null,null,null,null,null,null,null,null,null,null,null,null,null,null,null,null,null,null,null,null,null,null,null,null,null,null,null,null,null,null,null,null,null,null,null,null,null,null,null,null,null,null,null,null,null,null,null,null,null,null,null,null,null,null,null,null,null,null,null,null,null,null,null,null,null,null,null,null,null,null,null,null,null,null,null,null,null,null,null,null,null,null,null,null,null,null,null,null,null,null,null,null,null,null,null,null,null,null,null,null,null,null,null,null,null,null,null,null,null,null,null,null,null,null,null,null,null,null,null,null,null,null,null,null,null,null,null,null,null,null,null,null,null,null,null,null,null,null,null,null,null,null,null,null,null,null,null,null,null,null,null,null,null,null,null,null,null,null,null,null,null,null,null,null,null,null,null,null,null,null,null,null,null,null,null,null,null,null,null,null,null,null,null,null,null,null,null,null,null,null,null,null,null,null,null,null,null,null,null,null,null,null,null,null,null,null,null,null,null,null,null,null,null,null,null,null,null,null,null,null,null,null,null,null,null,null,null,null,null,null,null,null,null,null,null,null,null,null,null,null,null,null,null,null,null,null,null,null,null,null,null,null,null,null,null,null,null,null,null,null,null,null,null,null,null,null,null,null,null,null,null,null,null,null,null,null,null,null,null,null,null,null,null,null,null,null,null,null,null,null,null,null,null,null,null,null,null,null,null,null,null,null,null,null,null,null,null,null,null,null,null,null,null,null,null,null,null,null,null,null,null,null,null,null,null,null,null,null,null,null,null,null,null,null,null,null,null,null,null,null,null,null,null,null,null,null,null,null,null,null,null,null,null,null,null,null,null,null,null,null,null,null,null,null,null,null,null,null,null,null,null,null,null,null,null,null,505]
[null,null,null,null,null,null,null,null,null,null,null,null,null,null,null,null,null,null,null,null,null,null,null,null,null,null,null,null,null,null,null,null,null,null,null,null,null,null,null,null,null,null,null,null,null,null,null,null,null,null,null,null,null,null,null,null,null,null,null,null,null,null,null,null,null,null,null,null,null,null,null,null,null,null,null,null,null,null,null,null,null,null,null,null,null,null,null,null,null,null,null,null,null,null,null,null,null,null,null,null,null,null,null,null,null,null,null,null,null,null,null,null,null,null,null,null,null,null,null,null,null,null,null,null,null,null,null,null,null,null,null,null,null,null,null,null,null,null,null,null,null,null,null,null,null,null,null,null,null,null,null,null,null,null,null,null,null,null,null,null,null,null,null,null,null,null,null,null,null,null,null,null,null,null,null,null,null,null,null,null,null,null,null,null,null,null,null,null,null,null,null,null,null,null,null,null,null,null,null,null,null,null,null,null,null,null,null,null,null,null,null,null,null,null,null,null,null,null,null,null,null,null,null,null,null,null,null,null,null,null,null,null,null,null,null,null,null,null,null,null,null,null,null,null,null,null,null,null,null,null,null,null,null,null,null,null,null,null,null,null,null,null,null,null,null,null,null,null,null,null,null,null,null,null,null,null,null,null,null,null,null,null,null,null,null,null,null,null,null,null,null,null,null,null,null,null,null,null,null,null,null,null,null,null,null,null,null,null,null,null,null,null,null,null,null,null,null,null,null,null,null,null,null,null,null,null,null,null,null,null,null,null,null,null,null,null,null,null,null,null,null,null,null,null,null,null,null,null,null,null,null,null,null,null,null,null,null,null,null,null,null,null,null,null,null,null,null,null,null,null,null,null,null,null,null,null,null,null,null,null,null,null,null,null,null,null,null,null,null,null,null,null,null,null,null,null,null,null,null,null,null,null,null,null,null,null,null,null,null,null,null,null,null,null,null,null,null,null,null,null,null,null,null,null,null,null,null,null,null,null,null,null,null,null,null,null,null,null,null,null,null,null,null,null,null,null,null,null,null,null,null,null,null,null,null,null,null,null,null,null,null,null,null,null,null,null,null,null,null,null,null,null,null,null,null,null,null,null,null,null,null,null,null,null,null,null,null,null,null,null,null,null,null,null,null,null,null,null,null,null,null,null,null,null,null,null,null,null,null,null,null,null,null,null,null,null,null,null,null,null,null,null,null,null,null,null,null,null,null,null,null,null,null,null,null,null,null,null,null,null,null,null,null,null,null,null,null,null,null,null,null,null,null,null,null,null,null,null,null,null,null,null,null,null,null,null,null,null,null,null,null,null,null,null,null,null,null,null,null,null,null,null,null,null,null,null,null,null,null,null,null,null,null,null,null,null,null,null,null,null,null,null,null,null,null,null,null,null,null,null,null,null,null,null,null,null,null,null,null,null,null,null,null,null,null,null,null,null,null,null,null,null,null,null,null,null,null,null,null,null,null,null,null,null,null,null,null,null,null,null,null,null,null,null,null,null,null,null,null,null,null,null,null,null,null,null,null,null,null,null,null,null,null,null,null,null,null,null,null,null,null,null,null,null,null,null,null,null,null,null,null,null,null,null,null,null,null,null,null,null,null,null,null,null,null,null,null,null,null,null,null,null,null,null,null,null,null,null,null,null,null,null,null,null,null,null,null,null,null,null,null,null,null,null,null,null,null,null,null,null,null,null,null,null,null,null,null,null,null,null,null,null,null,null,null,null,null,null,null,null,null,null,null,null,null,null,null,null,null,null,null,null,null,null,null,null,null,null,null,null,null,null,null,null,null,null,null,null,null,null,null,null,null,null,null,null,null,null,null,null,null,null,null,null,null,null,null,null,null,null,null,null,null,null,null,null,null,null,null,null,null,null,null,null,null,null,null,null,null,null,null,null,null,null,null,null,null,null,null,null,null,null,null,null,null,null,null,null,null,null,null,null,null,null,null,null,null,null,null,null,null,null,null,null,null,null,null,null,null,null,null,null,null,null,null,null,null,null,null,null,null,null,null,null,null,null,null,null,null,null,null,null,null,null,null,null,null,null,null,null,null,null,null,null,null,null,null,null,null,null,null,null,null,null,null,null,null,null,null,null,null,null,null,null,null,null,null,null,null,null,null,null,null,null,null,null,null,null,null,null,null,null,null,null,null,null,null,null,null,null,null,null,null,null,null,null,null,null,null,null,null,null,null,null,null,null,null,null,null,null,null,null,null,null,null,null,null,null,null,null,null,null,null,null,null,null,null,null,null,null,null,null,null,null,null,null,null,null,null,null,null,null,null,null,null,null,null,null,null,null,null,null,null,null,null,null,null,null,null,null,null,null,null,null,null,null,null,null,null,null,null,null,null,null,null,null,null,null,null,null,null,null,null,null,null,null,null,null,null,null,null,null,null,null,null,null,null,null,null,null,null,null,null,null,null,null,null,null,null,null,null,null,null,null,null,null,null,null,null,null,null,null,null,null,null,null,null,null,null,null,null,null,null,null,null,null,null,null,null,null,null,null,null,null,null,null,null,null,null,null,null,null,null,null,null,null,null,null,null,null,null,null,null,null,null,null,null,null,null,null,null,null,null,null,null,null,null,null,null,null,null,null,null,null,null,null,null,null,null,null,null,null,null,null,null,null,null,null,null,null,null,null,null,null,null,null,null,null,null,null,null,null,null,null,null,null,null,null,null,null,null,null,null,null,null,null,null,null,null,null,null,null,null,null,null,null,null,null,null,null,null,null,null,null,null,null,null,null,null,null,null,null,null,null,null,null,null,null,null,null,null,null,null,null,null,null,null,null,null,null,null,null,null,null,null,null,null,null,null,null,null,null,null,null,null,null,null,null,null,null,null,null,null,null,null,null,null,null,null,null,null,null,null,null,null,null,null,null,null,null,null,null,null,null,null,null,null,null,null,null,null,null,null,null,null,null,null,null,null,null,null,null,null,null,null,null,null,null,null,null,null,null,null,null,null,null,null,null,null,null,null,null,null,null,null,null,null,null,null,null,null,null,null,null,null,null,null,null,null,null,null,null,null,null,null,null,null,null,null,null,null,null,null,null,null,null,null,null,null,null,null,null,null,null,null,null,null,null,null,null,null,null,null,null,null,null,null,null,null,null,null,null,null,null,null,null,null,null,null,null,null,null,null,null,null,null,null,null,null,null,null,null,null,null,null,null,null,null,null,null,null,null,null,null,null,null,null,null,null,null,null,null,null,null,null,null,null,null,null,null,null,null,null,null,null,null,null,null,null,null,null,null,null,null,null,null,null,null,null,null,null,null,null,null,null,null,null,null,null,null,null,null,null,null,null,null,null,null,null,null,null,null,null,null,null,null,null,null,null,null,null,null,null,null,null,null,null,null,null,null,null,null,null,null,null,null,null,null,null,null,null,null,null,null,null,null,null,null,null,null,null,null,null,null,null,null,null,null,null,null,null,null,null,null,null,null,null,null,null,null,null,null,null,null,null,null,null,null,null,null,null,null,null,null,null,null,null,null,null,null,null,null,null,null,null,null,null,null,null,null,null,null,null,null,null,null,null,null,null,null,null,null,null,null,null,null,null,null,null,null,null,null,null,null,null,null,null,null,null,null,null,null,null,null,null,null,null,null,null,null,null,null,null,null,null,null,null,null,null,null,null,null,null,null,null,null,null,null,null,null,null,null,null,null,null,null,null,null,null,null,null,null,null,null,null,null,null,null,null,null,null,null,null,null,null,null,null,null,null,null,null,null,null,null,null,null,null,null,null,null,null,null,null,null,null,null,null,null,null,null,null,null,null,null,null,null,null,null,null,null,null,null,null,null,null,null,null,null,null,null,null,null,null,null,null,null,null,null,null,null,null,null,null,null,null,null,null,null,null,null,null,null,null,null,null,null,null,null,null,null,null,null,null,null,null,null,null,null,null,null,null,null,null,null,null,null,null,null,null,null,null,null,null,null,null,null,null,null,null,null,null,null,null,null,null,null,null,null,null,null,null,null,null,null,null,null,null,null,null,null,null,null,null,null,null,null,null,null,null,null,null,null,null,null,null,null,null,null,null,null,null,null,null,null,null,null,null,null,null,null,null,null,null,null,null,null,null,null,null,null,null,null,null,null,null,null,null,null,null,null,null,null,null,null,null,null,null,null,null,null,null,null,null,null,null,null,null,null,null,null,null,null,null,null,null,null,null,null,null,null,null,null,null,null,null,null,null,null,null,null,null,null,null,null,null,null,null,null,null,null,null,null,null,null,null,null,null,null,null,null,null,null,null,null,null,null,null,null,null,null,null,null,null,null,null,null,null,null,null,null,null,null,null,null,null,null,null,null,null,null,null,null,null,null,null,null,null,null,null,null,null,null,null,null,null,null,null,null,null,null,null,null,null,null,null,null,null,null,null,null,null,null,null,null,null,null,null,null,null,null,null,null,null,null,null,null,null,null,null,null,null,null,null,null,null,null,null,null,null,null,null,null,null,null,null,null,null,null,null,null,null,null,null,null,null,null,null,null,null,null,null,null,null,null,null,null,null,null,null,null,null,null,null,null,null,null,null,null,null,null,null,null,null,null,null,null,null,null,null,null,556]
[null,null,null,null,null,null,null,null,null,null,null,null,null,null,null,null,null,null,null,null,null,null,null,null,null,null,null,null,null,null,null,null,null,null,null,null,null,null,null,null,null,null,null,null,null,null,null,null,null,null,null,null,null,null,null,null,null,null,null,null,null,null,null,null,null,null,null,null,null,null,null,null,null,null,null,null,null,null,null,null,null,null,null,null,null,null,null,null,null,null,null,null,null,null,null,null,null,null,null,null,null,null,null,null,null,null,null,null,null,null,null,null,null,null,null,null,null,null,null,null,null,null,null,null,null,null,null,null,null,null,null,null,null,null,null,null,null,null,null,null,null,null,null,null,null,null,null,null,null,null,null,null,null,null,null,null,null,null,null,null,null,null,null,null,null,null,null,null,null,null,null,null,null,null,null,null,null,null,null,null,null,null,null,null,null,null,null,null,null,null,null,null,null,null,null,null,null,null,null,null,null,null,null,null,null,null,null,null,null,null,null,null,null,null,null,null,null,null,null,null,null,null,null,null,null,null,null,null,null,null,null,null,null,null,null,null,null,null,null,null,null,null,null,null,null,null,null,null,null,null,null,null,null,null,null,null,null,null,null,null,null,null,null,null,null,null,null,null,null,null,null,null,null,null,null,null,null,null,null,null,null,null,null,null,null,null,null,null,null,null,null,null,null,null,null,null,null,null,null,null,null,null,null,null,null,null,null,null,null,null,null,null,null,null,null,null,null,null,null,null,null,null,null,null,null,null,null,null,null,null,null,null,null,null,null,null,null,null,null,null,null,null,null,null,null,null,null,null,null,null,null,null,null,null,null,null,null,null,null,null,null,null,null,null,null,null,null,null,null,null,null,null,null,null,null,null,null,null,null,null,null,null,null,null,null,null,null,null,null,null,null,null,null,null,null,null,null,null,null,null,null,null,null,null,null,null,null,null,null,null,null,null,null,null,null,null,null,null,null,null,null,null,null,null,null,null,null,null,null,null,null,null,null,null,null,null,null,null,null,null,null,null,null,null,null,null,null,null,null,null,null,null,null,null,null,null,null,null,null,null,null,null,null,null,null,null,null,null,null,null,null,null,null,null,null,null,null,null,null,null,null,null,null,null,null,null,null,null,null,null,null,null,null,null,null,null,null,null,null,null,null,null,null,null,null,null,null,null,null,null,null,null,null,null,null,null,null,null,null,null,null,null,null,null,null,null,null,null,null,null,null,null,null,null,null,null,null,null,null,null,null,null,null,null,null,null,null,null,null,null,null,null,null,null,null,null,null,null,null,null,null,null,null,null,null,null,null,null,null,null,null,null,null,null,null,null,null,null,null,null,null,null,null,null,null,null,null,null,null,null,null,null,null,null,null,null,null,null,null,null,null,null,null,null,null,null,null,null,null,null,null,null,null,null,null,null,null,null,null,null,null,null,null,null,null,null,null,null,null,null,null,null,null,null,null,null,null,null,null,null,null,null,null,null,null,null,null,null,null,null,null,null,null,null,null,null,null,null,null,null,null,null,null,null,null,null,null,null,null,null,null,null,null,null,null,null,null,null,null,null,null,null,null,null,null,null,null,null,null,null,null,null,null,null,null,null,null,null,null,null,null,null,null,null,null,null,null,null,null,null,null,null,null,null,null,null,null,null,null,null,null,null,null,null,null,null,null,null,null,null,null,null,null,null,null,null,null,null,null,null,null,null,null,null,null,null,null,null,null,null,null,null,null,null,null,null,null,null,null,null,null,null,null,null,null,null,null,null,null,null,null,null,null,null,null,null,null,null,null,null,null,null,null,null,null,null,null,null,null,null,null,null,null,null,null,null,null,null,null,null,null,null,null,null,null,null,null,null,null,null,null,null,null,null,null,null,null,null,null,null,null,null,null,null,null,null,null,null,null,null,null,null,null,null,null,null,null,null,null,null,null,null,null,null,null,null,null,null,null,null,null,null,null,null,null,null,null,null,null,null,null,null,null,null,null,null,null,null,null,null,null,null,null,null,null,null,null,null,null,null,null,null,null,null,null,null,null,null,null,null,null,null,null,null,null,null,null,null,null,null,null,null,null,null,null,null,null,null,null,null,null,null,null,null,null,null,null,null,null,null,null,null,null,null,null,null,null,null,null,null,null,null,null,null,null,null,null,null,null,null,null,null,null,null,null,null,null,null,null,null,null,null,null,null,null,null,null,null,null,null,null,null,null,null,null,null,null,null,null,null,null,null,null,null,null,null,null,null,null,null,null,null,null,null,null,null,null,null,null,null,null,null,null,null,null,null,null,null,null,null,null,null,null,null,null,null,null,null,null,null,null,null,null,null,null,null,null,null,null,null,null,null,null,null,null,null,null,null,null,null,null,null,null,null,null,null,null,null,null,null,null,null,null,null,null,null,null,null,null,null,null,null,null,null,null,null,null,null,null,null,null,null,null,null,null,null,null,null,null,null,null,null,null,null,null,null,null,null,null,null,null,null,null,null,null,null,null,null,null,null,null,null,null,null,null,null,null,null,null,null,null,null,null,null,null,null,null,null,null,null,null,null,null,null,null,null,null,null,null,null,null,null,null,null,null,null,null,null,null,null,null,null,null,null,null,null,null,null,null,null,null,null,null,null,null,null,null,null,null,null,null,null,null,null,null,null,null,null,null,null,null,null,null,null,null,null,null,null,null,null,null,null,null,null,null,null,null,null,null,null,null,null,null,null,null,null,null,null,null,null,null,null,null,null,null,null,null,null,null,null,null,null,null,null,null,null,null,null,null,null,null,null,null,null,null,null,null,null,null,null,null,null,null,null,null,null,null,null,null,null,null,null,null,null,null,null,null,null,null,null,null,null,null,null,null,null,null,null,null,null,null,null,null,null,null,null,null,null,null,null,null,null,null,null,null,null,null,null,null,null,null,null,null,null,null,null,null,null,null,null,null,null,null,null,null,null,null,null,null,null,null,null,null,null,null,null,null,null,null,null,null,null,null,null,null,null,null,null,null,null,null,null,null,null,null,null,null,null,null,null,null,null,null,null,null,null,null,null,null,null,null,null,null,null,null,null,null,null,null,null,null,null,null,null,null,null,null,null,null,null,null,null,null,null,null,null,null,null,null,null,null,null,null,null,null,null,null,null,null,null,null,null,null,null,null,null,null,null,null,null,null,null,null,null,null,null,null,null,null,null,null,null,null,null,null,null,null,null,null,null,null,null,null,null,null,null,null,null,null,null,null,null,null,null,null,null,null,null,null,null,null,null,null,null,null,null,null,null,null,null,null,null,null,null,null,null,null,null,null,null,null,null,null,null,null,null,null,null,null,null,null,null,null,null,null,null,null,null,null,null,null,null,null,null,null,null,null,null,null,null,null,null,null,null,null,null,null,null,null,null,null,null,null,null,null,null,null,null,null,null,null,null,null,null,null,null,null,null,null,null,null,null,null,null,null,null,null,null,null,null,null,null,null,null,null,null,null,null,null,null,null,null,null,null,null,null,null,null,null,null,null,null,null,null,null,null,null,null,null,null,null,null,null,null,null,null,null,null,null,null,null,null,null,null,null,null,null,null,null,null,null,null,null,null,null,null,null,null,null,null,null,null,null,null,null,null,null,null,null,null,null,null,null,null,null,null,null,null,null,null,null,null,null,null,null,null,null,null,null,null,null,null,null,null,null,null,null,null,null,null,null,null,null,null,null,null,null,null,null,null,null,null,null,null,null,null,null,null,null,null,null,null,null,null,null,null,null,null,null,null,null,null,null,null,null,null,null,null,null,null,null,null,null,null,null,null,null,null,null,null,null,null,null,null,null,null,null,null,null,null,null,null,null,null,null,null,null,null,null,null,null,null,null,null,null,null,null,null,null,null,null,null,null,null,null,null,null,null,null,null,null,null,null,null,null,null,null,null,null,null,null,null,null,null,null,null,null,null,null,null,null,null,null,null,null,null,null,null,null,null,null,null,null,null,null,null,null,null,null,null,null,null,null,null,null,null,null,null,null,null,null,null,null,null,null,null,null,null,null,null,null,null,null,null,null,null,null,null,null,null,null,null,null,null,null,null,null,null,null,null,null,null,null,null,null,null,null,null,null,null,null,null,null,null,null,null,null,null,null,null,null,null,null,null,null,null,null,null,null,null,null,null,null,null,null,null,null,null,null,null,null,null,null,null,null,null,null,null,null,null,null,null,null,null,null,null,null,null,null,null,null,null,null,null,null,null,null,null,null,null,null,null,null,null,null,null,null,null,null,null,null,null,null,null,null,null,null,null,null,null,null,null,null,null,null,null,null,null,null,null,null,null,null,null,null,null,null,null,null,null,null,null,null,null,null,null,null,null,null,null,null,null,null,null,null,null,null,null,null,null,null,null,null,null,null,null,null,null,null,null,null,null,null,null,null,null,null,null,null,null,null,null,null,null,null,null,null,null,null,null,null,null,null,null,null,null,null,null,null,null,null,null,null,null,null,null,null,null,null,null,null,null,null,null,null,null,null,null,null,null,null,null,null,null,null,null,null,null,null,null,null,null,null,null,null,null,null,null,null,null,null,null,null,null,null,null,null,null,null,null,null,null,null,null,null,null,null,null,null,null,608]
[null,null,null,null,null,null,null,null,null,null,null,null,null,null,null,null,null,null,null,null,null,null,null,null,null,null,null,null,null,null,null,null,null,null,null,null,null,null,null,null,null,null,null,null,null,null,null,null,null,null,null,null,null,null,null,null,null,null,null,null,null,null,null,null,null,null,null,null,null,null,null,null,null,null,null,null,null,null,null,null,null,null,null,null,null,null,null,null,null,null,null,null,null,null,null,null,null,null,null,null,null,null,null,null,null,null,null,null,null,null,null,null,null,null,null,null,null,null,null,null,null,null,null,null,null,null,null,null,null,null,null,null,null,null,null,null,null,null,null,null,null,null,null,null,null,null,null,null,null,null,null,null,null,null,null,null,null,null,null,null,null,null,null,null,null,null,null,null,null,null,null,null,null,null,null,null,null,null,null,null,null,null,null,null,null,null,null,null,null,null,null,null,null,null,null,null,null,null,null,null,null,null,null,null,null,null,null,null,null,null,null,null,null,null,null,null,null,null,null,null,null,null,null,null,null,null,null,null,null,null,null,null,null,null,null,null,null,null,null,null,null,null,null,null,null,null,null,null,null,null,null,null,null,null,null,null,null,null,null,null,null,null,null,null,null,null,null,null,null,null,null,null,null,null,null,null,null,null,null,null,null,null,null,null,null,null,null,null,null,null,null,null,null,null,null,null,null,null,null,null,null,null,null,null,null,null,null,null,null,null,null,null,null,null,null,null,null,null,null,null,null,null,null,null,null,null,null,null,null,null,null,null,null,null,null,null,null,null,null,null,null,null,null,null,null,null,null,null,null,null,null,null,null,null,null,null,null,null,null,null,null,null,null,null,null,null,null,null,null,null,null,null,null,null,null,null,null,null,null,null,null,null,null,null,null,null,null,null,null,null,null,null,null,null,null,null,null,null,null,null,null,null,null,null,null,null,null,null,null,null,null,null,null,null,null,null,null,null,null,null,null,null,null,null,null,null,null,null,null,null,null,null,null,null,null,null,null,null,null,null,null,null,null,null,null,null,null,null,null,null,null,null,null,null,null,null,null,null,null,null,null,null,null,null,null,null,null,null,null,null,null,null,null,null,null,null,null,null,null,null,null,null,null,null,null,null,null,null,null,null,null,null,null,null,null,null,null,null,null,null,null,null,null,null,null,null,null,null,null,null,null,null,null,null,null,null,null,null,null,null,null,null,null,null,null,null,null,null,null,null,null,null,null,null,null,null,null,null,null,null,null,null,null,null,null,null,null,null,null,null,null,null,null,null,null,null,null,null,null,null,null,null,null,null,null,null,null,null,null,null,null,null,null,null,null,null,null,null,null,null,null,null,null,null,null,null,null,null,null,null,null,null,null,null,null,null,null,null,null,null,null,null,null,null,null,null,null,null,null,null,null,null,null,null,null,null,null,null,null,null,null,null,null,null,null,null,null,null,null,null,null,null,null,null,null,null,null,null,null,null,null,null,null,null,null,null,null,null,null,null,null,null,null,null,null,null,null,null,null,null,null,null,null,null,null,null,null,null,null,null,null,null,null,null,null,null,null,null,null,null,null,null,null,null,null,null,null,null,null,null,null,null,null,null,null,null,null,null,null,null,null,null,null,null,null,null,null,null,null,null,null,null,null,null,null,null,null,null,null,null,null,null,null,null,null,null,null,null,null,null,null,null,null,null,null,null,null,null,null,null,null,null,null,null,null,null,null,null,null,null,null,null,null,null,null,null,null,null,null,null,null,null,null,null,null,null,null,null,null,null,null,null,null,null,null,null,null,null,null,null,null,null,null,null,null,null,null,null,null,null,null,null,null,null,null,null,null,null,null,null,null,null,null,null,null,null,null,null,null,null,null,null,null,null,null,null,null,null,null,null,null,null,null,null,null,null,null,null,null,null,null,null,null,null,null,null,null,null,null,null,null,null,null,null,null,null,null,null,null,null,null,null,null,null,null,null,null,null,null,null,null,null,null,null,null,null,null,null,null,null,null,null,null,null,null,null,null,null,null,null,null,null,null,null,null,null,null,null,null,null,null,null,null,null,null,null,null,null,null,null,null,null,null,null,null,null,null,null,null,null,null,null,null,null,null,null,null,null,null,null,null,null,null,null,null,null,null,null,null,null,null,null,null,null,null,null,null,null,null,null,null,null,null,null,null,null,null,null,null,null,null,null,null,null,null,null,null,null,null,null,null,null,null,null,null,null,null,null,null,null,null,null,null,null,null,null,null,null,null,null,null,null,null,null,null,null,null,null,null,null,null,null,null,null,null,null,null,null,null,null,null,null,null,null,null,null,null,null,null,null,null,null,null,null,null,null,null,null,null,null,null,null,null,null,null,null,null,null,null,null,null,null,null,null,null,null,null,null,null,null,null,null,null,null,null,null,null,null,null,null,null,null,null,null,null,null,null,null,null,null,null,null,null,null,null,null,null,null,null,null,null,null,null,null,null,null,null,null,null,null,null,null,null,null,null,null,null,null,null,null,null,null,null,null,null,null,null,null,null,null,null,null,null,null,null,null,null,null,null,null,null,null,null,null,null,null,null,null,null,null,null,null,null,null,null,null,null,null,null,null,null,null,null,null,null,null,null,null,null,null,null,null,null,null,null,null,null,null,null,null,null,null,null,null,null,null,null,null,null,null,null,null,null,null,null,null,null,null,null,null,null,null,null,null,null,null,null,null,null,null,null,null,null,null,null,null,null,null,null,null,null,null,null,null,null,null,null,null,null,null,null,null,null,null,null,null,null,null,null,null,null,null,null,null,null,null,null,null,null,null,null,null,null,null,null,null,null,null,null,null,null,null,null,null,null,null,null,null,null,null,null,null,null,null,null,null,null,null,null,null,null,null,null,null,null,null,null,null,null,null,null,null,null,null,null,null,null,null,null,null,null,null,null,null,null,null,null,null,null,null,null,null,null,null,null,null,null,null,null,null,null,null,null,null,null,null,null,null,null,null,null,null,null,null,null,null,null,null,null,null,null,null,null,null,null,null,null,null,null,null,null,null,null,null,null,null,null,null,null,null,null,null,null,null,null,null,null,null,null,null,null,null,null,null,null,null,null,null,null,null,null,null,null,null,null,null,null,null,null,null,null,null,null,null,null,null,null,null,null,null,null,null,null,null,null,null,null,null,null,null,null,null,null,null,null,null,null,null,null,null,null,null,null,null,null,null,null,null,null,null,null,null,null,null,null,null,null,null,null,null,null,null,null,null,null,null,null,null,null,null,null,null,null,null,null,null,null,null,null,null,null,null,null,null,null,null,null,null,null,null,null,null,null,null,null,null,null,null,null,null,null,null,null,null,null,null,null,null,null,null,null,null,null,null,null,null,null,null,null,null,null,null,null,null,null,null,null,null,null,null,null,null,null,null,null,null,null,null,null,null,null,null,null,null,null,null,null,null,null,null,null,null,null,null,null,null,null,null,null,null,null,null,null,null,null,null,null,null,null,null,null,null,null,null,null,null,null,null,null,null,null,null,null,null,null,null,null,null,null,null,null,null,null,null,null,null,null,null,null,null,null,null,null,null,null,null,null,null,null,null,null,null,null,null,null,null,null,null,null,null,null,null,null,null,null,null,null,null,null,null,null,null,null,null,null,null,null,null,null,null,null,null,null,null,null,null,null,null,null,null,null,null,null,null,null,null,null,null,null,null,null,null,null,null,null,null,null,null,null,null,null,null,null,null,null,null,null,null,null,null,null,null,null,null,null,null,null,null,null,null,null,null,null,null,null,null,null,null,null,null,null,null,null,null,null,null,null,null,null,null,null,null,null,null,null,null,null,null,null,null,null,null,null,null,null,null,null,null,null,null,null,null,null,null,null,null,null,null,null,null,null,null,null,null,null,null,null,null,null,null,null,null,null,null,null,null,null,null,null,null,null,null,null,null,null,null,null,null,null,null,null,null,null,null,null,null,null,null,null,null,null,null,null,null,null,null,null,null,null,null,null,null,null,null,null,null,null,null,null,null,null,null,null,null,null,null,null,null,null,null,null,null,null,null,null,null,null,null,null,null,null,null,null,null,null,null,null,null,null,null,null,null,null,null,null,null,null,null,null,null,null,null,null,null,null,null,null,null,null,null,null,null,null,null,null,null,null,null,null,null,null,null,null,null,null,null,null,null,null,null,null,null,null,null,null,null,null,null,null,null,null,null,null,null,null,null,null,null,null,null,null,null,null,null,null,null,null,null,null,null,null,null,null,null,null,null,null,null,null,null,null,null,null,null,null,null,null,null,null,null,null,null,null,null,null,null,null,null,null,null,null,null,null,null,null,null,null,null,null,null,null,null,null,null,null,null,null,null,null,null,null,null,null,null,null,null,null,null,null,null,null,null,null,null,null,null,null,null,null,null,null,null,null,null,null,null,null,null,null,null,null,null,null,null,null,null,null,null,null,null,null,null,null,null,null,null,null,null,null,null,null,null,null,null,null,null,null,null,null,null,null,null,null,null,null,null,null,null,null,null,null,null,null,null,null,null,null,null,null,null,null,null,null,null,null,null,null,null,null,null,null,null,null,null,null,null,null,null,null,null,null,null,null,null,null,null,null,null,null,null,659]
[null,null,null,null,null,null,null,null,null,null,null,null,null,null,null,null,null,null,null,null,null,null,null,null,null,null,null,null,null,null,null,null,null,null,null,null,null,null,null,null,null,null,null,null,null,null,null,null,null,null,null,null,null,null,null,null,null,null,null,null,null,null,null,null,null,null,null,null,null,null,null,null,null,null,null,null,null,null,null,null,null,null,null,null,null,null,null,null,null,null,null,null,null,null,null,null,null,null,null,null,null,null,null,null,null,null,null,null,null,null,null,null,null,null,null,null,null,null,null,null,null,null,null,null,null,null,null,null,null,null,null,null,null,null,null,null,null,null,null,null,null,null,null,null,null,null,null,null,null,null,null,null,null,null,null,null,null,null,null,null,null,null,null,null,null,null,null,null,null,null,null,null,null,null,null,null,null,null,null,null,null,null,null,null,null,null,null,null,null,null,null,null,null,null,null,null,null,null,null,null,null,null,null,null,null,null,null,null,null,null,null,null,null,null,null,null,null,null,null,null,null,null,null,null,null,null,null,null,null,null,null,null,null,null,null,null,null,null,null,null,null,null,null,null,null,null,null,null,null,null,null,null,null,null,null,null,null,null,null,null,null,null,null,null,null,null,null,null,null,null,null,null,null,null,null,null,null,null,null,null,null,null,null,null,null,null,null,null,null,null,null,null,null,null,null,null,null,null,null,null,null,null,null,null,null,null,null,null,null,null,null,null,null,null,null,null,null,null,null,null,null,null,null,null,null,null,null,null,null,null,null,null,null,null,null,null,null,null,null,null,null,null,null,null,null,null,null,null,null,null,null,null,null,null,null,null,null,null,null,null,null,null,null,null,null,null,null,null,null,null,null,null,null,null,null,null,null,null,null,null,null,null,null,null,null,null,null,null,null,null,null,null,null,null,null,null,null,null,null,null,null,null,null,null,null,null,null,null,null,null,null,null,null,null,null,null,null,null,null,null,null,null,null,null,null,null,null,null,null,null,null,null,null,null,null,null,null,null,null,null,null,null,null,null,null,null,null,null,null,null,null,null,null,null,null,null,null,null,null,null,null,null,null,null,null,null,null,null,null,null,null,null,null,null,null,null,null,null,null,null,null,null,null,null,null,null,null,null,null,null,null,null,null,null,null,null,null,null,null,null,null,null,null,null,null,null,null,null,null,null,null,null,null,null,null,null,null,null,null,null,null,null,null,null,null,null,null,null,null,null,null,null,null,null,null,null,null,null,null,null,null,null,null,null,null,null,null,null,null,null,null,null,null,null,null,null,null,null,null,null,null,null,null,null,null,null,null,null,null,null,null,null,null,null,null,null,null,null,null,null,null,null,null,null,null,null,null,null,null,null,null,null,null,null,null,null,null,null,null,null,null,null,null,null,null,null,null,null,null,null,null,null,null,null,null,null,null,null,null,null,null,null,null,null,null,null,null,null,null,null,null,null,null,null,null,null,null,null,null,null,null,null,null,null,null,null,null,null,null,null,null,null,null,null,null,null,null,null,null,null,null,null,null,null,null,null,null,null,null,null,null,null,null,null,null,null,null,null,null,null,null,null,null,null,null,null,null,null,null,null,null,null,null,null,null,null,null,null,null,null,null,null,null,null,null,null,null,null,null,null,null,null,null,null,null,null,null,null,null,null,null,null,null,null,null,null,null,null,null,null,null,null,null,null,null,null,null,null,null,null,null,null,null,null,null,null,null,null,null,null,null,null,null,null,null,null,null,null,null,null,null,null,null,null,null,null,null,null,null,null,null,null,null,null,null,null,null,null,null,null,null,null,null,null,null,null,null,null,null,null,null,null,null,null,null,null,null,null,null,null,null,null,null,null,null,null,null,null,null,null,null,null,null,null,null,null,null,null,null,null,null,null,null,null,null,null,null,null,null,null,null,null,null,null,null,null,null,null,null,null,null,null,null,null,null,null,null,null,null,null,null,null,null,null,null,null,null,null,null,null,null,null,null,null,null,null,null,null,null,null,null,null,null,null,null,null,null,null,null,null,null,null,null,null,null,null,null,null,null,null,null,null,null,null,null,null,null,null,null,null,null,null,null,null,null,null,null,null,null,null,null,null,null,null,null,null,null,null,null,null,null,null,null,null,null,null,null,null,null,null,null,null,null,null,null,null,null,null,null,null,null,null,null,null,null,null,null,null,null,null,null,null,null,null,null,null,null,null,null,null,null,null,null,null,null,null,null,null,null,null,null,null,null,null,null,null,null,null,null,null,null,null,null,null,null,null,null,null,null,null,null,null,null,null,null,null,null,null,null,null,null,null,null,null,null,null,null,null,null,null,null,null,null,null,null,null,null,null,null,null,null,null,null,null,null,null,null,null,null,null,null,null,null,null,null,null,null,null,null,null,null,null,null,null,null,null,null,null,null,null,null,null,null,null,null,null,null,null,null,null,null,null,null,null,null,null,null,null,null,null,null,null,null,null,null,null,null,null,null,null,null,null,null,null,null,null,null,null,null,null,null,null,null,null,null,null,null,null,null,null,null,null,null,null,null,null,null,null,null,null,null,null,null,null,null,null,null,null,null,null,null,null,null,null,null,null,null,null,null,null,null,null,null,null,null,null,null,null,null,null,null,null,null,null,null,null,null,null,null,null,null,null,null,null,null,null,null,null,null,null,null,null,null,null,null,null,null,null,null,null,null,null,null,null,null,null,null,null,null,null,null,null,null,null,null,null,null,null,null,null,null,null,null,null,null,null,null,null,null,null,null,null,null,null,null,null,null,null,null,null,null,null,null,null,null,null,null,null,null,null,null,null,null,null,null,null,null,null,null,null,null,null,null,null,null,null,null,null,null,null,null,null,null,null,null,null,null,null,null,null,null,null,null,null,null,null,null,null,null,null,null,null,null,null,null,null,null,null,null,null,null,null,null,null,null,null,null,null,null,null,null,null,null,null,null,null,null,null,null,null,null,null,null,null,null,null,null,null,null,null,null,null,null,null,null,null,null,null,null,null,null,null,null,null,null,null,null,null,null,null,null,null,null,null,null,null,null,null,null,null,null,null,null,null,null,null,null,null,null,null,null,null,null,null,null,null,null,null,null,null,null,null,null,null,null,null,null,null,null,null,null,null,null,null,null,null,null,null,null,null,null,null,null,null,null,null,null,null,null,null,null,null,null,null,null,null,null,null,null,null,null,null,null,null,null,null,null,null,null,null,null,null,null,null,null,null,null,null,null,null,null,null,null,null,null,null,null,null,null,null,null,null,null,null,null,null,null,null,null,null,null,null,null,null,null,null,null,null,null,null,null,null,null,null,null,null,null,null,null,null,null,null,null,null,null,null,null,null,null,null,null,null,null,null,null,null,null,null,null,null,null,null,null,null,null,null,null,null,null,null,null,null,null,null,null,null,null,null,null,null,null,null,null,null,null,null,null,null,null,null,null,null,null,null,null,null,null,null,null,null,null,null,null,null,null,null,null,null,null,null,null,null,null,null,null,null,null,null,null,null,null,null,null,null,null,null,null,null,null,null,null,null,null,null,null,null,null,null,null,null,null,null,null,null,null,null,null,null,null,null,null,null,null,null,null,null,null,null,null,null,null,null,null,null,null,null,null,null,null,null,null,null,null,null,null,null,null,null,null,null,null,null,null,null,null,null,null,null,null,null,null,null,null,null,null,null,null,null,null,null,null,null,null,null,null,null,null,null,null,null,null,null,null,null,null,null,null,null,null,null,null,null,null,null,null,null,null,null,null,null,null,null,null,null,null,null,null,null,null,null,null,null,null,null,null,null,null,null,null,null,null,null,null,null,null,null,null,null,null,null,null,null,null,null,null,null,null,null,null,null,null,null,null,null,null,null,null,null,null,null,null,null,null,null,null,null,null,null,null,null,null,null,null,null,null,null,null,null,null,null,null,null,null,null,null,null,null,null,null,null,null,null,null,null,null,null,null,null,null,null,null,null,null,null,null,null,null,null,null,null,null,null,null,null,null,null,null,null,null,null,null,null,null,null,null,null,null,null,null,null,null,null,null,null,null,null,null,null,null,null,null,null,null,null,null,null,null,null,null,null,null,null,null,null,null,null,null,null,null,null,null,null,null,null,null,null,null,null,null,null,null,null,null,null,null,null,null,null,null,null,null,null,null,null,null,null,null,null,null,null,null,null,null,null,null,null,null,null,null,null,null,null,null,null,null,null,null,null,null,null,null,null,null,null,null,null,null,null,null,null,null,null,null,null,null,null,null,null,null,null,null,null,null,null,null,null,null,null,null,null,null,null,null,null,null,null,null,null,null,null,null,null,null,null,null,null,null,null,null,null,null,null,null,null,null,null,null,null,null,null,null,null,null,null,null,null,null,null,null,null,null,null,null,null,null,null,null,null,null,null,null,null,null,null,null,null,null,null,null,null,null,null,null,null,null,null,null,null,null,null,null,null,null,null,null,null,null,null,null,null,null,null,null,null,null,null,null,null,null,null,null,null,null,null,null,null,null,null,null,null,null,null,null,null,null,null,null,null,null,null,null,null,null,null,null,null,null,null,null,null,null,null,null,null,null,null,null,null,null,null,null,null,null,null,null,null,null,null,null,null,710]
[null,null,null,null,null,null,null,null,null,null,null,null,null,null,null,null,null,null,null,null,null,null,null,null,null,null,null,null,null,null,null,null,null,null,null,null,null,null,null,null,null,null,null,null,null,null,null,null,null,null,null,null,null,null,null,null,null,null,null,null,null,null,null,null,null,null,null,null,null,null,null,null,null,null,null,null,null,null,null,null,null,null,null,null,null,null,null,null,null,null,null,null,null,null,null,null,null,null,null,null,null,null,null,null,null,null,null,null,null,null,null,null,null,null,null,null,null,null,null,null,null,null,null,null,null,null,null,null,null,null,null,null,null,null,null,null,null,null,null,null,null,null,null,null,null,null,null,null,null,null,null,null,null,null,null,null,null,null,null,null,null,null,null,null,null,null,null,null,null,null,null,null,null,null,null,null,null,null,null,null,null,null,null,null,null,null,null,null,null,null,null,null,null,null,null,null,null,null,null,null,null,null,null,null,null,null,null,null,null,null,null,null,null,null,null,null,null,null,null,null,null,null,null,null,null,null,null,null,null,null,null,null,null,null,null,null,null,null,null,null,null,null,null,null,null,null,null,null,null,null,null,null,null,null,null,null,null,null,null,null,null,null,null,null,null,null,null,null,null,null,null,null,null,null,null,null,null,null,null,null,null,null,null,null,null,null,null,null,null,null,null,null,null,null,null,null,null,null,null,null,null,null,null,null,null,null,null,null,null,null,null,null,null,null,null,null,null,null,null,null,null,null,null,null,null,null,null,null,null,null,null,null,null,null,null,null,null,null,null,null,null,null,null,null,null,null,null,null,null,null,null,null,null,null,null,null,null,null,null,null,null,null,null,null,null,null,null,null,null,null,null,null,null,null,null,null,null,null,null,null,null,null,null,null,null,null,null,null,null,null,null,null,null,null,null,null,null,null,null,null,null,null,null,null,null,null,null,null,null,null,null,null,null,null,null,null,null,null,null,null,null,null,null,null,null,null,null,null,null,null,null,null,null,null,null,null,null,null,null,null,null,null,null,null,null,null,null,null,null,null,null,null,null,null,null,null,null,null,null,null,null,null,null,null,null,null,null,null,null,null,null,null,null,null,null,null,null,null,null,null,null,null,null,null,null,null,null,null,null,null,null,null,null,null,null,null,null,null,null,null,null,null,null,null,null,null,null,null,null,null,null,null,null,null,null,null,null,null,null,null,null,null,null,null,null,null,null,null,null,null,null,null,null,null,null,null,null,null,null,null,null,null,null,null,null,null,null,null,null,null,null,null,null,null,null,null,null,null,null,null,null,null,null,null,null,null,null,null,null,null,null,null,null,null,null,null,null,null,null,null,null,null,null,null,null,null,null,null,null,null,null,null,null,null,null,null,null,null,null,null,null,null,null,null,null,null,null,null,null,null,null,null,null,null,null,null,null,null,null,null,null,null,null,null,null,null,null,null,null,null,null,null,null,null,null,null,null,null,null,null,null,null,null,null,null,null,null,null,null,null,null,null,null,null,null,null,null,null,null,null,null,null,null,null,null,null,null,null,null,null,null,null,null,null,null,null,null,null,null,null,null,null,null,null,null,null,null,null,null,null,null,null,null,null,null,null,null,null,null,null,null,null,null,null,null,null,null,null,null,null,null,null,null,null,null,null,null,null,null,null,null,null,null,null,null,null,null,null,null,null,null,null,null,null,null,null,null,null,null,null,null,null,null,null,null,null,null,null,null,null,null,null,null,null,null,null,null,null,null,null,null,null,null,null,null,null,null,null,null,null,null,null,null,null,null,null,null,null,null,null,null,null,null,null,null,null,null,null,null,null,null,null,null,null,null,null,null,null,null,null,null,null,null,null,null,null,null,null,null,null,null,null,null,null,null,null,null,null,null,null,null,null,null,null,null,null,null,null,null,null,null,null,null,null,null,null,null,null,null,null,null,null,null,null,null,null,null,null,null,null,null,null,null,null,null,null,null,null,null,null,null,null,null,null,null,null,null,null,null,null,null,null,null,null,null,null,null,null,null,null,null,null,null,null,null,null,null,null,null,null,null,null,null,null,null,null,null,null,null,null,null,null,null,null,null,null,null,null,null,null,null,null,null,null,null,null,null,null,null,null,null,null,null,null,null,null,null,null,null,null,null,null,null,null,null,null,null,null,null,null,null,null,null,null,null,null,null,null,null,null,null,null,null,null,null,null,null,null,null,null,null,null,null,null,null,null,null,null,null,null,null,null,null,null,null,null,null,null,null,null,null,null,null,null,null,null,null,null,null,null,null,null,null,null,null,null,null,null,null,null,null,null,null,null,null,null,null,null,null,null,null,null,null,null,null,null,null,null,null,null,null,null,null,null,null,null,null,null,null,null,null,null,null,null,null,null,null,null,null,null,null,null,null,null,null,null,null,null,null,null,null,null,null,null,null,null,null,null,null,null,null,null,null,null,null,null,null,null,null,null,null,null,null,null,null,null,null,null,null,null,null,null,null,null,null,null,null,null,null,null,null,null,null,null,null,null,null,null,null,null,null,null,null,null,null,null,null,null,null,null,null,null,null,null,null,null,null,null,null,null,null,null,null,null,null,null,null,null,null,null,null,null,null,null,null,null,null,null,null,null,null,null,null,null,null,null,null,null,null,null,null,null,null,null,null,null,null,null,null,null,null,null,null,null,null,null,null,null,null,null,null,null,null,null,null,null,null,null,null,null,null,null,null,null,null,null,null,null,null,null,null,null,null,null,null,null,null,null,null,null,null,null,null,null,null,null,null,null,null,null,null,null,null,null,null,null,null,null,null,null,null,null,null,null,null,null,null,null,null,null,null,null,null,null,null,null,null,null,null,null,null,null,null,null,null,null,null,null,null,null,null,null,null,null,null,null,null,null,null,null,null,null,null,null,null,null,null,null,null,null,null,null,null,null,null,null,null,null,null,null,null,null,null,null,null,null,null,null,null,null,null,null,null,null,null,null,null,null,null,null,null,null,null,null,null,null,null,null,null,null,null,null,null,null,null,null,null,null,null,null,null,null,null,null,null,null,null,null,null,null,null,null,null,null,null,null,null,null,null,null,null,null,null,null,null,null,null,null,null,null,null,null,null,null,null,null,null,null,null,null,null,null,null,null,null,null,null,null,null,null,null,null,null,null,null,null,null,null,null,null,null,null,null,null,null,null,null,null,null,null,null,null,null,null,null,null,null,null,null,null,null,null,null,null,null,null,null,null,null,null,null,null,null,null,null,null,null,null,null,null,null,null,null,null,null,null,null,null,null,null,null,null,null,null,null,null,null,null,null,null,null,null,null,null,null,null,null,null,null,null,null,null,null,null,null,null,null,null,null,null,null,null,null,null,null,null,null,null,null,null,null,null,null,null,null,null,null,null,null,null,null,null,null,null,null,null,null,null,null,null,null,null,null,null,null,null,null,null,null,null,null,null,null,null,null,null,null,null,null,null,null,null,null,null,null,null,null,null,null,null,null,null,null,null,null,null,null,null,null,null,null,null,null,null,null,null,null,null,null,null,null,null,null,null,null,null,null,null,null,null,null,null,null,null,null,null,null,null,null,null,null,null,null,null,null,null,null,null,null,null,null,null,null,null,null,null,null,null,null,null,null,null,null,null,null,null,null,null,null,null,null,null,null,null,null,null,null,null,null,null,null,null,null,null,null,null,null,null,null,null,null,null,null,null,null,null,null,null,null,null,null,null,null,null,null,null,null,null,null,null,null,null,null,null,null,null,null,null,null,null,null,null,null,null,null,null,null,null,null,null,null,null,null,null,null,null,null,null,null,null,null,null,null,null,null,null,null,null,null,null,null,null,null,null,null,null,null,null,null,null,null,null,null,null,null,null,null,null,null,null,null,null,null,null,null,null,null,null,null,null,null,null,null,null,null,null,null,null,null,null,null,null,null,null,null,null,null,null,null,null,null,null,null,null,null,null,null,null,null,null,null,null,null,null,null,null,null,null,null,null,null,null,null,null,null,null,null,null,null,null,null,null,null,null,null,null,null,null,null,null,null,null,null,null,null,null,null,null,null,null,null,null,null,null,null,null,null,null,null,null,null,null,null,null,null,null,null,null,null,null,null,null,null,null,null,null,null,null,null,null,null,null,null,null,null,null,null,null,null,null,null,null,null,null,null,null,null,null,null,null,null,null,null,null,null,null,null,null,null,null,null,null,null,null,null,null,null,null,null,null,null,null,null,null,null,null,null,null,null,null,null,null,null,null,null,null,null,null,null,null,null,null,null,null,null,null,null,null,null,null,null,null,null,null,null,null,null,null,null,null,null,null,null,null,null,null,null,null,null,null,null,null,null,null,null,null,null,null,null,null,null,null,null,null,null,null,null,null,null,null,null,null,null,null,null,null,null,null,null,null,null,null,null,null,null,null,null,null,null,null,null,null,null,null,null,null,null,null,null,null,null,null,null,null,null,null,null,null,null,null,null,null,null,null,null,null,null,null,null,null,null,null,null,null,null,null,null,null,null,null,null,null,null,null,null,null,null,null,null,null,null,null,null,null,null,null,null,null,null,null,null,null,null,null,null,null,null,null,null,null,null,null,null,null,null,null,null,null,null,null,762]
[null,null,null,null,null,null,null,null,null,null,null,null,null,null,null,null,null,null,null,null,null,null,null,null,null,null,null,null,null,null,null,null,null,null,null,null,null,null,null,null,null,null,null,null,null,null,null,null,null,null,null,null,null,null,null,null,null,null,null,null,null,null,null,null,null,null,null,null,null,null,null,null,null,null,null,null,null,null,null,null,null,null,null,null,null,null,null,null,null,null,null,null,null,null,null,null,null,null,null,null,null,null,null,null,null,null,null,null,null,null,null,null,null,null,null,null,null,null,null,null,null,null,null,null,null,null,null,null,null,null,null,null,null,null,null,null,null,null,null,null,null,null,null,null,null,null,null,null,null,null,null,null,null,null,null,null,null,null,null,null,null,null,null,null,null,null,null,null,null,null,null,null,null,null,null,null,null,null,null,null,null,null,null,null,null,null,null,null,null,null,null,null,null,null,null,null,null,null,null,null,null,null,null,null,null,null,null,null,null,null,null,null,null,null,null,null,null,null,null,null,null,null,null,null,null,null,null,null,null,null,null,null,null,null,null,null,null,null,null,null,null,null,null,null,null,null,null,null,null,null,null,null,null,null,null,null,null,null,null,null,null,null,null,null,null,null,null,null,null,null,null,null,null,null,null,null,null,null,null,null,null,null,null,null,null,null,null,null,null,null,null,null,null,null,null,null,null,null,null,null,null,null,null,null,null,null,null,null,null,null,null,null,null,null,null,null,null,null,null,null,null,null,null,null,null,null,null,null,null,null,null,null,null,null,null,null,null,null,null,null,null,null,null,null,null,null,null,null,null,null,null,null,null,null,null,null,null,null,null,null,null,null,null,null,null,null,null,null,null,null,null,null,null,null,null,null,null,null,null,null,null,null,null,null,null,null,null,null,null,null,null,null,null,null,null,null,null,null,null,null,null,null,null,null,null,null,null,null,null,null,null,null,null,null,null,null,null,null,null,null,null,null,null,null,null,null,null,null,null,null,null,null,null,null,null,null,null,null,null,null,null,null,null,null,null,null,null,null,null,null,null,null,null,null,null,null,null,null,null,null,null,null,null,null,null,null,null,null,null,null,null,null,null,null,null,null,null,null,null,null,null,null,null,null,null,null,null,null,null,null,null,null,null,null,null,null,null,null,null,null,null,null,null,null,null,null,null,null,null,null,null,null,null,null,null,null,null,null,null,null,null,null,null,null,null,null,null,null,null,null,null,null,null,null,null,null,null,null,null,null,null,null,null,null,null,null,null,null,null,null,null,null,null,null,null,null,null,null,null,null,null,null,null,null,null,null,null,null,null,null,null,null,null,null,null,null,null,null,null,null,null,null,null,null,null,null,null,null,null,null,null,null,null,null,null,null,null,null,null,null,null,null,null,null,null,null,null,null,null,null,null,null,null,null,null,null,null,null,null,null,null,null,null,null,null,null,null,null,null,null,null,null,null,null,null,null,null,null,null,null,null,null,null,null,null,null,null,null,null,null,null,null,null,null,null,null,null,null,null,null,null,null,null,null,null,null,null,null,null,null,null,null,null,null,null,null,null,null,null,null,null,null,null,null,null,null,null,null,null,null,null,null,null,null,null,null,null,null,null,null,null,null,null,null,null,null,null,null,null,null,null,null,null,null,null,null,null,null,null,null,null,null,null,null,null,null,null,null,null,null,null,null,null,null,null,null,null,null,null,null,null,null,null,null,null,null,null,null,null,null,null,null,null,null,null,null,null,null,null,null,null,null,null,null,null,null,null,null,null,null,null,null,null,null,null,null,null,null,null,null,null,null,null,null,null,null,null,null,null,null,null,null,null,null,null,null,null,null,null,null,null,null,null,null,null,null,null,null,null,null,null,null,null,null,null,null,null,null,null,null,null,null,null,null,null,null,null,null,null,null,null,null,null,null,null,null,null,null,null,null,null,null,null,null,null,null,null,null,null,null,null,null,null,null,null,null,null,null,null,null,null,null,null,null,null,null,null,null,null,null,null,null,null,null,null,null,null,null,null,null,null,null,null,null,null,null,null,null,null,null,null,null,null,null,null,null,null,null,null,null,null,null,null,null,null,null,null,null,null,null,null,null,null,null,null,null,null,null,null,null,null,null,null,null,null,null,null,null,null,null,null,null,null,null,null,null,null,null,null,null,null,null,null,null,null,null,null,null,null,null,null,null,null,null,null,null,null,null,null,null,null,null,null,null,null,null,null,null,null,null,null,null,null,null,null,null,null,null,null,null,null,null,null,null,null,null,null,null,null,null,null,null,null,null,null,null,null,null,null,null,null,null,null,null,null,null,null,null,null,null,null,null,null,null,null,null,null,null,null,null,null,null,null,null,null,null,null,null,null,null,null,null,null,null,null,null,null,null,null,null,null,null,null,null,null,null,null,null,null,null,null,null,null,null,null,null,null,null,null,null,null,null,null,null,null,null,null,null,null,null,null,null,null,null,null,null,null,null,null,null,null,null,null,null,null,null,null,null,null,null,null,null,null,null,null,null,null,null,null,null,null,null,null,null,null,null,null,null,null,null,null,null,null,null,null,null,null,null,null,null,null,null,null,null,null,null,null,null,null,null,null,null,null,null,null,null,null,null,null,null,null,null,null,null,null,null,null,null,null,null,null,null,null,null,null,null,null,null,null,null,null,null,null,null,null,null,null,null,null,null,null,null,null,null,null,null,null,null,null,null,null,null,null,null,null,null,null,null,null,null,null,null,null,null,null,null,null,null,null,null,null,null,null,null,null,null,null,null,null,null,null,null,null,null,null,null,null,null,null,null,null,null,null,null,null,null,null,null,null,null,null,null,null,null,null,null,null,null,null,null,null,null,null,null,null,null,null,null,null,null,null,null,null,null,null,null,null,null,null,null,null,null,null,null,null,null,null,null,null,null,null,null,null,null,null,null,null,null,null,null,null,null,null,null,null,null,null,null,null,null,null,null,null,null,null,null,null,null,null,null,null,null,null,null,null,null,null,null,null,null,null,null,null,null,null,null,null,null,null,null,null,null,null,null,null,null,null,null,null,null,null,null,null,null,null,null,null,null,null,null,null,null,null,null,null,null,null,null,null,null,null,null,null,null,null,null,null,null,null,null,null,null,null,null,null,null,null,null,null,null,null,null,null,null,null,null,null,null,null,null,null,null,null,null,null,null,null,null,null,null,null,null,null,null,null,null,null,null,null,null,null,null,null,null,null,null,null,null,null,null,null,null,null,null,null,null,null,null,null,null,null,null,null,null,null,null,null,null,null,null,null,null,null,null,null,null,null,null,null,null,null,null,null,null,null,null,null,null,null,null,null,null,null,null,null,null,null,null,null,null,null,null,null,null,null,null,null,null,null,null,null,null,null,null,null,null,null,null,null,null,null,null,null,null,null,null,null,null,null,null,null,null,null,null,null,null,null,null,null,null,null,null,null,null,null,null,null,null,null,null,null,null,null,null,null,null,null,null,null,null,null,null,null,null,null,null,null,null,null,null,null,null,null,null,null,null,null,null,null,null,null,null,null,null,null,null,null,null,null,null,null,null,null,null,null,null,null,null,null,null,null,null,null,null,null,null,null,null,null,null,null,null,null,null,null,null,null,null,null,null,null,null,null,null,null,null,null,null,null,null,null,null,null,null,null,null,null,null,null,null,null,null,null,null,null,null,null,null,null,null,null,null,null,null,null,null,null,null,null,null,null,null,null,null,null,null,null,null,null,null,null,null,null,null,null,null,null,null,null,null,null,null,null,null,null,null,null,null,null,null,null,null,null,null,null,null,null,null,null,null,null,null,null,null,null,null,null,null,null,null,null,null,null,null,null,null,null,null,null,null,null,null,null,null,null,null,null,null,null,null,null,null,null,null,null,null,null,null,null,null,null,null,null,null,null,null,null,null,null,null,null,null,null,null,null,null,null,null,null,null,null,null,null,null,null,null,null,null,null,null,null,null,null,null,null,null,null,null,null,null,null,null,null,null,null,null,null,null,null,null,null,null,null,null,null,null,null,null,null,null,null,null,null,null,null,null,null,null,null,null,null,null,null,null,null,null,null,null,null,null,null,null,null,null,null,null,null,null,null,null,null,null,null,null,null,null,null,null,null,null,null,null,null,null,null,null,null,null,null,null,null,null,null,null,null,null,null,null,null,null,null,null,null,null,null,null,null,null,null,null,null,null,null,null,null,null,null,null,null,null,null,null,null,null,null,null,null,null,null,null,null,null,null,null,null,null,null,null,null,null,null,null,null,null,null,null,null,null,null,null,null,null,null,null,null,null,null,null,null,null,null,null,null,null,null,null,null,null,null,null,null,null,null,null,null,null,null,null,null,null,null,null,null,null,null,null,null,null,null,null,null,null,null,null,null,null,null,null,null,null,null,null,null,null,null,null,null,null,null,null,null,null,null,null,null,null,null,null,null,null,null,null,null,null,null,null,null,null,null,null,null,null,null,null,null,null,null,null,null,null,null,null,null,null,null,null,null,null,null,null,null,null,null,null,null,null,null,null,null,null,null,null,null,null,null,null,null,null,null,null,null,null,null,null,null,null,null,null,null,null,null,null,null,null,null,null,null,null,null,null,786]
[null,null,null,null,null,null,null,null,null,null,null,null,null,null,null,null,null,null,null,null,null,null,null,null,null,null,null,null,null,null,null,null,null,null,null,null,null,null,null,null,null,null,null,null,null,null,null,null,null,null,null,null,null,null,null,null,null,null,null,null,null,null,null,null,null,null,null,null,null,null,null,null,null,null,null,null,null,null,null,null,null,null,null,null,null,null,null,null,null,null,null,null,null,null,null,null,null,null,null,null,null,null,null,null,null,null,null,null,null,null,null,null,null,null,null,null,null,null,null,null,null,null,null,null,null,null,null,null,null,null,null,null,null,null,null,null,null,null,null,null,null,null,null,null,null,null,null,null,null,null,null,null,null,null,null,null,null,null,null,null,null,null,null,null,null,null,null,null,null,null,null,null,null,null,null,null,null,null,null,null,null,null,null,null,null,null,null,null,null,null,null,null,null,null,null,null,null,null,null,null,null,null,null,null,null,null,null,null,null,null,null,null,null,null,null,null,null,null,null,null,null,null,null,null,null,null,null,null,null,null,null,null,null,null,null,null,null,null,null,null,null,null,null,null,null,null,null,null,null,null,null,null,null,null,null,null,null,null,null,null,null,null,null,null,null,null,null,null,null,null,null,null,null,null,null,null,null,null,null,null,null,null,null,null,null,null,null,null,null,null,null,null,null,null,null,null,null,null,null,null,null,null,null,null,null,null,null,null,null,null,null,null,null,null,null,null,null,null,null,null,null,null,null,null,null,null,null,null,null,null,null,null,null,null,null,null,null,null,null,null,null,null,null,null,null,null,null,null,null,null,null,null,null,null,null,null,null,null,null,null,null,null,null,null,null,null,null,null,null,null,null,null,null,null,null,null,null,null,null,null,null,null,null,null,null,null,null,null,null,null,null,null,null,null,null,null,null,null,null,null,null,null,null,null,null,null,null,null,null,null,null,null,null,null,null,null,null,null,null,null,null,null,null,null,null,null,null,null,null,null,null,null,null,null,null,null,null,null,null,null,null,null,null,null,null,null,null,null,null,null,null,null,null,null,null,null,null,null,null,null,null,null,null,null,null,null,null,null,null,null,null,null,null,null,null,null,null,null,null,null,null,null,null,null,null,null,null,null,null,null,null,null,null,null,null,null,null,null,null,null,null,null,null,null,null,null,null,null,null,null,null,null,null,null,null,null,null,null,null,null,null,null,null,null,null,null,null,null,null,null,null,null,null,null,null,null,null,null,null,null,null,null,null,null,null,null,null,null,null,null,null,null,null,null,null,null,null,null,null,null,null,null,null,null,null,null,null,null,null,null,null,null,null,null,null,null,null,null,null,null,null,null,null,null,null,null,null,null,null,null,null,null,null,null,null,null,null,null,null,null,null,null,null,null,null,null,null,null,null,null,null,null,null,null,null,null,null,null,null,null,null,null,null,null,null,null,null,null,null,null,null,null,null,null,null,null,null,null,null,null,null,null,null,null,null,null,null,null,null,null,null,null,null,null,null,null,null,null,null,null,null,null,null,null,null,null,null,null,null,null,null,null,null,null,null,null,null,null,null,null,null,null,null,null,null,null,null,null,null,null,null,null,null,null,null,null,null,null,null,null,null,null,null,null,null,null,null,null,null,null,null,null,null,null,null,null,null,null,null,null,null,null,null,null,null,null,null,null,null,null,null,null,null,null,null,null,null,null,null,null,null,null,null,null,null,null,null,null,null,null,null,null,null,null,null,null,null,null,null,null,null,null,null,null,null,null,null,null,null,null,null,null,null,null,null,null,null,null,null,null,null,null,null,null,null,null,null,null,null,null,null,null,null,null,null,null,null,null,null,null,null,null,null,null,null,null,null,null,null,null,null,null,null,null,null,null,null,null,null,null,null,null,null,null,null,null,null,null,null,null,null,null,null,null,null,null,null,null,null,null,null,null,null,null,null,null,null,null,null,null,null,null,null,null,null,null,null,null,null,null,null,null,null,null,null,null,null,null,null,null,null,null,null,null,null,null,null,null,null,null,null,null,null,null,null,null,null,null,null,null,null,null,null,null,null,null,null,null,null,null,null,null,null,null,null,null,null,null,null,null,null,null,null,null,null,null,null,null,null,null,null,null,null,null,null,null,null,null,null,null,null,null,null,null,null,null,null,null,null,null,null,null,null,null,null,null,null,null,null,null,null,null,null,null,null,null,null,null,null,null,null,null,null,null,null,null,null,null,null,null,null,null,null,null,null,null,null,null,null,null,null,null,null,null,null,null,null,null,null,null,null,null,null,null,null,null,null,null,null,null,null,null,null,null,null,null,null,null,null,null,null,null,null,null,null,null,null,null,null,null,null,null,null,null,null,null,null,null,null,null,null,null,null,null,null,null,null,null,null,null,null,null,null,null,null,null,null,null,null,null,null,null,null,null,null,null,null,null,null,null,null,null,null,null,null,null,null,null,null,null,null,null,null,null,null,null,null,null,null,null,null,null,null,null,null,null,null,null,null,null,null,null,null,null,null,null,null,null,null,null,null,null,null,null,null,null,null,null,null,null,null,null,null,null,null,null,null,null,null,null,null,null,null,null,null,null,null,null,null,null,null,null,null,null,null,null,null,null,null,null,null,null,null,null,null,null,null,null,null,null,null,null,null,null,null,null,null,null,null,null,null,null,null,null,null,null,null,null,null,null,null,null,null,null,null,null,null,null,null,null,null,null,null,null,null,null,null,null,null,null,null,null,null,null,null,null,null,null,null,null,null,null,null,null,null,null,null,null,null,null,null,null,null,null,null,null,null,null,null,null,null,null,null,null,null,null,null,null,null,null,null,null,null,null,null,null,null,null,null,null,null,null,null,null,null,null,null,null,null,null,null,null,null,null,null,null,null,null,null,null,null,null,null,null,null,null,null,null,null,null,null,null,null,null,null,null,null,null,null,null,null,null,null,null,null,null,null,null,null,null,null,null,null,null,null,null,null,null,null,null,null,null,null,null,null,null,null,null,null,null,null,null,null,null,null,null,null,null,null,null,null,null,null,null,null,null,null,null,null,null,null,null,null,null,null,null,null,null,null,null,null,null,null,null,null,null,null,null,null,null,null,null,null,null,null,null,null,null,null,null,null,null,null,null,null,null,null,null,null,null,null,null,null,null,null,null,null,null,null,null,null,null,null,null,null,null,null,null,null,null,null,null,null,null,null,null,null,null,null,null,null,null,null,null,null,null,null,null,null,null,null,null,null,null,null,null,null,null,null,null,null,null,null,null,null,null,null,null,null,null,null,null,null,null,null,null,null,null,null,null,null,null,null,null,null,null,null,null,null,null,null,null,null,null,null,null,null,null,null,null,null,null,null,null,null,null,null,null,null,null,null,null,null,null,null,null,null,null,null,null,null,null,null,null,null,null,null,null,null,null,null,null,null,null,null,null,null,null,null,null,null,null,null,null,null,null,null,null,null,null,null,null,null,null,null,null,null,null,null,null,null,null,null,null,null,null,null,null,null,null,null,null,null,null,null,null,null,null,null,null,null,null,null,null,null,null,null,null,null,null,null,null,null,null,null,null,null,null,null,null,null,null,null,null,null,null,null,null,null,null,null,null,null,null,null,null,null,null,null,null,null,null,null,null,null,null,null,null,null,null,null,null,null,null,null,null,null,null,null,null,null,null,null,null,null,null,null,null,null,null,null,null,null,null,null,null,null,null,null,null,null,null,null,null,null,null,null,null,null,null,null,null,null,null,null,null,null,null,null,null,null,null,null,null,null,null,null,null,null,null,null,null,null,null,null,null,null,null,null,null,null,null,null,null,null,null,null,null,null,null,null,null,null,null,null,null,null,null,null,null,null,null,null,null,null,null,null,null,null,null,null,null,null,null,null,null,null,null,null,null,null,null,null,null,null,null,null,null,null,null,null,null,null,null,null,null,null,null,null,null,null,null,null,null,null,null,null,null,null,null,null,null,null,null,null,null,null,null,null,null,null,null,null,null,null,null,null,null,null,null,null,null,null,null,null,null,null,null,null,null,null,null,null,null,null,null,null,null,null,null,null,null,null,null,null,null,null,null,null,null,null,null,null,null,null,null,null,null,null,null,null,null,null,null,null,null,null,null,null,null,null,null,null,null,null,null,null,null,null,null,null,null,null,null,null,null,null,null,null,null,null,null,null,null,null,null,null,null,null,null,null,null,null,null,null,null,null,null,null,null,null,null,null,null,null,null,null,null,null,null,null,null,null,null,null,null,null,null,null,null,null,null,null,null,null,null,null,null,null,null,null,null,null,null,null,null,null,null,null,null,null,null,null,null,null,null,null,null,null,null,null,null,null,null,null,null,null,null,null,null,null,null,null,null,null,null,null,null,null,null,null,null,null,null,null,null,null,null,null,null,null,null,null,null,null,null,null,null,null,null,null,null,null,null,null,null,null,null,null,null,null,null,null,null,null,null,null,null,null,null,null,null,null,null,null,null,null,null,null,null,null,null,null,null,null,null,null,null,null,null,null,null,null,null,null,null,null,null,null,null,null,null,null,null,null,null,null,null,null,null,null,null,null,null,null,null,null,null,null,null,null,null,null,null,null,null,null,null,null,null,787]
[null,null,null,null,null,null,null,null,null,null,null,null,null,null,null,null,null,null,null,null,null,null,null,null,null,null,null,null,null,null,null,null,null,null,null,null,null,null,null,null,null,null,null,null,null,null,null,null,null,null,null,null,null,null,null,null,null,null,null,null,null,null,null,null,null,null,null,null,null,null,null,null,null,null,null,null,null,null,null,null,null,null,null,null,null,null,null,null,null,null,null,null,null,null,null,null,null,null,null,null,null,null,null,null,null,null,null,null,null,null,null,null,null,null,null,null,null,null,null,null,null,null,null,null,null,null,null,null,null,null,null,null,null,null,null,null,null,null,null,null,null,null,null,null,null,null,null,null,null,null,null,null,null,null,null,null,null,null,null,null,null,null,null,null,null,null,null,null,null,null,null,null,null,null,null,null,null,null,null,null,null,null,null,null,null,null,null,null,null,null,null,null,null,null,null,null,null,null,null,null,null,null,null,null,null,null,null,null,null,null,null,null,null,null,null,null,null,null,null,null,null,null,null,null,null,null,null,null,null,null,null,null,null,null,null,null,null,null,null,null,null,null,null,null,null,null,null,null,null,null,null,null,null,null,null,null,null,null,null,null,null,null,null,null,null,null,null,null,null,null,null,null,null,null,null,null,null,null,null,null,null,null,null,null,null,null,null,null,null,null,null,null,null,null,null,null,null,null,null,null,null,null,null,null,null,null,null,null,null,null,null,null,null,null,null,null,null,null,null,null,null,null,null,null,null,null,null,null,null,null,null,null,null,null,null,null,null,null,null,null,null,null,null,null,null,null,null,null,null,null,null,null,null,null,null,null,null,null,null,null,null,null,null,null,null,null,null,null,null,null,null,null,null,null,null,null,null,null,null,null,null,null,null,null,null,null,null,null,null,null,null,null,null,null,null,null,null,null,null,null,null,null,null,null,null,null,null,null,null,null,null,null,null,null,null,null,null,null,null,null,null,null,null,null,null,null,null,null,null,null,null,null,null,null,null,null,null,null,null,null,null,null,null,null,null,null,null,null,null,null,null,null,null,null,null,null,null,null,null,null,null,null,null,null,null,null,null,null,null,null,null,null,null,null,null,null,null,null,null,null,null,null,null,null,null,null,null,null,null,null,null,null,null,null,null,null,null,null,null,null,null,null,null,null,null,null,null,null,null,null,null,null,null,null,null,null,null,null,null,null,null,null,null,null,null,null,null,null,null,null,null,null,null,null,null,null,null,null,null,null,null,null,null,null,null,null,null,null,null,null,null,null,null,null,null,null,null,null,null,null,null,null,null,null,null,null,null,null,null,null,null,null,null,null,null,null,null,null,null,null,null,null,null,null,null,null,null,null,null,null,null,null,null,null,null,null,null,null,null,null,null,null,null,null,null,null,null,null,null,null,null,null,null,null,null,null,null,null,null,null,null,null,null,null,null,null,null,null,null,null,null,null,null,null,null,null,null,null,null,null,null,null,null,null,null,null,null,null,null,null,null,null,null,null,null,null,null,null,null,null,null,null,null,null,null,null,null,null,null,null,null,null,null,null,null,null,null,null,null,null,null,null,null,null,null,null,null,null,null,null,null,null,null,null,null,null,null,null,null,null,null,null,null,null,null,null,null,null,null,null,null,null,null,null,null,null,null,null,null,null,null,null,null,null,null,null,null,null,null,null,null,null,null,null,null,null,null,null,null,null,null,null,null,null,null,null,null,null,null,null,null,null,null,null,null,null,null,null,null,null,null,null,null,null,null,null,null,null,null,null,null,null,null,null,null,null,null,null,null,null,null,null,null,null,null,null,null,null,null,null,null,null,null,null,null,null,null,null,null,null,null,null,null,null,null,null,null,null,null,null,null,null,null,null,null,null,null,null,null,null,null,null,null,null,null,null,null,null,null,null,null,null,null,null,null,null,null,null,null,null,null,null,null,null,null,null,null,null,null,null,null,null,null,null,null,null,null,null,null,null,null,null,null,null,null,null,null,null,null,null,null,null,null,null,null,null,null,null,null,null,null,null,null,null,null,null,null,null,null,null,null,null,null,null,null,null,null,null,null,null,null,null,null,null,null,null,null,null,null,null,null,null,null,null,null,null,null,null,null,null,null,null,null,null,null,null,null,null,null,null,null,null,null,null,null,null,null,null,null,null,null,null,null,null,null,null,null,null,null,null,null,null,null,null,null,null,null,null,null,null,null,null,null,null,null,null,null,null,null,null,null,null,null,null,null,null,null,null,null,null,null,null,null,null,null,null,null,null,null,null,null,null,null,null,null,null,null,null,null,null,null,null,null,null,null,null,null,null,null,null,null,null,null,null,null,null,null,null,null,null,null,null,null,null,null,null,null,null,null,null,null,null,null,null,null,null,null,null,null,null,null,null,null,null,null,null,null,null,null,null,null,null,null,null,null,null,null,null,null,null,null,null,null,null,null,null,null,null,null,null,null,null,null,null,null,null,null,null,null,null,null,null,null,null,null,null,null,null,null,null,null,null,null,null,null,null,null,null,null,null,null,null,null,null,null,null,null,null,null,null,null,null,null,null,null,null,null,null,null,null,null,null,null,null,null,null,null,null,null,null,null,null,null,null,null,null,null,null,null,null,null,null,null,null,null,null,null,null,null,null,null,null,null,null,null,null,null,null,null,null,null,null,null,null,null,null,null,null,null,null,null,null,null,null,null,null,null,null,null,null,null,null,null,null,null,null,null,null,null,null,null,null,null,null,null,null,null,null,null,null,null,null,null,null,null,null,null,null,null,null,null,null,null,null,null,null,null,null,null,null,null,null,null,null,null,null,null,null,null,null,null,null,null,null,null,null,null,null,null,null,null,null,null,null,null,null,null,null,null,null,null,null,null,null,null,null,null,null,null,null,null,null,null,null,null,null,null,null,null,null,null,null,null,null,null,null,null,null,null,null,null,null,null,null,null,null,null,null,null,null,null,null,null,null,null,null,null,null,null,null,null,null,null,null,null,null,null,null,null,null,null,null,null,null,null,null,null,null,null,null,null,null,null,null,null,null,null,null,null,null,null,null,null,null,null,null,null,null,null,null,null,null,null,null,null,null,null,null,null,null,null,null,null,null,null,null,null,null,null,null,null,null,null,null,null,null,null,null,null,null,null,null,null,null,null,null,null,null,null,null,null,null,null,null,null,null,null,null,null,null,null,null,null,null,null,null,null,null,null,null,null,null,null,null,null,null,null,null,null,null,null,null,null,null,null,null,null,null,null,null,null,null,null,null,null,null,null,null,null,null,null,null,null,null,null,null,null,null,null,null,null,null,null,null,null,null,null,null,null,null,null,null,null,null,null,null,null,null,null,null,null,null,null,null,null,null,null,null,null,null,null,null,null,null,null,null,null,null,null,null,null,null,null,null,null,null,null,null,null,null,null,null,null,null,null,null,null,null,null,null,null,null,null,null,null,null,null,null,null,null,null,null,null,null,null,null,null,null,null,null,null,null,null,null,null,null,null,null,null,null,null,null,null,null,null,null,null,null,null,null,null,null,null,null,null,null,null,null,null,null,null,null,null,null,null,null,null,null,null,null,null,null,null,null,null,null,null,null,null,null,null,null,null,null,null,null,null,null,null,null,null,null,null,null,null,null,null,null,null,null,null,null,null,null,null,null,null,null,null,null,null,null,null,null,null,null,null,null,null,null,null,null,null,null,null,null,null,null,null,null,null,null,null,null,null,null,null,null,null,null,null,null,null,null,null,null,null,null,null,null,null,null,null,null,null,null,null,null,null,null,null,null,null,null,null,null,null,null,null,null,null,null,null,null,null,null,null,null,null,null,null,null,null,null,null,null,null,null,null,null,null,null,null,null,null,null,null,null,null,null,null,null,null,null,null,null,null,null,null,null,null,null,null,null,null,null,null,null,null,null,null,null,null,null,null,null,null,null,null,null,null,null,null,null,null,null,null,null,null,null,null,null,null,null,null,null,null,null,null,null,null,null,null,null,null,null,null,null,null,null,null,null,null,null,null,null,null,null,null,null,null,null,null,null,null,null,null,null,null,null,null,null,null,null,null,null,null,null,null,null,null,null,null,null,null,null,null,null,null,null,null,null,null,null,null,null,null,null,null,null,null,null,null,null,null,null,null,null,null,null,null,null,null,null,null,null,null,null,null,null,null,null,null,null,null,null,null,null,null,null,null,null,null,null,null,null,null,null,null,null,null,null,null,null,null,null,null,null,null,null,null,null,null,null,null,null,null,null,null,null,null,null,null,null,null,null,null,null,null,null,null,null,null,null,null,null,null,null,null,null,null,null,null,null,null,null,null,null,null,null,null,null,null,null,null,null,null,null,null,null,null,null,null,null,null,null,null,null,null,null,null,null,null,null,null,null,null,null,null,null,null,null,null,null,null,null,null,null,null,null,null,null,null,null,null,null,null,null,null,null,null,null,null,null,null,null,null,null,null,null,null,null,null,null,null,null,null,null,null,null,null,null,null,null,null,null,null,null,null,null,null,null,null,null,null,null,null,null,null,null,null,null,null,null,null,null,null,null,null,null,null,null,null,null,null,null,null,null,null,null,null,null,null,null,null,null,null,null,null,null,788]
[null,null,null,null,null,null,null,null,null,null,null,null,null,null,null,null,null,null,null,null,null,null,null,null,null,null,null,null,null,null,null,null,null,null,null,null,null,null,null,null,null,null,null,null,null,null,null,null,null,null,null,null,null,null,null,null,null,null,null,null,null,null,null,null,null,null,null,null,null,null,null,null,null,null,null,null,null,null,null,null,null,null,null,null,null,null,null,null,null,null,null,null,null,null,null,null,null,null,null,null,null,null,null,null,null,null,null,null,null,null,null,null,null,null,null,null,null,null,null,null,null,null,null,null,null,null,null,null,null,null,null,null,null,null,null,null,null,null,null,null,null,null,null,null,null,null,null,null,null,null,null,null,null,null,null,null,null,null,null,null,null,null,null,null,null,null,null,null,null,null,null,null,null,null,null,null,null,null,null,null,null,null,null,null,null,null,null,null,null,null,null,null,null,null,null,null,null,null,null,null,null,null,null,null,null,null,null,null,null,null,null,null,null,null,null,null,null,null,null,null,null,null,null,null,null,null,null,null,null,null,null,null,null,null,null,null,null,null,null,null,null,null,null,null,null,null,null,null,null,null,null,null,null,null,null,null,null,null,null,null,null,null,null,null,null,null,null,null,null,null,null,null,null,null,null,null,null,null,null,null,null,null,null,null,null,null,null,null,null,null,null,null,null,null,null,null,null,null,null,null,null,null,null,null,null,null,null,null,null,null,null,null,null,null,null,null,null,null,null,null,null,null,null,null,null,null,null,null,null,null,null,null,null,null,null,null,null,null,null,null,null,null,null,null,null,null,null,null,null,null,null,null,null,null,null,null,null,null,null,null,null,null,null,null,null,null,null,null,null,null,null,null,null,null,null,null,null,null,null,null,null,null,null,null,null,null,null,null,null,null,null,null,null,null,null,null,null,null,null,null,null,null,null,null,null,null,null,null,null,null,null,null,null,null,null,null,null,null,null,null,null,null,null,null,null,null,null,null,null,null,null,null,null,null,null,null,null,null,null,null,null,null,null,null,null,null,null,null,null,null,null,null,null,null,null,null,null,null,null,null,null,null,null,null,null,null,null,null,null,null,null,null,null,null,null,null,null,null,null,null,null,null,null,null,null,null,null,null,null,null,null,null,null,null,null,null,null,null,null,null,null,null,null,null,null,null,null,null,null,null,null,null,null,null,null,null,null,null,null,null,null,null,null,null,null,null,null,null,null,null,null,null,null,null,null,null,null,null,null,null,null,null,null,null,null,null,null,null,null,null,null,null,null,null,null,null,null,null,null,null,null,null,null,null,null,null,null,null,null,null,null,null,null,null,null,null,null,null,null,null,null,null,null,null,null,null,null,null,null,null,null,null,null,null,null,null,null,null,null,null,null,null,null,null,null,null,null,null,null,null,null,null,null,null,null,null,null,null,null,null,null,null,null,null,null,null,null,null,null,null,null,null,null,null,null,null,null,null,null,null,null,null,null,null,null,null,null,null,null,null,null,null,null,null,null,null,null,null,null,null,null,null,null,null,null,null,null,null,null,null,null,null,null,null,null,null,null,null,null,null,null,null,null,null,null,null,null,null,null,null,null,null,null,null,null,null,null,null,null,null,null,null,null,null,null,null,null,null,null,null,null,null,null,null,null,null,null,null,null,null,null,null,null,null,null,null,null,null,null,null,null,null,null,null,null,null,null,null,null,null,null,null,null,null,null,null,null,null,null,null,null,null,null,null,null,null,null,null,null,null,null,null,null,null,null,null,null,null,null,null,null,null,null,null,null,null,null,null,null,null,null,null,null,null,null,null,null,null,null,null,null,null,null,null,null,null,null,null,null,null,null,null,null,null,null,null,null,null,null,null,null,null,null,null,null,null,null,null,null,null,null,null,null,null,null,null,null,null,null,null,null,null,null,null,null,null,null,null,null,null,null,null,null,null,null,null,null,null,null,null,null,null,null,null,null,null,null,null,null,null,null,null,null,null,null,null,null,null,null,null,null,null,null,null,null,null,null,null,null,null,null,null,null,null,null,null,null,null,null,null,null,null,null,null,null,null,null,null,null,null,null,null,null,null,null,null,null,null,null,null,null,null,null,null,null,null,null,null,null,null,null,null,null,null,null,null,null,null,null,null,null,null,null,null,null,null,null,null,null,null,null,null,null,null,null,null,null,null,null,null,null,null,null,null,null,null,null,null,null,null,null,null,null,null,null,null,null,null,null,null,null,null,null,null,null,null,null,null,null,null,null,null,null,null,null,null,null,null,null,null,null,null,null,null,null,null,null,null,null,null,null,null,null,null,null,null,null,null,null,null,null,null,null,null,null,null,null,null,null,null,null,null,null,null,null,null,null,null,null,null,null,null,null,null,null,null,null,null,null,null,null,null,null,null,null,null,null,null,null,null,null,null,null,null,null,null,null,null,null,null,null,null,null,null,null,null,null,null,null,null,null,null,null,null,null,null,null,null,null,null,null,null,null,null,null,null,null,null,null,null,null,null,null,null,null,null,null,null,null,null,null,null,null,null,null,null,null,null,null,null,null,null,null,null,null,null,null,null,null,null,null,null,null,null,null,null,null,null,null,null,null,null,null,null,null,null,null,null,null,null,null,null,null,null,null,null,null,null,null,null,null,null,null,null,null,null,null,null,null,null,null,null,null,null,null,null,null,null,null,null,null,null,null,null,null,null,null,null,null,null,null,null,null,null,null,null,null,null,null,null,null,null,null,null,null,null,null,null,null,null,null,null,null,null,null,null,null,null,null,null,null,null,null,null,null,null,null,null,null,null,null,null,null,null,null,null,null,null,null,null,null,null,null,null,null,null,null,null,null,null,null,null,null,null,null,null,null,null,null,null,null,null,null,null,null,null,null,null,null,null,null,null,null,null,null,null,null,null,null,null,null,null,null,null,null,null,null,null,null,null,null,null,null,null,null,null,null,null,null,null,null,null,null,null,null,null,null,null,null,null,null,null,null,null,null,null,null,null,null,null,null,null,null,null,null,null,null,null,null,null,null,null,null,null,null,null,null,null,null,null,null,null,null,null,null,null,null,null,null,null,null,null,null,null,null,null,null,null,null,null,null,null,null,null,null,null,null,null,null,null,null,null,null,null,null,null,null,null,null,null,null,null,null,null,null,null,null,null,null,null,null,null,null,null,null,null,null,null,null,null,null,null,null,null,null,null,null,null,null,null,null,null,null,null,null,null,null,null,null,null,null,null,null,null,null,null,null,null,null,null,null,null,null,null,null,null,null,null,null,null,null,null,null,null,null,null,null,null,null,null,null,null,null,null,null,null,null,null,null,null,null,null,null,null,null,null,null,null,null,null,null,null,null,null,null,null,null,null,null,null,null,null,null,null,null,null,null,null,null,null,null,null,null,null,null,null,null,null,null,null,null,null,null,null,null,null,null,null,null,null,null,null,null,null,null,null,null,null,null,null,null,null,null,null,null,null,null,null,null,null,null,null,null,null,null,null,null,null,null,null,null,null,null,null,null,null,null,null,null,null,null,null,null,null,null,null,null,null,null,null,null,null,null,null,null,null,null,null,null,null,null,null,null,null,null,null,null,null,null,null,null,null,null,null,null,null,null,null,null,null,null,null,null,null,null,null,null,null,null,null,null,null,null,null,null,null,null,null,null,null,null,null,null,null,null,null,null,null,null,null,null,null,null,null,null,null,null,null,null,null,null,null,null,null,null,null,null,null,null,null,null,null,null,null,null,null,null,null,null,null,null,null,null,null,null,null,null,null,null,null,null,null,null,null,null,null,null,null,null,null,null,null,null,null,null,null,null,null,null,null,null,null,null,null,null,null,null,null,null,null,null,null,null,null,null,null,null,null,null,null,null,null,null,null,null,null,null,null,null,null,null,null,null,null,null,null,null,null,null,null,null,null,null,null,null,null,null,null,null,null,null,null,null,null,null,null,null,null,null,null,null,null,null,null,null,null,null,null,null,null,null,null,null,null,null,null,null,null,null,null,null,null,null,null,null,null,null,null,null,null,null,null,null,null,null,null,null,null,null,null,null,null,null,null,null,null,null,null,null,null,null,null,null,null,null,null,null,null,null,null,null,null,null,null,null,null,null,null,null,null,null,null,null,null,null,null,null,null,null,null,null,null,null,null,null,null,null,null,null,null,null,null,null,null,null,null,null,null,null,null,null,null,null,null,null,null,null,null,null,null,null,null,null,null,null,null,null,null,null,null,null,null,null,null,null,null,null,null,null,null,null,null,null,null,null,null,null,null,null,null,null,null,null,null,null,null,null,null,null,null,null,null,null,null,null,null,null,null,null,null,null,null,null,null,null,null,null,null,null,null,null,null,null,null,null,null,null,null,null,null,null,null,null,null,null,null,null,null,null,null,null,null,null,null,null,null,null,null,null,null,null,null,null,null,null,null,null,null,null,null,null,null,null,null,null,null,null,null,null,null,null,null,null,null,null,null,null,null,null,null,null,null,null,null,null,null,null,null,null,null,null,null,null,null,null,null,null,null,null,null,null,null,null,null,null,null,null,null,null,null,null,null,null,null,null,null,null,null,null,null,null,null,null,null,null,null,null,null,null,null,789]
[null,null,null,null,null,null,null,null,null,null,null,null,null,null,null,null,null,null,null,null,null,null,null,null,null,null,null,null,null,null,null,null,null,null,null,null,null,null,null,null,null,null,null,null,null,null,null,null,null,null,null,null,null,null,null,null,null,null,null,null,null,null,null,null,null,null,null,null,null,null,null,null,null,null,null,null,null,null,null,null,null,null,null,null,null,null,null,null,null,null,null,null,null,null,null,null,null,null,null,null,null,null,null,null,null,null,null,null,null,null,null,null,null,null,null,null,null,null,null,null,null,null,null,null,null,null,null,null,null,null,null,null,null,null,null,null,null,null,null,null,null,null,null,null,null,null,null,null,null,null,null,null,null,null,null,null,null,null,null,null,null,null,null,null,null,null,null,null,null,null,null,null,null,null,null,null,null,null,null,null,null,null,null,null,null,null,null,null,null,null,null,null,null,null,null,null,null,null,null,null,null,null,null,null,null,null,null,null,null,null,null,null,null,null,null,null,null,null,null,null,null,null,null,null,null,null,null,null,null,null,null,null,null,null,null,null,null,null,null,null,null,null,null,null,null,null,null,null,null,null,null,null,null,null,null,null,null,null,null,null,null,null,null,null,null,null,null,null,null,null,null,null,null,null,null,null,null,null,null,null,null,null,null,null,null,null,null,null,null,null,null,null,null,null,null,null,null,null,null,null,null,null,null,null,null,null,null,null,null,null,null,null,null,null,null,null,null,null,null,null,null,null,null,null,null,null,null,null,null,null,null,null,null,null,null,null,null,null,null,null,null,null,null,null,null,null,null,null,null,null,null,null,null,null,null,null,null,null,null,null,null,null,null,null,null,null,null,null,null,null,null,null,null,null,null,null,null,null,null,null,null,null,null,null,null,null,null,null,null,null,null,null,null,null,null,null,null,null,null,null,null,null,null,null,null,null,null,null,null,null,null,null,null,null,null,null,null,null,null,null,null,null,null,null,null,null,null,null,null,null,null,null,null,null,null,null,null,null,null,null,null,null,null,null,null,null,null,null,null,null,null,null,null,null,null,null,null,null,null,null,null,null,null,null,null,null,null,null,null,null,null,null,null,null,null,null,null,null,null,null,null,null,null,null,null,null,null,null,null,null,null,null,null,null,null,null,null,null,null,null,null,null,null,null,null,null,null,null,null,null,null,null,null,null,null,null,null,null,null,null,null,null,null,null,null,null,null,null,null,null,null,null,null,null,null,null,null,null,null,null,null,null,null,null,null,null,null,null,null,null,null,null,null,null,null,null,null,null,null,null,null,null,null,null,null,null,null,null,null,null,null,null,null,null,null,null,null,null,null,null,null,null,null,null,null,null,null,null,null,null,null,null,null,null,null,null,null,null,null,null,null,null,null,null,null,null,null,null,null,null,null,null,null,null,null,null,null,null,null,null,null,null,null,null,null,null,null,null,null,null,null,null,null,null,null,null,null,null,null,null,null,null,null,null,null,null,null,null,null,null,null,null,null,null,null,null,null,null,null,null,null,null,null,null,null,null,null,null,null,null,null,null,null,null,null,null,null,null,null,null,null,null,null,null,null,null,null,null,null,null,null,null,null,null,null,null,null,null,null,null,null,null,null,null,null,null,null,null,null,null,null,null,null,null,null,null,null,null,null,null,null,null,null,null,null,null,null,null,null,null,null,null,null,null,null,null,null,null,null,null,null,null,null,null,null,null,null,null,null,null,null,null,null,null,null,null,null,null,null,null,null,null,null,null,null,null,null,null,null,null,null,null,null,null,null,null,null,null,null,null,null,null,null,null,null,null,null,null,null,null,null,null,null,null,null,null,null,null,null,null,null,null,null,null,null,null,null,null,null,null,null,null,null,null,null,null,null,null,null,null,null,null,null,null,null,null,null,null,null,null,null,null,null,null,null,null,null,null,null,null,null,null,null,null,null,null,null,null,null,null,null,null,null,null,null,null,null,null,null,null,null,null,null,null,null,null,null,null,null,null,null,null,null,null,null,null,null,null,null,null,null,null,null,null,null,null,null,null,null,null,null,null,null,null,null,null,null,null,null,null,null,null,null,null,null,null,null,null,null,null,null,null,null,null,null,null,null,null,null,null,null,null,null,null,null,null,null,null,null,null,null,null,null,null,null,null,null,null,null,null,null,null,null,null,null,null,null,null,null,null,null,null,null,null,null,null,null,null,null,null,null,null,null,null,null,null,null,null,null,null,null,null,null,null,null,null,null,null,null,null,null,null,null,null,null,null,null,null,null,null,null,null,null,null,null,null,null,null,null,null,null,null,null,null,null,null,null,null,null,null,null,null,null,null,null,null,null,null,null,null,null,null,null,null,null,null,null,null,null,null,null,null,null,null,null,null,null,null,null,null,null,null,null,null,null,null,null,null,null,null,null,null,null,null,null,null,null,null,null,null,null,null,null,null,null,null,null,null,null,null,null,null,null,null,null,null,null,null,null,null,null,null,null,null,null,null,null,null,null,null,null,null,null,null,null,null,null,null,null,null,null,null,null,null,null,null,null,null,null,null,null,null,null,null,null,null,null,null,null,null,null,null,null,null,null,null,null,null,null,null,null,null,null,null,null,null,null,null,null,null,null,null,null,null,null,null,null,null,null,null,null,null,null,null,null,null,null,null,null,null,null,null,null,null,null,null,null,null,null,null,null,null,null,null,null,null,null,null,null,null,null,null,null,null,null,null,null,null,null,null,null,null,null,null,null,null,null,null,null,null,null,null,null,null,null,null,null,null,null,null,null,null,null,null,null,null,null,null,null,null,null,null,null,null,null,null,null,null,null,null,null,null,null,null,null,null,null,null,null,null,null,null,null,null,null,null,null,null,null,null,null,null,null,null,null,null,null,null,null,null,null,null,null,null,null,null,null,null,null,null,null,null,null,null,null,null,null,null,null,null,null,null,null,null,null,null,null,null,null,null,null,null,null,null,null,null,null,null,null,null,null,null,null,null,null,null,null,null,null,null,null,null,null,null,null,null,null,null,null,null,null,null,null,null,null,null,null,null,null,null,null,null,null,null,null,null,null,null,null,null,null,null,null,null,null,null,null,null,null,null,null,null,null,null,null,null,null,null,null,null,null,null,null,null,null,null,null,null,null,null,null,null,null,null,null,null,null,null,null,null,null,null,null,null,null,null,null,null,null,null,null,null,null,null,null,null,null,null,null,null,null,null,null,null,null,null,null,null,null,null,null,null,null,null,null,null,null,null,null,null,null,null,null,null,null,null,null,null,null,null,null,null,null,null,null,null,null,null,null,null,null,null,null,null,null,null,null,null,null,null,null,null,null,null,null,null,null,null,null,null,null,null,null,null,null,null,null,null,null,null,null,null,null,null,null,null,null,null,null,null,null,null,null,null,null,null,null,null,null,null,null,null,null,null,null,null,null,null,null,null,null,null,null,null,null,null,null,null,null,null,null,null,null,null,null,null,null,null,null,null,null,null,null,null,null,null,null,null,null,null,null,null,null,null,null,null,null,null,null,null,null,null,null,null,null,null,null,null,null,null,null,null,null,null,null,null,null,null,null,null,null,null,null,null,null,null,null,null,null,null,null,null,null,null,null,null,null,null,null,null,null,null,null,null,null,null,null,null,null,null,null,null,null,null,null,null,null,null,null,null,null,null,null,null,null,null,null,null,null,null,null,null,null,null,null,null,null,null,null,null,null,null,null,null,null,null,null,null,null,null,null,null,null,null,null,null,null,null,null,null,null,null,null,null,null,null,null,null,null,null,null,null,null,null,null,null,null,null,null,null,null,null,null,null,null,null,null,null,null,null,null,null,null,null,null,null,null,null,null,null,null,null,null,null,null,null,null,null,null,null,null,null,null,null,null,null,null,null,null,null,null,null,null,null,null,null,null,null,null,null,null,null,null,null,null,null,null,null,null,null,null,null,null,null,null,null,null,null,null,null,null,null,null,null,null,null,null,null,null,null,null,null,null,null,null,null,null,null,null,null,null,null,null,null,null,null,null,null,null,null,null,null,null,null,null,null,null,null,null,null,null,null,null,null,null,null,null,null,null,null,null,null,null,null,null,null,null,null,null,null,null,null,null,null,null,null,null,null,null,null,null,null,null,null,null,null,null,null,null,null,null,null,null,null,null,null,null,null,null,null,null,null,null,null,null,null,null,null,null,null,null,null,null,null,null,null,null,null,null,null,null,null,null,null,null,null,null,null,null,null,null,null,null,null,null,null,null,null,null,null,null,null,null,null,null,null,null,null,null,null,null,null,null,null,null,null,null,null,null,null,null,null,null,null,null,null,null,null,null,null,null,null,null,null,null,null,null,null,null,null,null,null,null,null,null,null,null,null,null,null,null,null,null,null,null,null,null,null,null,null,null,null,null,null,null,null,null,null,null,null,null,null,null,null,null,null,null,null,null,null,null,null,null,null,null,null,null,null,null,null,null,null,null,null,null,null,null,null,null,null,null,null,null,null,null,null,null,null,null,null,null,null,null,null,null,null,null,null,null,null,null,null,null,null,null,null,null,null,null,null,null,null,null,null,null,null,null,null,null,null,null,null,null,null,null,null,null,null,null,null,790]
[null,null,null,null,null,null,null,null,null,null,null,null,null,null,null,null,null,null,null,null,null,null,null,null,null,null,null,null,null,null,null,null,null,null,null,null,null,null,null,null,null,null,null,null,null,null,null,null,null,null,null,null,null,null,null,null,null,null,null,null,null,null,null,null,null,null,null,null,null,null,null,null,null,null,null,null,null,null,null,null,null,null,null,null,null,null,null,null,null,null,null,null,null,null,null,null,null,null,null,null,null,null,null,null,null,null,null,null,null,null,null,null,null,null,null,null,null,null,null,null,null,null,null,null,null,null,null,null,null,null,null,null,null,null,null,null,null,null,null,null,null,null,null,null,null,null,null,null,null,null,null,null,null,null,null,null,null,null,null,null,null,null,null,null,null,null,null,null,null,null,null,null,null,null,null,null,null,null,null,null,null,null,null,null,null,null,null,null,null,null,null,null,null,null,null,null,null,null,null,null,null,null,null,null,null,null,null,null,null,null,null,null,null,null,null,null,null,null,null,null,null,null,null,null,null,null,null,null,null,null,null,null,null,null,null,null,null,null,null,null,null,null,null,null,null,null,null,null,null,null,null,null,null,null,null,null,null,null,null,null,null,null,null,null,null,null,null,null,null,null,null,null,null,null,null,null,null,null,null,null,null,null,null,null,null,null,null,null,null,null,null,null,null,null,null,null,null,null,null,null,null,null,null,null,null,null,null,null,null,null,null,null,null,null,null,null,null,null,null,null,null,null,null,null,null,null,null,null,null,null,null,null,null,null,null,null,null,null,null,null,null,null,null,null,null,null,null,null,null,null,null,null,null,null,null,null,null,null,null,null,null,null,null,null,null,null,null,null,null,null,null,null,null,null,null,null,null,null,null,null,null,null,null,null,null,null,null,null,null,null,null,null,null,null,null,null,null,null,null,null,null,null,null,null,null,null,null,null,null,null,null,null,null,null,null,null,null,null,null,null,null,null,null,null,null,null,null,null,null,null,null,null,null,null,null,null,null,null,null,null,null,null,null,null,null,null,null,null,null,null,null,null,null,null,null,null,null,null,null,null,null,null,null,null,null,null,null,null,null,null,null,null,null,null,null,null,null,null,null,null,null,null,null,null,null,null,null,null,null,null,null,null,null,null,null,null,null,null,null,null,null,null,null,null,null,null,null,null,null,null,null,null,null,null,null,null,null,null,null,null,null,null,null,null,null,null,null,null,null,null,null,null,null,null,null,null,null,null,null,null,null,null,null,null,null,null,null,null,null,null,null,null,null,null,null,null,null,null,null,null,null,null,null,null,null,null,null,null,null,null,null,null,null,null,null,null,null,null,null,null,null,null,null,null,null,null,null,null,null,null,null,null,null,null,null,null,null,null,null,null,null,null,null,null,null,null,null,null,null,null,null,null,null,null,null,null,null,null,null,null,null,null,null,null,null,null,null,null,null,null,null,null,null,null,null,null,null,null,null,null,null,null,null,null,null,null,null,null,null,null,null,null,null,null,null,null,null,null,null,null,null,null,null,null,null,null,null,null,null,null,null,null,null,null,null,null,null,null,null,null,null,null,null,null,null,null,null,null,null,null,null,null,null,null,null,null,null,null,null,null,null,null,null,null,null,null,null,null,null,null,null,null,null,null,null,null,null,null,null,null,null,null,null,null,null,null,null,null,null,null,null,null,null,null,null,null,null,null,null,null,null,null,null,null,null,null,null,null,null,null,null,null,null,null,null,null,null,null,null,null,null,null,null,null,null,null,null,null,null,null,null,null,null,null,null,null,null,null,null,null,null,null,null,null,null,null,null,null,null,null,null,null,null,null,null,null,null,null,null,null,null,null,null,null,null,null,null,null,null,null,null,null,null,null,null,null,null,null,null,null,null,null,null,null,null,null,null,null,null,null,null,null,null,null,null,null,null,null,null,null,null,null,null,null,null,null,null,null,null,null,null,null,null,null,null,null,null,null,null,null,null,null,null,null,null,null,null,null,null,null,null,null,null,null,null,null,null,null,null,null,null,null,null,null,null,null,null,null,null,null,null,null,null,null,null,null,null,null,null,null,null,null,null,null,null,null,null,null,null,null,null,null,null,null,null,null,null,null,null,null,null,null,null,null,null,null,null,null,null,null,null,null,null,null,null,null,null,null,null,null,null,null,null,null,null,null,null,null,null,null,null,null,null,null,null,null,null,null,null,null,null,null,null,null,null,null,null,null,null,null,null,null,null,null,null,null,null,null,null,null,null,null,null,null,null,null,null,null,null,null,null,null,null,null,null,null,null,null,null,null,null,null,null,null,null,null,null,null,null,null,null,null,null,null,null,null,null,null,null,null,null,null,null,null,null,null,null,null,null,null,null,null,null,null,null,null,null,null,null,null,null,null,null,null,null,null,null,null,null,null,null,null,null,null,null,null,null,null,null,null,null,null,null,null,null,null,null,null,null,null,null,null,null,null,null,null,null,null,null,null,null,null,null,null,null,null,null,null,null,null,null,null,null,null,null,null,null,null,null,null,null,null,null,null,null,null,null,null,null,null,null,null,null,null,null,null,null,null,null,null,null,null,null,null,null,null,null,null,null,null,null,null,null,null,null,null,null,null,null,null,null,null,null,null,null,null,null,null,null,null,null,null,null,null,null,null,null,null,null,null,null,null,null,null,null,null,null,null,null,null,null,null,null,null,null,null,null,null,null,null,null,null,null,null,null,null,null,null,null,null,null,null,null,null,null,null,null,null,null,null,null,null,null,null,null,null,null,null,null,null,null,null,null,null,null,null,null,null,null,null,null,null,null,null,null,null,null,null,null,null,null,null,null,null,null,null,null,null,null,null,null,null,null,null,null,null,null,null,null,null,null,null,null,null,null,null,null,null,null,null,null,null,null,null,null,null,null,null,null,null,null,null,null,null,null,null,null,null,null,null,null,null,null,null,null,null,null,null,null,null,null,null,null,null,null,null,null,null,null,null,null,null,null,null,null,null,null,null,null,null,null,null,null,null,null,null,null,null,null,null,null,null,null,null,null,null,null,null,null,null,null,null,null,null,null,null,null,null,null,null,null,null,null,null,null,null,null,null,null,null,null,null,null,null,null,null,null,null,null,null,null,null,null,null,null,null,null,null,null,null,null,null,null,null,null,null,null,null,null,null,null,null,null,null,null,null,null,null,null,null,null,null,null,null,null,null,null,null,null,null,null,null,null,null,null,null,null,null,null,null,null,null,null,null,null,null,null,null,null,null,null,null,null,null,null,null,null,null,null,null,null,null,null,null,null,null,null,null,null,null,null,null,null,null,null,null,null,null,null,null,null,null,null,null,null,null,null,null,null,null,null,null,null,null,null,null,null,null,null,null,null,null,null,null,null,null,null,null,null,null,null,null,null,null,null,null,null,null,null,null,null,null,null,null,null,null,null,null,null,null,null,null,null,null,null,null,null,null,null,null,null,null,null,null,null,null,null,null,null,null,null,null,null,null,null,null,null,null,null,null,null,null,null,null,null,null,null,null,null,null,null,null,null,null,null,null,null,null,null,null,null,null,null,null,null,null,null,null,null,null,null,null,null,null,null,null,null,null,null,null,null,null,null,null,null,null,null,null,null,null,null,null,null,null,null,null,null,null,null,null,null,null,null,null,null,null,null,null,null,null,null,null,null,null,null,null,null,null,null,null,null,null,null,null,null,null,null,null,null,null,null,null,null,null,null,null,null,null,null,null,null,null,null,null,null,null,null,null,null,null,null,null,null,null,null,null,null,null,null,null,null,null,null,null,null,null,null,null,null,null,null,null,null,null,null,null,null,null,null,null,null,null,null,null,null,null,null,null,null,null,null,null,null,null,null,null,null,null,null,null,null,null,null,null,null,null,null,null,null,null,null,null,null,null,null,null,null,null,null,null,null,null,null,null,null,null,null,null,null,null,null,null,null,null,null,null,null,null,null,null,null,null,null,null,null,null,null,null,null,null,null,null,null,null,null,null,null,null,null,null,null,null,null,null,null,null,null,null,null,null,null,null,null,null,null,null,null,null,null,null,null,null,null,null,null,null,null,null,null,null,null,null,null,null,null,null,null,null,null,null,null,null,null,null,null,null,null,null,null,null,null,null,null,null,null,null,null,null,null,null,null,null,null,null,null,null,null,null,null,null,null,null,null,null,null,null,null,null,null,null,null,null,null,null,null,null,null,null,null,null,null,null,null,null,null,null,null,null,null,null,null,null,null,null,null,null,null,null,null,null,null,null,null,null,null,null,null,null,null,null,null,null,null,null,null,null,null,null,null,null,null,null,null,null,null,null,null,null,null,null,null,null,null,null,null,null,null,null,null,null,null,null,null,null,null,null,null,null,null,null,null,null,null,null,null,null,null,null,null,null,null,null,null,null,null,null,null,null,null,null,null,null,null,null,null,null,null,null,null,null,null,null,null,null,null,null,null,null,null,null,null,null,null,null,null,null,null,null,null,null,null,null,null,null,null,null,null,null,null,null,null,null,null,null,null,null,null,null,null,null,null,null,null,null,null,null,null,null,null,null,null,null,null,null,null,null,null,null,null,null,null,null,null,null,null,null,null,null,null,null,791]
[null,null,null,null,null,null,null,null,null,null,null,null,null,null,null,null,null,null,null,null,null,null,null,null,null,null,null,null,null,null,null,null,null,null,null,null,null,null,null,null,null,null,null,null,null,null,null,null,null,null,null,null,null,null,null,null,null,null,null,null,null,null,null,null,null,null,null,null,null,null,null,null,null,null,null,null,null,null,null,null,null,null,null,null,null,null,null,null,null,null,null,null,null,null,null,null,null,null,null,null,null,null,null,null,null,null,null,null,null,null,null,null,null,null,null,null,null,null,null,null,null,null,null,null,null,null,null,null,null,null,null,null,null,null,null,null,null,null,null,null,null,null,null,null,null,null,null,null,null,null,null,null,null,null,null,null,null,null,null,null,null,null,null,null,null,null,null,null,null,null,null,null,null,null,null,null,null,null,null,null,null,null,null,null,null,null,null,null,null,null,null,null,null,null,null,null,null,null,null,null,null,null,null,null,null,null,null,null,null,null,null,null,null,null,null,null,null,null,null,null,null,null,null,null,null,null,null,null,null,null,null,null,null,null,null,null,null,null,null,null,null,null,null,null,null,null,null,null,null,null,null,null,null,null,null,null,null,null,null,null,null,null,null,null,null,null,null,null,null,null,null,null,null,null,null,null,null,null,null,null,null,null,null,null,null,null,null,null,null,null,null,null,null,null,null,null,null,null,null,null,null,null,null,null,null,null,null,null,null,null,null,null,null,null,null,null,null,null,null,null,null,null,null,null,null,null,null,null,null,null,null,null,null,null,null,null,null,null,null,null,null,null,null,null,null,null,null,null,null,null,null,null,null,null,null,null,null,null,null,null,null,null,null,null,null,null,null,null,null,null,null,null,null,null,null,null,null,null,null,null,null,null,null,null,null,null,null,null,null,null,null,null,null,null,null,null,null,null,null,null,null,null,null,null,null,null,null,null,null,null,null,null,null,null,null,null,null,null,null,null,null,null,null,null,null,null,null,null,null,null,null,null,null,null,null,null,null,null,null,null,null,null,null,null,null,null,null,null,null,null,null,null,null,null,null,null,null,null,null,null,null,null,null,null,null,null,null,null,null,null,null,null,null,null,null,null,null,null,null,null,null,null,null,null,null,null,null,null,null,null,null,null,null,null,null,null,null,null,null,null,null,null,null,null,null,null,null,null,null,null,null,null,null,null,null,null,null,null,null,null,null,null,null,null,null,null,null,null,null,null,null,null,null,null,null,null,null,null,null,null,null,null,null,null,null,null,null,null,null,null,null,null,null,null,null,null,null,null,null,null,null,null,null,null,null,null,null,null,null,null,null,null,null,null,null,null,null,null,null,null,null,null,null,null,null,null,null,null,null,null,null,null,null,null,null,null,null,null,null,null,null,null,null,null,null,null,null,null,null,null,null,null,null,null,null,null,null,null,null,null,null,null,null,null,null,null,null,null,null,null,null,null,null,null,null,null,null,null,null,null,null,null,null,null,null,null,null,null,null,null,null,null,null,null,null,null,null,null,null,null,null,null,null,null,null,null,null,null,null,null,null,null,null,null,null,null,null,null,null,null,null,null,null,null,null,null,null,null,null,null,null,null,null,null,null,null,null,null,null,null,null,null,null,null,null,null,null,null,null,null,null,null,null,null,null,null,null,null,null,null,null,null,null,null,null,null,null,null,null,null,null,null,null,null,null,null,null,null,null,null,null,null,null,null,null,null,null,null,null,null,null,null,null,null,null,null,null,null,null,null,null,null,null,null,null,null,null,null,null,null,null,null,null,null,null,null,null,null,null,null,null,null,null,null,null,null,null,null,null,null,null,null,null,null,null,null,null,null,null,null,null,null,null,null,null,null,null,null,null,null,null,null,null,null,null,null,null,null,null,null,null,null,null,null,null,null,null,null,null,null,null,null,null,null,null,null,null,null,null,null,null,null,null,null,null,null,null,null,null,null,null,null,null,null,null,null,null,null,null,null,null,null,null,null,null,null,null,null,null,null,null,null,null,null,null,null,null,null,null,null,null,null,null,null,null,null,null,null,null,null,null,null,null,null,null,null,null,null,null,null,null,null,null,null,null,null,null,null,null,null,null,null,null,null,null,null,null,null,null,null,null,null,null,null,null,null,null,null,null,null,null,null,null,null,null,null,null,null,null,null,null,null,null,null,null,null,null,null,null,null,null,null,null,null,null,null,null,null,null,null,null,null,null,null,null,null,null,null,null,null,null,null,null,null,null,null,null,null,null,null,null,null,null,null,null,null,null,null,null,null,null,null,null,null,null,null,null,null,null,null,null,null,null,null,null,null,null,null,null,null,null,null,null,null,null,null,null,null,null,null,null,null,null,null,null,null,null,null,null,null,null,null,null,null,null,null,null,null,null,null,null,null,null,null,null,null,null,null,null,null,null,null,null,null,null,null,null,null,null,null,null,null,null,null,null,null,null,null,null,null,null,null,null,null,null,null,null,null,null,null,null,null,null,null,null,null,null,null,null,null,null,null,null,null,null,null,null,null,null,null,null,null,null,null,null,null,null,null,null,null,null,null,null,null,null,null,null,null,null,null,null,null,null,null,null,null,null,null,null,null,null,null,null,null,null,null,null,null,null,null,null,null,null,null,null,null,null,null,null,null,null,null,null,null,null,null,null,null,null,null,null,null,null,null,null,null,null,null,null,null,null,null,null,null,null,null,null,null,null,null,null,null,null,null,null,null,null,null,null,null,null,null,null,null,null,null,null,null,null,null,null,null,null,null,null,null,null,null,null,null,null,null,null,null,null,null,null,null,null,null,null,null,null,null,null,null,null,null,null,null,null,null,null,null,null,null,null,null,null,null,null,null,null,null,null,null,null,null,null,null,null,null,null,null,null,null,null,null,null,null,null,null,null,null,null,null,null,null,null,null,null,null,null,null,null,null,null,null,null,null,null,null,null,null,null,null,null,null,null,null,null,null,null,null,null,null,null,null,null,null,null,null,null,null,null,null,null,null,null,null,null,null,null,null,null,null,null,null,null,null,null,null,null,null,null,null,null,null,null,null,null,null,null,null,null,null,null,null,null,null,null,null,null,null,null,null,null,null,null,null,null,null,null,null,null,null,null,null,null,null,null,null,null,null,null,null,null,null,null,null,null,null,null,null,null,null,null,null,null,null,null,null,null,null,null,null,null,null,null,null,null,null,null,null,null,null,null,null,null,null,null,null,null,null,null,null,null,null,null,null,null,null,null,null,null,null,null,null,null,null,null,null,null,null,null,null,null,null,null,null,null,null,null,null,null,null,null,null,null,null,null,null,null,null,null,null,null,null,null,null,null,null,null,null,null,null,null,null,null,null,null,null,null,null,null,null,null,null,null,null,null,null,null,null,null,null,null,null,null,null,null,null,null,null,null,null,null,null,null,null,null,null,null,null,null,null,null,null,null,null,null,null,null,null,null,null,null,null,null,null,null,null,null,null,null,null,null,null,null,null,null,null,null,null,null,null,null,null,null,null,null,null,null,null,null,null,null,null,null,null,null,null,null,null,null,null,null,null,null,null,null,null,null,null,null,null,null,null,null,null,null,null,null,null,null,null,null,null,null,null,null,null,null,null,null,null,null,null,null,null,null,null,null,null,null,null,null,null,null,null,null,null,null,null,null,null,null,null,null,null,null,null,null,null,null,null,null,null,null,null,null,null,null,null,null,null,null,null,null,null,null,null,null,null,null,null,null,null,null,null,null,null,null,null,null,null,null,null,null,null,null,null,null,null,null,null,null,null,null,null,null,null,null,null,null,null,null,null,null,null,null,null,null,null,null,null,null,null,null,null,null,null,null,null,null,null,null,null,null,null,null,null,null,null,null,null,null,null,null,null,null,null,null,null,null,null,null,null,null,null,null,null,null,null,null,null,null,null,null,null,null,null,null,null,null,null,null,null,null,null,null,null,null,null,null,null,null,null,null,null,null,null,null,null,null,null,null,null,null,null,null,null,null,null,null,null,null,null,null,null,null,null,null,null,null,null,null,null,null,null,null,null,null,null,null,null,null,null,null,null,null,null,null,null,null,null,null,null,null,null,null,null,null,null,null,null,null,null,null,null,null,null,null,null,null,null,null,null,null,null,null,null,null,null,null,null,null,null,null,null,null,null,null,null,null,null,null,null,null,null,null,null,null,null,null,null,null,null,null,null,null,null,null,null,null,null,null,null,null,null,null,null,null,null,null,null,null,null,null,null,null,null,null,null,null,null,null,null,null,null,null,null,null,null,null,null,null,null,null,null,null,null,null,null,null,null,null,null,null,null,null,null,null,null,null,null,null,null,null,null,null,null,null,null,null,null,null,null,null,null,null,null,null,null,null,null,null,null,null,null,null,null,null,null,null,null,null,null,null,null,null,null,null,null,null,null,null,null,null,null,null,null,null,null,null,null,null,null,null,null,null,null,null,null,null,null,null,null,null,null,null,null,null,null,null,null,null,null,null,null,null,null,null,null,null,null,null,null,null,null,null,null,null,null,null,null,null,null,null,null,null,null,null,null,null,null,null,null,null,null,null,null,null,null,null,null,null,null,null,null,null,null,null,null,null,null,null,null,null,null,792]
[null,null,null,null,null,null,null,null,null,null,null,null,null,null,null,null,null,null,null,null,null,null,null,null,null,null,null,null,null,null,null,null,null,null,null,null,null,null,null,null,null,null,null,null,null,null,null,null,null,null,null,null,null,null,null,null,null,null,null,null,null,null,null,null,null,null,null,null,null,null,null,null,null,null,null,null,null,null,null,null,null,null,null,null,null,null,null,null,null,null,null,null,null,null,null,null,null,null,null,null,null,null,null,null,null,null,null,null,null,null,null,null,null,null,null,null,null,null,null,null,null,null,null,null,null,null,null,null,null,null,null,null,null,null,null,null,null,null,null,null,null,null,null,null,null,null,null,null,null,null,null,null,null,null,null,null,null,null,null,null,null,null,null,null,null,null,null,null,null,null,null,null,null,null,null,null,null,null,null,null,null,null,null,null,null,null,null,null,null,null,null,null,null,null,null,null,null,null,null,null,null,null,null,null,null,null,null,null,null,null,null,null,null,null,null,null,null,null,null,null,null,null,null,null,null,null,null,null,null,null,null,null,null,null,null,null,null,null,null,null,null,null,null,null,null,null,null,null,null,null,null,null,null,null,null,null,null,null,null,null,null,null,null,null,null,null,null,null,null,null,null,null,null,null,null,null,null,null,null,null,null,null,null,null,null,null,null,null,null,null,null,null,null,null,null,null,null,null,null,null,null,null,null,null,null,null,null,null,null,null,null,null,null,null,null,null,null,null,null,null,null,null,null,null,null,null,null,null,null,null,null,null,null,null,null,null,null,null,null,null,null,null,null,null,null,null,null,null,null,null,null,null,null,null,null,null,null,null,null,null,null,null,null,null,null,null,null,null,null,null,null,null,null,null,null,null,null,null,null,null,null,null,null,null,null,null,null,null,null,null,null,null,null,null,null,null,null,null,null,null,null,null,null,null,null,null,null,null,null,null,null,null,null,null,null,null,null,null,null,null,null,null,null,null,null,null,null,null,null,null,null,null,null,null,null,null,null,null,null,null,null,null,null,null,null,null,null,null,null,null,null,null,null,null,null,null,null,null,null,null,null,null,null,null,null,null,null,null,null,null,null,null,null,null,null,null,null,null,null,null,null,null,null,null,null,null,null,null,null,null,null,null,null,null,null,null,null,null,null,null,null,null,null,null,null,null,null,null,null,null,null,null,null,null,null,null,null,null,null,null,null,null,null,null,null,null,null,null,null,null,null,null,null,null,null,null,null,null,null,null,null,null,null,null,null,null,null,null,null,null,null,null,null,null,null,null,null,null,null,null,null,null,null,null,null,null,null,null,null,null,null,null,null,null,null,null,null,null,null,null,null,null,null,null,null,null,null,null,null,null,null,null,null,null,null,null,null,null,null,null,null,null,null,null,null,null,null,null,null,null,null,null,null,null,null,null,null,null,null,null,null,null,null,null,null,null,null,null,null,null,null,null,null,null,null,null,null,null,null,null,null,null,null,null,null,null,null,null,null,null,null,null,null,null,null,null,null,null,null,null,null,null,null,null,null,null,null,null,null,null,null,null,null,null,null,null,null,null,null,null,null,null,null,null,null,null,null,null,null,null,null,null,null,null,null,null,null,null,null,null,null,null,null,null,null,null,null,null,null,null,null,null,null,null,null,null,null,null,null,null,null,null,null,null,null,null,null,null,null,null,null,null,null,null,null,null,null,null,null,null,null,null,null,null,null,null,null,null,null,null,null,null,null,null,null,null,null,null,null,null,null,null,null,null,null,null,null,null,null,null,null,null,null,null,null,null,null,null,null,null,null,null,null,null,null,null,null,null,null,null,null,null,null,null,null,null,null,null,null,null,null,null,null,null,null,null,null,null,null,null,null,null,null,null,null,null,null,null,null,null,null,null,null,null,null,null,null,null,null,null,null,null,null,null,null,null,null,null,null,null,null,null,null,null,null,null,null,null,null,null,null,null,null,null,null,null,null,null,null,null,null,null,null,null,null,null,null,null,null,null,null,null,null,null,null,null,null,null,null,null,null,null,null,null,null,null,null,null,null,null,null,null,null,null,null,null,null,null,null,null,null,null,null,null,null,null,null,null,null,null,null,null,null,null,null,null,null,null,null,null,null,null,null,null,null,null,null,null,null,null,null,null,null,null,null,null,null,null,null,null,null,null,null,null,null,null,null,null,null,null,null,null,null,null,null,null,null,null,null,null,null,null,null,null,null,null,null,null,null,null,null,null,null,null,null,null,null,null,null,null,null,null,null,null,null,null,null,null,null,null,null,null,null,null,null,null,null,null,null,null,null,null,null,null,null,null,null,null,null,null,null,null,null,null,null,null,null,null,null,null,null,null,null,null,null,null,null,null,null,null,null,null,null,null,null,null,null,null,null,null,null,null,null,null,null,null,null,null,null,null,null,null,null,null,null,null,null,null,null,null,null,null,null,null,null,null,null,null,null,null,null,null,null,null,null,null,null,null,null,null,null,null,null,null,null,null,null,null,null,null,null,null,null,null,null,null,null,null,null,null,null,null,null,null,null,null,null,null,null,null,null,null,null,null,null,null,null,null,null,null,null,null,null,null,null,null,null,null,null,null,null,null,null,null,null,null,null,null,null,null,null,null,null,null,null,null,null,null,null,null,null,null,null,null,null,null,null,null,null,null,null,null,null,null,null,null,null,null,null,null,null,null,null,null,null,null,null,null,null,null,null,null,null,null,null,null,null,null,null,null,null,null,null,null,null,null,null,null,null,null,null,null,null,null,null,null,null,null,null,null,null,null,null,null,null,null,null,null,null,null,null,null,null,null,null,null,null,null,null,null,null,null,null,null,null,null,null,null,null,null,null,null,null,null,null,null,null,null,null,null,null,null,null,null,null,null,null,null,null,null,null,null,null,null,null,null,null,null,null,null,null,null,null,null,null,null,null,null,null,null,null,null,null,null,null,null,null,null,null,null,null,null,null,null,null,null,null,null,null,null,null,null,null,null,null,null,null,null,null,null,null,null,null,null,null,null,null,null,null,null,null,null,null,null,null,null,null,null,null,null,null,null,null,null,null,null,null,null,null,null,null,null,null,null,null,null,null,null,null,null,null,null,null,null,null,null,null,null,null,null,null,null,null,null,null,null,null,null,null,null,null,null,null,null,null,null,null,null,null,null,null,null,null,null,null,null,null,null,null,null,null,null,null,null,null,null,null,null,null,null,null,null,null,null,null,null,null,null,null,null,null,null,null,null,null,null,null,null,null,null,null,null,null,null,null,null,null,null,null,null,null,null,null,null,null,null,null,null,null,null,null,null,null,null,null,null,null,null,null,null,null,null,null,null,null,null,null,null,null,null,null,null,null,null,null,null,null,null,null,null,null,null,null,null,null,null,null,null,null,null,null,null,null,null,null,null,null,null,null,null,null,null,null,null,null,null,null,null,null,null,null,null,null,null,null,null,null,null,null,null,null,null,null,null,null,null,null,null,null,null,null,null,null,null,null,null,null,null,null,null,null,null,null,null,null,null,null,null,null,null,null,null,null,null,null,null,null,null,null,null,null,null,null,null,null,null,null,null,null,null,null,null,null,null,null,null,null,null,null,null,null,null,null,null,null,null,null,null,null,null,null,null,null,null,null,null,null,null,null,null,null,null,null,null,null,null,null,null,null,null,null,null,null,null,null,null,null,null,null,null,null,null,null,null,null,null,null,null,null,null,null,null,null,null,null,null,null,null,null,null,null,null,null,null,null,null,null,null,null,null,null,null,null,null,null,null,null,null,null,null,null,null,null,null,null,null,null,null,null,null,null,null,null,null,null,null,null,null,null,null,null,null,null,null,null,null,null,null,null,null,null,null,null,null,null,null,null,null,null,null,null,null,null,null,null,null,null,null,null,null,null,null,null,null,null,null,null,null,null,null,null,null,null,null,null,null,null,null,null,null,null,null,null,null,null,null,null,null,null,null,null,null,null,null,null,null,null,null,null,null,null,null,null,null,null,null,null,null,null,null,null,null,null,null,null,null,null,null,null,null,null,null,null,null,null,null,null,null,null,null,null,null,null,null,null,null,null,null,null,null,null,null,null,null,null,null,null,null,null,null,null,null,null,null,null,null,null,null,null,null,null,null,null,null,null,null,null,null,null,null,null,null,null,null,null,null,null,null,null,null,null,null,null,null,null,null,null,null,null,null,null,null,null,null,null,null,null,null,null,null,null,null,null,null,null,null,null,null,null,null,null,null,null,null,null,null,null,null,null,null,null,null,null,null,null,null,null,null,null,null,null,null,null,null,null,null,null,null,null,null,null,null,null,null,null,null,null,null,null,null,null,null,null,null,null,null,null,null,null,null,null,null,null,null,null,null,null,null,null,null,null,null,null,null,null,null,null,null,null,null,null,null,null,null,null,null,null,null,null,null,null,null,null,null,null,null,null,null,null,null,null,null,null,null,null,null,null,null,null,null,null,null,null,null,null,null,null,null,null,null,null,null,null,null,null,null,null,null,null,null,null,null,null,null,null,null,null,null,null,null,null,null,null,null,null,null,null,null,null,null,null,null,null,null,null,null,null,null,null,null,null,null,null,null,null,null,null,null,null,null,793]
[null,null,null,null,null,null,null,null,null,null,null,null,null,null,null,null,null,null,null,null,null,null,null,null,null,null,null,null,null,null,null,null,null,null,null,null,null,null,null,null,null,null,null,null,null,null,null,null,null,null,null,null,null,null,null,null,null,null,null,null,null,null,null,null,null,null,null,null,null,null,null,null,null,null,null,null,null,null,null,null,null,null,null,null,null,null,null,null,null,null,null,null,null,null,null,null,null,null,null,null,null,null,null,null,null,null,null,null,null,null,null,null,null,null,null,null,null,null,null,null,null,null,null,null,null,null,null,null,null,null,null,null,null,null,null,null,null,null,null,null,null,null,null,null,null,null,null,null,null,null,null,null,null,null,null,null,null,null,null,null,null,null,null,null,null,null,null,null,null,null,null,null,null,null,null,null,null,null,null,null,null,null,null,null,null,null,null,null,null,null,null,null,null,null,null,null,null,null,null,null,null,null,null,null,null,null,null,null,null,null,null,null,null,null,null,null,null,null,null,null,null,null,null,null,null,null,null,null,null,null,null,null,null,null,null,null,null,null,null,null,null,null,null,null,null,null,null,null,null,null,null,null,null,null,null,null,null,null,null,null,null,null,null,null,null,null,null,null,null,null,null,null,null,null,null,null,null,null,null,null,null,null,null,null,null,null,null,null,null,null,null,null,null,null,null,null,null,null,null,null,null,null,null,null,null,null,null,null,null,null,null,null,null,null,null,null,null,null,null,null,null,null,null,null,null,null,null,null,null,null,null,null,null,null,null,null,null,null,null,null,null,null,null,null,null,null,null,null,null,null,null,null,null,null,null,null,null,null,null,null,null,null,null,null,null,null,null,null,null,null,null,null,null,null,null,null,null,null,null,null,null,null,null,null,null,null,null,null,null,null,null,null,null,null,null,null,null,null,null,null,null,null,null,null,null,null,null,null,null,null,null,null,null,null,null,null,null,null,null,null,null,null,null,null,null,null,null,null,null,null,null,null,null,null,null,null,null,null,null,null,null,null,null,null,null,null,null,null,null,null,null,null,null,null,null,null,null,null,null,null,null,null,null,null,null,null,null,null,null,null,null,null,null,null,null,null,null,null,null,null,null,null,null,null,null,null,null,null,null,null,null,null,null,null,null,null,null,null,null,null,null,null,null,null,null,null,null,null,null,null,null,null,null,null,null,null,null,null,null,null,null,null,null,null,null,null,null,null,null,null,null,null,null,null,null,null,null,null,null,null,null,null,null,null,null,null,null,null,null,null,null,null,null,null,null,null,null,null,null,null,null,null,null,null,null,null,null,null,null,null,null,null,null,null,null,null,null,null,null,null,null,null,null,null,null,null,null,null,null,null,null,null,null,null,null,null,null,null,null,null,null,null,null,null,null,null,null,null,null,null,null,null,null,null,null,null,null,null,null,null,null,null,null,null,null,null,null,null,null,null,null,null,null,null,null,null,null,null,null,null,null,null,null,null,null,null,null,null,null,null,null,null,null,null,null,null,null,null,null,null,null,null,null,null,null,null,null,null,null,null,null,null,null,null,null,null,null,null,null,null,null,null,null,null,null,null,null,null,null,null,null,null,null,null,null,null,null,null,null,null,null,null,null,null,null,null,null,null,null,null,null,null,null,null,null,null,null,null,null,null,null,null,null,null,null,null,null,null,null,null,null,null,null,null,null,null,null,null,null,null,null,null,null,null,null,null,null,null,null,null,null,null,null,null,null,null,null,null,null,null,null,null,null,null,null,null,null,null,null,null,null,null,null,null,null,null,null,null,null,null,null,null,null,null,null,null,null,null,null,null,null,null,null,null,null,null,null,null,null,null,null,null,null,null,null,null,null,null,null,null,null,null,null,null,null,null,null,null,null,null,null,null,null,null,null,null,null,null,null,null,null,null,null,null,null,null,null,null,null,null,null,null,null,null,null,null,null,null,null,null,null,null,null,null,null,null,null,null,null,null,null,null,null,null,null,null,null,null,null,null,null,null,null,null,null,null,null,null,null,null,null,null,null,null,null,null,null,null,null,null,null,null,null,null,null,null,null,null,null,null,null,null,null,null,null,null,null,null,null,null,null,null,null,null,null,null,null,null,null,null,null,null,null,null,null,null,null,null,null,null,null,null,null,null,null,null,null,null,null,null,null,null,null,null,null,null,null,null,null,null,null,null,null,null,null,null,null,null,null,null,null,null,null,null,null,null,null,null,null,null,null,null,null,null,null,null,null,null,null,null,null,null,null,null,null,null,null,null,null,null,null,null,null,null,null,null,null,null,null,null,null,null,null,null,null,null,null,null,null,null,null,null,null,null,null,null,null,null,null,null,null,null,null,null,null,null,null,null,null,null,null,null,null,null,null,null,null,null,null,null,null,null,null,null,null,null,null,null,null,null,null,null,null,null,null,null,null,null,null,null,null,null,null,null,null,null,null,null,null,null,null,null,null,null,null,null,null,null,null,null,null,null,null,null,null,null,null,null,null,null,null,null,null,null,null,null,null,null,null,null,null,null,null,null,null,null,null,null,null,null,null,null,null,null,null,null,null,null,null,null,null,null,null,null,null,null,null,null,null,null,null,null,null,null,null,null,null,null,null,null,null,null,null,null,null,null,null,null,null,null,null,null,null,null,null,null,null,null,null,null,null,null,null,null,null,null,null,null,null,null,null,null,null,null,null,null,null,null,null,null,null,null,null,null,null,null,null,null,null,null,null,null,null,null,null,null,null,null,null,null,null,null,null,null,null,null,null,null,null,null,null,null,null,null,null,null,null,null,null,null,null,null,null,null,null,null,null,null,null,null,null,null,null,null,null,null,null,null,null,null,null,null,null,null,null,null,null,null,null,null,null,null,null,null,null,null,null,null,null,null,null,null,null,null,null,null,null,null,null,null,null,null,null,null,null,null,null,null,null,null,null,null,null,null,null,null,null,null,null,null,null,null,null,null,null,null,null,null,null,null,null,null,null,null,null,null,null,null,null,null,null,null,null,null,null,null,null,null,null,null,null,null,null,null,null,null,null,null,null,null,null,null,null,null,null,null,null,null,null,null,null,null,null,null,null,null,null,null,null,null,null,null,null,null,null,null,null,null,null,null,null,null,null,null,null,null,null,null,null,null,null,null,null,null,null,null,null,null,null,null,null,null,null,null,null,null,null,null,null,null,null,null,null,null,null,null,null,null,null,null,null,null,null,null,null,null,null,null,null,null,null,null,null,null,null,null,null,null,null,null,null,null,null,null,null,null,null,null,null,null,null,null,null,null,null,null,null,null,null,null,null,null,null,null,null,null,null,null,null,null,null,null,null,null,null,null,null,null,null,null,null,null,null,null,null,null,null,null,null,null,null,null,null,null,null,null,null,null,null,null,null,null,null,null,null,null,null,null,null,null,null,null,null,null,null,null,null,null,null,null,null,null,null,null,null,null,null,null,null,null,null,null,null,null,null,null,null,null,null,null,null,null,null,null,null,null,null,null,null,null,null,null,null,null,null,null,null,null,null,null,null,null,null,null,null,null,null,null,null,null,null,null,null,null,null,null,null,null,null,null,null,null,null,null,null,null,null,null,null,null,null,null,null,null,null,null,null,null,null,null,null,null,null,null,null,null,null,null,null,null,null,null,null,null,null,null,null,null,null,null,null,null,null,null,null,null,null,null,null,null,null,null,null,null,null,null,null,null,null,null,null,null,null,null,null,null,null,null,null,null,null,null,null,null,null,null,null,null,null,null,null,null,null,null,null,null,null,null,null,null,null,null,null,null,null,null,null,null,null,null,null,null,null,null,null,null,null,null,null,null,null,null,null,null,null,null,null,null,null,null,null,null,null,null,null,null,null,null,null,null,null,null,null,null,null,null,null,null,null,null,null,null,null,null,null,null,null,null,null,null,null,null,null,null,null,null,null,null,null,null,null,null,null,null,null,null,null,null,null,null,null,null,null,null,null,null,null,null,null,null,null,null,null,null,null,null,null,null,null,null,null,null,null,null,null,null,null,null,null,null,null,null,null,null,null,null,null,null,null,null,null,null,null,null,null,null,null,null,null,null,null,null,null,null,null,null,null,null,null,null,null,null,null,null,null,null,null,null,null,null,null,null,null,null,null,null,null,null,null,null,null,null,null,null,null,null,null,null,null,null,null,null,null,null,null,null,null,null,null,null,null,null,null,null,null,null,null,null,null,null,null,null,null,null,null,null,null,null,null,null,null,null,null,null,null,null,null,null,null,null,null,null,null,null,null,null,null,null,null,null,null,null,null,null,null,null,null,null,null,null,null,null,null,null,null,null,null,null,null,null,null,null,null,null,null,null,null,null,null,null,null,null,null,null,null,null,null,null,null,null,null,null,null,null,null,null,null,null,null,null,null,null,null,null,null,null,null,null,null,null,null,null,null,null,null,null,null,null,null,null,null,null,null,null,null,null,null,null,null,null,null,null,null,null,null,null,null,null,null,null,null,null,null,null,null,null,null,null,null,null,null,null,null,null,null,null,null,null,null,null,null,null,null,null,null,null,null,null,null,null,null,null,null,null,null,null,null,null,null,null,null,null,null,null,null,null,null,null,null,null,794]
[null,null,null,null,null,null,null,null,null,null,null,null,null,null,null,null,null,null,null,null,null,null,null,null,null,null,null,null,null,null,null,null,null,null,null,null,null,null,null,null,null,null,null,null,null,null,null,null,null,null,null,null,null,null,null,null,null,null,null,null,null,null,null,null,null,null,null,null,null,null,null,null,null,null,null,null,null,null,null,null,null,null,null,null,null,null,null,null,null,null,null,null,null,null,null,null,null,null,null,null,null,null,null,null,null,null,null,null,null,null,null,null,null,null,null,null,null,null,null,null,null,null,null,null,null,null,null,null,null,null,null,null,null,null,null,null,null,null,null,null,null,null,null,null,null,null,null,null,null,null,null,null,null,null,null,null,null,null,null,null,null,null,null,null,null,null,null,null,null,null,null,null,null,null,null,null,null,null,null,null,null,null,null,null,null,null,null,null,null,null,null,null,null,null,null,null,null,null,null,null,null,null,null,null,null,null,null,null,null,null,null,null,null,null,null,null,null,null,null,null,null,null,null,null,null,null,null,null,null,null,null,null,null,null,null,null,null,null,null,null,null,null,null,null,null,null,null,null,null,null,null,null,null,null,null,null,null,null,null,null,null,null,null,null,null,null,null,null,null,null,null,null,null,null,null,null,null,null,null,null,null,null,null,null,null,null,null,null,null,null,null,null,null,null,null,null,null,null,null,null,null,null,null,null,null,null,null,null,null,null,null,null,null,null,null,null,null,null,null,null,null,null,null,null,null,null,null,null,null,null,null,null,null,null,null,null,null,null,null,null,null,null,null,null,null,null,null,null,null,null,null,null,null,null,null,null,null,null,null,null,null,null,null,null,null,null,null,null,null,null,null,null,null,null,null,null,null,null,null,null,null,null,null,null,null,null,null,null,null,null,null,null,null,null,null,null,null,null,null,null,null,null,null,null,null,null,null,null,null,null,null,null,null,null,null,null,null,null,null,null,null,null,null,null,null,null,null,null,null,null,null,null,null,null,null,null,null,null,null,null,null,null,null,null,null,null,null,null,null,null,null,null,null,null,null,null,null,null,null,null,null,null,null,null,null,null,null,null,null,null,null,null,null,null,null,null,null,null,null,null,null,null,null,null,null,null,null,null,null,null,null,null,null,null,null,null,null,null,null,null,null,null,null,null,null,null,null,null,null,null,null,null,null,null,null,null,null,null,null,null,null,null,null,null,null,null,null,null,null,null,null,null,null,null,null,null,null,null,null,null,null,null,null,null,null,null,null,null,null,null,null,null,null,null,null,null,null,null,null,null,null,null,null,null,null,null,null,null,null,null,null,null,null,null,null,null,null,null,null,null,null,null,null,null,null,null,null,null,null,null,null,null,null,null,null,null,null,null,null,null,null,null,null,null,null,null,null,null,null,null,null,null,null,null,null,null,null,null,null,null,null,null,null,null,null,null,null,null,null,null,null,null,null,null,null,null,null,null,null,null,null,null,null,null,null,null,null,null,null,null,null,null,null,null,null,null,null,null,null,null,null,null,null,null,null,null,null,null,null,null,null,null,null,null,null,null,null,null,null,null,null,null,null,null,null,null,null,null,null,null,null,null,null,null,null,null,null,null,null,null,null,null,null,null,null,null,null,null,null,null,null,null,null,null,null,null,null,null,null,null,null,null,null,null,null,null,null,null,null,null,null,null,null,null,null,null,null,null,null,null,null,null,null,null,null,null,null,null,null,null,null,null,null,null,null,null,null,null,null,null,null,null,null,null,null,null,null,null,null,null,null,null,null,null,null,null,null,null,null,null,null,null,null,null,null,null,null,null,null,null,null,null,null,null,null,null,null,null,null,null,null,null,null,null,null,null,null,null,null,null,null,null,null,null,null,null,null,null,null,null,null,null,null,null,null,null,null,null,null,null,null,null,null,null,null,null,null,null,null,null,null,null,null,null,null,null,null,null,null,null,null,null,null,null,null,null,null,null,null,null,null,null,null,null,null,null,null,null,null,null,null,null,null,null,null,null,null,null,null,null,null,null,null,null,null,null,null,null,null,null,null,null,null,null,null,null,null,null,null,null,null,null,null,null,null,null,null,null,null,null,null,null,null,null,null,null,null,null,null,null,null,null,null,null,null,null,null,null,null,null,null,null,null,null,null,null,null,null,null,null,null,null,null,null,null,null,null,null,null,null,null,null,null,null,null,null,null,null,null,null,null,null,null,null,null,null,null,null,null,null,null,null,null,null,null,null,null,null,null,null,null,null,null,null,null,null,null,null,null,null,null,null,null,null,null,null,null,null,null,null,null,null,null,null,null,null,null,null,null,null,null,null,null,null,null,null,null,null,null,null,null,null,null,null,null,null,null,null,null,null,null,null,null,null,null,null,null,null,null,null,null,null,null,null,null,null,null,null,null,null,null,null,null,null,null,null,null,null,null,null,null,null,null,null,null,null,null,null,null,null,null,null,null,null,null,null,null,null,null,null,null,null,null,null,null,null,null,null,null,null,null,null,null,null,null,null,null,null,null,null,null,null,null,null,null,null,null,null,null,null,null,null,null,null,null,null,null,null,null,null,null,null,null,null,null,null,null,null,null,null,null,null,null,null,null,null,null,null,null,null,null,null,null,null,null,null,null,null,null,null,null,null,null,null,null,null,null,null,null,null,null,null,null,null,null,null,null,null,null,null,null,null,null,null,null,null,null,null,null,null,null,null,null,null,null,null,null,null,null,null,null,null,null,null,null,null,null,null,null,null,null,null,null,null,null,null,null,null,null,null,null,null,null,null,null,null,null,null,null,null,null,null,null,null,null,null,null,null,null,null,null,null,null,null,null,null,null,null,null,null,null,null,null,null,null,null,null,null,null,null,null,null,null,null,null,null,null,null,null,null,null,null,null,null,null,null,null,null,null,null,null,null,null,null,null,null,null,null,null,null,null,null,null,null,null,null,null,null,null,null,null,null,null,null,null,null,null,null,null,null,null,null,null,null,null,null,null,null,null,null,null,null,null,null,null,null,null,null,null,null,null,null,null,null,null,null,null,null,null,null,null,null,null,null,null,null,null,null,null,null,null,null,null,null,null,null,null,null,null,null,null,null,null,null,null,null,null,null,null,null,null,null,null,null,null,null,null,null,null,null,null,null,null,null,null,null,null,null,null,null,null,null,null,null,null,null,null,null,null,null,null,null,null,null,null,null,null,null,null,null,null,null,null,null,null,null,null,null,null,null,null,null,null,null,null,null,null,null,null,null,null,null,null,null,null,null,null,null,null,null,null,null,null,null,null,null,null,null,null,null,null,null,null,null,null,null,null,null,null,null,null,null,null,null,null,null,null,null,null,null,null,null,null,null,null,null,null,null,null,null,null,null,null,null,null,null,null,null,null,null,null,null,null,null,null,null,null,null,null,null,null,null,null,null,null,null,null,null,null,null,null,null,null,null,null,null,null,null,null,null,null,null,null,null,null,null,null,null,null,null,null,null,null,null,null,null,null,null,null,null,null,null,null,null,null,null,null,null,null,null,null,null,null,null,null,null,null,null,null,null,null,null,null,null,null,null,null,null,null,null,null,null,null,null,null,null,null,null,null,null,null,null,null,null,null,null,null,null,null,null,null,null,null,null,null,null,null,null,null,null,null,null,null,null,null,null,null,null,null,null,null,null,null,null,null,null,null,null,null,null,null,null,null,null,null,null,null,null,null,null,null,null,null,null,null,null,null,null,null,null,null,null,null,null,null,null,null,null,null,null,null,null,null,null,null,null,null,null,null,null,null,null,null,null,null,null,null,null,null,null,null,null,null,null,null,null,null,null,null,null,null,null,null,null,null,null,null,null,null,null,null,null,null,null,null,null,null,null,null,null,null,null,null,null,null,null,null,null,null,null,null,null,null,null,null,null,null,null,null,null,null,null,null,null,null,null,null,null,null,null,null,null,null,null,null,null,null,null,null,null,null,null,null,null,null,null,null,null,null,null,null,null,null,null,null,null,null,null,null,null,null,null,null,null,null,null,null,null,null,null,null,null,null,null,null,null,null,null,null,null,null,null,null,null,null,null,null,null,null,null,null,null,null,null,null,null,null,null,null,null,null,null,null,null,null,null,null,null,null,null,null,null,null,null,null,null,null,null,null,null,null,null,null,null,null,null,null,null,null,null,null,null,null,null,null,null,null,null,null,null,null,null,null,null,null,null,null,null,null,null,null,null,null,null,null,null,null,null,null,null,null,null,null,null,null,null,null,null,null,null,null,null,null,null,null,null,null,null,null,null,null,null,null,null,null,null,null,null,null,null,null,null,null,null,null,null,null,null,null,null,null,null,null,null,null,null,null,null,null,null,null,null,null,null,null,null,null,null,null,null,null,null,null,null,null,null,null,null,null,null,null,null,null,null,null,null,null,null,null,null,null,null,null,null,null,null,null,null,null,null,null,null,null,null,null,null,null,null,null,null,null,null,null,null,null,null,null,null,null,null,null,null,null,null,null,null,null,null,null,null,null,null,null,null,null,null,null,null,null,null,null,null,null,null,null,null,null,null,null,null,null,null,null,null,null,null,null,null,null,null,null,null,null,null,null,null,null,null,null,null,795]
[null,null,null,null,null,null,null,null,null,null,null,null,null,null,null,null,null,null,null,null,null,null,null,null,null,null,null,null,null,null,null,null,null,null,null,null,null,null,null,null,null,null,null,null,null,null,null,null,null,null,null,null,null,null,null,null,null,null,null,null,null,null,null,null,null,null,null,null,null,null,null,null,null,null,null,null,null,null,null,null,null,null,null,null,null,null,null,null,null,null,null,null,null,null,null,null,null,null,null,null,null,null,null,null,null,null,null,null,null,null,null,null,null,null,null,null,null,null,null,null,null,null,null,null,null,null,null,null,null,null,null,null,null,null,null,null,null,null,null,null,null,null,null,null,null,null,null,null,null,null,null,null,null,null,null,null,null,null,null,null,null,null,null,null,null,null,null,null,null,null,null,null,null,null,null,null,null,null,null,null,null,null,null,null,null,null,null,null,null,null,null,null,null,null,null,null,null,null,null,null,null,null,null,null,null,null,null,null,null,null,null,null,null,null,null,null,null,null,null,null,null,null,null,null,null,null,null,null,null,null,null,null,null,null,null,null,null,null,null,null,null,null,null,null,null,null,null,null,null,null,null,null,null,null,null,null,null,null,null,null,null,null,null,null,null,null,null,null,null,null,null,null,null,null,null,null,null,null,null,null,null,null,null,null,null,null,null,null,null,null,null,null,null,null,null,null,null,null,null,null,null,null,null,null,null,null,null,null,null,null,null,null,null,null,null,null,null,null,null,null,null,null,null,null,null,null,null,null,null,null,null,null,null,null,null,null,null,null,null,null,null,null,null,null,null,null,null,null,null,null,null,null,null,null,null,null,null,null,null,null,null,null,null,null,null,null,null,null,null,null,null,null,null,null,null,null,null,null,null,null,null,null,null,null,null,null,null,null,null,null,null,null,null,null,null,null,null,null,null,null,null,null,null,null,null,null,null,null,null,null,null,null,null,null,null,null,null,null,null,null,null,null,null,null,null,null,null,null,null,null,null,null,null,null,null,null,null,null,null,null,null,null,null,null,null,null,null,null,null,null,null,null,null,null,null,null,null,null,null,null,null,null,null,null,null,null,null,null,null,null,null,null,null,null,null,null,null,null,null,null,null,null,null,null,null,null,null,null,null,null,null,null,null,null,null,null,null,null,null,null,null,null,null,null,null,null,null,null,null,null,null,null,null,null,null,null,null,null,null,null,null,null,null,null,null,null,null,null,null,null,null,null,null,null,null,null,null,null,null,null,null,null,null,null,null,null,null,null,null,null,null,null,null,null,null,null,null,null,null,null,null,null,null,null,null,null,null,null,null,null,null,null,null,null,null,null,null,null,null,null,null,null,null,null,null,null,null,null,null,null,null,null,null,null,null,null,null,null,null,null,null,null,null,null,null,null,null,null,null,null,null,null,null,null,null,null,null,null,null,null,null,null,null,null,null,null,null,null,null,null,null,null,null,null,null,null,null,null,null,null,null,null,null,null,null,null,null,null,null,null,null,null,null,null,null,null,null,null,null,null,null,null,null,null,null,null,null,null,null,null,null,null,null,null,null,null,null,null,null,null,null,null,null,null,null,null,null,null,null,null,null,null,null,null,null,null,null,null,null,null,null,null,null,null,null,null,null,null,null,null,null,null,null,null,null,null,null,null,null,null,null,null,null,null,null,null,null,null,null,null,null,null,null,null,null,null,null,null,null,null,null,null,null,null,null,null,null,null,null,null,null,null,null,null,null,null,null,null,null,null,null,null,null,null,null,null,null,null,null,null,null,null,null,null,null,null,null,null,null,null,null,null,null,null,null,null,null,null,null,null,null,null,null,null,null,null,null,null,null,null,null,null,null,null,null,null,null,null,null,null,null,null,null,null,null,null,null,null,null,null,null,null,null,null,null,null,null,null,null,null,null,null,null,null,null,null,null,null,null,null,null,null,null,null,null,null,null,null,null,null,null,null,null,null,null,null,null,null,null,null,null,null,null,null,null,null,null,null,null,null,null,null,null,null,null,null,null,null,null,null,null,null,null,null,null,null,null,null,null,null,null,null,null,null,null,null,null,null,null,null,null,null,null,null,null,null,null,null,null,null,null,null,null,null,null,null,null,null,null,null,null,null,null,null,null,null,null,null,null,null,null,null,null,null,null,null,null,null,null,null,null,null,null,null,null,null,null,null,null,null,null,null,null,null,null,null,null,null,null,null,null,null,null,null,null,null,null,null,null,null,null,null,null,null,null,null,null,null,null,null,null,null,null,null,null,null,null,null,null,null,null,null,null,null,null,null,null,null,null,null,null,null,null,null,null,null,null,null,null,null,null,null,null,null,null,null,null,null,null,null,null,null,null,null,null,null,null,null,null,null,null,null,null,null,null,null,null,null,null,null,null,null,null,null,null,null,null,null,null,null,null,null,null,null,null,null,null,null,null,null,null,null,null,null,null,null,null,null,null,null,null,null,null,null,null,null,null,null,null,null,null,null,null,null,null,null,null,null,null,null,null,null,null,null,null,null,null,null,null,null,null,null,null,null,null,null,null,null,null,null,null,null,null,null,null,null,null,null,null,null,null,null,null,null,null,null,null,null,null,null,null,null,null,null,null,null,null,null,null,null,null,null,null,null,null,null,null,null,null,null,null,null,null,null,null,null,null,null,null,null,null,null,null,null,null,null,null,null,null,null,null,null,null,null,null,null,null,null,null,null,null,null,null,null,null,null,null,null,null,null,null,null,null,null,null,null,null,null,null,null,null,null,null,null,null,null,null,null,null,null,null,null,null,null,null,null,null,null,null,null,null,null,null,null,null,null,null,null,null,null,null,null,null,null,null,null,null,null,null,null,null,null,null,null,null,null,null,null,null,null,null,null,null,null,null,null,null,null,null,null,null,null,null,null,null,null,null,null,null,null,null,null,null,null,null,null,null,null,null,null,null,null,null,null,null,null,null,null,null,null,null,null,null,null,null,null,null,null,null,null,null,null,null,null,null,null,null,null,null,null,null,null,null,null,null,null,null,null,null,null,null,null,null,null,null,null,null,null,null,null,null,null,null,null,null,null,null,null,null,null,null,null,null,null,null,null,null,null,null,null,null,null,null,null,null,null,null,null,null,null,null,null,null,null,null,null,null,null,null,null,null,null,null,null,null,null,null,null,null,null,null,null,null,null,null,null,null,null,null,null,null,null,null,null,null,null,null,null,null,null,null,null,null,null,null,null,null,null,null,null,null,null,null,null,null,null,null,null,null,null,null,null,null,null,null,null,null,null,null,null,null,null,null,null,null,null,null,null,null,null,null,null,null,null,null,null,null,null,null,null,null,null,null,null,null,null,null,null,null,null,null,null,null,null,null,null,null,null,null,null,null,null,null,null,null,null,null,null,null,null,null,null,null,null,null,null,null,null,null,null,null,null,null,null,null,null,null,null,null,null,null,null,null,null,null,null,null,null,null,null,null,null,null,null,null,null,null,null,null,null,null,null,null,null,null,null,null,null,null,null,null,null,null,null,null,null,null,null,null,null,null,null,null,null,null,null,null,null,null,null,null,null,null,null,null,null,null,null,null,null,null,null,null,null,null,null,null,null,null,null,null,null,null,null,null,null,null,null,null,null,null,null,null,null,null,null,null,null,null,null,null,null,null,null,null,null,null,null,null,null,null,null,null,null,null,null,null,null,null,null,null,null,null,null,null,null,null,null,null,null,null,null,null,null,null,null,null,null,null,null,null,null,null,null,null,null,null,null,null,null,null,null,null,null,null,null,null,null,null,null,null,null,null,null,null,null,null,null,null,null,null,null,null,null,null,null,null,null,null,null,null,null,null,null,null,null,null,null,null,null,null,null,null,null,null,null,null,null,null,null,null,null,null,null,null,null,null,null,null,null,null,null,null,null,null,null,null,null,null,null,null,null,null,null,null,null,null,null,null,null,null,null,null,null,null,null,null,null,null,null,null,null,null,null,null,null,null,null,null,null,null,null,null,null,null,null,null,null,null,null,null,null,null,null,null,null,null,null,null,null,null,null,null,null,null,null,null,null,null,null,null,null,null,null,null,null,null,null,null,null,null,null,null,null,null,null,null,null,null,null,null,null,null,null,null,null,null,null,null,null,null,null,null,null,null,null,null,null,null,null,null,null,null,null,null,null,null,null,null,null,null,null,null,null,null,null,null,null,null,null,null,null,null,null,null,null,null,null,null,null,null,null,null,null,null,null,null,null,null,null,null,null,null,null,null,null,null,null,null,null,null,null,null,null,null,null,null,null,null,null,null,null,null,null,null,null,null,null,null,null,null,null,null,null,null,null,null,null,null,null,null,null,null,null,null,null,null,null,null,null,null,null,null,null,null,null,null,null,null,null,null,null,null,null,null,null,null,null,null,null,null,null,null,null,null,null,null,null,null,null,null,null,null,null,null,null,null,null,null,null,null,null,null,null,null,null,null,null,null,null,null,null,null,null,null,null,null,null,null,null,null,null,null,null,null,null,null,null,null,null,null,null,null,null,null,null,null,null,null,null,null,null,null,null,null,null,null,null,null,null,null,null,null,null,null,null,null,null,null,null,null,null,null,null,null,null,null,null,null,null,796]
[null,null,null,null,null,null,null,null,null,null,null,null,null,null,null,null,null,null,null,null,null,null,null,null,null,null,null,null,null,null,null,null,null,null,null,null,null,null,null,null,null,null,null,null,null,null,null,null,null,null,null,null,null,null,null,null,null,null,null,null,null,null,null,null,null,null,null,null,null,null,null,null,null,null,null,null,null,null,null,null,null,null,null,null,null,null,null,null,null,null,null,null,null,null,null,null,null,null,null,null,null,null,null,null,null,null,null,null,null,null,null,null,null,null,null,null,null,null,null,null,null,null,null,null,null,null,null,null,null,null,null,null,null,null,null,null,null,null,null,null,null,null,null,null,null,null,null,null,null,null,null,null,null,null,null,null,null,null,null,null,null,null,null,null,null,null,null,null,null,null,null,null,null,null,null,null,null,null,null,null,null,null,null,null,null,null,null,null,null,null,null,null,null,null,null,null,null,null,null,null,null,null,null,null,null,null,null,null,null,null,null,null,null,null,null,null,null,null,null,null,null,null,null,null,null,null,null,null,null,null,null,null,null,null,null,null,null,null,null,null,null,null,null,null,null,null,null,null,null,null,null,null,null,null,null,null,null,null,null,null,null,null,null,null,null,null,null,null,null,null,null,null,null,null,null,null,null,null,null,null,null,null,null,null,null,null,null,null,null,null,null,null,null,null,null,null,null,null,null,null,null,null,null,null,null,null,null,null,null,null,null,null,null,null,null,null,null,null,null,null,null,null,null,null,null,null,null,null,null,null,null,null,null,null,null,null,null,null,null,null,null,null,null,null,null,null,null,null,null,null,null,null,null,null,null,null,null,null,null,null,null,null,null,null,null,null,null,null,null,null,null,null,null,null,null,null,null,null,null,null,null,null,null,null,null,null,null,null,null,null,null,null,null,null,null,null,null,null,null,null,null,null,null,null,null,null,null,null,null,null,null,null,null,null,null,null,null,null,null,null,null,null,null,null,null,null,null,null,null,null,null,null,null,null,null,null,null,null,null,null,null,null,null,null,null,null,null,null,null,null,null,null,null,null,null,null,null,null,null,null,null,null,null,null,null,null,null,null,null,null,null,null,null,null,null,null,null,null,null,null,null,null,null,null,null,null,null,null,null,null,null,null,null,null,null,null,null,null,null,null,null,null,null,null,null,null,null,null,null,null,null,null,null,null,null,null,null,null,null,null,null,null,null,null,null,null,null,null,null,null,null,null,null,null,null,null,null,null,null,null,null,null,null,null,null,null,null,null,null,null,null,null,null,null,null,null,null,null,null,null,null,null,null,null,null,null,null,null,null,null,null,null,null,null,null,null,null,null,null,null,null,null,null,null,null,null,null,null,null,null,null,null,null,null,null,null,null,null,null,null,null,null,null,null,null,null,null,null,null,null,null,null,null,null,null,null,null,null,null,null,null,null,null,null,null,null,null,null,null,null,null,null,null,null,null,null,null,null,null,null,null,null,null,null,null,null,null,null,null,null,null,null,null,null,null,null,null,null,null,null,null,null,null,null,null,null,null,null,null,null,null,null,null,null,null,null,null,null,null,null,null,null,null,null,null,null,null,null,null,null,null,null,null,null,null,null,null,null,null,null,null,null,null,null,null,null,null,null,null,null,null,null,null,null,null,null,null,null,null,null,null,null,null,null,null,null,null,null,null,null,null,null,null,null,null,null,null,null,null,null,null,null,null,null,null,null,null,null,null,null,null,null,null,null,null,null,null,null,null,null,null,null,null,null,null,null,null,null,null,null,null,null,null,null,null,null,null,null,null,null,null,null,null,null,null,null,null,null,null,null,null,null,null,null,null,null,null,null,null,null,null,null,null,null,null,null,null,null,null,null,null,null,null,null,null,null,null,null,null,null,null,null,null,null,null,null,null,null,null,null,null,null,null,null,null,null,null,null,null,null,null,null,null,null,null,null,null,null,null,null,null,null,null,null,null,null,null,null,null,null,null,null,null,null,null,null,null,null,null,null,null,null,null,null,null,null,null,null,null,null,null,null,null,null,null,null,null,null,null,null,null,null,null,null,null,null,null,null,null,null,null,null,null,null,null,null,null,null,null,null,null,null,null,null,null,null,null,null,null,null,null,null,null,null,null,null,null,null,null,null,null,null,null,null,null,null,null,null,null,null,null,null,null,null,null,null,null,null,null,null,null,null,null,null,null,null,null,null,null,null,null,null,null,null,null,null,null,null,null,null,null,null,null,null,null,null,null,null,null,null,null,null,null,null,null,null,null,null,null,null,null,null,null,null,null,null,null,null,null,null,null,null,null,null,null,null,null,null,null,null,null,null,null,null,null,null,null,null,null,null,null,null,null,null,null,null,null,null,null,null,null,null,null,null,null,null,null,null,null,null,null,null,null,null,null,null,null,null,null,null,null,null,null,null,null,null,null,null,null,null,null,null,null,null,null,null,null,null,null,null,null,null,null,null,null,null,null,null,null,null,null,null,null,null,null,null,null,null,null,null,null,null,null,null,null,null,null,null,null,null,null,null,null,null,null,null,null,null,null,null,null,null,null,null,null,null,null,null,null,null,null,null,null,null,null,null,null,null,null,null,null,null,null,null,null,null,null,null,null,null,null,null,null,null,null,null,null,null,null,null,null,null,null,null,null,null,null,null,null,null,null,null,null,null,null,null,null,null,null,null,null,null,null,null,null,null,null,null,null,null,null,null,null,null,null,null,null,null,null,null,null,null,null,null,null,null,null,null,null,null,null,null,null,null,null,null,null,null,null,null,null,null,null,null,null,null,null,null,null,null,null,null,null,null,null,null,null,null,null,null,null,null,null,null,null,null,null,null,null,null,null,null,null,null,null,null,null,null,null,null,null,null,null,null,null,null,null,null,null,null,null,null,null,null,null,null,null,null,null,null,null,null,null,null,null,null,null,null,null,null,null,null,null,null,null,null,null,null,null,null,null,null,null,null,null,null,null,null,null,null,null,null,null,null,null,null,null,null,null,null,null,null,null,null,null,null,null,null,null,null,null,null,null,null,null,null,null,null,null,null,null,null,null,null,null,null,null,null,null,null,null,null,null,null,null,null,null,null,null,null,null,null,null,null,null,null,null,null,null,null,null,null,null,null,null,null,null,null,null,null,null,null,null,null,null,null,null,null,null,null,null,null,null,null,null,null,null,null,null,null,null,null,null,null,null,null,null,null,null,null,null,null,null,null,null,null,null,null,null,null,null,null,null,null,null,null,null,null,null,null,null,null,null,null,null,null,null,null,null,null,null,null,null,null,null,null,null,null,null,null,null,null,null,null,null,null,null,null,null,null,null,null,null,null,null,null,null,null,null,null,null,null,null,null,null,null,null,null,null,null,null,null,null,null,null,null,null,null,null,null,null,null,null,null,null,null,null,null,null,null,null,null,null,null,null,null,null,null,null,null,null,null,null,null,null,null,null,null,null,null,null,null,null,null,null,null,null,null,null,null,null,null,null,null,null,null,null,null,null,null,null,null,null,null,null,null,null,null,null,null,null,null,null,null,null,null,null,null,null,null,null,null,null,null,null,null,null,null,null,null,null,null,null,null,null,null,null,null,null,null,null,null,null,null,null,null,null,null,null,null,null,null,null,null,null,null,null,null,null,null,null,null,null,null,null,null,null,null,null,null,null,null,null,null,null,null,null,null,null,null,null,null,null,null,null,null,null,null,null,null,null,null,null,null,null,null,null,null,null,null,null,null,null,null,null,null,null,null,null,null,null,null,null,null,null,null,null,null,null,null,null,null,null,null,null,null,null,null,null,null,null,null,null,null,null,null,null,null,null,null,null,null,null,null,null,null,null,null,null,null,null,null,null,null,null,null,null,null,null,null,null,null,null,null,null,null,null,null,null,null,null,null,null,null,null,null,null,null,null,null,null,null,null,null,null,null,null,null,null,null,null,null,null,null,null,null,null,null,null,null,null,null,null,null,null,null,null,null,null,null,null,null,null,null,null,null,null,null,null,null,null,null,null,null,null,null,null,null,null,null,null,null,null,null,null,null,null,null,null,null,null,null,null,null,null,null,null,null,null,null,null,null,null,null,null,null,null,null,null,null,null,null,null,null,null,null,null,null,null,null,null,null,null,null,null,null,null,null,null,null,null,null,null,null,null,null,null,null,null,null,null,null,null,null,null,null,null,null,null,null,null,null,null,null,null,null,null,null,null,null,null,null,null,null,null,null,null,null,null,null,null,null,null,null,null,null,null,null,null,null,null,null,null,null,null,null,null,null,null,null,null,null,null,null,null,null,null,null,null,null,null,null,null,null,null,null,null,null,null,null,null,null,null,null,null,null,null,null,null,null,null,null,null,null,null,null,null,null,null,null,null,null,null,null,null,null,null,null,null,null,null,null,null,null,null,null,null,null,null,null,null,null,null,null,null,null,null,null,null,null,null,null,null,null,null,null,null,null,null,null,null,null,null,null,null,null,null,null,null,null,null,null,null,null,null,null,null,null,null,null,null,null,null,null,null,null,null,null,null,null,null,null,null,null,null,null,null,null,null,null,null,null,null,null,null,null,null,null,null,null,null,null,null,null,null,null,null,null,null,null,797]
[null,null,null,null,null,null,null,null,null,null,null,null,null,null,null,null,null,null,null,null,null,null,null,null,null,null,null,null,null,null,null,null,null,null,null,null,null,null,null,null,null,null,null,null,null,null,null,null,null,null,null,null,null,null,null,null,null,null,null,null,null,null,null,null,null,null,null,null,null,null,null,null,null,null,null,null,null,null,null,null,null,null,null,null,null,null,null,null,null,null,null,null,null,null,null,null,null,null,null,null,null,null,null,null,null,null,null,null,null,null,null,null,null,null,null,null,null,null,null,null,null,null,null,null,null,null,null,null,null,null,null,null,null,null,null,null,null,null,null,null,null,null,null,null,null,null,null,null,null,null,null,null,null,null,null,null,null,null,null,null,null,null,null,null,null,null,null,null,null,null,null,null,null,null,null,null,null,null,null,null,null,null,null,null,null,null,null,null,null,null,null,null,null,null,null,null,null,null,null,null,null,null,null,null,null,null,null,null,null,null,null,null,null,null,null,null,null,null,null,null,null,null,null,null,null,null,null,null,null,null,null,null,null,null,null,null,null,null,null,null,null,null,null,null,null,null,null,null,null,null,null,null,null,null,null,null,null,null,null,null,null,null,null,null,null,null,null,null,null,null,null,null,null,null,null,null,null,null,null,null,null,null,null,null,null,null,null,null,null,null,null,null,null,null,null,null,null,null,null,null,null,null,null,null,null,null,null,null,null,null,null,null,null,null,null,null,null,null,null,null,null,null,null,null,null,null,null,null,null,null,null,null,null,null,null,null,null,null,null,null,null,null,null,null,null,null,null,null,null,null,null,null,null,null,null,null,null,null,null,null,null,null,null,null,null,null,null,null,null,null,null,null,null,null,null,null,null,null,null,null,null,null,null,null,null,null,null,null,null,null,null,null,null,null,null,null,null,null,null,null,null,null,null,null,null,null,null,null,null,null,null,null,null,null,null,null,null,null,null,null,null,null,null,null,null,null,null,null,null,null,null,null,null,null,null,null,null,null,null,null,null,null,null,null,null,null,null,null,null,null,null,null,null,null,null,null,null,null,null,null,null,null,null,null,null,null,null,null,null,null,null,null,null,null,null,null,null,null,null,null,null,null,null,null,null,null,null,null,null,null,null,null,null,null,null,null,null,null,null,null,null,null,null,null,null,null,null,null,null,null,null,null,null,null,null,null,null,null,null,null,null,null,null,null,null,null,null,null,null,null,null,null,null,null,null,null,null,null,null,null,null,null,null,null,null,null,null,null,null,null,null,null,null,null,null,null,null,null,null,null,null,null,null,null,null,null,null,null,null,null,null,null,null,null,null,null,null,null,null,null,null,null,null,null,null,null,null,null,null,null,null,null,null,null,null,null,null,null,null,null,null,null,null,null,null,null,null,null,null,null,null,null,null,null,null,null,null,null,null,null,null,null,null,null,null,null,null,null,null,null,null,null,null,null,null,null,null,null,null,null,null,null,null,null,null,null,null,null,null,null,null,null,null,null,null,null,null,null,null,null,null,null,null,null,null,null,null,null,null,null,null,null,null,null,null,null,null,null,null,null,null,null,null,null,null,null,null,null,null,null,null,null,null,null,null,null,null,null,null,null,null,null,null,null,null,null,null,null,null,null,null,null,null,null,null,null,null,null,null,null,null,null,null,null,null,null,null,null,null,null,null,null,null,null,null,null,null,null,null,null,null,null,null,null,null,null,null,null,null,null,null,null,null,null,null,null,null,null,null,null,null,null,null,null,null,null,null,null,null,null,null,null,null,null,null,null,null,null,null,null,null,null,null,null,null,null,null,null,null,null,null,null,null,null,null,null,null,null,null,null,null,null,null,null,null,null,null,null,null,null,null,null,null,null,null,null,null,null,null,null,null,null,null,null,null,null,null,null,null,null,null,null,null,null,null,null,null,null,null,null,null,null,null,null,null,null,null,null,null,null,null,null,null,null,null,null,null,null,null,null,null,null,null,null,null,null,null,null,null,null,null,null,null,null,null,null,null,null,null,null,null,null,null,null,null,null,null,null,null,null,null,null,null,null,null,null,null,null,null,null,null,null,null,null,null,null,null,null,null,null,null,null,null,null,null,null,null,null,null,null,null,null,null,null,null,null,null,null,null,null,null,null,null,null,null,null,null,null,null,null,null,null,null,null,null,null,null,null,null,null,null,null,null,null,null,null,null,null,null,null,null,null,null,null,null,null,null,null,null,null,null,null,null,null,null,null,null,null,null,null,null,null,null,null,null,null,null,null,null,null,null,null,null,null,null,null,null,null,null,null,null,null,null,null,null,null,null,null,null,null,null,null,null,null,null,null,null,null,null,null,null,null,null,null,null,null,null,null,null,null,null,null,null,null,null,null,null,null,null,null,null,null,null,null,null,null,null,null,null,null,null,null,null,null,null,null,null,null,null,null,null,null,null,null,null,null,null,null,null,null,null,null,null,null,null,null,null,null,null,null,null,null,null,null,null,null,null,null,null,null,null,null,null,null,null,null,null,null,null,null,null,null,null,null,null,null,null,null,null,null,null,null,null,null,null,null,null,null,null,null,null,null,null,null,null,null,null,null,null,null,null,null,null,null,null,null,null,null,null,null,null,null,null,null,null,null,null,null,null,null,null,null,null,null,null,null,null,null,null,null,null,null,null,null,null,null,null,null,null,null,null,null,null,null,null,null,null,null,null,null,null,null,null,null,null,null,null,null,null,null,null,null,null,null,null,null,null,null,null,null,null,null,null,null,null,null,null,null,null,null,null,null,null,null,null,null,null,null,null,null,null,null,null,null,null,null,null,null,null,null,null,null,null,null,null,null,null,null,null,null,null,null,null,null,null,null,null,null,null,null,null,null,null,null,null,null,null,null,null,null,null,null,null,null,null,null,null,null,null,null,null,null,null,null,null,null,null,null,null,null,null,null,null,null,null,null,null,null,null,null,null,null,null,null,null,null,null,null,null,null,null,null,null,null,null,null,null,null,null,null,null,null,null,null,null,null,null,null,null,null,null,null,null,null,null,null,null,null,null,null,null,null,null,null,null,null,null,null,null,null,null,null,null,null,null,null,null,null,null,null,null,null,null,null,null,null,null,null,null,null,null,null,null,null,null,null,null,null,null,null,null,null,null,null,null,null,null,null,null,null,null,null,null,null,null,null,null,null,null,null,null,null,null,null,null,null,null,null,null,null,null,null,null,null,null,null,null,null,null,null,null,null,null,null,null,null,null,null,null,null,null,null,null,null,null,null,null,null,null,null,null,null,null,null,null,null,null,null,null,null,null,null,null,null,null,null,null,null,null,null,null,null,null,null,null,null,null,null,null,null,null,null,null,null,null,null,null,null,null,null,null,null,null,null,null,null,null,null,null,null,null,null,null,null,null,null,null,null,null,null,null,null,null,null,null,null,null,null,null,null,null,null,null,null,null,null,null,null,null,null,null,null,null,null,null,null,null,null,null,null,null,null,null,null,null,null,null,null,null,null,null,null,null,null,null,null,null,null,null,null,null,null,null,null,null,null,null,null,null,null,null,null,null,null,null,null,null,null,null,null,null,null,null,null,null,null,null,null,null,null,null,null,null,null,null,null,null,null,null,null,null,null,null,null,null,null,null,null,null,null,null,null,null,null,null,null,null,null,null,null,null,null,null,null,null,null,null,null,null,null,null,null,null,null,null,null,null,null,null,null,null,null,null,null,null,null,null,null,null,null,null,null,null,null,null,null,null,null,null,null,null,null,null,null,null,null,null,null,null,null,null,null,null,null,null,null,null,null,null,null,null,null,null,null,null,null,null,null,null,null,null,null,null,null,null,null,null,null,null,null,null,null,null,null,null,null,null,null,null,null,null,null,null,null,null,null,null,null,null,null,null,null,null,null,null,null,null,null,null,null,null,null,null,null,null,null,null,null,null,null,null,null,null,null,null,null,null,null,null,null,null,null,null,null,null,null,null,null,null,null,null,null,null,null,null,null,null,null,null,null,null,null,null,null,null,null,null,null,null,null,null,null,null,null,null,null,null,null,null,null,null,null,null,null,null,null,null,null,null,null,null,null,null,null,null,null,null,null,null,null,null,null,null,null,null,null,null,null,null,null,null,null,null,null,null,null,null,null,null,null,null,null,null,null,null,null,null,null,null,null,null,null,null,null,null,null,null,null,null,null,null,null,null,null,null,null,null,null,null,null,null,null,null,null,null,null,null,null,null,null,null,null,null,null,null,null,null,null,null,null,null,null,null,null,null,null,null,null,null,null,null,null,null,null,null,null,null,null,null,null,null,null,null,null,null,null,null,null,null,null,null,null,null,null,null,null,null,null,null,null,null,null,null,null,null,null,null,null,null,null,null,null,null,null,null,null,null,null,null,null,null,null,null,null,null,null,null,null,null,null,null,null,null,null,null,null,null,null,null,null,null,null,null,null,null,null,null,null,null,null,null,null,null,null,null,null,null,null,null,null,null,null,null,null,null,null,null,null,null,null,null,null,null,null,null,null,null,null,null,null,null,null,null,null,null,null,null,null,null,null,null,null,null,null,null,null,null,null,null,null,null,null,null,null,null,null,null,null,null,null,798]
[null,null,null,null,null,null,null,null,null,null,null,null,null,null,null,null,null,null,null,null,null,null,null,null,null,null,null,null,null,null,null,null,null,null,null,null,null,null,null,null,null,null,null,null,null,null,null,null,null,null,null,null,null,null,null,null,null,null,null,null,null,null,null,null,null,null,null,null,null,null,null,null,null,null,null,null,null,null,null,null,null,null,null,null,null,null,null,null,null,null,null,null,null,null,null,null,null,null,null,null,null,null,null,null,null,null,null,null,null,null,null,null,null,null,null,null,null,null,null,null,null,null,null,null,null,null,null,null,null,null,null,null,null,null,null,null,null,null,null,null,null,null,null,null,null,null,null,null,null,null,null,null,null,null,null,null,null,null,null,null,null,null,null,null,null,null,null,null,null,null,null,null,null,null,null,null,null,null,null,null,null,null,null,null,null,null,null,null,null,null,null,null,null,null,null,null,null,null,null,null,null,null,null,null,null,null,null,null,null,null,null,null,null,null,null,null,null,null,null,null,null,null,null,null,null,null,null,null,null,null,null,null,null,null,null,null,null,null,null,null,null,null,null,null,null,null,null,null,null,null,null,null,null,null,null,null,null,null,null,null,null,null,null,null,null,null,null,null,null,null,null,null,null,null,null,null,null,null,null,null,null,null,null,null,null,null,null,null,null,null,null,null,null,null,null,null,null,null,null,null,null,null,null,null,null,null,null,null,null,null,null,null,null,null,null,null,null,null,null,null,null,null,null,null,null,null,null,null,null,null,null,null,null,null,null,null,null,null,null,null,null,null,null,null,null,null,null,null,null,null,null,null,null,null,null,null,null,null,null,null,null,null,null,null,null,null,null,null,null,null,null,null,null,null,null,null,null,null,null,null,null,null,null,null,null,null,null,null,null,null,null,null,null,null,null,null,null,null,null,null,null,null,null,null,null,null,null,null,null,null,null,null,null,null,null,null,null,null,null,null,null,null,null,null,null,null,null,null,null,null,null,null,null,null,null,null,null,null,null,null,null,null,null,null,null,null,null,null,null,null,null,null,null,null,null,null,null,null,null,null,null,null,null,null,null,null,null,null,null,null,null,null,null,null,null,null,null,null,null,null,null,null,null,null,null,null,null,null,null,null,null,null,null,null,null,null,null,null,null,null,null,null,null,null,null,null,null,null,null,null,null,null,null,null,null,null,null,null,null,null,null,null,null,null,null,null,null,null,null,null,null,null,null,null,null,null,null,null,null,null,null,null,null,null,null,null,null,null,null,null,null,null,null,null,null,null,null,null,null,null,null,null,null,null,null,null,null,null,null,null,null,null,null,null,null,null,null,null,null,null,null,null,null,null,null,null,null,null,null,null,null,null,null,null,null,null,null,null,null,null,null,null,null,null,null,null,null,null,null,null,null,null,null,null,null,null,null,null,null,null,null,null,null,null,null,null,null,null,null,null,null,null,null,null,null,null,null,null,null,null,null,null,null,null,null,null,null,null,null,null,null,null,null,null,null,null,null,null,null,null,null,null,null,null,null,null,null,null,null,null,null,null,null,null,null,null,null,null,null,null,null,null,null,null,null,null,null,null,null,null,null,null,null,null,null,null,null,null,null,null,null,null,null,null,null,null,null,null,null,null,null,null,null,null,null,null,null,null,null,null,null,null,null,null,null,null,null,null,null,null,null,null,null,null,null,null,null,null,null,null,null,null,null,null,null,null,null,null,null,null,null,null,null,null,null,null,null,null,null,null,null,null,null,null,null,null,null,null,null,null,null,null,null,null,null,null,null,null,null,null,null,null,null,null,null,null,null,null,null,null,null,null,null,null,null,null,null,null,null,null,null,null,null,null,null,null,null,null,null,null,null,null,null,null,null,null,null,null,null,null,null,null,null,null,null,null,null,null,null,null,null,null,null,null,null,null,null,null,null,null,null,null,null,null,null,null,null,null,null,null,null,null,null,null,null,null,null,null,null,null,null,null,null,null,null,null,null,null,null,null,null,null,null,null,null,null,null,null,null,null,null,null,null,null,null,null,null,null,null,null,null,null,null,null,null,null,null,null,null,null,null,null,null,null,null,null,null,null,null,null,null,null,null,null,null,null,null,null,null,null,null,null,null,null,null,null,null,null,null,null,null,null,null,null,null,null,null,null,null,null,null,null,null,null,null,null,null,null,null,null,null,null,null,null,null,null,null,null,null,null,null,null,null,null,null,null,null,null,null,null,null,null,null,null,null,null,null,null,null,null,null,null,null,null,null,null,null,null,null,null,null,null,null,null,null,null,null,null,null,null,null,null,null,null,null,null,null,null,null,null,null,null,null,null,null,null,null,null,null,null,null,null,null,null,null,null,null,null,null,null,null,null,null,null,null,null,null,null,null,null,null,null,null,null,null,null,null,null,null,null,null,null,null,null,null,null,null,null,null,null,null,null,null,null,null,null,null,null,null,null,null,null,null,null,null,null,null,null,null,null,null,null,null,null,null,null,null,null,null,null,null,null,null,null,null,null,null,null,null,null,null,null,null,null,null,null,null,null,null,null,null,null,null,null,null,null,null,null,null,null,null,null,null,null,null,null,null,null,null,null,null,null,null,null,null,null,null,null,null,null,null,null,null,null,null,null,null,null,null,null,null,null,null,null,null,null,null,null,null,null,null,null,null,null,null,null,null,null,null,null,null,null,null,null,null,null,null,null,null,null,null,null,null,null,null,null,null,null,null,null,null,null,null,null,null,null,null,null,null,null,null,null,null,null,null,null,null,null,null,null,null,null,null,null,null,null,null,null,null,null,null,null,null,null,null,null,null,null,null,null,null,null,null,null,null,null,null,null,null,null,null,null,null,null,null,null,null,null,null,null,null,null,null,null,null,null,null,null,null,null,null,null,null,null,null,null,null,null,null,null,null,null,null,null,null,null,null,null,null,null,null,null,null,null,null,null,null,null,null,null,null,null,null,null,null,null,null,null,null,null,null,null,null,null,null,null,null,null,null,null,null,null,null,null,null,null,null,null,null,null,null,null,null,null,null,null,null,null,null,null,null,null,null,null,null,null,null,null,null,null,null,null,null,null,null,null,null,null,null,null,null,null,null,null,null,null,null,null,null,null,null,null,null,null,null,null,null,null,null,null,null,null,null,null,null,null,null,null,null,null,null,null,null,null,null,null,null,null,null,null,null,null,null,null,null,null,null,null,null,null,null,null,null,null,null,null,null,null,null,null,null,null,null,null,null,null,null,null,null,null,null,null,null,null,null,null,null,null,null,null,null,null,null,null,null,null,null,null,null,null,null,null,null,null,null,null,null,null,null,null,null,null,null,null,null,null,null,null,null,null,null,null,null,null,null,null,null,null,null,null,null,null,null,null,null,null,null,null,null,null,null,null,null,null,null,null,null,null,null,null,null,null,null,null,null,null,null,null,null,null,null,null,null,null,null,null,null,null,null,null,null,null,null,null,null,null,null,null,null,null,null,null,null,null,null,null,null,null,null,null,null,null,null,null,null,null,null,null,null,null,null,null,null,null,null,null,null,null,null,null,null,null,null,null,null,null,null,null,null,null,null,null,null,null,null,null,null,null,null,null,null,null,null,null,null,null,null,null,null,null,null,null,null,null,null,null,null,null,null,null,null,null,null,null,null,null,null,null,null,null,null,null,null,null,null,null,null,null,null,null,null,null,null,null,null,null,null,null,null,null,null,null,null,null,null,null,null,null,null,null,null,null,null,null,null,null,null,null,null,null,null,null,null,null,null,null,null,null,null,null,null,null,null,null,null,null,null,null,null,null,null,null,null,null,null,null,null,null,null,null,null,null,null,null,null,null,null,null,null,null,null,null,null,null,null,null,null,null,null,null,null,null,null,null,null,null,null,null,null,null,null,null,null,null,null,null,null,null,null,null,null,null,null,null,null,null,null,null,null,null,null,null,null,null,null,null,null,null,null,null,null,null,null,null,null,null,null,null,null,null,null,null,null,null,null,null,null,null,null,null,null,null,null,null,null,null,null,null,null,null,null,null,null,null,null,null,null,null,null,null,null,null,null,null,null,null,null,null,null,null,null,null,null,null,null,null,null,null,null,null,null,null,null,null,null,null,null,null,null,null,null,null,null,null,null,null,null,null,null,null,null,null,null,null,null,null,null,null,null,null,null,null,null,null,null,null,null,null,null,null,null,null,null,null,null,null,null,null,null,null,null,null,null,null,null,null,null,null,null,null,null,null,null,null,null,null,null,null,null,null,null,null,null,null,null,null,null,null,null,null,null,null,null,null,null,null,null,null,null,null,null,null,null,null,null,null,null,null,null,null,null,null,null,null,null,null,null,null,null,null,null,null,null,null,null,null,null,null,null,null,null,null,null,null,null,null,null,null,null,null,null,null,null,null,null,null,null,null,null,null,null,null,null,null,null,null,null,null,null,null,null,null,null,null,null,null,null,null,null,null,null,null,null,null,null,null,null,null,null,null,null,null,null,null,null,null,null,null,null,null,null,null,null,null,null,null,null,null,null,null,null,null,null,null,null,null,null,null,null,null,null,null,null,null,null,null,null,null,null,null,null,null,null,null,null,null,null,null,null,null,799]
[null,null,null,null,null,null,null,null,null,null,null,null,null,null,null,null,null,null,null,null,null,null,null,null,null,null,null,null,null,null,null,null,null,null,null,null,null,null,null,null,null,null,null,null,null,null,null,null,null,null,null,null,null,null,null,null,null,null,null,null,null,null,null,null,null,null,null,null,null,null,null,null,null,null,null,null,null,null,null,null,null,null,null,null,null,null,null,null,null,null,null,null,null,null,null,null,null,null,null,null,null,null,null,null,null,null,null,null,null,null,null,null,null,null,null,null,null,null,null,null,null,null,null,null,null,null,null,null,null,null,null,null,null,null,null,null,null,null,null,null,null,null,null,null,null,null,null,null,null,null,null,null,null,null,null,null,null,null,null,null,null,null,null,null,null,null,null,null,null,null,null,null,null,null,null,null,null,null,null,null,null,null,null,null,null,null,null,null,null,null,null,null,null,null,null,null,null,null,null,null,null,null,null,null,null,null,null,null,null,null,null,null,null,null,null,null,null,null,null,null,null,null,null,null,null,null,null,null,null,null,null,null,null,null,null,null,null,null,null,null,null,null,null,null,null,null,null,null,null,null,null,null,null,null,null,null,null,null,null,null,null,null,null,null,null,null,null,null,null,null,null,null,null,null,null,null,null,null,null,null,null,null,null,null,null,null,null,null,null,null,null,null,null,null,null,null,null,null,null,null,null,null,null,null,null,null,null,null,null,null,null,null,null,null,null,null,null,null,null,null,null,null,null,null,null,null,null,null,null,null,null,null,null,null,null,null,null,null,null,null,null,null,null,null,null,null,null,null,null,null,null,null,null,null,null,null,null,null,null,null,null,null,null,null,null,null,null,null,null,null,null,null,null,null,null,null,null,null,null,null,null,null,null,null,null,null,null,null,null,null,null,null,null,null,null,null,null,null,null,null,null,null,null,null,null,null,null,null,null,null,null,null,null,null,null,null,null,null,null,null,null,null,null,null,null,null,null,null,null,null,null,null,null,null,null,null,null,null,null,null,null,null,null,null,null,null,null,null,null,null,null,null,null,null,null,null,null,null,null,null,null,null,null,null,null,null,null,null,null,null,null,null,null,null,null,null,null,null,null,null,null,null,null,null,null,null,null,null,null,null,null,null,null,null,null,null,null,null,null,null,null,null,null,null,null,null,null,null,null,null,null,null,null,null,null,null,null,null,null,null,null,null,null,null,null,null,null,null,null,null,null,null,null,null,null,null,null,null,null,null,null,null,null,null,null,null,null,null,null,null,null,null,null,null,null,null,null,null,null,null,null,null,null,null,null,null,null,null,null,null,null,null,null,null,null,null,null,null,null,null,null,null,null,null,null,null,null,null,null,null,null,null,null,null,null,null,null,null,null,null,null,null,null,null,null,null,null,null,null,null,null,null,null,null,null,null,null,null,null,null,null,null,null,null,null,null,null,null,null,null,null,null,null,null,null,null,null,null,null,null,null,null,null,null,null,null,null,null,null,null,null,null,null,null,null,null,null,null,null,null,null,null,null,null,null,null,null,null,null,null,null,null,null,null,null,null,null,null,null,null,null,null,null,null,null,null,null,null,null,null,null,null,null,null,null,null,null,null,null,null,null,null,null,null,null,null,null,null,null,null,null,null,null,null,null,null,null,null,null,null,null,null,null,null,null,null,null,null,null,null,null,null,null,null,null,null,null,null,null,null,null,null,null,null,null,null,null,null,null,null,null,null,null,null,null,null,null,null,null,null,null,null,null,null,null,null,null,null,null,null,null,null,null,null,null,null,null,null,null,null,null,null,null,null,null,null,null,null,null,null,null,null,null,null,null,null,null,null,null,null,null,null,null,null,null,null,null,null,null,null,null,null,null,null,null,null,null,null,null,null,null,null,null,null,null,null,null,null,null,null,null,null,null,null,null,null,null,null,null,null,null,null,null,null,null,null,null,null,null,null,null,null,null,null,null,null,null,null,null,null,null,null,null,null,null,null,null,null,null,null,null,null,null,null,null,null,null,null,null,null,null,null,null,null,null,null,null,null,null,null,null,null,null,null,null,null,null,null,null,null,null,null,null,null,null,null,null,null,null,null,null,null,null,null,null,null,null,null,null,null,null,null,null,null,null,null,null,null,null,null,null,null,null,null,null,null,null,null,null,null,null,null,null,null,null,null,null,null,null,null,null,null,null,null,null,null,null,null,null,null,null,null,null,null,null,null,null,null,null,null,null,null,null,null,null,null,null,null,null,null,null,null,null,null,null,null,null,null,null,null,null,null,null,null,null,null,null,null,null,null,null,null,null,null,null,null,null,null,null,null,null,null,null,null,null,null,null,null,null,null,null,null,null,null,null,null,null,null,null,null,null,null,null,null,null,null,null,null,null,null,null,null,null,null,null,null,null,null,null,null,null,null,null,null,null,null,null,null,null,null,null,null,null,null,null,null,null,null,null,null,null,null,null,null,null,null,null,null,null,null,null,null,null,null,null,null,null,null,null,null,null,null,null,null,null,null,null,null,null,null,null,null,null,null,null,null,null,null,null,null,null,null,null,null,null,null,null,null,null,null,null,null,null,null,null,null,null,null,null,null,null,null,null,null,null,null,null,null,null,null,null,null,null,null,null,null,null,null,null,null,null,null,null,null,null,null,null,null,null,null,null,null,null,null,null,null,null,null,null,null,null,null,null,null,null,null,null,null,null,null,null,null,null,null,null,null,null,null,null,null,null,null,null,null,null,null,null,null,null,null,null,null,null,null,null,null,null,null,null,null,null,null,null,null,null,null,null,null,null,null,null,null,null,null,null,null,null,null,null,null,null,null,null,null,null,null,null,null,null,null,null,null,null,null,null,null,null,null,null,null,null,null,null,null,null,null,null,null,null,null,null,null,null,null,null,null,null,null,null,null,null,null,null,null,null,null,null,null,null,null,null,null,null,null,null,null,null,null,null,null,null,null,null,null,null,null,null,null,null,null,null,null,null,null,null,null,null,null,null,null,null,null,null,null,null,null,null,null,null,null,null,null,null,null,null,null,null,null,null,null,null,null,null,null,null,null,null,null,null,null,null,null,null,null,null,null,null,null,null,null,null,null,null,null,null,null,null,null,null,null,null,null,null,null,null,null,null,null,null,null,null,null,null,null,null,null,null,null,null,null,null,null,null,null,null,null,null,null,null,null,null,null,null,null,null,null,null,null,null,null,null,null,null,null,null,null,null,null,null,null,null,null,null,null,null,null,null,null,null,null,null,null,null,null,null,null,null,null,null,null,null,null,null,null,null,null,null,null,null,null,null,null,null,null,null,null,null,null,null,null,null,null,null,null,null,null,null,null,null,null,null,null,null,null,null,null,null,null,null,null,null,null,null,null,null,null,null,null,null,null,null,null,null,null,null,null,null,null,null,null,null,null,null,null,null,null,null,null,null,null,null,null,null,null,null,null,null,null,null,null,null,null,null,null,null,null,null,null,null,null,null,null,null,null,null,null,null,null,null,null,null,null,null,null,null,null,null,null,null,null,null,null,null,null,null,null,null,null,null,null,null,null,null,null,null,null,null,null,null,null,null,null,null,null,null,null,null,null,null,null,null,null,null,null,null,null,null,null,null,null,null,null,null,null,null,null,null,null,null,null,null,null,null,null,null,null,null,null,null,null,null,null,null,null,null,null,null,null,null,null,null,null,null,null,null,null,null,null,null,null,null,null,null,null,null,null,null,null,null,null,null,null,null,null,null,null,null,null,null,null,null,null,null,null,null,null,null,null,null,null,null,null,null,null,null,null,null,null,null,null,null,null,null,null,null,null,null,null,null,null,null,null,null,null,null,null,null,null,null,null,null,null,null,null,null,null,null,null,null,null,null,null,null,null,null,null,null,null,null,null,null,null,null,null,null,null,null,null,null,null,null,null,null,null,null,null,null,null,null,null,null,null,null,null,null,null,null,null,null,null,null,null,null,null,null,null,null,null,null,null,null,null,null,null,null,null,null,null,null,null,null,null,null,null,null,null,null,null,null,null,null,null,null,null,null,null,null,null,null,null,null,null,null,null,null,null,null,null,null,null,null,null,null,null,null,null,null,null,null,null,null,null,null,null,null,null,null,null,null,null,null,null,null,null,null,null,null,null,null,null,null,null,null,null,null,null,null,null,null,null,null,null,null,null,null,null,null,null,null,null,null,null,null,null,null,null,null,null,null,null,null,null,null,null,null,null,null,null,null,null,null,null,null,null,null,null,null,null,null,null,null,null,null,null,null,null,null,null,null,null,null,null,null,null,null,null,null,null,null,null,null,null,null,null,null,null,null,null,null,null,null,null,null,null,null,null,null,null,null,null,null,null,null,null,null,null,null,null,null,null,null,null,null,null,null,null,null,null,null,null,null,null,null,null,null,null,null,null,null,null,null,null,null,null,null,null,null,null,null,null,null,null,null,null,null,null,null,null,null,null,null,null,null,null,null,null,null,null,null,null,null,null,null,null,null,null,null,null,null,null,null,null,null,null,null,null,null,null,null,null,null,null,null,null,null,null,null,null,null,null,null,null,null,null,null,null,null,null,null,null,null,null,null,null,null,null,null,null,null,null,800]

{"sheet":".","index":3,"n_rows":1402,"n_cols":159,"rows_kept":1402,"cut":false,"hidden":true,"merged":[[1213,156,1213,158],[1312,156,1312,158],[1314,156,1314,158],[1315,156,1315,158],[1009,156,1009,158],[1108,156,1108,158],[1110,156,1110,158],[1111,156,1111,158],[1210,156,1210,158],[1212,156,1212,158],[805,156,805,158],[904,156,904,158],[906,156,906,158],[907,156,907,158],[1006,156,1006,158],[1008,156,1008,158],[601,156,601,158],[700,156,700,158],[702,156,702,158],[703,156,703,158],[802,156,802,158],[804,156,804,158],[499,156,499,158],[598,156,598,158],[600,156,600,158],[77,90,77,94],[77,100,77,104],[77,110,77,114],[77,120,77,124],[394,156,394,158],[396,156,396,158],[364,120,364,124],[366,120,366,124],[368,120,368,124],[369,120,369,124],[370,120,370,124],[371,120,371,124],[372,120,372,124],[373,120,373,124],[374,120,374,124],[375,120,375,124],[376,120,376,124],[377,120,377,124],[366,90,366,94],[366,100,366,104],[366,110,366,114],[77,30,77,34],[77,40,77,44],[77,50,77,54],[77,60,77,64],[77,70,77,74],[77,80,77,84],[397,156,397,158],[496,156,496,158],[498,156,498,158],[364,30,364,34],[364,40,364,44],[364,50,364,54],[364,60,364,64],[364,70,364,74],[364,80,364,84],[364,90,364,94],[364,100,364,104],[364,110,364,114],[366,30,366,34],[366,40,366,44],[366,50,366,54],[366,60,366,64],[366,70,366,74],[366,80,366,84],[75,120,75,124],[76,30,76,34],[76,40,76,44],[76,50,76,54],[76,60,76,64],[76,70,76,74],[76,80,76,84],[76,90,76,94],[76,100,76,104],[76,110,76,114],[76,120,76,124],[75,30,75,34],[75,40,75,44],[75,50,75,54],[75,60,75,64],[75,70,75,74],[75,80,75,84],[75,90,75,94],[75,100,75,104],[75,110,75,114],[73,120,73,124],[74,30,74,34],[74,40,74,44],[74,50,74,54],[74,60,74,64],[74,70,74,74],[74,80,74,84],[74,90,74,94],[74,100,74,104],[74,110,74,114],[74,120,74,124],[73,30,73,34],[73,40,73,44],[73,50,73,54],[73,60,73,64],[73,70,73,74],[73,80,73,84],[73,90,73,94],[73,100,73,104],[73,110,73,114],[71,120,71,124],[72,30,72,34],[72,40,72,44],[72,50,72,54],[72,60,72,64],[72,70,72,74],[72,80,72,84],[72,90,72,94],[72,100,72,104],[72,110,72,114],[72,120,72,124],[71,30,71,34],[71,40,71,44],[71,50,71,54],[71,60,71,64],[71,70,71,74],[71,80,71,84],[71,90,71,94],[71,100,71,104],[71,110,71,114],[69,120,69,124],[70,30,70,34],[70,40,70,44],[70,50,70,54],[70,60,70,64],[70,70,70,74],[70,80,70,84],[70,90,70,94],[70,100,70,104],[70,110,70,114],[70,120,70,124],[69,30,69,34],[69,40,69,44],[69,50,69,54],[69,60,69,64],[69,70,69,74],[69,80,69,84],[69,90,69,94],[69,100,69,104],[69,110,69,114],[67,120,67,124],[68,30,68,34],[68,40,68,44],[68,50,68,54],[68,60,68,64],[68,70,68,74],[68,80,68,84],[68,90,68,94],[68,100,68,104],[68,110,68,114],[68,120,68,124],[67,30,67,34],[67,40,67,44],[67,50,67,54],[67,60,67,64],[67,70,67,74],[67,80,67,84],[67,90,67,94],[67,100,67,104],[67,110,67,114],[65,120,65,124],[66,30,66,34],[66,40,66,44],[66,50,66,54],[66,60,66,64],[66,70,66,74],[66,80,66,84],[66,90,66,94],[66,100,66,104],[66,110,66,114],[66,120,66,124],[65,30,65,34],[65,40,65,44],[65,50,65,54],[65,60,65,64],[65,70,65,74],[65,80,65,84],[65,90,65,94],[65,100,65,104],[65,110,65,114],[63,120,63,124],[64,30,64,34],[64,40,64,44],[64,50,64,54],[64,60,64,64],[64,70,64,74],[64,80,64,84],[64,90,64,94],[64,100,64,104],[64,110,64,114],[64,120,64,124],[63,30,63,34],[63,40,63,44],[63,50,63,54],[63,60,63,64],[63,70,63,74],[63,80,63,84],[63,90,63,94],[63,100,63,104],[63,110,63,114],[59,90,59,94],[59,100,59,104],[59,110,59,114],[59,120,59,124],[61,30,61,34],[61,40,61,44],[61,50,61,54],[61,60,61,64],[61,70,61,74],[61,80,61,84],[59,30,59,34],[59,40,59,44],[59,50,59,54],[59,60,59,64],[59,70,59,74],[59,80,59,84],[61,90,61,94],[61,100,61,104],[61,110,61,114],[61,120,61,124],[368,30,368,34],[368,40,368,44],[368,50,368,54],[368,60,368,64],[368,70,368,74],[368,80,368,84],[368,90,368,94],[368,100,368,104],[368,110,368,114],[369,30,369,34],[369,40,369,44],[369,50,369,54],[369,60,369,64],[369,70,369,74],[369,80,369,84],[369,90,369,94],[369,100,369,104],[369,110,369,114],[370,30,370,34],[370,40,370,44],[370,50,370,54],[370,60,370,64],[370,70,370,74],[370,80,370,84],[370,90,370,94],[370,100,370,104],[370,110,370,114],[371,30,371,34],[371,40,371,44],[371,50,371,54],[371,60,371,64],[371,70,371,74],[371,80,371,84],[371,90,371,94],[371,100,371,104],[371,110,371,114],[372,30,372,34],[372,40,372,44],[372,50,372,54],[372,60,372,64],[372,70,372,74],[372,80,372,84],[372,90,372,94],[372,100,372,104],[372,110,372,114],[373,30,373,34],[373,40,373,44],[373,50,373,54],[373,60,373,64],[373,70,373,74],[373,80,373,84],[373,90,373,94],[373,100,373,104],[373,110,373,114],[374,30,374,34],[374,40,374,44],[374,50,374,54],[374,60,374,64],[374,70,374,74],[374,80,374,84],[374,90,374,94],[374,100,374,104],[374,110,374,114],[375,30,375,34],[375,40,375,44],[375,50,375,54],[375,60,375,64],[375,70,375,74],[375,80,375,84],[375,90,375,94],[375,100,375,104],[375,110,375,114],[376,30,376,34],[376,40,376,44],[376,50,376,54],[376,60,376,64],[376,70,376,74],[376,80,376,84],[376,90,376,94],[376,100,376,104],[376,110,376,114],[377,30,377,34],[377,40,377,44],[377,50,377,54],[377,60,377,64],[377,70,377,74],[377,80,377,84],[377,90,377,94],[377,100,377,104],[377,110,377,114],[378,120,378,124],[379,30,379,34],[379,40,379,44],[379,50,379,54],[379,60,379,64],[379,70,379,74],[379,80,379,84],[379,90,379,94],[379,100,379,104],[379,110,379,114],[379,120,379,124],[378,30,378,34],[378,40,378,44],[378,50,378,54],[378,60,378,64],[378,70,378,74],[378,80,378,84],[378,90,378,94],[378,100,378,104],[378,110,378,114],[380,120,380,124],[381,30,381,34],[381,40,381,44],[381,50,381,54],[381,60,381,64],[381,70,381,74],[381,80,381,84],[381,90,381,94],[381,100,381,104],[381,110,381,114],[381,120,381,124],[380,30,380,34],[380,40,380,44],[380,50,380,54],[380,60,380,64],[380,70,380,74],[380,80,380,84],[380,90,380,94],[380,100,380,104],[380,110,380,114],[382,120,382,124],[382,30,382,34],[382,40,382,44],[382,50,382,54],[382,60,382,64],[382,70,382,74],[382,80,382,84],[382,90,382,94],[382,100,382,104],[382,110,382,114],[2,58,2,63],[2,68,2,73],[2,78,2,83],[2,88,2,93],[2,98,2,103],[2,108,2,113],[2,118,2,123],[2,28,2,33],[2,38,2,43],[2,48,2,53]]}
[]
[]
[null,null,null,null,null,null,null,null,null,null,null,null,null,null,null,null,null,null,null,null,null,null,null,null,null,null,null,null,{"$f":"+I!B2","v":0},null,null,null,null,null,null,null,null,null,{"$f":"+II!$B$2","v":0},null,null,null,null,null,null,null,null,null,{"$f":"+III!B2","v":0},null,null,null,null,null,null,null,null,null,{"$f":"+IV!B2","v":0},null,null,null,null,null,null,null,null,null,{"$f":"+V!B2","v":0},null,null,null,null,null,null,null,null,null,{"$f":"+VI!B2","v":0},null,null,null,null,null,null,null,null,null,{"$f":"+VII!B2","v":0},null,null,null,null,null,null,null,null,null,{"$f":"+VIII!B2","v":0},null,null,null,null,null,null,null,null,null,{"$f":"+IX!B2","v":0},null,null,null,null,null,null,null,null,null,{"$f":"+X!B2","v":0},null,null,null,null,null,null,null,null,null,null,{"$f":"+Detail!$B$2","v":"Indicators & Scores"}]
[]
[]
[]
[]
[]
[]
[]
[]
[]
[]
[]
[]
[]
[]
[]
[]
[]
[]
[]
[]
[]
[]
[]
[]
[]
[]
[]
[]
[]
[]
[]
[]
[]
[]
[]
[]
[]
[]
[]
[]
[]
[]
[]
[]
[]
[]
[]
[]
[]
[]
[]
[]
[]
[]
[]
[]
[]
[]
[]
[]
[]
[]
[]
[]
[]
[]
[null,null,null,null,null,null,null,null,null,null,null,null,null,null,null,null,null,null,null,null,null,null,null,null,null,null,null,null,null,null,null,null,null,null,null,null,null,null,null,null,null,null,null,null,null,null,null,null,null,null,null,null,null,null,null,null,null,null,null,null,null,null,null,null,null,null,null,null,null,null,null,null,null,null,null,null,null,null,null,null,null,null,null,null,null,null,null,null,null,null,null,null,null,null,null,null,null,null,null,null,null,null,null,null,null,null,null,null,null,null,null,null,null,null,null,null,null,null,null,null,null,null,null,null,null,null,null,null,null,{"$f":"+DZ3","v":"Indicators & Scores"}]
[]
[]
[]
[]
[]
[]
[]
[]
[]
[]
[]
[]
[]
[]
[]
[]
[]
[]
[]
[]
[]
[]
[]
[]
[]
[]
[]
[]
[]
[]
[]
[]
[]
[]
[]
[]
[]
[]
[]
[]
[]
[]
[]
[]
[]
[]
[]
[]
[]
[]
[]
[]
[]
[]
[]
[]
[]
[]
[]
[]
[]
[]
[]
[null,null,null,null,null,null,null,null,null,null,null,null,null,null,null,null,null,null,null,null,null,null,null,null,null,null,null,null,null,null,null,null,null,null,null,null,null,null,null,null,null,null,null,null,null,null,null,null,null,null,null,null,null,null,null,null,null,null,null,null,null,null,null,null,null,null,null,null,null,null,null,null,null,null,null,null,null,null,null,null,null,null,null,null,null,null,null,null,null,null,null,null,null,null,null,null,null,null,null,null,null,null,null,null,null,null,null,null,null,null,null,null,null,null,null,null,null,null,null,null,null,null,null,null,null,null,null,null,null,{"$f":"+DZ70","v":"Indicators & Scores"}]
[]
[]
[]
[]
[]
[]
[]
[]
[]
[]
[]
[]
[]
[]
[]
[]
[]
[]
[]
[]
[]
[]
[]
[]
[]
[]
[]
[]
[]
[]
[]
[]
[]
[]
[]
[]
[]
[]
[]
[]
[]
[]
[]
[]
[]
[]
[]
[]
[]
[]
[]
[]
[]
[]
[]
[]
[]
[]
[]
[]
[]
[]
[]
[]
[]
[]
[]
[]
[]
[]
[]
[]
[]
[]
[]
[null,null,null,null,null,null,null,null,null,null,null,null,null,null,null,null,null,null,null,null,null,null,null,null,null,null,null,null,null,null,null,null,null,null,null,null,null,null,null,null,null,null,null,null,null,null,null,null,null,null,null,null,null,null,null,null,null,null,null,null,null,null,null,null,null,null,null,null,null,null,null,null,null,null,null,null,null,null,null,null,null,null,null,null,null,null,null,null,null,null,null,null,null,null,null,null,null,null,null,null,null,null,null,null,null,null,null,null,null,null,null,null,null,null,null,null,null,null,null,null,null,null,null,null,null,null,null,null,null,{"$f":"+DZ134","v":"Indicators & Scores"}]
[]
[]
[]
[]
[]
[]
[]
[]
[]
[]
[]
[]
[]
[]
[]
[]
[]
[]
[]
[]
[]
[]
[]
[]
[]
[]
[]
[]
[]
[]
[]
[]
[]
[]
[]
[]
[]
[]
[]
[]
[]
[]
[]
[]
[]
[]
[]
[]
[]
[]
[]
[]
[]
[]
[]
[]
[]
[]
[]
[]
[]
[]
[]
[]
[]
[]
[]
[]
[]
[]
[]
[]
[]
[]
[null,null,null,null,null,null,null,null,null,null,null,null,null,null,null,null,null,null,null,null,null,null,null,null,null,null,null,null,null,null,null,null,null,null,null,null,null,null,null,null,null,null,null,null,null,null,null,null,null,null,null,null,null,null,null,null,null,null,null,null,null,null,null,null,null,null,null,null,null,null,null,null,null,null,null,null,null,null,null,null,null,null,null,null,null,null,null,null,null,null,null,null,null,null,null,null,null,null,null,null,null,null,null,null,null,null,null,null,null,null,null,null,null,null,null,null,null,null,null,null,null,null,null,null,null,null,null,null,null,{"$f":"+DZ210","v":"Indicators & Scores"}]
[]
[]
[]
[]
[]
[]
[]
[]
[]
[]
[]
[]
[]
[]
[]
[]
[]
[]
[]
[]
[]
[]
[]
[]
[]
[]
[]
[]
[]
[]
[]
[]
[]
[]
[]
[]
[]
[]
[]
[]
[]
[]
[]
[]
[]
[]
[]
[]
[]
[]
[]
[]
[]
[]
[]
[]
[]
[]
[]
[]
[]
[]
[]
[]
[]
[]
[]
[]
[]
[]
[]
[]
[]
[]
[]
[]
[]
[]
[]
[null,null,null,null,null,null,null,null,null,null,null,null,null,null,null,null,null,null,null,null,null,null,null,null,null,null,null,null,{"$f":"+IF(I!B25=\" \",\" \",I!B25)","v":"Indicator"},{"$f":"+IF(I!C25=\" \",\" \",I!C25)","v":0},{"$f":"+IF(I!D25=\" \",\" \",I!D25)","v":"Description"},{"$f":"+IF(I!E25=\" \",\" \",I!E25)","v":0},{"$f":"+IF(I!F25=\" \",\" \",I!F25)","v":0},{"$f":"+IF(I!G25=\" \",\" \",I!G25)","v":0},{"$f":"+IF(I!H25=\" \",\" \",I!H25)","v":0},{"$f":"+IF(I!I25=\" \",\" \",I!I25)","v":0},{"$f":"+IF(I!J25=\" \",\" \",I!J25)","v":"Average"},null,{"$f":"+II!B25","v":"Indicator"},{"$f":"+II!C25","v":0},{"$f":"+II!D25","v":"Description"},{"$f":"+II!E25","v":0},{"$f":"+II!F25","v":0},{"$f":"+II!G25","v":0},{"$f":"+II!H25","v":0},{"$f":"+II!I25","v":0},{"$f":"+II!J25","v":"Average"},null,{"$f":"+III!B25","v":"Indicator"},{"$f":"+III!C25","v":0},{"$f":"+III!D25","v":"Description"},{"$f":"+III!E25","v":0},{"$f":"+III!F25","v":0},{"$f":"+III!G25","v":0},{"$f":"+III!H25","v":0},{"$f":"+III!I25","v":0},{"$f":"+III!J25","v":"Average"},null,{"$f":"+IV!B25","v":"Indicator"},{"$f":"+IV!C25","v":0},{"$f":"+IV!D25","v":"Description"},{"$f":"+IV!E25","v":0},{"$f":"+IV!F25","v":0},{"$f":"+IV!G25","v":0},{"$f":"+IV!H25","v":0},{"$f":"+IV!I25","v":0},{"$f":"+IV!J25","v":"Average"},null,{"$f":"+V!B25","v":"Indicator"},{"$f":"+V!C25","v":0},{"$f":"+V!D25","v":"Description"},{"$f":"+V!E25","v":0},{"$f":"+V!F25","v":0},{"$f":"+V!G25","v":0},{"$f":"+V!H25","v":0},{"$f":"+V!I25","v":0},{"$f":"+V!J25","v":"Average"},null,{"$f":"+VI!B25","v":"Indicator"},{"$f":"+VI!C25","v":0},{"$f":"+VI!D25","v":"Description"},{"$f":"+VI!E25","v":0},{"$f":"+VI!F25","v":0},{"$f":"+VI!G25","v":0},{"$f":"+VI!H25","v":0},{"$f":"+VI!I25","v":0},{"$f":"+VI!J25","v":"Average"},null,{"$f":"+VII!B25","v":"Indicator"},{"$f":"+VII!C25","v":0},{"$f":"+VII!D25","v":"Description"},{"$f":"+VII!E25","v":0},{"$f":"+VII!F25","v":0},{"$f":"+VII!G25","v":0},{"$f":"+VII!H25","v":0},{"$f":"+VII!I25","v":0},{"$f":"+VII!J25","v":"Average"},null,{"$f":"+VIII!B25","v":"Indicator"},{"$f":"+VIII!C25","v":0},{"$f":"+VIII!D25","v":"Description"},{"$f":"+VIII!E25","v":0},{"$f":"+VIII!F25","v":0},{"$f":"+VIII!G25","v":0},{"$f":"+VIII!H25","v":0},{"$f":"+VIII!I25","v":0},{"$f":"+VIII!J25","v":"Average"},null,{"$f":"+IX!B25","v":"Indicator"},{"$f":"+IX!C25","v":0},{"$f":"+IX!D25","v":"Description"},{"$f":"+IX!E25","v":0},{"$f":"+IX!F25","v":0},{"$f":"+IX!G25","v":0},{"$f":"+IX!H25","v":0},{"$f":"+IX!I25","v":0},{"$f":"+IX!J25","v":"Average"},null,{"$f":"+X!B25","v":"Indicator"},{"$f":"+X!C25","v":0},{"$f":"+X!D25","v":"Description"},{"$f":"+X!E25","v":0},{"$f":"+X!F25","v":0},{"$f":"+X!G25","v":0},{"$f":"+X!H25","v":0},{"$f":"+X!I25","v":0},{"$f":"+X!J25","v":"Average"}]
[]
[null,null,null,null,null,null,null,null,null,null,null,null,null,null,null,null,null,null,null,null,null,null,null,null,null,null,null,null,null,{"$f":"+IF(I!C27=\" \",\" \",I!C27)","v":0},{"$f":"+IF(I!D27=\" \",\" \",I!D27)","v":"Maximum Value ==>"},{"$f":"+IF(I!E27=\" \",\" \",I!E27)","v":0},{"$f":"+IF(I!F27=\" \",\" \",I!F27)","v":0},{"$f":"+IF(I!G27=\" \",\" \",I!G27)","v":0},{"$f":"+IF(I!H27=\" \",\" \",I!H27)","v":0},{"$f":"+IF(I!I27=\" \",\" \",I!I27)","v":0},{"$f":"+IF(I!J27=\" \",\" \",I!J27)","v":4},null,null,{"$f":"+II!C27","v":0},{"$f":"+II!D27","v":"Maximum Value ==>"},{"$f":"+II!E27","v":0},{"$f":"+II!F27","v":0},{"$f":"+II!G27","v":0},{"$f":"+II!H27","v":0},{"$f":"+II!I27","v":0},{"$f":"+II!J27","v":4},null,null,{"$f":"+III!C27","v":0},{"$f":"+III!D27","v":"Maximum Value ==>"},{"$f":"+III!E27","v":0},{"$f":"+III!F27","v":0},{"$f":"+III!G27","v":0},{"$f":"+III!H27","v":0},{"$f":"+III!I27","v":0},{"$f":"+III!J27","v":4},null,null,{"$f":"+IV!C27","v":0},{"$f":"+IV!D27","v":"Maximum Value ==>"},{"$f":"+IV!E27","v":0},{"$f":"+IV!F27","v":0},{"$f":"+IV!G27","v":0},{"$f":"+IV!H27","v":0},{"$f":"+IV!I27","v":0},{"$f":"+IV!J27","v":4},null,null,{"$f":"+V!C27","v":0},{"$f":"+V!D27","v":"Maximum Value ==>"},{"$f":"+V!E27","v":0},{"$f":"+V!F27","v":0},{"$f":"+V!G27","v":0},{"$f":"+V!H27","v":0},{"$f":"+V!I27","v":0},{"$f":"+V!J27","v":4},null,null,{"$f":"+VI!C27","v":0},{"$f":"+VI!D27","v":"Maximum Value ==>"},{"$f":"+VI!E27","v":0},{"$f":"+VI!F27","v":0},{"$f":"+VI!G27","v":0},{"$f":"+VI!H27","v":0},{"$f":"+VI!I27","v":0},{"$f":"+VI!J27","v":4},null,null,{"$f":"+VII!C27","v":0},{"$f":"+VII!D27","v":"Maximum Value ==>"},{"$f":"+VII!E27","v":0},{"$f":"+VII!F27","v":0},{"$f":"+VII!G27","v":0},{"$f":"+VII!H27","v":0},{"$f":"+VII!I27","v":0},{"$f":"+VII!J27","v":4},null,null,{"$f":"+VIII!C27","v":0},{"$f":"+VIII!D27","v":"Maximum Value ==>"},{"$f":"+VIII!E27","v":0},{"$f":"+VIII!F27","v":0},{"$f":"+VIII!G27","v":0},{"$f":"+VIII!H27","v":0},{"$f":"+VIII!I27","v":0},{"$f":"+VIII!J27","v":4},null,null,{"$f":"+IX!C27","v":0},{"$f":"+IX!D27","v":"Maximum Value ==>"},{"$f":"+IX!E27","v":0},{"$f":"+IX!F27","v":0},{"$f":"+IX!G27","v":0},{"$f":"+IX!H27","v":0},{"$f":"+IX!I27","v":0},{"$f":"+IX!J27","v":4},null,null,{"$f":"+X!C27","v":0},{"$f":"+X!D27","v":"Maximum Value ==>"},{"$f":"+X!E27","v":0},{"$f":"+X!F27","v":0},{"$f":"+X!G27","v":0},{"$f":"+X!H27","v":0},{"$f":"+X!I27","v":0},{"$f":"+X!J27","v":4}]
[]
[null,null,null,null,null,null,null,null,null,null,null,null,null,null,null,null,null,null,null,null,null,null,null,null,null,null,null,null,{"$f":"+IF(I!B29=\" \",\" \",I!B29)","v":" "},{"$f":"+IF(I!C29=\" \",\" \",I!C29)","v":0},{"$f":"+IF(I!D29=\" \",\" \",I!D29)","v":" "},{"$f":"+IF(I!E29=\" \",\" \",I!E29)","v":0},{"$f":"+IF(I!F29=\" \",\" \",I!F29)","v":0},{"$f":"+IF(I!G29=\" \",\" \",I!G29)","v":0},{"$f":"+IF(I!H29=\" \",\" \",I!H29)","v":0},{"$f":"+IF(I!I29=\" \",\" \",I!I29)","v":0},{"$f":"+IF(I!J29=\" \",\" \",I!J29)","v":" "},null,{"$f":"+II!B29","v":" "},{"$f":"+II!C29","v":0},{"$f":"+II!D29","v":" "},{"$f":"+II!E29","v":0},{"$f":"+II!F29","v":0},{"$f":"+II!G29","v":0},{"$f":"+II!H29","v":0},{"$f":"+II!I29","v":0},{"$f":"+II!J29","v":" "},null,{"$f":"+III!B29","v":" "},{"$f":"+III!C29","v":0},{"$f":"+III!D29","v":" "},{"$f":"+III!E29","v":0},{"$f":"+III!F29","v":0},{"$f":"+III!G29","v":0},{"$f":"+III!H29","v":0},{"$f":"+III!I29","v":0},{"$f":"+III!J29","v":" "},null,{"$f":"+IV!B29","v":" "},{"$f":"+IV!C29","v":0},{"$f":"+IV!D29","v":" "},{"$f":"+IV!E29","v":0},{"$f":"+IV!F29","v":0},{"$f":"+IV!G29","v":0},{"$f":"+IV!H29","v":0},{"$f":"+IV!I29","v":0},{"$f":"+IV!J29","v":" "},null,{"$f":"+V!B29","v":" "},{"$f":"+V!C29","v":0},{"$f":"+V!D29","v":" "},{"$f":"+V!E29","v":0},{"$f":"+V!F29","v":0},{"$f":"+V!G29","v":0},{"$f":"+V!H29","v":0},{"$f":"+V!I29","v":0},{"$f":"+V!J29","v":" "},null,{"$f":"+VI!B29","v":" "},{"$f":"+VI!C29","v":0},{"$f":"+VI!D29","v":" "},{"$f":"+VI!E29","v":0},{"$f":"+VI!F29","v":0},{"$f":"+VI!G29","v":0},{"$f":"+VI!H29","v":0},{"$f":"+VI!I29","v":0},{"$f":"+VI!J29","v":" "},null,{"$f":"+VII!B29","v":" "},{"$f":"+VII!C29","v":0},{"$f":"+VII!D29","v":" "},{"$f":"+VII!E29","v":0},{"$f":"+VII!F29","v":0},{"$f":"+VII!G29","v":0},{"$f":"+VII!H29","v":0},{"$f":"+VII!I29","v":0},{"$f":"+VII!J29","v":" "},null,{"$f":"+VIII!B29","v":" "},{"$f":"+VIII!C29","v":0},{"$f":"+VIII!D29","v":" "},{"$f":"+VIII!E29","v":0},{"$f":"+VIII!F29","v":0},{"$f":"+VIII!G29","v":0},{"$f":"+VIII!H29","v":0},{"$f":"+VIII!I29","v":0},{"$f":"+VIII!J29","v":" "},null,{"$f":"+IX!B29","v":" "},{"$f":"+IX!C29","v":0},{"$f":"+IX!D29","v":" "},{"$f":"+IX!E29","v":0},{"$f":"+IX!F29","v":0},{"$f":"+IX!G29","v":0},{"$f":"+IX!H29","v":0},{"$f":"+IX!I29","v":0},{"$f":"+IX!J29","v":" "},null,{"$f":"+X!B29","v":" "},{"$f":"+X!C29","v":0},{"$f":"+X!D29","v":" "},{"$f":"+X!E29","v":0},{"$f":"+X!F29","v":0},{"$f":"+X!G29","v":0},{"$f":"+X!H29","v":0},{"$f":"+X!I29","v":0},{"$f":"+X!J29","v":" "}]
[null,null,null,null,null,null,null,null,null,null,null,null,null,null,null,null,null,null,null,null,null,null,null,null,null,null,null,null,{"$f":"+IF(I!B30=\" \",\" \",I!B30)","v":" "},{"$f":"+IF(I!C30=\" \",\" \",I!C30)","v":0},{"$f":"+IF(I!D30=\" \",\" \",I!D30)","v":" "},{"$f":"+IF(I!E30=\" \",\" \",I!E30)","v":0},{"$f":"+IF(I!F30=\" \",\" \",I!F30)","v":0},{"$f":"+IF(I!G30=\" \",\" \",I!G30)","v":0},{"$f":"+IF(I!H30=\" \",\" \",I!H30)","v":0},{"$f":"+IF(I!I30=\" \",\" \",I!I30)","v":0},{"$f":"+IF(I!J30=\" \",\" \",I!J30)","v":" "},null,{"$f":"+II!B30","v":" "},{"$f":"+II!C30","v":0},{"$f":"+II!D30","v":" "},{"$f":"+II!E30","v":0},{"$f":"+II!F30","v":0},{"$f":"+II!G30","v":0},{"$f":"+II!H30","v":0},{"$f":"+II!I30","v":0},{"$f":"+II!J30","v":" "},null,{"$f":"+III!B30","v":" "},{"$f":"+III!C30","v":0},{"$f":"+III!D30","v":" "},{"$f":"+III!E30","v":0},{"$f":"+III!F30","v":0},{"$f":"+III!G30","v":0},{"$f":"+III!H30","v":0},{"$f":"+III!I30","v":0},{"$f":"+III!J30","v":" "},null,{"$f":"+IV!B30","v":" "},{"$f":"+IV!C30","v":0},{"$f":"+IV!D30","v":" "},{"$f":"+IV!E30","v":0},{"$f":"+IV!F30","v":0},{"$f":"+IV!G30","v":0},{"$f":"+IV!H30","v":0},{"$f":"+IV!I30","v":0},{"$f":"+IV!J30","v":" "},null,{"$f":"+V!B30","v":" "},{"$f":"+V!C30","v":0},{"$f":"+V!D30","v":" "},{"$f":"+V!E30","v":0},{"$f":"+V!F30","v":0},{"$f":"+V!G30","v":0},{"$f":"+V!H30","v":0},{"$f":"+V!I30","v":0},{"$f":"+V!J30","v":" "},null,{"$f":"+VI!B30","v":" "},{"$f":"+VI!C30","v":0},{"$f":"+VI!D30","v":" "},{"$f":"+VI!E30","v":0},{"$f":"+VI!F30","v":0},{"$f":"+VI!G30","v":0},{"$f":"+VI!H30","v":0},{"$f":"+VI!I30","v":0},{"$f":"+VI!J30","v":" "},null,{"$f":"+VII!B30","v":" "},{"$f":"+VII!C30","v":0},{"$f":"+VII!D30","v":" "},{"$f":"+VII!E30","v":0},{"$f":"+VII!F30","v":0},{"$f":"+VII!G30","v":0},{"$f":"+VII!H30","v":0},{"$f":"+VII!I30","v":0},{"$f":"+VII!J30","v":" "},null,{"$f":"+VIII!B30","v":" "},{"$f":"+VIII!C30","v":0},{"$f":"+VIII!D30","v":" "},{"$f":"+VIII!E30","v":0},{"$f":"+VIII!F30","v":0},{"$f":"+VIII!G30","v":0},{"$f":"+VIII!H30","v":0},{"$f":"+VIII!I30","v":0},{"$f":"+VIII!J30","v":" "},null,{"$f":"+IX!B30","v":" "},{"$f":"+IX!C30","v":0},{"$f":"+IX!D30","v":" "},{"$f":"+IX!E30","v":0},{"$f":"+IX!F30","v":0},{"$f":"+IX!G30","v":0},{"$f":"+IX!H30","v":0},{"$f":"+IX!I30","v":0},{"$f":"+IX!J30","v":" "},null,{"$f":"+X!B30","v":" "},{"$f":"+X!C30","v":0},{"$f":"+X!D30","v":" "},{"$f":"+X!E30","v":0},{"$f":"+X!F30","v":0},{"$f":"+X!G30","v":0},{"$f":"+X!H30","v":0},{"$f":"+X!I30","v":0},{"$f":"+X!J30","v":" "}]
[null,null,null,null,null,null,null,null,null,null,null,null,null,null,null,null,null,null,null,null,null,null,null,null,null,null,null,null,{"$f":"+IF(I!B31=\" \",\" \",I!B31)","v":" "},{"$f":"+IF(I!C31=\" \",\" \",I!C31)","v":0},{"$f":"+IF(I!D31=\" \",\" \",I!D31)","v":" "},{"$f":"+IF(I!E31=\" \",\" \",I!E31)","v":0},{"$f":"+IF(I!F31=\" \",\" \",I!F31)","v":0},{"$f":"+IF(I!G31=\" \",\" \",I!G31)","v":0},{"$f":"+IF(I!H31=\" \",\" \",I!H31)","v":0},{"$f":"+IF(I!I31=\" \",\" \",I!I31)","v":0},{"$f":"+IF(I!J31=\" \",\" \",I!J31)","v":" "},null,{"$f":"+II!B31","v":" "},{"$f":"+II!C31","v":0},{"$f":"+II!D31","v":" "},{"$f":"+II!E31","v":0},{"$f":"+II!F31","v":0},{"$f":"+II!G31","v":0},{"$f":"+II!H31","v":0},{"$f":"+II!I31","v":0},{"$f":"+II!J31","v":" "},null,{"$f":"+III!B31","v":" "},{"$f":"+III!C31","v":0},{"$f":"+III!D31","v":" "},{"$f":"+III!E31","v":0},{"$f":"+III!F31","v":0},{"$f":"+III!G31","v":0},{"$f":"+III!H31","v":0},{"$f":"+III!I31","v":0},{"$f":"+III!J31","v":" "},null,{"$f":"+IV!B31","v":" "},{"$f":"+IV!C31","v":0},{"$f":"+IV!D31","v":" "},{"$f":"+IV!E31","v":0},{"$f":"+IV!F31","v":0},{"$f":"+IV!G31","v":0},{"$f":"+IV!H31","v":0},{"$f":"+IV!I31","v":0},{"$f":"+IV!J31","v":" "},null,{"$f":"+V!B31","v":" "},{"$f":"+V!C31","v":0},{"$f":"+V!D31","v":" "},{"$f":"+V!E31","v":0},{"$f":"+V!F31","v":0},{"$f":"+V!G31","v":0},{"$f":"+V!H31","v":0},{"$f":"+V!I31","v":0},{"$f":"+V!J31","v":" "},null,{"$f":"+VI!B31","v":" "},{"$f":"+VI!C31","v":0},{"$f":"+VI!D31","v":" "},{"$f":"+VI!E31","v":0},{"$f":"+VI!F31","v":0},{"$f":"+VI!G31","v":0},{"$f":"+VI!H31","v":0},{"$f":"+VI!I31","v":0},{"$f":"+VI!J31","v":" "},null,{"$f":"+VII!B31","v":" "},{"$f":"+VII!C31","v":0},{"$f":"+VII!D31","v":" "},{"$f":"+VII!E31","v":0},{"$f":"+VII!F31","v":0},{"$f":"+VII!G31","v":0},{"$f":"+VII!H31","v":0},{"$f":"+VII!I31","v":0},{"$f":"+VII!J31","v":" "},null,{"$f":"+VIII!B31","v":" "},{"$f":"+VIII!C31","v":0},{"$f":"+VIII!D31","v":" "},{"$f":"+VIII!E31","v":0},{"$f":"+VIII!F31","v":0},{"$f":"+VIII!G31","v":0},{"$f":"+VIII!H31","v":0},{"$f":"+VIII!I31","v":0},{"$f":"+VIII!J31","v":" "},null,{"$f":"+IX!B31","v":" "},{"$f":"+IX!C31","v":0},{"$f":"+IX!D31","v":" "},{"$f":"+IX!E31","v":0},{"$f":"+IX!F31","v":0},{"$f":"+IX!G31","v":0},{"$f":"+IX!H31","v":0},{"$f":"+IX!I31","v":0},{"$f":"+IX!J31","v":" "},null,{"$f":"+X!B31","v":" "},{"$f":"+X!C31","v":0},{"$f":"+X!D31","v":" "},{"$f":"+X!E31","v":0},{"$f":"+X!F31","v":0},{"$f":"+X!G31","v":0},{"$f":"+X!H31","v":0},{"$f":"+X!I31","v":0},{"$f":"+X!J31","v":" "}]
[null,null,null,null,null,null,null,null,null,null,null,null,null,null,null,null,null,null,null,null,null,null,null,null,null,null,null,null,{"$f":"+IF(I!B32=\" \",\" \",I!B32)","v":" "},{"$f":"+IF(I!C32=\" \",\" \",I!C32)","v":0},{"$f":"+IF(I!D32=\" \",\" \",I!D32)","v":" "},{"$f":"+IF(I!E32=\" \",\" \",I!E32)","v":0},{"$f":"+IF(I!F32=\" \",\" \",I!F32)","v":0},{"$f":"+IF(I!G32=\" \",\" \",I!G32)","v":0},{"$f":"+IF(I!H32=\" \",\" \",I!H32)","v":0},{"$f":"+IF(I!I32=\" \",\" \",I!I32)","v":0},{"$f":"+IF(I!J32=\" \",\" \",I!J32)","v":" "},null,{"$f":"+II!B32","v":" "},{"$f":"+II!C32","v":0},{"$f":"+II!D32","v":" "},{"$f":"+II!E32","v":0},{"$f":"+II!F32","v":0},{"$f":"+II!G32","v":0},{"$f":"+II!H32","v":0},{"$f":"+II!I32","v":0},{"$f":"+II!J32","v":" "},null,{"$f":"+III!B32","v":" "},{"$f":"+III!C32","v":0},{"$f":"+III!D32","v":" "},{"$f":"+III!E32","v":0},{"$f":"+III!F32","v":0},{"$f":"+III!G32","v":0},{"$f":"+III!H32","v":0},{"$f":"+III!I32","v":0},{"$f":"+III!J32","v":" "},null,{"$f":"+IV!B32","v":" "},{"$f":"+IV!C32","v":0},{"$f":"+IV!D32","v":" "},{"$f":"+IV!E32","v":0},{"$f":"+IV!F32","v":0},{"$f":"+IV!G32","v":0},{"$f":"+IV!H32","v":0},{"$f":"+IV!I32","v":0},{"$f":"+IV!J32","v":" "},null,{"$f":"+V!B32","v":" "},{"$f":"+V!C32","v":0},{"$f":"+V!D32","v":" "},{"$f":"+V!E32","v":0},{"$f":"+V!F32","v":0},{"$f":"+V!G32","v":0},{"$f":"+V!H32","v":0},{"$f":"+V!I32","v":0},{"$f":"+V!J32","v":" "},null,{"$f":"+VI!B32","v":" "},{"$f":"+VI!C32","v":0},{"$f":"+VI!D32","v":" "},{"$f":"+VI!E32","v":0},{"$f":"+VI!F32","v":0},{"$f":"+VI!G32","v":0},{"$f":"+VI!H32","v":0},{"$f":"+VI!I32","v":0},{"$f":"+VI!J32","v":" "},null,{"$f":"+VII!B32","v":" "},{"$f":"+VII!C32","v":0},{"$f":"+VII!D32","v":" "},{"$f":"+VII!E32","v":0},{"$f":"+VII!F32","v":0},{"$f":"+VII!G32","v":0},{"$f":"+VII!H32","v":0},{"$f":"+VII!I32","v":0},{"$f":"+VII!J32","v":" "},null,{"$f":"+VIII!B32","v":" "},{"$f":"+VIII!C32","v":0},{"$f":"+VIII!D32","v":" "},{"$f":"+VIII!E32","v":0},{"$f":"+VIII!F32","v":0},{"$f":"+VIII!G32","v":0},{"$f":"+VIII!H32","v":0},{"$f":"+VIII!I32","v":0},{"$f":"+VIII!J32","v":" "},null,{"$f":"+IX!B32","v":" "},{"$f":"+IX!C32","v":0},{"$f":"+IX!D32","v":" "},{"$f":"+IX!E32","v":0},{"$f":"+IX!F32","v":0},{"$f":"+IX!G32","v":0},{"$f":"+IX!H32","v":0},{"$f":"+IX!I32","v":0},{"$f":"+IX!J32","v":" "},null,{"$f":"+X!B32","v":" "},{"$f":"+X!C32","v":0},{"$f":"+X!D32","v":" "},{"$f":"+X!E32","v":0},{"$f":"+X!F32","v":0},{"$f":"+X!G32","v":0},{"$f":"+X!H32","v":0},{"$f":"+X!I32","v":0},{"$f":"+X!J32","v":" "}]
[null,null,null,null,null,null,null,null,null,null,null,null,null,null,null,null,null,null,null,null,null,null,null,null,null,null,null,null,{"$f":"+IF(I!B33=\" \",\" \",I!B33)","v":" "},{"$f":"+IF(I!C33=\" \",\" \",I!C33)","v":0},{"$f":"+IF(I!D33=\" \",\" \",I!D33)","v":" "},{"$f":"+IF(I!E33=\" \",\" \",I!E33)","v":0},{"$f":"+IF(I!F33=\" \",\" \",I!F33)","v":0},{"$f":"+IF(I!G33=\" \",\" \",I!G33)","v":0},{"$f":"+IF(I!H33=\" \",\" \",I!H33)","v":0},{"$f":"+IF(I!I33=\" \",\" \",I!I33)","v":0},{"$f":"+IF(I!J33=\" \",\" \",I!J33)","v":" "},null,{"$f":"+II!B33","v":" "},{"$f":"+II!C33","v":0},{"$f":"+II!D33","v":" "},{"$f":"+II!E33","v":0},{"$f":"+II!F33","v":0},{"$f":"+II!G33","v":0},{"$f":"+II!H33","v":0},{"$f":"+II!I33","v":0},{"$f":"+II!J33","v":" "},null,{"$f":"+III!B33","v":" "},{"$f":"+III!C33","v":0},{"$f":"+III!D33","v":" "},{"$f":"+III!E33","v":0},{"$f":"+III!F33","v":0},{"$f":"+III!G33","v":0},{"$f":"+III!H33","v":0},{"$f":"+III!I33","v":0},{"$f":"+III!J33","v":" "},null,{"$f":"+IV!B33","v":" "},{"$f":"+IV!C33","v":0},{"$f":"+IV!D33","v":" "},{"$f":"+IV!E33","v":0},{"$f":"+IV!F33","v":0},{"$f":"+IV!G33","v":0},{"$f":"+IV!H33","v":0},{"$f":"+IV!I33","v":0},{"$f":"+IV!J33","v":" "},null,{"$f":"+V!B33","v":" "},{"$f":"+V!C33","v":0},{"$f":"+V!D33","v":" "},{"$f":"+V!E33","v":0},{"$f":"+V!F33","v":0},{"$f":"+V!G33","v":0},{"$f":"+V!H33","v":0},{"$f":"+V!I33","v":0},{"$f":"+V!J33","v":" "},null,{"$f":"+VI!B33","v":" "},{"$f":"+VI!C33","v":0},{"$f":"+VI!D33","v":" "},{"$f":"+VI!E33","v":0},{"$f":"+VI!F33","v":0},{"$f":"+VI!G33","v":0},{"$f":"+VI!H33","v":0},{"$f":"+VI!I33","v":0},{"$f":"+VI!J33","v":" "},null,{"$f":"+VII!B33","v":" "},{"$f":"+VII!C33","v":0},{"$f":"+VII!D33","v":" "},{"$f":"+VII!E33","v":0},{"$f":"+VII!F33","v":0},{"$f":"+VII!G33","v":0},{"$f":"+VII!H33","v":0},{"$f":"+VII!I33","v":0},{"$f":"+VII!J33","v":" "},null,{"$f":"+VIII!B33","v":" "},{"$f":"+VIII!C33","v":0},{"$f":"+VIII!D33","v":" "},{"$f":"+VIII!E33","v":0},{"$f":"+VIII!F33","v":0},{"$f":"+VIII!G33","v":0},{"$f":"+VIII!H33","v":0},{"$f":"+VIII!I33","v":0},{"$f":"+VIII!J33","v":" "},null,{"$f":"+IX!B33","v":" "},{"$f":"+IX!C33","v":0},{"$f":"+IX!D33","v":" "},{"$f":"+IX!E33","v":0},{"$f":"+IX!F33","v":0},{"$f":"+IX!G33","v":0},{"$f":"+IX!H33","v":0},{"$f":"+IX!I33","v":0},{"$f":"+IX!J33","v":" "},null,{"$f":"+X!B33","v":" "},{"$f":"+X!C33","v":0},{"$f":"+X!D33","v":" "},{"$f":"+X!E33","v":0},{"$f":"+X!F33","v":0},{"$f":"+X!G33","v":0},{"$f":"+X!H33","v":0},{"$f":"+X!I33","v":0},{"$f":"+X!J33","v":" "}]
[null,null,null,null,null,null,null,null,null,null,null,null,null,null,null,null,null,null,null,null,null,null,null,null,null,null,null,null,{"$f":"+IF(I!B34=\" \",\" \",I!B34)","v":" "},{"$f":"+IF(I!C34=\" \",\" \",I!C34)","v":0},{"$f":"+IF(I!D34=\" \",\" \",I!D34)","v":" "},{"$f":"+IF(I!E34=\" \",\" \",I!E34)","v":0},{"$f":"+IF(I!F34=\" \",\" \",I!F34)","v":0},{"$f":"+IF(I!G34=\" \",\" \",I!G34)","v":0},{"$f":"+IF(I!H34=\" \",\" \",I!H34)","v":0},{"$f":"+IF(I!I34=\" \",\" \",I!I34)","v":0},{"$f":"+IF(I!J34=\" \",\" \",I!J34)","v":" "},null,{"$f":"+II!B34","v":" "},{"$f":"+II!C34","v":0},{"$f":"+II!D34","v":" "},{"$f":"+II!E34","v":0},{"$f":"+II!F34","v":0},{"$f":"+II!G34","v":0},{"$f":"+II!H34","v":0},{"$f":"+II!I34","v":0},{"$f":"+II!J34","v":" "},null,{"$f":"+III!B34","v":" "},{"$f":"+III!C34","v":0},{"$f":"+III!D34","v":" "},{"$f":"+III!E34","v":0},{"$f":"+III!F34","v":0},{"$f":"+III!G34","v":0},{"$f":"+III!H34","v":0},{"$f":"+III!I34","v":0},{"$f":"+III!J34","v":" "},null,{"$f":"+IV!B34","v":" "},{"$f":"+IV!C34","v":0},{"$f":"+IV!D34","v":" "},{"$f":"+IV!E34","v":0},{"$f":"+IV!F34","v":0},{"$f":"+IV!G34","v":0},{"$f":"+IV!H34","v":0},{"$f":"+IV!I34","v":0},{"$f":"+IV!J34","v":" "},null,{"$f":"+V!B34","v":" "},{"$f":"+V!C34","v":0},{"$f":"+V!D34","v":" "},{"$f":"+V!E34","v":0},{"$f":"+V!F34","v":0},{"$f":"+V!G34","v":0},{"$f":"+V!H34","v":0},{"$f":"+V!I34","v":0},{"$f":"+V!J34","v":" "},null,{"$f":"+VI!B34","v":" "},{"$f":"+VI!C34","v":0},{"$f":"+VI!D34","v":" "},{"$f":"+VI!E34","v":0},{"$f":"+VI!F34","v":0},{"$f":"+VI!G34","v":0},{"$f":"+VI!H34","v":0},{"$f":"+VI!I34","v":0},{"$f":"+VI!J34","v":" "},null,{"$f":"+VII!B34","v":" "},{"$f":"+VII!C34","v":0},{"$f":"+VII!D34","v":" "},{"$f":"+VII!E34","v":0},{"$f":"+VII!F34","v":0},{"$f":"+VII!G34","v":0},{"$f":"+VII!H34","v":0},{"$f":"+VII!I34","v":0},{"$f":"+VII!J34","v":" "},null,{"$f":"+VIII!B34","v":" "},{"$f":"+VIII!C34","v":0},{"$f":"+VIII!D34","v":" "},{"$f":"+VIII!E34","v":0},{"$f":"+VIII!F34","v":0},{"$f":"+VIII!G34","v":0},{"$f":"+VIII!H34","v":0},{"$f":"+VIII!I34","v":0},{"$f":"+VIII!J34","v":" "},null,{"$f":"+IX!B34","v":" "},{"$f":"+IX!C34","v":0},{"$f":"+IX!D34","v":" "},{"$f":"+IX!E34","v":0},{"$f":"+IX!F34","v":0},{"$f":"+IX!G34","v":0},{"$f":"+IX!H34","v":0},{"$f":"+IX!I34","v":0},{"$f":"+IX!J34","v":" "},null,{"$f":"+X!B34","v":" "},{"$f":"+X!C34","v":0},{"$f":"+X!D34","v":" "},{"$f":"+X!E34","v":0},{"$f":"+X!F34","v":0},{"$f":"+X!G34","v":0},{"$f":"+X!H34","v":0},{"$f":"+X!I34","v":0},{"$f":"+X!J34","v":" "}]
[null,null,null,null,null,null,null,null,null,null,null,null,null,null,null,null,null,null,null,null,null,null,null,null,null,null,null,null,{"$f":"+IF(I!B35=\" \",\" \",I!B35)","v":" "},{"$f":"+IF(I!C35=\" \",\" \",I!C35)","v":0},{"$f":"+IF(I!D35=\" \",\" \",I!D35)","v":" "},{"$f":"+IF(I!E35=\" \",\" \",I!E35)","v":0},{"$f":"+IF(I!F35=\" \",\" \",I!F35)","v":0},{"$f":"+IF(I!G35=\" \",\" \",I!G35)","v":0},{"$f":"+IF(I!H35=\" \",\" \",I!H35)","v":0},{"$f":"+IF(I!I35=\" \",\" \",I!I35)","v":0},{"$f":"+IF(I!J35=\" \",\" \",I!J35)","v":" "},null,{"$f":"+II!B35","v":" "},{"$f":"+II!C35","v":0},{"$f":"+II!D35","v":" "},{"$f":"+II!E35","v":0},{"$f":"+II!F35","v":0},{"$f":"+II!G35","v":0},{"$f":"+II!H35","v":0},{"$f":"+II!I35","v":0},{"$f":"+II!J35","v":" "},null,{"$f":"+III!B35","v":" "},{"$f":"+III!C35","v":0},{"$f":"+III!D35","v":" "},{"$f":"+III!E35","v":0},{"$f":"+III!F35","v":0},{"$f":"+III!G35","v":0},{"$f":"+III!H35","v":0},{"$f":"+III!I35","v":0},{"$f":"+III!J35","v":" "},null,{"$f":"+IV!B35","v":" "},{"$f":"+IV!C35","v":0},{"$f":"+IV!D35","v":" "},{"$f":"+IV!E35","v":0},{"$f":"+IV!F35","v":0},{"$f":"+IV!G35","v":0},{"$f":"+IV!H35","v":0},{"$f":"+IV!I35","v":0},{"$f":"+IV!J35","v":" "},null,{"$f":"+V!B35","v":" "},{"$f":"+V!C35","v":0},{"$f":"+V!D35","v":" "},{"$f":"+V!E35","v":0},{"$f":"+V!F35","v":0},{"$f":"+V!G35","v":0},{"$f":"+V!H35","v":0},{"$f":"+V!I35","v":0},{"$f":"+V!J35","v":" "},null,{"$f":"+VI!B35","v":" "},{"$f":"+VI!C35","v":0},{"$f":"+VI!D35","v":" "},{"$f":"+VI!E35","v":0},{"$f":"+VI!F35","v":0},{"$f":"+VI!G35","v":0},{"$f":"+VI!H35","v":0},{"$f":"+VI!I35","v":0},{"$f":"+VI!J35","v":" "},null,{"$f":"+VII!B35","v":" "},{"$f":"+VII!C35","v":0},{"$f":"+VII!D35","v":" "},{"$f":"+VII!E35","v":0},{"$f":"+VII!F35","v":0},{"$f":"+VII!G35","v":0},{"$f":"+VII!H35","v":0},{"$f":"+VII!I35","v":0},{"$f":"+VII!J35","v":" "},null,{"$f":"+VIII!B35","v":" "},{"$f":"+VIII!C35","v":0},{"$f":"+VIII!D35","v":" "},{"$f":"+VIII!E35","v":0},{"$f":"+VIII!F35","v":0},{"$f":"+VIII!G35","v":0},{"$f":"+VIII!H35","v":0},{"$f":"+VIII!I35","v":0},{"$f":"+VIII!J35","v":" "},null,{"$f":"+IX!B35","v":" "},{"$f":"+IX!C35","v":0},{"$f":"+IX!D35","v":" "},{"$f":"+IX!E35","v":0},{"$f":"+IX!F35","v":0},{"$f":"+IX!G35","v":0},{"$f":"+IX!H35","v":0},{"$f":"+IX!I35","v":0},{"$f":"+IX!J35","v":" "},null,{"$f":"+X!B35","v":" "},{"$f":"+X!C35","v":0},{"$f":"+X!D35","v":" "},{"$f":"+X!E35","v":0},{"$f":"+X!F35","v":0},{"$f":"+X!G35","v":0},{"$f":"+X!H35","v":0},{"$f":"+X!I35","v":0},{"$f":"+X!J35","v":" "}]
[null,null,null,null,null,null,null,null,null,null,null,null,null,null,null,null,null,null,null,null,null,null,null,null,null,null,null,null,{"$f":"+IF(I!B36=\" \",\" \",I!B36)","v":" "},{"$f":"+IF(I!C36=\" \",\" \",I!C36)","v":0},{"$f":"+IF(I!D36=\" \",\" \",I!D36)","v":" "},{"$f":"+IF(I!E36=\" \",\" \",I!E36)","v":0},{"$f":"+IF(I!F36=\" \",\" \",I!F36)","v":0},{"$f":"+IF(I!G36=\" \",\" \",I!G36)","v":0},{"$f":"+IF(I!H36=\" \",\" \",I!H36)","v":0},{"$f":"+IF(I!I36=\" \",\" \",I!I36)","v":0},{"$f":"+IF(I!J36=\" \",\" \",I!J36)","v":" "},null,{"$f":"+II!B36","v":" "},{"$f":"+II!C36","v":0},{"$f":"+II!D36","v":" "},{"$f":"+II!E36","v":0},{"$f":"+II!F36","v":0},{"$f":"+II!G36","v":0},{"$f":"+II!H36","v":0},{"$f":"+II!I36","v":0},{"$f":"+II!J36","v":" "},null,{"$f":"+III!B36","v":" "},{"$f":"+III!C36","v":0},{"$f":"+III!D36","v":" "},{"$f":"+III!E36","v":0},{"$f":"+III!F36","v":0},{"$f":"+III!G36","v":0},{"$f":"+III!H36","v":0},{"$f":"+III!I36","v":0},{"$f":"+III!J36","v":" "},null,{"$f":"+IV!B36","v":" "},{"$f":"+IV!C36","v":0},{"$f":"+IV!D36","v":" "},{"$f":"+IV!E36","v":0},{"$f":"+IV!F36","v":0},{"$f":"+IV!G36","v":0},{"$f":"+IV!H36","v":0},{"$f":"+IV!I36","v":0},{"$f":"+IV!J36","v":" "},null,{"$f":"+V!B36","v":" "},{"$f":"+V!C36","v":0},{"$f":"+V!D36","v":" "},{"$f":"+V!E36","v":0},{"$f":"+V!F36","v":0},{"$f":"+V!G36","v":0},{"$f":"+V!H36","v":0},{"$f":"+V!I36","v":0},{"$f":"+V!J36","v":" "},null,{"$f":"+VI!B36","v":" "},{"$f":"+VI!C36","v":0},{"$f":"+VI!D36","v":" "},{"$f":"+VI!E36","v":0},{"$f":"+VI!F36","v":0},{"$f":"+VI!G36","v":0},{"$f":"+VI!H36","v":0},{"$f":"+VI!I36","v":0},{"$f":"+VI!J36","v":" "},null,{"$f":"+VII!B36","v":" "},{"$f":"+VII!C36","v":0},{"$f":"+VII!D36","v":" "},{"$f":"+VII!E36","v":0},{"$f":"+VII!F36","v":0},{"$f":"+VII!G36","v":0},{"$f":"+VII!H36","v":0},{"$f":"+VII!I36","v":0},{"$f":"+VII!J36","v":" "},null,{"$f":"+VIII!B36","v":" "},{"$f":"+VIII!C36","v":0},{"$f":"+VIII!D36","v":" "},{"$f":"+VIII!E36","v":0},{"$f":"+VIII!F36","v":0},{"$f":"+VIII!G36","v":0},{"$f":"+VIII!H36","v":0},{"$f":"+VIII!I36","v":0},{"$f":"+VIII!J36","v":" "},null,{"$f":"+IX!B36","v":" "},{"$f":"+IX!C36","v":0},{"$f":"+IX!D36","v":" "},{"$f":"+IX!E36","v":0},{"$f":"+IX!F36","v":0},{"$f":"+IX!G36","v":0},{"$f":"+IX!H36","v":0},{"$f":"+IX!I36","v":0},{"$f":"+IX!J36","v":" "},null,{"$f":"+X!B36","v":" "},{"$f":"+X!C36","v":0},{"$f":"+X!D36","v":" "},{"$f":"+X!E36","v":0},{"$f":"+X!F36","v":0},{"$f":"+X!G36","v":0},{"$f":"+X!H36","v":0},{"$f":"+X!I36","v":0},{"$f":"+X!J36","v":" "}]
[null,null,null,null,null,null,null,null,null,null,null,null,null,null,null,null,null,null,null,null,null,null,null,null,null,null,null,null,{"$f":"+IF(I!B37=\" \",\" \",I!B37)","v":" "},{"$f":"+IF(I!C37=\" \",\" \",I!C37)","v":0},{"$f":"+IF(I!D37=\" \",\" \",I!D37)","v":" "},{"$f":"+IF(I!E37=\" \",\" \",I!E37)","v":0},{"$f":"+IF(I!F37=\" \",\" \",I!F37)","v":0},{"$f":"+IF(I!G37=\" \",\" \",I!G37)","v":0},{"$f":"+IF(I!H37=\" \",\" \",I!H37)","v":0},{"$f":"+IF(I!I37=\" \",\" \",I!I37)","v":0},{"$f":"+IF(I!J37=\" \",\" \",I!J37)","v":" "},null,{"$f":"+II!B37","v":" "},{"$f":"+II!C37","v":0},{"$f":"+II!D37","v":" "},{"$f":"+II!E37","v":0},{"$f":"+II!F37","v":0},{"$f":"+II!G37","v":0},{"$f":"+II!H37","v":0},{"$f":"+II!I37","v":0},{"$f":"+II!J37","v":" "},null,{"$f":"+III!B37","v":" "},{"$f":"+III!C37","v":0},{"$f":"+III!D37","v":" "},{"$f":"+III!E37","v":0},{"$f":"+III!F37","v":0},{"$f":"+III!G37","v":0},{"$f":"+III!H37","v":0},{"$f":"+III!I37","v":0},{"$f":"+III!J37","v":" "},null,{"$f":"+IV!B37","v":" "},{"$f":"+IV!C37","v":0},{"$f":"+IV!D37","v":" "},{"$f":"+IV!E37","v":0},{"$f":"+IV!F37","v":0},{"$f":"+IV!G37","v":0},{"$f":"+IV!H37","v":0},{"$f":"+IV!I37","v":0},{"$f":"+IV!J37","v":" "},null,{"$f":"+V!B37","v":" "},{"$f":"+V!C37","v":0},{"$f":"+V!D37","v":" "},{"$f":"+V!E37","v":0},{"$f":"+V!F37","v":0},{"$f":"+V!G37","v":0},{"$f":"+V!H37","v":0},{"$f":"+V!I37","v":0},{"$f":"+V!J37","v":" "},null,{"$f":"+VI!B37","v":" "},{"$f":"+VI!C37","v":0},{"$f":"+VI!D37","v":" "},{"$f":"+VI!E37","v":0},{"$f":"+VI!F37","v":0},{"$f":"+VI!G37","v":0},{"$f":"+VI!H37","v":0},{"$f":"+VI!I37","v":0},{"$f":"+VI!J37","v":" "},null,{"$f":"+VII!B37","v":" "},{"$f":"+VII!C37","v":0},{"$f":"+VII!D37","v":" "},{"$f":"+VII!E37","v":0},{"$f":"+VII!F37","v":0},{"$f":"+VII!G37","v":0},{"$f":"+VII!H37","v":0},{"$f":"+VII!I37","v":0},{"$f":"+VII!J37","v":" "},null,{"$f":"+VIII!B37","v":" "},{"$f":"+VIII!C37","v":0},{"$f":"+VIII!D37","v":" "},{"$f":"+VIII!E37","v":0},{"$f":"+VIII!F37","v":0},{"$f":"+VIII!G37","v":0},{"$f":"+VIII!H37","v":0},{"$f":"+VIII!I37","v":0},{"$f":"+VIII!J37","v":" "},null,{"$f":"+IX!B37","v":" "},{"$f":"+IX!C37","v":0},{"$f":"+IX!D37","v":" "},{"$f":"+IX!E37","v":0},{"$f":"+IX!F37","v":0},{"$f":"+IX!G37","v":0},{"$f":"+IX!H37","v":0},{"$f":"+IX!I37","v":0},{"$f":"+IX!J37","v":" "},null,{"$f":"+X!B37","v":" "},{"$f":"+X!C37","v":0},{"$f":"+X!D37","v":" "},{"$f":"+X!E37","v":0},{"$f":"+X!F37","v":0},{"$f":"+X!G37","v":0},{"$f":"+X!H37","v":0},{"$f":"+X!I37","v":0},{"$f":"+X!J37","v":" "}]
[null,null,null,null,null,null,null,null,null,null,null,null,null,null,null,null,null,null,null,null,null,null,null,null,null,null,null,null,{"$f":"+IF(I!B38=\" \",\" \",I!B38)","v":" "},{"$f":"+IF(I!C38=\" \",\" \",I!C38)","v":0},{"$f":"+IF(I!D38=\" \",\" \",I!D38)","v":" "},{"$f":"+IF(I!E38=\" \",\" \",I!E38)","v":0},{"$f":"+IF(I!F38=\" \",\" \",I!F38)","v":0},{"$f":"+IF(I!G38=\" \",\" \",I!G38)","v":0},{"$f":"+IF(I!H38=\" \",\" \",I!H38)","v":0},{"$f":"+IF(I!I38=\" \",\" \",I!I38)","v":0},{"$f":"+IF(I!J38=\" \",\" \",I!J38)","v":" "},null,{"$f":"+II!B38","v":" "},{"$f":"+II!C38","v":0},{"$f":"+II!D38","v":" "},{"$f":"+II!E38","v":0},{"$f":"+II!F38","v":0},{"$f":"+II!G38","v":0},{"$f":"+II!H38","v":0},{"$f":"+II!I38","v":0},{"$f":"+II!J38","v":" "},null,{"$f":"+III!B38","v":" "},{"$f":"+III!C38","v":0},{"$f":"+III!D38","v":" "},{"$f":"+III!E38","v":0},{"$f":"+III!F38","v":0},{"$f":"+III!G38","v":0},{"$f":"+III!H38","v":0},{"$f":"+III!I38","v":0},{"$f":"+III!J38","v":" "},null,{"$f":"+IV!B38","v":" "},{"$f":"+IV!C38","v":0},{"$f":"+IV!D38","v":" "},{"$f":"+IV!E38","v":0},{"$f":"+IV!F38","v":0},{"$f":"+IV!G38","v":0},{"$f":"+IV!H38","v":0},{"$f":"+IV!I38","v":0},{"$f":"+IV!J38","v":" "},null,{"$f":"+V!B38","v":" "},{"$f":"+V!C38","v":0},{"$f":"+V!D38","v":" "},{"$f":"+V!E38","v":0},{"$f":"+V!F38","v":0},{"$f":"+V!G38","v":0},{"$f":"+V!H38","v":0},{"$f":"+V!I38","v":0},{"$f":"+V!J38","v":" "},null,{"$f":"+VI!B38","v":" "},{"$f":"+VI!C38","v":0},{"$f":"+VI!D38","v":" "},{"$f":"+VI!E38","v":0},{"$f":"+VI!F38","v":0},{"$f":"+VI!G38","v":0},{"$f":"+VI!H38","v":0},{"$f":"+VI!I38","v":0},{"$f":"+VI!J38","v":" "},null,{"$f":"+VII!B38","v":" "},{"$f":"+VII!C38","v":0},{"$f":"+VII!D38","v":" "},{"$f":"+VII!E38","v":0},{"$f":"+VII!F38","v":0},{"$f":"+VII!G38","v":0},{"$f":"+VII!H38","v":0},{"$f":"+VII!I38","v":0},{"$f":"+VII!J38","v":" "},null,{"$f":"+VIII!B38","v":" "},{"$f":"+VIII!C38","v":0},{"$f":"+VIII!D38","v":" "},{"$f":"+VIII!E38","v":0},{"$f":"+VIII!F38","v":0},{"$f":"+VIII!G38","v":0},{"$f":"+VIII!H38","v":0},{"$f":"+VIII!I38","v":0},{"$f":"+VIII!J38","v":" "},null,{"$f":"+IX!B38","v":" "},{"$f":"+IX!C38","v":0},{"$f":"+IX!D38","v":" "},{"$f":"+IX!E38","v":0},{"$f":"+IX!F38","v":0},{"$f":"+IX!G38","v":0},{"$f":"+IX!H38","v":0},{"$f":"+IX!I38","v":0},{"$f":"+IX!J38","v":" "},null,{"$f":"+X!B38","v":" "},{"$f":"+X!C38","v":0},{"$f":"+X!D38","v":" "},{"$f":"+X!E38","v":0},{"$f":"+X!F38","v":0},{"$f":"+X!G38","v":0},{"$f":"+X!H38","v":0},{"$f":"+X!I38","v":0},{"$f":"+X!J38","v":" "}]
[null,null,null,null,null,null,null,null,null,null,null,null,null,null,null,null,null,null,null,null,null,null,null,null,null,null,null,null,{"$f":"+IF(I!B39=\" \",\" \",I!B39)","v":" "},{"$f":"+IF(I!C39=\" \",\" \",I!C39)","v":0},{"$f":"+IF(I!D39=\" \",\" \",I!D39)","v":" "},{"$f":"+IF(I!E39=\" \",\" \",I!E39)","v":0},{"$f":"+IF(I!F39=\" \",\" \",I!F39)","v":0},{"$f":"+IF(I!G39=\" \",\" \",I!G39)","v":0},{"$f":"+IF(I!H39=\" \",\" \",I!H39)","v":0},{"$f":"+IF(I!I39=\" \",\" \",I!I39)","v":0},{"$f":"+IF(I!J39=\" \",\" \",I!J39)","v":" "},null,{"$f":"+II!B39","v":" "},{"$f":"+II!C39","v":0},{"$f":"+II!D39","v":" "},{"$f":"+II!E39","v":0},{"$f":"+II!F39","v":0},{"$f":"+II!G39","v":0},{"$f":"+II!H39","v":0},{"$f":"+II!I39","v":0},{"$f":"+II!J39","v":" "},null,{"$f":"+III!B39","v":" "},{"$f":"+III!C39","v":0},{"$f":"+III!D39","v":" "},{"$f":"+III!E39","v":0},{"$f":"+III!F39","v":0},{"$f":"+III!G39","v":0},{"$f":"+III!H39","v":0},{"$f":"+III!I39","v":0},{"$f":"+III!J39","v":" "},null,{"$f":"+IV!B39","v":" "},{"$f":"+IV!C39","v":0},{"$f":"+IV!D39","v":" "},{"$f":"+IV!E39","v":0},{"$f":"+IV!F39","v":0},{"$f":"+IV!G39","v":0},{"$f":"+IV!H39","v":0},{"$f":"+IV!I39","v":0},{"$f":"+IV!J39","v":" "},null,{"$f":"+V!B39","v":" "},{"$f":"+V!C39","v":0},{"$f":"+V!D39","v":" "},{"$f":"+V!E39","v":0},{"$f":"+V!F39","v":0},{"$f":"+V!G39","v":0},{"$f":"+V!H39","v":0},{"$f":"+V!I39","v":0},{"$f":"+V!J39","v":" "},null,{"$f":"+VI!B39","v":" "},{"$f":"+VI!C39","v":0},{"$f":"+VI!D39","v":" "},{"$f":"+VI!E39","v":0},{"$f":"+VI!F39","v":0},{"$f":"+VI!G39","v":0},{"$f":"+VI!H39","v":0},{"$f":"+VI!I39","v":0},{"$f":"+VI!J39","v":" "},null,{"$f":"+VII!B39","v":" "},{"$f":"+VII!C39","v":0},{"$f":"+VII!D39","v":" "},{"$f":"+VII!E39","v":0},{"$f":"+VII!F39","v":0},{"$f":"+VII!G39","v":0},{"$f":"+VII!H39","v":0},{"$f":"+VII!I39","v":0},{"$f":"+VII!J39","v":" "},null,{"$f":"+VIII!B39","v":" "},{"$f":"+VIII!C39","v":0},{"$f":"+VIII!D39","v":" "},{"$f":"+VIII!E39","v":0},{"$f":"+VIII!F39","v":0},{"$f":"+VIII!G39","v":0},{"$f":"+VIII!H39","v":0},{"$f":"+VIII!I39","v":0},{"$f":"+VIII!J39","v":" "},null,{"$f":"+IX!B39","v":" "},{"$f":"+IX!C39","v":0},{"$f":"+IX!D39","v":" "},{"$f":"+IX!E39","v":0},{"$f":"+IX!F39","v":0},{"$f":"+IX!G39","v":0},{"$f":"+IX!H39","v":0},{"$f":"+IX!I39","v":0},{"$f":"+IX!J39","v":" "},null,{"$f":"+X!B39","v":" "},{"$f":"+X!C39","v":0},{"$f":"+X!D39","v":" "},{"$f":"+X!E39","v":0},{"$f":"+X!F39","v":0},{"$f":"+X!G39","v":0},{"$f":"+X!H39","v":0},{"$f":"+X!I39","v":0},{"$f":"+X!J39","v":" "}]
[null,null,null,null,null,null,null,null,null,null,null,null,null,null,null,null,null,null,null,null,null,null,null,null,null,null,null,null,{"$f":"+IF(I!B40=\" \",\" \",I!B40)","v":" "},{"$f":"+IF(I!C40=\" \",\" \",I!C40)","v":0},{"$f":"+IF(I!D40=\" \",\" \",I!D40)","v":" "},{"$f":"+IF(I!E40=\" \",\" \",I!E40)","v":0},{"$f":"+IF(I!F40=\" \",\" \",I!F40)","v":0},{"$f":"+IF(I!G40=\" \",\" \",I!G40)","v":0},{"$f":"+IF(I!H40=\" \",\" \",I!H40)","v":0},{"$f":"+IF(I!I40=\" \",\" \",I!I40)","v":0},{"$f":"+IF(I!J40=\" \",\" \",I!J40)","v":" "},null,{"$f":"+II!B40","v":" "},{"$f":"+II!C40","v":0},{"$f":"+II!D40","v":" "},{"$f":"+II!E40","v":0},{"$f":"+II!F40","v":0},{"$f":"+II!G40","v":0},{"$f":"+II!H40","v":0},{"$f":"+II!I40","v":0},{"$f":"+II!J40","v":" "},null,{"$f":"+III!B40","v":" "},{"$f":"+III!C40","v":0},{"$f":"+III!D40","v":" "},{"$f":"+III!E40","v":0},{"$f":"+III!F40","v":0},{"$f":"+III!G40","v":0},{"$f":"+III!H40","v":0},{"$f":"+III!I40","v":0},{"$f":"+III!J40","v":" "},null,{"$f":"+IV!B40","v":" "},{"$f":"+IV!C40","v":0},{"$f":"+IV!D40","v":" "},{"$f":"+IV!E40","v":0},{"$f":"+IV!F40","v":0},{"$f":"+IV!G40","v":0},{"$f":"+IV!H40","v":0},{"$f":"+IV!I40","v":0},{"$f":"+IV!J40","v":" "},null,{"$f":"+V!B40","v":" "},{"$f":"+V!C40","v":0},{"$f":"+V!D40","v":" "},{"$f":"+V!E40","v":0},{"$f":"+V!F40","v":0},{"$f":"+V!G40","v":0},{"$f":"+V!H40","v":0},{"$f":"+V!I40","v":0},{"$f":"+V!J40","v":" "},null,{"$f":"+VI!B40","v":" "},{"$f":"+VI!C40","v":0},{"$f":"+VI!D40","v":" "},{"$f":"+VI!E40","v":0},{"$f":"+VI!F40","v":0},{"$f":"+VI!G40","v":0},{"$f":"+VI!H40","v":0},{"$f":"+VI!I40","v":0},{"$f":"+VI!J40","v":" "},null,{"$f":"+VII!B40","v":" "},{"$f":"+VII!C40","v":0},{"$f":"+VII!D40","v":" "},{"$f":"+VII!E40","v":0},{"$f":"+VII!F40","v":0},{"$f":"+VII!G40","v":0},{"$f":"+VII!H40","v":0},{"$f":"+VII!I40","v":0},{"$f":"+VII!J40","v":" "},null,{"$f":"+VIII!B40","v":" "},{"$f":"+VIII!C40","v":0},{"$f":"+VIII!D40","v":" "},{"$f":"+VIII!E40","v":0},{"$f":"+VIII!F40","v":0},{"$f":"+VIII!G40","v":0},{"$f":"+VIII!H40","v":0},{"$f":"+VIII!I40","v":0},{"$f":"+VIII!J40","v":" "},null,{"$f":"+IX!B40","v":" "},{"$f":"+IX!C40","v":0},{"$f":"+IX!D40","v":" "},{"$f":"+IX!E40","v":0},{"$f":"+IX!F40","v":0},{"$f":"+IX!G40","v":0},{"$f":"+IX!H40","v":0},{"$f":"+IX!I40","v":0},{"$f":"+IX!J40","v":" "},null,{"$f":"+X!B40","v":" "},{"$f":"+X!C40","v":0},{"$f":"+X!D40","v":" "},{"$f":"+X!E40","v":0},{"$f":"+X!F40","v":0},{"$f":"+X!G40","v":0},{"$f":"+X!H40","v":0},{"$f":"+X!I40","v":0},{"$f":"+X!J40","v":" "}]
[null,null,null,null,null,null,null,null,null,null,null,null,null,null,null,null,null,null,null,null,null,null,null,null,null,null,null,null,{"$f":"+IF(I!B41=\" \",\" \",I!B41)","v":" "},{"$f":"+IF(I!C41=\" \",\" \",I!C41)","v":0},{"$f":"+IF(I!D41=\" \",\" \",I!D41)","v":" "},{"$f":"+IF(I!E41=\" \",\" \",I!E41)","v":0},{"$f":"+IF(I!F41=\" \",\" \",I!F41)","v":0},{"$f":"+IF(I!G41=\" \",\" \",I!G41)","v":0},{"$f":"+IF(I!H41=\" \",\" \",I!H41)","v":0},{"$f":"+IF(I!I41=\" \",\" \",I!I41)","v":0},{"$f":"+IF(I!J41=\" \",\" \",I!J41)","v":" "},null,{"$f":"+II!B41","v":" "},{"$f":"+II!C41","v":0},{"$f":"+II!D41","v":" "},{"$f":"+II!E41","v":0},{"$f":"+II!F41","v":0},{"$f":"+II!G41","v":0},{"$f":"+II!H41","v":0},{"$f":"+II!I41","v":0},{"$f":"+II!J41","v":" "},null,{"$f":"+III!B41","v":" "},{"$f":"+III!C41","v":0},{"$f":"+III!D41","v":" "},{"$f":"+III!E41","v":0},{"$f":"+III!F41","v":0},{"$f":"+III!G41","v":0},{"$f":"+III!H41","v":0},{"$f":"+III!I41","v":0},{"$f":"+III!J41","v":" "},null,{"$f":"+IV!B41","v":" "},{"$f":"+IV!C41","v":0},{"$f":"+IV!D41","v":" "},{"$f":"+IV!E41","v":0},{"$f":"+IV!F41","v":0},{"$f":"+IV!G41","v":0},{"$f":"+IV!H41","v":0},{"$f":"+IV!I41","v":0},{"$f":"+IV!J41","v":" "},null,{"$f":"+V!B41","v":" "},{"$f":"+V!C41","v":0},{"$f":"+V!D41","v":" "},{"$f":"+V!E41","v":0},{"$f":"+V!F41","v":0},{"$f":"+V!G41","v":0},{"$f":"+V!H41","v":0},{"$f":"+V!I41","v":0},{"$f":"+V!J41","v":" "},null,{"$f":"+VI!B41","v":" "},{"$f":"+VI!C41","v":0},{"$f":"+VI!D41","v":" "},{"$f":"+VI!E41","v":0},{"$f":"+VI!F41","v":0},{"$f":"+VI!G41","v":0},{"$f":"+VI!H41","v":0},{"$f":"+VI!I41","v":0},{"$f":"+VI!J41","v":" "},null,{"$f":"+VII!B41","v":" "},{"$f":"+VII!C41","v":0},{"$f":"+VII!D41","v":" "},{"$f":"+VII!E41","v":0},{"$f":"+VII!F41","v":0},{"$f":"+VII!G41","v":0},{"$f":"+VII!H41","v":0},{"$f":"+VII!I41","v":0},{"$f":"+VII!J41","v":" "},null,{"$f":"+VIII!B41","v":" "},{"$f":"+VIII!C41","v":0},{"$f":"+VIII!D41","v":" "},{"$f":"+VIII!E41","v":0},{"$f":"+VIII!F41","v":0},{"$f":"+VIII!G41","v":0},{"$f":"+VIII!H41","v":0},{"$f":"+VIII!I41","v":0},{"$f":"+VIII!J41","v":" "},null,{"$f":"+IX!B41","v":" "},{"$f":"+IX!C41","v":0},{"$f":"+IX!D41","v":" "},{"$f":"+IX!E41","v":0},{"$f":"+IX!F41","v":0},{"$f":"+IX!G41","v":0},{"$f":"+IX!H41","v":0},{"$f":"+IX!I41","v":0},{"$f":"+IX!J41","v":" "},null,{"$f":"+X!B41","v":" "},{"$f":"+X!C41","v":0},{"$f":"+X!D41","v":" "},{"$f":"+X!E41","v":0},{"$f":"+X!F41","v":0},{"$f":"+X!G41","v":0},{"$f":"+X!H41","v":0},{"$f":"+X!I41","v":0},{"$f":"+X!J41","v":" "}]
[null,null,null,null,null,null,null,null,null,null,null,null,null,null,null,null,null,null,null,null,null,null,null,null,null,null,null,null,{"$f":"+IF(I!B42=\" \",\" \",I!B42)","v":" "},{"$f":"+IF(I!C42=\" \",\" \",I!C42)","v":0},{"$f":"+IF(I!D42=\" \",\" \",I!D42)","v":" "},{"$f":"+IF(I!E42=\" \",\" \",I!E42)","v":0},{"$f":"+IF(I!F42=\" \",\" \",I!F42)","v":0},{"$f":"+IF(I!G42=\" \",\" \",I!G42)","v":0},{"$f":"+IF(I!H42=\" \",\" \",I!H42)","v":0},{"$f":"+IF(I!I42=\" \",\" \",I!I42)","v":0},{"$f":"+IF(I!J42=\" \",\" \",I!J42)","v":" "},null,{"$f":"+II!B42","v":" "},{"$f":"+II!C42","v":0},{"$f":"+II!D42","v":" "},{"$f":"+II!E42","v":0},{"$f":"+II!F42","v":0},{"$f":"+II!G42","v":0},{"$f":"+II!H42","v":0},{"$f":"+II!I42","v":0},{"$f":"+II!J42","v":" "},null,{"$f":"+III!B42","v":" "},{"$f":"+III!C42","v":0},{"$f":"+III!D42","v":" "},{"$f":"+III!E42","v":0},{"$f":"+III!F42","v":0},{"$f":"+III!G42","v":0},{"$f":"+III!H42","v":0},{"$f":"+III!I42","v":0},{"$f":"+III!J42","v":" "},null,{"$f":"+IV!B42","v":" "},{"$f":"+IV!C42","v":0},{"$f":"+IV!D42","v":" "},{"$f":"+IV!E42","v":0},{"$f":"+IV!F42","v":0},{"$f":"+IV!G42","v":0},{"$f":"+IV!H42","v":0},{"$f":"+IV!I42","v":0},{"$f":"+IV!J42","v":" "},null,{"$f":"+V!B42","v":" "},{"$f":"+V!C42","v":0},{"$f":"+V!D42","v":" "},{"$f":"+V!E42","v":0},{"$f":"+V!F42","v":0},{"$f":"+V!G42","v":0},{"$f":"+V!H42","v":0},{"$f":"+V!I42","v":0},{"$f":"+V!J42","v":" "},null,{"$f":"+VI!B42","v":" "},{"$f":"+VI!C42","v":0},{"$f":"+VI!D42","v":" "},{"$f":"+VI!E42","v":0},{"$f":"+VI!F42","v":0},{"$f":"+VI!G42","v":0},{"$f":"+VI!H42","v":0},{"$f":"+VI!I42","v":0},{"$f":"+VI!J42","v":" "},null,{"$f":"+VII!B42","v":" "},{"$f":"+VII!C42","v":0},{"$f":"+VII!D42","v":" "},{"$f":"+VII!E42","v":0},{"$f":"+VII!F42","v":0},{"$f":"+VII!G42","v":0},{"$f":"+VII!H42","v":0},{"$f":"+VII!I42","v":0},{"$f":"+VII!J42","v":" "},null,{"$f":"+VIII!B42","v":" "},{"$f":"+VIII!C42","v":0},{"$f":"+VIII!D42","v":" "},{"$f":"+VIII!E42","v":0},{"$f":"+VIII!F42","v":0},{"$f":"+VIII!G42","v":0},{"$f":"+VIII!H42","v":0},{"$f":"+VIII!I42","v":0},{"$f":"+VIII!J42","v":" "},null,{"$f":"+IX!B42","v":" "},{"$f":"+IX!C42","v":0},{"$f":"+IX!D42","v":" "},{"$f":"+IX!E42","v":0},{"$f":"+IX!F42","v":0},{"$f":"+IX!G42","v":0},{"$f":"+IX!H42","v":0},{"$f":"+IX!I42","v":0},{"$f":"+IX!J42","v":" "},null,{"$f":"+X!B42","v":" "},{"$f":"+X!C42","v":0},{"$f":"+X!D42","v":" "},{"$f":"+X!E42","v":0},{"$f":"+X!F42","v":0},{"$f":"+X!G42","v":0},{"$f":"+X!H42","v":0},{"$f":"+X!I42","v":0},{"$f":"+X!J42","v":" "}]
[null,null,null,null,null,null,null,null,null,null,null,null,null,null,null,null,null,null,null,null,null,null,null,null,null,null,null,null,{"$f":"+IF(I!B43=\" \",\" \",I!B43)","v":" "},{"$f":"+IF(I!C43=\" \",\" \",I!C43)","v":0},{"$f":"+IF(I!D43=\" \",\" \",I!D43)","v":" "},{"$f":"+IF(I!E43=\" \",\" \",I!E43)","v":0},{"$f":"+IF(I!F43=\" \",\" \",I!F43)","v":0},{"$f":"+IF(I!G43=\" \",\" \",I!G43)","v":0},{"$f":"+IF(I!H43=\" \",\" \",I!H43)","v":0},{"$f":"+IF(I!I43=\" \",\" \",I!I43)","v":0},{"$f":"+IF(I!J43=\" \",\" \",I!J43)","v":" "},null,{"$f":"+II!B43","v":" "},{"$f":"+II!C43","v":0},{"$f":"+II!D43","v":" "},{"$f":"+II!E43","v":0},{"$f":"+II!F43","v":0},{"$f":"+II!G43","v":0},{"$f":"+II!H43","v":0},{"$f":"+II!I43","v":0},{"$f":"+II!J43","v":" "},null,{"$f":"+III!B43","v":" "},{"$f":"+III!C43","v":0},{"$f":"+III!D43","v":" "},{"$f":"+III!E43","v":0},{"$f":"+III!F43","v":0},{"$f":"+III!G43","v":0},{"$f":"+III!H43","v":0},{"$f":"+III!I43","v":0},{"$f":"+III!J43","v":" "},null,{"$f":"+IV!B43","v":" "},{"$f":"+IV!C43","v":0},{"$f":"+IV!D43","v":" "},{"$f":"+IV!E43","v":0},{"$f":"+IV!F43","v":0},{"$f":"+IV!G43","v":0},{"$f":"+IV!H43","v":0},{"$f":"+IV!I43","v":0},{"$f":"+IV!J43","v":" "},null,{"$f":"+V!B43","v":" "},{"$f":"+V!C43","v":0},{"$f":"+V!D43","v":" "},{"$f":"+V!E43","v":0},{"$f":"+V!F43","v":0},{"$f":"+V!G43","v":0},{"$f":"+V!H43","v":0},{"$f":"+V!I43","v":0},{"$f":"+V!J43","v":" "},null,{"$f":"+VI!B43","v":" "},{"$f":"+VI!C43","v":0},{"$f":"+VI!D43","v":" "},{"$f":"+VI!E43","v":0},{"$f":"+VI!F43","v":0},{"$f":"+VI!G43","v":0},{"$f":"+VI!H43","v":0},{"$f":"+VI!I43","v":0},{"$f":"+VI!J43","v":" "},null,{"$f":"+VII!B43","v":" "},{"$f":"+VII!C43","v":0},{"$f":"+VII!D43","v":" "},{"$f":"+VII!E43","v":0},{"$f":"+VII!F43","v":0},{"$f":"+VII!G43","v":0},{"$f":"+VII!H43","v":0},{"$f":"+VII!I43","v":0},{"$f":"+VII!J43","v":" "},null,{"$f":"+VIII!B43","v":" "},{"$f":"+VIII!C43","v":0},{"$f":"+VIII!D43","v":" "},{"$f":"+VIII!E43","v":0},{"$f":"+VIII!F43","v":0},{"$f":"+VIII!G43","v":0},{"$f":"+VIII!H43","v":0},{"$f":"+VIII!I43","v":0},{"$f":"+VIII!J43","v":" "},null,{"$f":"+IX!B43","v":" "},{"$f":"+IX!C43","v":0},{"$f":"+IX!D43","v":" "},{"$f":"+IX!E43","v":0},{"$f":"+IX!F43","v":0},{"$f":"+IX!G43","v":0},{"$f":"+IX!H43","v":0},{"$f":"+IX!I43","v":0},{"$f":"+IX!J43","v":" "},null,{"$f":"+X!B43","v":" "},{"$f":"+X!C43","v":0},{"$f":"+X!D43","v":" "},{"$f":"+X!E43","v":0},{"$f":"+X!F43","v":0},{"$f":"+X!G43","v":0},{"$f":"+X!H43","v":0},{"$f":"+X!I43","v":0},{"$f":"+X!J43","v":" "}]
[]
[]
[]
[]
[]
[]
[]
[]
[]
[]
[]
[null,null,null,null,null,null,null,null,null,null,null,null,null,null,null,null,null,null,null,null,null,null,null,null,null,null,null,null,null,null,null,null,null,null,null,null,null,null,null,null,null,null,null,null,null,null,null,null,null,null,null,null,null,null,null,null,null,null,null,null,null,null,null,null,null,null,null,null,null,null,null,null,null,null,null,null,null,null,null,null,null,null,null,null,null,null,null,null,null,null,null,null,null,null,null,null,null,null,null,null,null,null,null,null,null,null,null,null,null,null,null,null,null,null,null,null,null,null,null,null,null,null,null,null,null,null,null,null,null,null,null,null,null,null,null,null,null,null,null,null,null,null,null,null,null,null,null,null,null,null,null,null,null,null,null,null,"Spread of Responses by Area "]
[]
[null,null,null,null,null,null,null,null,null,null,null,null,null,null,null,null,null,null,null,null,null,null,null,null,null,null,null,null,null,null,null,null,null,null,null,null,null,null,null,null,null,null,null,null,null,null,null,null,null,null,null,null,null,null,null,null,null,null,null,null,null,null,null,null,null,null,null,null,null,null,null,null,null,null,null,null,null,null,null,null,null,null,null,null,null,null,null,null,null,null,null,null,null,null,null,null,null,null,null,null,null,null,null,null,null,null,null,null,null,null,null,null,null,null,null,null,null,null,null,null,null,null,null,null,null,null,null,null,null,null,null,null,null,null,null,null,null,null,null,null,null,null,null,null,null,null,null,null,null,null,null,null,null,null,null,null,{"$f":"+'DE_Areas & Ind'!$C$5","v":"Area I"}]
[null,null,null,null,null,null,null,null,null,null,null,null,null,null,null,null,null,null,null,null,null,null,null,null,null,null,null,null,null,null,null,null,null,null,null,null,null,null,null,null,null,null,null,null,null,null,null,null,null,null,null,null,null,null,null,null,null,null,null,null,null,null,null,null,null,null,null,null,null,null,null,null,null,null,null,null,null,null,null,null,null,null,null,null,null,null,null,null,null,null,null,null,null,null,null,null,null,null,null,null,null,null,null,null,null,null,null,null,null,null,null,null,null,null,null,null,null,null,null,null,null,null,null,null,null,null,null,null,null,null,null,null,null,null,null,null,null,null,null,null,null,null,null,null,null,null,null,null,null,null,null,null,null,null,null,null,{"$f":"+'DE_Areas & Ind'!$C$6","v":0}]
[]
[null,null,null,null,null,null,null,null,null,null,null,null,null,null,null,null,null,null,null,null,null,null,null,null,null,null,null,null,null,null,null,null,null,null,null,null,null,null,null,null,null,null,null,null,null,null,null,null,null,null,null,null,null,null,null,null,null,null,null,null,null,null,null,null,null,null,null,null,null,null,null,null,null,null,null,null,null,null,null,null,null,null,null,null,null,null,null,null,null,null,null,null,null,null,null,null,null,null,null,null,null,null,null,null,null,null,null,null,null,null,null,null,null,null,null,null,null,null,null,null,null,null,null,null,null,null,null,null,null,null,null,null,null,null,null,null,null,null,null,null,null,null,null,null,null,null,null,null,null,null,null,null,null,null,null,null,{"$f":"+Calculations!$C$11","v":0},null,{"$f":"+Calculations!$C$19","v":0}]
[]
[]
[]
[]
[]
[]
[]
[]
[]
[]
[]
[null,null,null,null,null,null,null,null,null,null,null,null,null,null,null,null,null,null,null,null,null,null,null,null,null,null,null,null,null,null,null,null,null,null,null,null,null,null,null,null,null,null,null,null,null,null,null,null,null,null,null,null,null,null,null,null,null,null,null,null,null,null,null,null,null,null,null,null,null,null,null,null,null,null,null,null,null,null,null,null,null,null,null,null,null,null,null,null,null,null,null,null,null,null,null,null,null,null,null,null,null,null,null,null,null,null,null,null,null,null,null,null,null,null,null,null,null,null,null,null,null,null,null,null,null,null,null,null,null,null,null,null,null,null,null,null,null,null,null,null,null,null,null,null,null,null,null,null,null,null,null,null,null,null,null,null,{"$f":"+Calculations!$C$12","v":0},null,{"$f":"+Calculations!$C$20","v":0}]
[]
[]
[]
[]
[]
[]
[]
[]
[]
[]
[]
[null,null,null,null,null,null,null,null,null,null,null,null,null,null,null,null,null,null,null,null,null,null,null,null,null,null,null,null,null,null,null,null,null,null,null,null,null,null,null,null,null,null,null,null,null,null,null,null,null,null,null,null,null,null,null,null,null,null,null,null,null,null,null,null,null,null,null,null,null,null,null,null,null,null,null,null,null,null,null,null,null,null,null,null,null,null,null,null,null,null,null,null,null,null,null,null,null,null,null,null,null,null,null,null,null,null,null,null,null,null,null,null,null,null,null,null,null,null,null,null,null,null,null,null,null,null,null,null,null,null,null,null,null,null,null,null,null,null,null,null,null,null,null,null,null,null,null,null,null,null,null,null,null,null,null,null,{"$f":"+Calculations!$C$13","v":0},null,{"$f":"+Calculations!$C$21","v":0}]
[]
[]
[]
[]
[]
[]
[]
[]
[]
[]
[]
[null,null,null,null,null,null,null,null,null,null,null,null,null,null,null,null,null,null,null,null,null,null,null,null,null,null,null,null,null,null,null,null,null,null,null,null,null,null,null,null,null,null,null,null,null,null,null,null,null,null,null,null,null,null,null,null,null,null,null,null,null,null,null,null,null,null,null,null,null,null,null,null,null,null,null,null,null,null,null,null,null,null,null,null,null,null,null,null,null,null,null,null,null,null,null,null,null,null,null,null,null,null,null,null,null,null,null,null,null,null,null,null,null,null,null,null,null,null,null,null,null,null,null,null,null,null,null,null,null,null,null,null,null,null,null,null,null,null,null,null,null,null,null,null,null,null,null,null,null,null,null,null,null,null,null,null,{"$f":"+Calculations!$C$14","v":0},null,{"$f":"+Calculations!$C$22","v":0}]
[]
[]
[]
[]
[]
[]
[]
[]
[]
[]
[]
[null,null,null,null,null,null,null,null,null,null,null,null,null,null,null,null,null,null,null,null,null,null,null,null,null,null,null,null,null,null,null,null,null,null,null,null,null,null,null,null,null,null,null,null,null,null,null,null,null,null,null,null,null,null,null,null,null,null,null,null,null,null,null,null,null,null,null,null,null,null,null,null,null,null,null,null,null,null,null,null,null,null,null,null,null,null,null,null,null,null,null,null,null,null,null,null,null,null,null,null,null,null,null,null,null,null,null,null,null,null,null,null,null,null,null,null,null,null,null,null,null,null,null,null,null,null,null,null,null,null,null,null,null,null,null,null,null,null,null,null,null,null,null,null,null,null,null,null,null,null,null,null,null,null,null,null,{"$f":"+Calculations!$C$15","v":0},null,{"$f":"+Calculations!$C$23","v":0}]
[]
[]
[]
[]
[]
[]
[]
[]
[]
[]
[]
[null,null,null,null,null,null,null,null,null,null,null,null,null,null,null,null,null,null,null,null,null,null,null,null,null,null,null,null,null,null,null,null,null,null,null,null,null,null,null,null,null,null,null,null,null,null,null,null,null,null,null,null,null,null,null,null,null,null,null,null,null,null,null,null,null,null,null,null,null,null,null,null,null,null,null,null,null,null,null,null,null,null,null,null,null,null,null,null,null,null,null,null,null,null,null,null,null,null,null,null,null,null,null,null,null,null,null,null,null,null,null,null,null,null,null,null,null,null,null,null,null,null,null,null,null,null,null,null,null,null,null,null,null,null,null,null,null,null,null,null,null,null,null,null,null,null,null,null,null,null,null,null,null,null,null,null,{"$f":"+Calculations!$C$16","v":0},null,{"$f":"+Calculations!$C$24","v":0}]
[]
[]
[]
[]
[]
[]
[]
[]
[]
[]
[]
[null,null,null,null,null,null,null,null,null,null,null,null,null,null,null,null,null,null,null,null,null,null,null,null,null,null,null,null,null,null,null,null,null,null,null,null,null,null,null,null,null,null,null,null,null,null,null,null,null,null,null,null,null,null,null,null,null,null,null,null,null,null,null,null,null,null,null,null,null,null,null,null,null,null,null,null,null,null,null,null,null,null,null,null,null,null,null,null,null,null,null,null,null,null,null,null,null,null,null,null,null,null,null,null,null,null,null,null,null,null,null,null,null,null,null,null,null,null,null,null,null,null,null,null,null,null,null,null,null,null,null,null,null,null,null,null,null,null,null,null,null,null,null,null,null,null,null,null,null,null,null,null,null,null,null,null,{"$f":"+Calculations!$C$17","v":0},null,{"$f":"+Calculations!$C$25","v":0}]
[]
[]
[]
[]
[]
[]
[]
[]
[]
[]
[]
[null,null,null,null,null,null,null,null,null,null,null,null,null,null,null,null,null,null,null,null,null,null,null,null,null,null,null,null,null,null,null,null,null,null,null,null,null,null,null,null,null,null,null,null,null,null,null,null,null,null,null,null,null,null,null,null,null,null,null,null,null,null,null,null,null,null,null,null,null,null,null,null,null,null,null,null,null,null,null,null,null,null,null,null,null,null,null,null,null,null,null,null,null,null,null,null,null,null,null,null,null,null,null,null,null,null,null,null,null,null,null,null,null,null,null,null,null,null,null,null,null,null,null,null,null,null,null,null,null,null,null,null,null,null,null,null,null,null,null,null,null,null,null,null,null,null,null,null,null,null,null,null,null,null,null,null,{"$f":"+Calculations!$C$18","v":0}]
[]
[]
[]
[]
[]
[]
[]
[]
[]
[]
[]
[]
[null,null,null,null,null,null,null,null,null,null,null,null,null,null,null,null,null,null,null,null,null,null,null,null,null,null,null,null,null,null,null,null,null,null,null,null,null,null,null,null,null,null,null,null,null,null,null,null,null,null,null,null,null,null,null,null,null,null,null,null,null,null,null,null,null,null,null,null,null,null,null,null,null,null,null,null,null,null,null,null,null,null,null,null,null,null,null,null,null,null,null,null,null,null,null,null,null,null,null,null,null,null,null,null,null,null,null,null,null,null,null,null,null,null,null,null,null,null,null,null,null,null,null,null,null,null,null,null,null,null,null,null,null,null,null,null,null,null,null,null,null,null,null,null,null,null,null,null,null,null,null,null,null,null,null,null,"Spread of Responses by Area "]
[]
[null,null,null,null,null,null,null,null,null,null,null,null,null,null,null,null,null,null,null,null,null,null,null,null,null,null,null,null,null,null,null,null,null,null,null,null,null,null,null,null,null,null,null,null,null,null,null,null,null,null,null,null,null,null,null,null,null,null,null,null,null,null,null,null,null,null,null,null,null,null,null,null,null,null,null,null,null,null,null,null,null,null,null,null,null,null,null,null,null,null,null,null,null,null,null,null,null,null,null,null,null,null,null,null,null,null,null,null,null,null,null,null,null,null,null,null,null,null,null,null,null,null,null,null,null,null,null,null,null,null,null,null,null,null,null,null,null,null,null,null,null,null,null,null,null,null,null,null,null,null,null,null,null,null,null,null,{"$f":"+'DE_Areas & Ind'!$I$5","v":"Area II"}]
[null,null,null,null,null,null,null,null,null,null,null,null,null,null,null,null,null,null,null,null,null,null,null,null,null,null,null,null,null,null,null,null,null,null,null,null,null,null,null,null,null,null,null,null,null,null,null,null,null,null,null,null,null,null,null,null,null,null,null,null,null,null,null,null,null,null,null,null,null,null,null,null,null,null,null,null,null,null,null,null,null,null,null,null,null,null,null,null,null,null,null,null,null,null,null,null,null,null,null,null,null,null,null,null,null,null,null,null,null,null,null,null,null,null,null,null,null,null,null,null,null,null,null,null,null,null,null,null,null,null,null,null,null,null,null,null,null,null,null,null,null,null,null,null,null,null,null,null,null,null,null,null,null,null,null,null,{"$f":"+'DE_Areas & Ind'!$I$6","v":0}]
[]
[null,null,null,null,null,null,null,null,null,null,null,null,null,null,null,null,null,null,null,null,null,null,null,null,null,null,null,null,null,null,null,null,null,null,null,null,null,null,null,null,null,null,null,null,null,null,null,null,null,null,null,null,null,null,null,null,null,null,null,null,null,null,null,null,null,null,null,null,null,null,null,null,null,null,null,null,null,null,null,null,null,null,null,null,null,null,null,null,null,null,null,null,null,null,null,null,null,null,null,null,null,null,null,null,null,null,null,null,null,null,null,null,null,null,null,null,null,null,null,null,null,null,null,null,null,null,null,null,null,null,null,null,null,null,null,null,null,null,null,null,null,null,null,null,null,null,null,null,null,null,null,null,null,null,null,null,{"$f":"+Calculations!$C$26","v":0},null,{"$f":"+Calculations!$C$34","v":0}]
[]
[]
[]
[]
[]
[]
[]
[]
[]
[]
[]
[null,null,null,null,null,null,null,null,null,null,null,null,null,null,null,null,null,null,null,null,null,null,null,null,null,null,null,null,null,null,null,null,null,null,null,null,null,null,null,null,null,null,null,null,null,null,null,null,null,null,null,null,null,null,null,null,null,null,null,null,null,null,null,null,null,null,null,null,null,null,null,null,null,null,null,null,null,null,null,null,null,null,null,null,null,null,null,null,null,null,null,null,null,null,null,null,null,null,null,null,null,null,null,null,null,null,null,null,null,null,null,null,null,null,null,null,null,null,null,null,null,null,null,null,null,null,null,null,null,null,null,null,null,null,null,null,null,null,null,null,null,null,null,null,null,null,null,null,null,null,null,null,null,null,null,null,{"$f":"+Calculations!$C$27","v":0},null,{"$f":"+Calculations!$C$35","v":0}]
[]
[]
[]
[]
[]
[]
[]
[]
[]
[]
[]
[null,null,null,null,null,null,null,null,null,null,null,null,null,null,null,null,null,null,null,null,null,null,null,null,null,null,null,null,null,null,null,null,null,null,null,null,null,null,null,null,null,null,null,null,null,null,null,null,null,null,null,null,null,null,null,null,null,null,null,null,null,null,null,null,null,null,null,null,null,null,null,null,null,null,null,null,null,null,null,null,null,null,null,null,null,null,null,null,null,null,null,null,null,null,null,null,null,null,null,null,null,null,null,null,null,null,null,null,null,null,null,null,null,null,null,null,null,null,null,null,null,null,null,null,null,null,null,null,null,null,null,null,null,null,null,null,null,null,null,null,null,null,null,null,null,null,null,null,null,null,null,null,null,null,null,null,{"$f":"+Calculations!$C$28","v":0},null,{"$f":"+Calculations!$C$36","v":0}]
[]
[]
[]
[]
[]
[]
[]
[]
[]
[]
[]
[null,null,null,null,null,null,null,null,null,null,null,null,null,null,null,null,null,null,null,null,null,null,null,null,null,null,null,null,null,null,null,null,null,null,null,null,null,null,null,null,null,null,null,null,null,null,null,null,null,null,null,null,null,null,null,null,null,null,null,null,null,null,null,null,null,null,null,null,null,null,null,null,null,null,null,null,null,null,null,null,null,null,null,null,null,null,null,null,null,null,null,null,null,null,null,null,null,null,null,null,null,null,null,null,null,null,null,null,null,null,null,null,null,null,null,null,null,null,null,null,null,null,null,null,null,null,null,null,null,null,null,null,null,null,null,null,null,null,null,null,null,null,null,null,null,null,null,null,null,null,null,null,null,null,null,null,{"$f":"+Calculations!$C$29","v":0},null,{"$f":"+Calculations!$C$37","v":0}]
[]
[]
[]
[]
[]
[]
[]
[]
[]
[]
[]
[null,null,null,null,null,null,null,null,null,null,null,null,null,null,null,null,null,null,null,null,null,null,null,null,null,null,null,null,null,null,null,null,null,null,null,null,null,null,null,null,null,null,null,null,null,null,null,null,null,null,null,null,null,null,null,null,null,null,null,null,null,null,null,null,null,null,null,null,null,null,null,null,null,null,null,null,null,null,null,null,null,null,null,null,null,null,null,null,null,null,null,null,null,null,null,null,null,null,null,null,null,null,null,null,null,null,null,null,null,null,null,null,null,null,null,null,null,null,null,null,null,null,null,null,null,null,null,null,null,null,null,null,null,null,null,null,null,null,null,null,null,null,null,null,null,null,null,null,null,null,null,null,null,null,null,null,{"$f":"+Calculations!$C$30","v":0},null,{"$f":"+Calculations!$C$38","v":0}]
[]
[]
[]
[]
[]
[]
[]
[]
[]
[]
[]
[null,null,null,null,null,null,null,null,null,null,null,null,null,null,null,null,null,null,null,null,null,null,null,null,null,null,null,null,null,null,null,null,null,null,null,null,null,null,null,null,null,null,null,null,null,null,null,null,null,null,null,null,null,null,null,null,null,null,null,null,null,null,null,null,null,null,null,null,null,null,null,null,null,null,null,null,null,null,null,null,null,null,null,null,null,null,null,null,null,null,null,null,null,null,null,null,null,null,null,null,null,null,null,null,null,null,null,null,null,null,null,null,null,null,null,null,null,null,null,null,null,null,null,null,null,null,null,null,null,null,null,null,null,null,null,null,null,null,null,null,null,null,null,null,null,null,null,null,null,null,null,null,null,null,null,null,{"$f":"+Calculations!$C$31","v":0},null,{"$f":"+Calculations!$C$39","v":0}]
[]
[]
[]
[]
[]
[]
[]
[]
[]
[]
[]
[null,null,null,null,null,null,null,null,null,null,null,null,null,null,null,null,null,null,null,null,null,null,null,null,null,null,null,null,null,null,null,null,null,null,null,null,null,null,null,null,null,null,null,null,null,null,null,null,null,null,null,null,null,null,null,null,null,null,null,null,null,null,null,null,null,null,null,null,null,null,null,null,null,null,null,null,null,null,null,null,null,null,null,null,null,null,null,null,null,null,null,null,null,null,null,null,null,null,null,null,null,null,null,null,null,null,null,null,null,null,null,null,null,null,null,null,null,null,null,null,null,null,null,null,null,null,null,null,null,null,null,null,null,null,null,null,null,null,null,null,null,null,null,null,null,null,null,null,null,null,null,null,null,null,null,null,{"$f":"+Calculations!$C$32","v":0},null,{"$f":"+Calculations!$C$40","v":0}]
[]
[]
[]
[]
[]
[]
[]
[]
[]
[]
[]
[null,null,null,null,null,null,null,null,null,null,null,null,null,null,null,null,null,null,null,null,null,null,null,null,null,null,null,null,null,null,null,null,null,null,null,null,null,null,null,null,null,null,null,null,null,null,null,null,null,null,null,null,null,null,null,null,null,null,null,null,null,null,null,null,null,null,null,null,null,null,null,null,null,null,null,null,null,null,null,null,null,null,null,null,null,null,null,null,null,null,null,null,null,null,null,null,null,null,null,null,null,null,null,null,null,null,null,null,null,null,null,null,null,null,null,null,null,null,null,null,null,null,null,null,null,null,null,null,null,null,null,null,null,null,null,null,null,null,null,null,null,null,null,null,null,null,null,null,null,null,null,null,null,null,null,null,{"$f":"+Calculations!$C$33","v":0}]
[]
[]
[]
[]
[]
[]
[]
[]
[]
[]
[]
[]
[null,null,null,null,null,null,null,null,null,null,null,null,null,null,null,null,null,null,null,null,null,null,null,null,null,null,null,null,null,null,null,null,null,null,null,null,null,null,null,null,null,null,null,null,null,null,null,null,null,null,null,null,null,null,null,null,null,null,null,null,null,null,null,null,null,null,null,null,null,null,null,null,null,null,null,null,null,null,null,null,null,null,null,null,null,null,null,null,null,null,null,null,null,null,null,null,null,null,null,null,null,null,null,null,null,null,null,null,null,null,null,null,null,null,null,null,null,null,null,null,null,null,null,null,null,null,null,null,null,null,null,null,null,null,null,null,null,null,null,null,null,null,null,null,null,null,null,null,null,null,null,null,null,null,null,null,"Spread of Responses by Area "]
[]
[null,null,null,null,null,null,null,null,null,null,null,null,null,null,null,null,null,null,null,null,null,null,null,null,null,null,null,null,null,null,null,null,null,null,null,null,null,null,null,null,null,null,null,null,null,null,null,null,null,null,null,null,null,null,null,null,null,null,null,null,null,null,null,null,null,null,null,null,null,null,null,null,null,null,null,null,null,null,null,null,null,null,null,null,null,null,null,null,null,null,null,null,null,null,null,null,null,null,null,null,null,null,null,null,null,null,null,null,null,null,null,null,null,null,null,null,null,null,null,null,null,null,null,null,null,null,null,null,null,null,null,null,null,null,null,null,null,null,null,null,null,null,null,null,null,null,null,null,null,null,null,null,null,null,null,null,{"$f":"+'DE_Areas & Ind'!$O$5","v":"Area III"}]
[null,null,null,null,null,null,null,null,null,null,null,null,null,null,null,null,null,null,null,null,null,null,null,null,null,null,null,null,null,null,null,null,null,null,null,null,null,null,null,null,null,null,null,null,null,null,null,null,null,null,null,null,null,null,null,null,null,null,null,null,null,null,null,null,null,null,null,null,null,null,null,null,null,null,null,null,null,null,null,null,null,null,null,null,null,null,null,null,null,null,null,null,null,null,null,null,null,null,null,null,null,null,null,null,null,null,null,null,null,null,null,null,null,null,null,null,null,null,null,null,null,null,null,null,null,null,null,null,null,null,null,null,null,null,null,null,null,null,null,null,null,null,null,null,null,null,null,null,null,null,null,null,null,null,null,null,{"$f":"+'DE_Areas & Ind'!$O$6","v":0}]
[]
[null,null,null,null,null,null,null,null,null,null,null,null,null,null,null,null,null,null,null,null,null,null,null,null,null,null,null,null,null,null,null,null,null,null,null,null,null,null,null,null,null,null,null,null,null,null,null,null,null,null,null,null,null,null,null,null,null,null,null,null,null,null,null,null,null,null,null,null,null,null,null,null,null,null,null,null,null,null,null,null,null,null,null,null,null,null,null,null,null,null,null,null,null,null,null,null,null,null,null,null,null,null,null,null,null,null,null,null,null,null,null,null,null,null,null,null,null,null,null,null,null,null,null,null,null,null,null,null,null,null,null,null,null,null,null,null,null,null,null,null,null,null,null,null,null,null,null,null,null,null,null,null,null,null,null,null,{"$f":"+Calculations!$C$41","v":0},null,{"$f":"+Calculations!$C$49","v":0}]
[]
[]
[]
[]
[]
[]
[]
[]
[]
[]
[]
[null,null,null,null,null,null,null,null,null,null,null,null,null,null,null,null,null,null,null,null,null,null,null,null,null,null,null,null,null,null,null,null,null,null,null,null,null,null,null,null,null,null,null,null,null,null,null,null,null,null,null,null,null,null,null,null,null,null,null,null,null,null,null,null,null,null,null,null,null,null,null,null,null,null,null,null,null,null,null,null,null,null,null,null,null,null,null,null,null,null,null,null,null,null,null,null,null,null,null,null,null,null,null,null,null,null,null,null,null,null,null,null,null,null,null,null,null,null,null,null,null,null,null,null,null,null,null,null,null,null,null,null,null,null,null,null,null,null,null,null,null,null,null,null,null,null,null,null,null,null,null,null,null,null,null,null,{"$f":"+Calculations!$C$42","v":0},null,{"$f":"+Calculations!$C$50","v":0}]
[]
[]
[]
[]
[]
[]
[]
[]
[]
[]
[]
[null,null,null,null,null,null,null,null,null,null,null,null,null,null,null,null,null,null,null,null,null,null,null,null,null,null,null,null,null,null,null,null,null,null,null,null,null,null,null,null,null,null,null,null,null,null,null,null,null,null,null,null,null,null,null,null,null,null,null,null,null,null,null,null,null,null,null,null,null,null,null,null,null,null,null,null,null,null,null,null,null,null,null,null,null,null,null,null,null,null,null,null,null,null,null,null,null,null,null,null,null,null,null,null,null,null,null,null,null,null,null,null,null,null,null,null,null,null,null,null,null,null,null,null,null,null,null,null,null,null,null,null,null,null,null,null,null,null,null,null,null,null,null,null,null,null,null,null,null,null,null,null,null,null,null,null,{"$f":"+Calculations!$C$43","v":0},null,{"$f":"+Calculations!$C$51","v":0}]
[]
[]
[]
[]
[]
[]
[]
[]
[]
[]
[]
[null,null,null,null,null,null,null,null,null,null,null,null,null,null,null,null,null,null,null,null,null,null,null,null,null,null,null,null,null,null,null,null,null,null,null,null,null,null,null,null,null,null,null,null,null,null,null,null,null,null,null,null,null,null,null,null,null,null,null,null,null,null,null,null,null,null,null,null,null,null,null,null,null,null,null,null,null,null,null,null,null,null,null,null,null,null,null,null,null,null,null,null,null,null,null,null,null,null,null,null,null,null,null,null,null,null,null,null,null,null,null,null,null,null,null,null,null,null,null,null,null,null,null,null,null,null,null,null,null,null,null,null,null,null,null,null,null,null,null,null,null,null,null,null,null,null,null,null,null,null,null,null,null,null,null,null,{"$f":"+Calculations!$C$44","v":0},null,{"$f":"+Calculations!$C$52","v":0}]
[]
[]
[]
[]
[]
[]
[]
[]
[]
[]
[]
[null,null,null,null,null,null,null,null,null,null,null,null,null,null,null,null,null,null,null,null,null,null,null,null,null,null,null,null,null,null,null,null,null,null,null,null,null,null,null,null,null,null,null,null,null,null,null,null,null,null,null,null,null,null,null,null,null,null,null,null,null,null,null,null,null,null,null,null,null,null,null,null,null,null,null,null,null,null,null,null,null,null,null,null,null,null,null,null,null,null,null,null,null,null,null,null,null,null,null,null,null,null,null,null,null,null,null,null,null,null,null,null,null,null,null,null,null,null,null,null,null,null,null,null,null,null,null,null,null,null,null,null,null,null,null,null,null,null,null,null,null,null,null,null,null,null,null,null,null,null,null,null,null,null,null,null,{"$f":"+Calculations!$C$45","v":0},null,{"$f":"+Calculations!$C$53","v":0}]
[]
[]
[]
[]
[]
[]
[]
[]
[]
[]
[]
[null,null,null,null,null,null,null,null,null,null,null,null,null,null,null,null,null,null,null,null,null,null,null,null,null,null,null,null,null,null,null,null,null,null,null,null,null,null,null,null,null,null,null,null,null,null,null,null,null,null,null,null,null,null,null,null,null,null,null,null,null,null,null,null,null,null,null,null,null,null,null,null,null,null,null,null,null,null,null,null,null,null,null,null,null,null,null,null,null,null,null,null,null,null,null,null,null,null,null,null,null,null,null,null,null,null,null,null,null,null,null,null,null,null,null,null,null,null,null,null,null,null,null,null,null,null,null,null,null,null,null,null,null,null,null,null,null,null,null,null,null,null,null,null,null,null,null,null,null,null,null,null,null,null,null,null,{"$f":"+Calculations!$C$46","v":0},null,{"$f":"+Calculations!$C$54","v":0}]
[]
[]
[]
[]
[]
[]
[]
[]
[]
[]
[]
[null,null,null,null,null,null,null,null,null,null,null,null,null,null,null,null,null,null,null,null,null,null,null,null,null,null,null,null,null,null,null,null,null,null,null,null,null,null,null,null,null,null,null,null,null,null,null,null,null,null,null,null,null,null,null,null,null,null,null,null,null,null,null,null,null,null,null,null,null,null,null,null,null,null,null,null,null,null,null,null,null,null,null,null,null,null,null,null,null,null,null,null,null,null,null,null,null,null,null,null,null,null,null,null,null,null,null,null,null,null,null,null,null,null,null,null,null,null,null,null,null,null,null,null,null,null,null,null,null,null,null,null,null,null,null,null,null,null,null,null,null,null,null,null,null,null,null,null,null,null,null,null,null,null,null,null,{"$f":"+Calculations!$C$47","v":0},null,{"$f":"+Calculations!$C$55","v":0}]
[]
[]
[]
[]
[]
[]
[]
[]
[]
[]
[]
[null,null,null,null,null,null,null,null,null,null,null,null,null,null,null,null,null,null,null,null,null,null,null,null,null,null,null,null,null,null,null,null,null,null,null,null,null,null,null,null,null,null,null,null,null,null,null,null,null,null,null,null,null,null,null,null,null,null,null,null,null,null,null,null,null,null,null,null,null,null,null,null,null,null,null,null,null,null,null,null,null,null,null,null,null,null,null,null,null,null,null,null,null,null,null,null,null,null,null,null,null,null,null,null,null,null,null,null,null,null,null,null,null,null,null,null,null,null,null,null,null,null,null,null,null,null,null,null,null,null,null,null,null,null,null,null,null,null,null,null,null,null,null,null,null,null,null,null,null,null,null,null,null,null,null,null,{"$f":"+Calculations!$C$48","v":0}]
[]
[]
[]
[]
[]
[]
[]
[]
[]
[]
[]
[]
[null,null,null,null,null,null,null,null,null,null,null,null,null,null,null,null,null,null,null,null,null,null,null,null,null,null,null,null,null,null,null,null,null,null,null,null,null,null,null,null,null,null,null,null,null,null,null,null,null,null,null,null,null,null,null,null,null,null,null,null,null,null,null,null,null,null,null,null,null,null,null,null,null,null,null,null,null,null,null,null,null,null,null,null,null,null,null,null,null,null,null,null,null,null,null,null,null,null,null,null,null,null,null,null,null,null,null,null,null,null,null,null,null,null,null,null,null,null,null,null,null,null,null,null,null,null,null,null,null,null,null,null,null,null,null,null,null,null,null,null,null,null,null,null,null,null,null,null,null,null,null,null,null,null,null,null,"Spread of Responses by Area "]
[]
[null,null,null,null,null,null,null,null,null,null,null,null,null,null,null,null,null,null,null,null,null,null,null,null,null,null,null,null,null,null,null,null,null,null,null,null,null,null,null,null,null,null,null,null,null,null,null,null,null,null,null,null,null,null,null,null,null,null,null,null,null,null,null,null,null,null,null,null,null,null,null,null,null,null,null,null,null,null,null,null,null,null,null,null,null,null,null,null,null,null,null,null,null,null,null,null,null,null,null,null,null,null,null,null,null,null,null,null,null,null,null,null,null,null,null,null,null,null,null,null,null,null,null,null,null,null,null,null,null,null,null,null,null,null,null,null,null,null,null,null,null,null,null,null,null,null,null,null,null,null,null,null,null,null,null,null,{"$f":"+'DE_Areas & Ind'!$U$5","v":"Area IV"}]
[null,null,null,null,null,null,null,null,null,null,null,null,null,null,null,null,null,null,null,null,null,null,null,null,null,null,null,null,null,null,null,null,null,null,null,null,null,null,null,null,null,null,null,null,null,null,null,null,null,null,null,null,null,null,null,null,null,null,null,null,null,null,null,null,null,null,null,null,null,null,null,null,null,null,null,null,null,null,null,null,null,null,null,null,null,null,null,null,null,null,null,null,null,null,null,null,null,null,null,null,null,null,null,null,null,null,null,null,null,null,null,null,null,null,null,null,null,null,null,null,null,null,null,null,null,null,null,null,null,null,null,null,null,null,null,null,null,null,null,null,null,null,null,null,null,null,null,null,null,null,null,null,null,null,null,null,{"$f":"+'DE_Areas & Ind'!$U$6","v":0}]
[]
[null,null,null,null,null,null,null,null,null,null,null,null,null,null,null,null,null,null,null,null,null,null,null,null,null,null,null,null,null,null,null,null,null,null,null,null,null,null,null,null,null,null,null,null,null,null,null,null,null,null,null,null,null,null,null,null,null,null,null,null,null,null,null,null,null,null,null,null,null,null,null,null,null,null,null,null,null,null,null,null,null,null,null,null,null,null,null,null,null,null,null,null,null,null,null,null,null,null,null,null,null,null,null,null,null,null,null,null,null,null,null,null,null,null,null,null,null,null,null,null,null,null,null,null,null,null,null,null,null,null,null,null,null,null,null,null,null,null,null,null,null,null,null,null,null,null,null,null,null,null,null,null,null,null,null,null,{"$f":"+Calculations!$C$56","v":0},null,{"$f":"+Calculations!$C$64","v":0}]
[]
[]
[]
[]
[]
[]
[]
[]
[]
[]
[]
[null,null,null,null,null,null,null,null,null,null,null,null,null,null,null,null,null,null,null,null,null,null,null,null,null,null,null,null,null,null,null,null,null,null,null,null,null,null,null,null,null,null,null,null,null,null,null,null,null,null,null,null,null,null,null,null,null,null,null,null,null,null,null,null,null,null,null,null,null,null,null,null,null,null,null,null,null,null,null,null,null,null,null,null,null,null,null,null,null,null,null,null,null,null,null,null,null,null,null,null,null,null,null,null,null,null,null,null,null,null,null,null,null,null,null,null,null,null,null,null,null,null,null,null,null,null,null,null,null,null,null,null,null,null,null,null,null,null,null,null,null,null,null,null,null,null,null,null,null,null,null,null,null,null,null,null,{"$f":"+Calculations!$C$57","v":0},null,{"$f":"+Calculations!$C$65","v":0}]
[]
[]
[]
[]
[]
[]
[]
[]
[]
[]
[]
[null,null,null,null,null,null,null,null,null,null,null,null,null,null,null,null,null,null,null,null,null,null,null,null,null,null,null,null,null,null,null,null,null,null,null,null,null,null,null,null,null,null,null,null,null,null,null,null,null,null,null,null,null,null,null,null,null,null,null,null,null,null,null,null,null,null,null,null,null,null,null,null,null,null,null,null,null,null,null,null,null,null,null,null,null,null,null,null,null,null,null,null,null,null,null,null,null,null,null,null,null,null,null,null,null,null,null,null,null,null,null,null,null,null,null,null,null,null,null,null,null,null,null,null,null,null,null,null,null,null,null,null,null,null,null,null,null,null,null,null,null,null,null,null,null,null,null,null,null,null,null,null,null,null,null,null,{"$f":"+Calculations!$C$58","v":0},null,{"$f":"+Calculations!$C$66","v":0}]
[]
[]
[]
[]
[]
[]
[]
[]
[]
[]
[]
[null,null,null,null,null,null,null,null,null,null,null,null,null,null,null,null,null,null,null,null,null,null,null,null,null,null,null,null,null,null,null,null,null,null,null,null,null,null,null,null,null,null,null,null,null,null,null,null,null,null,null,null,null,null,null,null,null,null,null,null,null,null,null,null,null,null,null,null,null,null,null,null,null,null,null,null,null,null,null,null,null,null,null,null,null,null,null,null,null,null,null,null,null,null,null,null,null,null,null,null,null,null,null,null,null,null,null,null,null,null,null,null,null,null,null,null,null,null,null,null,null,null,null,null,null,null,null,null,null,null,null,null,null,null,null,null,null,null,null,null,null,null,null,null,null,null,null,null,null,null,null,null,null,null,null,null,{"$f":"+Calculations!$C$59","v":0},null,{"$f":"+Calculations!$C$67","v":0}]
[]
[]
[]
[]
[]
[]
[]
[]
[]
[]
[]
[null,null,null,null,null,null,null,null,null,null,null,null,null,null,null,null,null,null,null,null,null,null,null,null,null,null,null,null,null,null,null,null,null,null,null,null,null,null,null,null,null,null,null,null,null,null,null,null,null,null,null,null,null,null,null,null,null,null,null,null,null,null,null,null,null,null,null,null,null,null,null,null,null,null,null,null,null,null,null,null,null,null,null,null,null,null,null,null,null,null,null,null,null,null,null,null,null,null,null,null,null,null,null,null,null,null,null,null,null,null,null,null,null,null,null,null,null,null,null,null,null,null,null,null,null,null,null,null,null,null,null,null,null,null,null,null,null,null,null,null,null,null,null,null,null,null,null,null,null,null,null,null,null,null,null,null,{"$f":"+Calculations!$C$60","v":0},null,{"$f":"+Calculations!$C$68","v":0}]
[]
[]
[]
[]
[]
[]
[]
[]
[]
[]
[]
[null,null,null,null,null,null,null,null,null,null,null,null,null,null,null,null,null,null,null,null,null,null,null,null,null,null,null,null,null,null,null,null,null,null,null,null,null,null,null,null,null,null,null,null,null,null,null,null,null,null,null,null,null,null,null,null,null,null,null,null,null,null,null,null,null,null,null,null,null,null,null,null,null,null,null,null,null,null,null,null,null,null,null,null,null,null,null,null,null,null,null,null,null,null,null,null,null,null,null,null,null,null,null,null,null,null,null,null,null,null,null,null,null,null,null,null,null,null,null,null,null,null,null,null,null,null,null,null,null,null,null,null,null,null,null,null,null,null,null,null,null,null,null,null,null,null,null,null,null,null,null,null,null,null,null,null,{"$f":"+Calculations!$C$61","v":0},null,{"$f":"+Calculations!$C$69","v":0}]
[]
[]
[]
[]
[]
[]
[]
[]
[]
[]
[]
[null,null,null,null,null,null,null,null,null,null,null,null,null,null,null,null,null,null,null,null,null,null,null,null,null,null,null,null,null,null,null,null,null,null,null,null,null,null,null,null,null,null,null,null,null,null,null,null,null,null,null,null,null,null,null,null,null,null,null,null,null,null,null,null,null,null,null,null,null,null,null,null,null,null,null,null,null,null,null,null,null,null,null,null,null,null,null,null,null,null,null,null,null,null,null,null,null,null,null,null,null,null,null,null,null,null,null,null,null,null,null,null,null,null,null,null,null,null,null,null,null,null,null,null,null,null,null,null,null,null,null,null,null,null,null,null,null,null,null,null,null,null,null,null,null,null,null,null,null,null,null,null,null,null,null,null,{"$f":"+Calculations!$C$62","v":0},null,{"$f":"+Calculations!$C$70","v":0}]
[]
[]
[]
[]
[]
[]
[]
[]
[]
[]
[]
[null,null,null,null,null,null,null,null,null,null,null,null,null,null,null,null,null,null,null,null,null,null,null,null,null,null,null,null,null,null,null,null,null,null,null,null,null,null,null,null,null,null,null,null,null,null,null,null,null,null,null,null,null,null,null,null,null,null,null,null,null,null,null,null,null,null,null,null,null,null,null,null,null,null,null,null,null,null,null,null,null,null,null,null,null,null,null,null,null,null,null,null,null,null,null,null,null,null,null,null,null,null,null,null,null,null,null,null,null,null,null,null,null,null,null,null,null,null,null,null,null,null,null,null,null,null,null,null,null,null,null,null,null,null,null,null,null,null,null,null,null,null,null,null,null,null,null,null,null,null,null,null,null,null,null,null,{"$f":"+Calculations!$C$63","v":0}]
[]
[]
[]
[]
[]
[]
[]
[]
[]
[]
[]
[]
[null,null,null,null,null,null,null,null,null,null,null,null,null,null,null,null,null,null,null,null,null,null,null,null,null,null,null,null,null,null,null,null,null,null,null,null,null,null,null,null,null,null,null,null,null,null,null,null,null,null,null,null,null,null,null,null,null,null,null,null,null,null,null,null,null,null,null,null,null,null,null,null,null,null,null,null,null,null,null,null,null,null,null,null,null,null,null,null,null,null,null,null,null,null,null,null,null,null,null,null,null,null,null,null,null,null,null,null,null,null,null,null,null,null,null,null,null,null,null,null,null,null,null,null,null,null,null,null,null,null,null,null,null,null,null,null,null,null,null,null,null,null,null,null,null,null,null,null,null,null,null,null,null,null,null,null,"Spread of Responses by Area "]
[]
[null,null,null,null,null,null,null,null,null,null,null,null,null,null,null,null,null,null,null,null,null,null,null,null,null,null,null,null,null,null,null,null,null,null,null,null,null,null,null,null,null,null,null,null,null,null,null,null,null,null,null,null,null,null,null,null,null,null,null,null,null,null,null,null,null,null,null,null,null,null,null,null,null,null,null,null,null,null,null,null,null,null,null,null,null,null,null,null,null,null,null,null,null,null,null,null,null,null,null,null,null,null,null,null,null,null,null,null,null,null,null,null,null,null,null,null,null,null,null,null,null,null,null,null,null,null,null,null,null,null,null,null,null,null,null,null,null,null,null,null,null,null,null,null,null,null,null,null,null,null,null,null,null,null,null,null,{"$f":"+'DE_Areas & Ind'!$AA$5","v":"Area V"}]
[null,null,null,null,null,null,null,null,null,null,null,null,null,null,null,null,null,null,null,null,null,null,null,null,null,null,null,null,null,null,null,null,null,null,null,null,null,null,null,null,null,null,null,null,null,null,null,null,null,null,null,null,null,null,null,null,null,null,null,null,null,null,null,null,null,null,null,null,null,null,null,null,null,null,null,null,null,null,null,null,null,null,null,null,null,null,null,null,null,null,null,null,null,null,null,null,null,null,null,null,null,null,null,null,null,null,null,null,null,null,null,null,null,null,null,null,null,null,null,null,null,null,null,null,null,null,null,null,null,null,null,null,null,null,null,null,null,null,null,null,null,null,null,null,null,null,null,null,null,null,null,null,null,null,null,null,{"$f":"+'DE_Areas & Ind'!$AA$6","v":0}]
[]
[null,null,null,null,null,null,null,null,null,null,null,null,null,null,null,null,null,null,null,null,null,null,null,null,null,null,null,null,null,null,null,null,null,null,null,null,null,null,null,null,null,null,null,null,null,null,null,null,null,null,null,null,null,null,null,null,null,null,null,null,null,null,null,null,null,null,null,null,null,null,null,null,null,null,null,null,null,null,null,null,null,null,null,null,null,null,null,null,null,null,null,null,null,null,null,null,null,null,null,null,null,null,null,null,null,null,null,null,null,null,null,null,null,null,null,null,null,null,null,null,null,null,null,null,null,null,null,null,null,null,null,null,null,null,null,null,null,null,null,null,null,null,null,null,null,null,null,null,null,null,null,null,null,null,null,null,{"$f":"+Calculations!$C$71","v":0},null,{"$f":"+Calculations!$C$79","v":0}]
[]
[]
[]
[]
[]
[]
[]
[]
[]
[]
[]
[null,null,null,null,null,null,null,null,null,null,null,null,null,null,null,null,null,null,null,null,null,null,null,null,null,null,null,null,null,null,null,null,null,null,null,null,null,null,null,null,null,null,null,null,null,null,null,null,null,null,null,null,null,null,null,null,null,null,null,null,null,null,null,null,null,null,null,null,null,null,null,null,null,null,null,null,null,null,null,null,null,null,null,null,null,null,null,null,null,null,null,null,null,null,null,null,null,null,null,null,null,null,null,null,null,null,null,null,null,null,null,null,null,null,null,null,null,null,null,null,null,null,null,null,null,null,null,null,null,null,null,null,null,null,null,null,null,null,null,null,null,null,null,null,null,null,null,null,null,null,null,null,null,null,null,null,{"$f":"+Calculations!$C$72","v":0},null,{"$f":"+Calculations!$C$80","v":0}]
[]
[]
[]
[]
[]
[]
[]
[]
[]
[]
[]
[null,null,null,null,null,null,null,null,null,null,null,null,null,null,null,null,null,null,null,null,null,null,null,null,null,null,null,null,null,null,null,null,null,null,null,null,null,null,null,null,null,null,null,null,null,null,null,null,null,null,null,null,null,null,null,null,null,null,null,null,null,null,null,null,null,null,null,null,null,null,null,null,null,null,null,null,null,null,null,null,null,null,null,null,null,null,null,null,null,null,null,null,null,null,null,null,null,null,null,null,null,null,null,null,null,null,null,null,null,null,null,null,null,null,null,null,null,null,null,null,null,null,null,null,null,null,null,null,null,null,null,null,null,null,null,null,null,null,null,null,null,null,null,null,null,null,null,null,null,null,null,null,null,null,null,null,{"$f":"+Calculations!$C$73","v":0},null,{"$f":"+Calculations!$C$81","v":0}]
[]
[]
[]
[]
[]
[]
[]
[]
[]
[]
[]
[null,null,null,null,null,null,null,null,null,null,null,null,null,null,null,null,null,null,null,null,null,null,null,null,null,null,null,null,null,null,null,null,null,null,null,null,null,null,null,null,null,null,null,null,null,null,null,null,null,null,null,null,null,null,null,null,null,null,null,null,null,null,null,null,null,null,null,null,null,null,null,null,null,null,null,null,null,null,null,null,null,null,null,null,null,null,null,null,null,null,null,null,null,null,null,null,null,null,null,null,null,null,null,null,null,null,null,null,null,null,null,null,null,null,null,null,null,null,null,null,null,null,null,null,null,null,null,null,null,null,null,null,null,null,null,null,null,null,null,null,null,null,null,null,null,null,null,null,null,null,null,null,null,null,null,null,{"$f":"+Calculations!$C$74","v":0},null,{"$f":"+Calculations!$C$82","v":0}]
[]
[]
[]
[]
[]
[]
[]
[]
[]
[]
[]
[null,null,null,null,null,null,null,null,null,null,null,null,null,null,null,null,null,null,null,null,null,null,null,null,null,null,null,null,null,null,null,null,null,null,null,null,null,null,null,null,null,null,null,null,null,null,null,null,null,null,null,null,null,null,null,null,null,null,null,null,null,null,null,null,null,null,null,null,null,null,null,null,null,null,null,null,null,null,null,null,null,null,null,null,null,null,null,null,null,null,null,null,null,null,null,null,null,null,null,null,null,null,null,null,null,null,null,null,null,null,null,null,null,null,null,null,null,null,null,null,null,null,null,null,null,null,null,null,null,null,null,null,null,null,null,null,null,null,null,null,null,null,null,null,null,null,null,null,null,null,null,null,null,null,null,null,{"$f":"+Calculations!$C$75","v":0},null,{"$f":"+Calculations!$C$83","v":0}]
[]
[]
[]
[]
[]
[]
[]
[]
[]
[]
[]
[null,null,null,null,null,null,null,null,null,null,null,null,null,null,null,null,null,null,null,null,null,null,null,null,null,null,null,null,null,null,null,null,null,null,null,null,null,null,null,null,null,null,null,null,null,null,null,null,null,null,null,null,null,null,null,null,null,null,null,null,null,null,null,null,null,null,null,null,null,null,null,null,null,null,null,null,null,null,null,null,null,null,null,null,null,null,null,null,null,null,null,null,null,null,null,null,null,null,null,null,null,null,null,null,null,null,null,null,null,null,null,null,null,null,null,null,null,null,null,null,null,null,null,null,null,null,null,null,null,null,null,null,null,null,null,null,null,null,null,null,null,null,null,null,null,null,null,null,null,null,null,null,null,null,null,null,{"$f":"+Calculations!$C$76","v":0},null,{"$f":"+Calculations!$C$84","v":0}]
[]
[]
[]
[]
[]
[]
[]
[]
[]
[]
[]
[null,null,null,null,null,null,null,null,null,null,null,null,null,null,null,null,null,null,null,null,null,null,null,null,null,null,null,null,null,null,null,null,null,null,null,null,null,null,null,null,null,null,null,null,null,null,null,null,null,null,null,null,null,null,null,null,null,null,null,null,null,null,null,null,null,null,null,null,null,null,null,null,null,null,null,null,null,null,null,null,null,null,null,null,null,null,null,null,null,null,null,null,null,null,null,null,null,null,null,null,null,null,null,null,null,null,null,null,null,null,null,null,null,null,null,null,null,null,null,null,null,null,null,null,null,null,null,null,null,null,null,null,null,null,null,null,null,null,null,null,null,null,null,null,null,null,null,null,null,null,null,null,null,null,null,null,{"$f":"+Calculations!$C$77","v":0},null,{"$f":"+Calculations!$C$85","v":0}]
[]
[]
[]
[]
[]
[]
[]
[]
[]
[]
[]
[null,null,null,null,null,null,null,null,null,null,null,null,null,null,null,null,null,null,null,null,null,null,null,null,null,null,null,null,null,null,null,null,null,null,null,null,null,null,null,null,null,null,null,null,null,null,null,null,null,null,null,null,null,null,null,null,null,null,null,null,null,null,null,null,null,null,null,null,null,null,null,null,null,null,null,null,null,null,null,null,null,null,null,null,null,null,null,null,null,null,null,null,null,null,null,null,null,null,null,null,null,null,null,null,null,null,null,null,null,null,null,null,null,null,null,null,null,null,null,null,null,null,null,null,null,null,null,null,null,null,null,null,null,null,null,null,null,null,null,null,null,null,null,null,null,null,null,null,null,null,null,null,null,null,null,null,{"$f":"+Calculations!$C$78","v":0}]
[]
[]
[]
[]
[]
[]
[]
[]
[]
[]
[]
[]
[null,null,null,null,null,null,null,null,null,null,null,null,null,null,null,null,null,null,null,null,null,null,null,null,null,null,null,null,null,null,null,null,null,null,null,null,null,null,null,null,null,null,null,null,null,null,null,null,null,null,null,null,null,null,null,null,null,null,null,null,null,null,null,null,null,null,null,null,null,null,null,null,null,null,null,null,null,null,null,null,null,null,null,null,null,null,null,null,null,null,null,null,null,null,null,null,null,null,null,null,null,null,null,null,null,null,null,null,null,null,null,null,null,null,null,null,null,null,null,null,null,null,null,null,null,null,null,null,null,null,null,null,null,null,null,null,null,null,null,null,null,null,null,null,null,null,null,null,null,null,null,null,null,null,null,null,"Spread of Responses by Area "]
[]
[null,null,null,null,null,null,null,null,null,null,null,null,null,null,null,null,null,null,null,null,null,null,null,null,null,null,null,null,null,null,null,null,null,null,null,null,null,null,null,null,null,null,null,null,null,null,null,null,null,null,null,null,null,null,null,null,null,null,null,null,null,null,null,null,null,null,null,null,null,null,null,null,null,null,null,null,null,null,null,null,null,null,null,null,null,null,null,null,null,null,null,null,null,null,null,null,null,null,null,null,null,null,null,null,null,null,null,null,null,null,null,null,null,null,null,null,null,null,null,null,null,null,null,null,null,null,null,null,null,null,null,null,null,null,null,null,null,null,null,null,null,null,null,null,null,null,null,null,null,null,null,null,null,null,null,null,{"$f":"+'DE_Areas & Ind'!$C$27","v":"Area VI"}]
[null,null,null,null,null,null,null,null,null,null,null,null,null,null,null,null,null,null,null,null,null,null,null,null,null,null,null,null,null,null,null,null,null,null,null,null,null,null,null,null,null,null,null,null,null,null,null,null,null,null,null,null,null,null,null,null,null,null,null,null,null,null,null,null,null,null,null,null,null,null,null,null,null,null,null,null,null,null,null,null,null,null,null,null,null,null,null,null,null,null,null,null,null,null,null,null,null,null,null,null,null,null,null,null,null,null,null,null,null,null,null,null,null,null,null,null,null,null,null,null,null,null,null,null,null,null,null,null,null,null,null,null,null,null,null,null,null,null,null,null,null,null,null,null,null,null,null,null,null,null,null,null,null,null,null,null,{"$f":"+'DE_Areas & Ind'!$C$28","v":0}]
[]
[null,null,null,null,null,null,null,null,null,null,null,null,null,null,null,null,null,null,null,null,null,null,null,null,null,null,null,null,null,null,null,null,null,null,null,null,null,null,null,null,null,null,null,null,null,null,null,null,null,null,null,null,null,null,null,null,null,null,null,null,null,null,null,null,null,null,null,null,null,null,null,null,null,null,null,null,null,null,null,null,null,null,null,null,null,null,null,null,null,null,null,null,null,null,null,null,null,null,null,null,null,null,null,null,null,null,null,null,null,null,null,null,null,null,null,null,null,null,null,null,null,null,null,null,null,null,null,null,null,null,null,null,null,null,null,null,null,null,null,null,null,null,null,null,null,null,null,null,null,null,null,null,null,null,null,null,{"$f":"+Calculations!$C$86","v":0},null,{"$f":"+Calculations!$C$94","v":0}]
[]
[]
[]
[]
[]
[]
[]
[]
[]
[]
[]
[null,null,null,null,null,null,null,null,null,null,null,null,null,null,null,null,null,null,null,null,null,null,null,null,null,null,null,null,null,null,null,null,null,null,null,null,null,null,null,null,null,null,null,null,null,null,null,null,null,null,null,null,null,null,null,null,null,null,null,null,null,null,null,null,null,null,null,null,null,null,null,null,null,null,null,null,null,null,null,null,null,null,null,null,null,null,null,null,null,null,null,null,null,null,null,null,null,null,null,null,null,null,null,null,null,null,null,null,null,null,null,null,null,null,null,null,null,null,null,null,null,null,null,null,null,null,null,null,null,null,null,null,null,null,null,null,null,null,null,null,null,null,null,null,null,null,null,null,null,null,null,null,null,null,null,null,{"$f":"+Calculations!$C$87","v":0},null,{"$f":"+Calculations!$C$95","v":0}]
[]
[]
[]
[]
[]
[]
[]
[]
[]
[]
[]
[null,null,null,null,null,null,null,null,null,null,null,null,null,null,null,null,null,null,null,null,null,null,null,null,null,null,null,null,null,null,null,null,null,null,null,null,null,null,null,null,null,null,null,null,null,null,null,null,null,null,null,null,null,null,null,null,null,null,null,null,null,null,null,null,null,null,null,null,null,null,null,null,null,null,null,null,null,null,null,null,null,null,null,null,null,null,null,null,null,null,null,null,null,null,null,null,null,null,null,null,null,null,null,null,null,null,null,null,null,null,null,null,null,null,null,null,null,null,null,null,null,null,null,null,null,null,null,null,null,null,null,null,null,null,null,null,null,null,null,null,null,null,null,null,null,null,null,null,null,null,null,null,null,null,null,null,{"$f":"+Calculations!$C$88","v":0},null,{"$f":"+Calculations!$C$96","v":0}]
[]
[]
[]
[]
[]
[]
[]
[]
[]
[]
[]
[null,null,null,null,null,null,null,null,null,null,null,null,null,null,null,null,null,null,null,null,null,null,null,null,null,null,null,null,null,null,null,null,null,null,null,null,null,null,null,null,null,null,null,null,null,null,null,null,null,null,null,null,null,null,null,null,null,null,null,null,null,null,null,null,null,null,null,null,null,null,null,null,null,null,null,null,null,null,null,null,null,null,null,null,null,null,null,null,null,null,null,null,null,null,null,null,null,null,null,null,null,null,null,null,null,null,null,null,null,null,null,null,null,null,null,null,null,null,null,null,null,null,null,null,null,null,null,null,null,null,null,null,null,null,null,null,null,null,null,null,null,null,null,null,null,null,null,null,null,null,null,null,null,null,null,null,{"$f":"+Calculations!$C$89","v":0},null,{"$f":"+Calculations!$C$97","v":0}]
[]
[]
[]
[]
[]
[]
[]
[]
[]
[]
[]
[null,null,null,null,null,null,null,null,null,null,null,null,null,null,null,null,null,null,null,null,null,null,null,null,null,null,null,null,null,null,null,null,null,null,null,null,null,null,null,null,null,null,null,null,null,null,null,null,null,null,null,null,null,null,null,null,null,null,null,null,null,null,null,null,null,null,null,null,null,null,null,null,null,null,null,null,null,null,null,null,null,null,null,null,null,null,null,null,null,null,null,null,null,null,null,null,null,null,null,null,null,null,null,null,null,null,null,null,null,null,null,null,null,null,null,null,null,null,null,null,null,null,null,null,null,null,null,null,null,null,null,null,null,null,null,null,null,null,null,null,null,null,null,null,null,null,null,null,null,null,null,null,null,null,null,null,{"$f":"+Calculations!$C$90","v":0},null,{"$f":"+Calculations!$C$98","v":0}]
[]
[]
[]
[]
[]
[]
[]
[]
[]
[]
[]
[null,null,null,null,null,null,null,null,null,null,null,null,null,null,null,null,null,null,null,null,null,null,null,null,null,null,null,null,null,null,null,null,null,null,null,null,null,null,null,null,null,null,null,null,null,null,null,null,null,null,null,null,null,null,null,null,null,null,null,null,null,null,null,null,null,null,null,null,null,null,null,null,null,null,null,null,null,null,null,null,null,null,null,null,null,null,null,null,null,null,null,null,null,null,null,null,null,null,null,null,null,null,null,null,null,null,null,null,null,null,null,null,null,null,null,null,null,null,null,null,null,null,null,null,null,null,null,null,null,null,null,null,null,null,null,null,null,null,null,null,null,null,null,null,null,null,null,null,null,null,null,null,null,null,null,null,{"$f":"+Calculations!$C$91","v":0},null,{"$f":"+Calculations!$C$99","v":0}]
[]
[]
[]
[]
[]
[]
[]
[]
[]
[]
[]
[null,null,null,null,null,null,null,null,null,null,null,null,null,null,null,null,null,null,null,null,null,null,null,null,null,null,null,null,null,null,null,null,null,null,null,null,null,null,null,null,null,null,null,null,null,null,null,null,null,null,null,null,null,null,null,null,null,null,null,null,null,null,null,null,null,null,null,null,null,null,null,null,null,null,null,null,null,null,null,null,null,null,null,null,null,null,null,null,null,null,null,null,null,null,null,null,null,null,null,null,null,null,null,null,null,null,null,null,null,null,null,null,null,null,null,null,null,null,null,null,null,null,null,null,null,null,null,null,null,null,null,null,null,null,null,null,null,null,null,null,null,null,null,null,null,null,null,null,null,null,null,null,null,null,null,null,{"$f":"+Calculations!$C$92","v":0},null,{"$f":"+Calculations!$C$100","v":0}]
[]
[]
[]
[]
[]
[]
[]
[]
[]
[]
[]
[null,null,null,null,null,null,null,null,null,null,null,null,null,null,null,null,null,null,null,null,null,null,null,null,null,null,null,null,null,null,null,null,null,null,null,null,null,null,null,null,null,null,null,null,null,null,null,null,null,null,null,null,null,null,null,null,null,null,null,null,null,null,null,null,null,null,null,null,null,null,null,null,null,null,null,null,null,null,null,null,null,null,null,null,null,null,null,null,null,null,null,null,null,null,null,null,null,null,null,null,null,null,null,null,null,null,null,null,null,null,null,null,null,null,null,null,null,null,null,null,null,null,null,null,null,null,null,null,null,null,null,null,null,null,null,null,null,null,null,null,null,null,null,null,null,null,null,null,null,null,null,null,null,null,null,null,{"$f":"+Calculations!$C$93","v":0}]
[]
[]
[]
[]
[]
[]
[]
[]
[]
[]
[]
[]
[null,null,null,null,null,null,null,null,null,null,null,null,null,null,null,null,null,null,null,null,null,null,null,null,null,null,null,null,null,null,null,null,null,null,null,null,null,null,null,null,null,null,null,null,null,null,null,null,null,null,null,null,null,null,null,null,null,null,null,null,null,null,null,null,null,null,null,null,null,null,null,null,null,null,null,null,null,null,null,null,null,null,null,null,null,null,null,null,null,null,null,null,null,null,null,null,null,null,null,null,null,null,null,null,null,null,null,null,null,null,null,null,null,null,null,null,null,null,null,null,null,null,null,null,null,null,null,null,null,null,null,null,null,null,null,null,null,null,null,null,null,null,null,null,null,null,null,null,null,null,null,null,null,null,null,null,"Spread of Responses by Area "]
[]
[null,null,null,null,null,null,null,null,null,null,null,null,null,null,null,null,null,null,null,null,null,null,null,null,null,null,null,null,null,null,null,null,null,null,null,null,null,null,null,null,null,null,null,null,null,null,null,null,null,null,null,null,null,null,null,null,null,null,null,null,null,null,null,null,null,null,null,null,null,null,null,null,null,null,null,null,null,null,null,null,null,null,null,null,null,null,null,null,null,null,null,null,null,null,null,null,null,null,null,null,null,null,null,null,null,null,null,null,null,null,null,null,null,null,null,null,null,null,null,null,null,null,null,null,null,null,null,null,null,null,null,null,null,null,null,null,null,null,null,null,null,null,null,null,null,null,null,null,null,null,null,null,null,null,null,null,{"$f":"+'DE_Areas & Ind'!$I$27","v":"Area VII"}]
[null,null,null,null,null,null,null,null,null,null,null,null,null,null,null,null,null,null,null,null,null,null,null,null,null,null,null,null,null,null,null,null,null,null,null,null,null,null,null,null,null,null,null,null,null,null,null,null,null,null,null,null,null,null,null,null,null,null,null,null,null,null,null,null,null,null,null,null,null,null,null,null,null,null,null,null,null,null,null,null,null,null,null,null,null,null,null,null,null,null,null,null,null,null,null,null,null,null,null,null,null,null,null,null,null,null,null,null,null,null,null,null,null,null,null,null,null,null,null,null,null,null,null,null,null,null,null,null,null,null,null,null,null,null,null,null,null,null,null,null,null,null,null,null,null,null,null,null,null,null,null,null,null,null,null,null,{"$f":"+'DE_Areas & Ind'!$I$28","v":0}]
[]
[null,null,null,null,null,null,null,null,null,null,null,null,null,null,null,null,null,null,null,null,null,null,null,null,null,null,null,null,null,null,null,null,null,null,null,null,null,null,null,null,null,null,null,null,null,null,null,null,null,null,null,null,null,null,null,null,null,null,null,null,null,null,null,null,null,null,null,null,null,null,null,null,null,null,null,null,null,null,null,null,null,null,null,null,null,null,null,null,null,null,null,null,null,null,null,null,null,null,null,null,null,null,null,null,null,null,null,null,null,null,null,null,null,null,null,null,null,null,null,null,null,null,null,null,null,null,null,null,null,null,null,null,null,null,null,null,null,null,null,null,null,null,null,null,null,null,null,null,null,null,null,null,null,null,null,null,{"$f":"+Calculations!$C$101","v":0},null,{"$f":"+Calculations!$C$109","v":0}]
[]
[]
[]
[]
[]
[]
[]
[]
[]
[]
[]
[null,null,null,null,null,null,null,null,null,null,null,null,null,null,null,null,null,null,null,null,null,null,null,null,null,null,null,null,null,null,null,null,null,null,null,null,null,null,null,null,null,null,null,null,null,null,null,null,null,null,null,null,null,null,null,null,null,null,null,null,null,null,null,null,null,null,null,null,null,null,null,null,null,null,null,null,null,null,null,null,null,null,null,null,null,null,null,null,null,null,null,null,null,null,null,null,null,null,null,null,null,null,null,null,null,null,null,null,null,null,null,null,null,null,null,null,null,null,null,null,null,null,null,null,null,null,null,null,null,null,null,null,null,null,null,null,null,null,null,null,null,null,null,null,null,null,null,null,null,null,null,null,null,null,null,null,{"$f":"+Calculations!$C$102","v":0},null,{"$f":"+Calculations!$C$110","v":0}]
[]
[]
[]
[]
[]
[]
[]
[]
[]
[]
[]
[null,null,null,null,null,null,null,null,null,null,null,null,null,null,null,null,null,null,null,null,null,null,null,null,null,null,null,null,null,null,null,null,null,null,null,null,null,null,null,null,null,null,null,null,null,null,null,null,null,null,null,null,null,null,null,null,null,null,null,null,null,null,null,null,null,null,null,null,null,null,null,null,null,null,null,null,null,null,null,null,null,null,null,null,null,null,null,null,null,null,null,null,null,null,null,null,null,null,null,null,null,null,null,null,null,null,null,null,null,null,null,null,null,null,null,null,null,null,null,null,null,null,null,null,null,null,null,null,null,null,null,null,null,null,null,null,null,null,null,null,null,null,null,null,null,null,null,null,null,null,null,null,null,null,null,null,{"$f":"+Calculations!$C$103","v":0},null,{"$f":"+Calculations!$C$111","v":0}]
[]
[]
[]
[]
[]
[]
[]
[]
[]
[]
[]
[null,null,null,null,null,null,null,null,null,null,null,null,null,null,null,null,null,null,null,null,null,null,null,null,null,null,null,null,null,null,null,null,null,null,null,null,null,null,null,null,null,null,null,null,null,null,null,null,null,null,null,null,null,null,null,null,null,null,null,null,null,null,null,null,null,null,null,null,null,null,null,null,null,null,null,null,null,null,null,null,null,null,null,null,null,null,null,null,null,null,null,null,null,null,null,null,null,null,null,null,null,null,null,null,null,null,null,null,null,null,null,null,null,null,null,null,null,null,null,null,null,null,null,null,null,null,null,null,null,null,null,null,null,null,null,null,null,null,null,null,null,null,null,null,null,null,null,null,null,null,null,null,null,null,null,null,{"$f":"+Calculations!$C$104","v":0},null,{"$f":"+Calculations!$C$112","v":0}]
[]
[]
[]
[]
[]
[]
[]
[]
[]
[]
[]
[null,null,null,null,null,null,null,null,null,null,null,null,null,null,null,null,null,null,null,null,null,null,null,null,null,null,null,null,null,null,null,null,null,null,null,null,null,null,null,null,null,null,null,null,null,null,null,null,null,null,null,null,null,null,null,null,null,null,null,null,null,null,null,null,null,null,null,null,null,null,null,null,null,null,null,null,null,null,null,null,null,null,null,null,null,null,null,null,null,null,null,null,null,null,null,null,null,null,null,null,null,null,null,null,null,null,null,null,null,null,null,null,null,null,null,null,null,null,null,null,null,null,null,null,null,null,null,null,null,null,null,null,null,null,null,null,null,null,null,null,null,null,null,null,null,null,null,null,null,null,null,null,null,null,null,null,{"$f":"+Calculations!$C$105","v":0},null,{"$f":"+Calculations!$C$113","v":0}]
[]
[]
[]
[]
[]
[]
[]
[]
[]
[]
[]
[null,null,null,null,null,null,null,null,null,null,null,null,null,null,null,null,null,null,null,null,null,null,null,null,null,null,null,null,null,null,null,null,null,null,null,null,null,null,null,null,null,null,null,null,null,null,null,null,null,null,null,null,null,null,null,null,null,null,null,null,null,null,null,null,null,null,null,null,null,null,null,null,null,null,null,null,null,null,null,null,null,null,null,null,null,null,null,null,null,null,null,null,null,null,null,null,null,null,null,null,null,null,null,null,null,null,null,null,null,null,null,null,null,null,null,null,null,null,null,null,null,null,null,null,null,null,null,null,null,null,null,null,null,null,null,null,null,null,null,null,null,null,null,null,null,null,null,null,null,null,null,null,null,null,null,null,{"$f":"+Calculations!$C$106","v":0},null,{"$f":"+Calculations!$C$114","v":0}]
[]
[]
[]
[]
[]
[]
[]
[]
[]
[]
[]
[null,null,null,null,null,null,null,null,null,null,null,null,null,null,null,null,null,null,null,null,null,null,null,null,null,null,null,null,null,null,null,null,null,null,null,null,null,null,null,null,null,null,null,null,null,null,null,null,null,null,null,null,null,null,null,null,null,null,null,null,null,null,null,null,null,null,null,null,null,null,null,null,null,null,null,null,null,null,null,null,null,null,null,null,null,null,null,null,null,null,null,null,null,null,null,null,null,null,null,null,null,null,null,null,null,null,null,null,null,null,null,null,null,null,null,null,null,null,null,null,null,null,null,null,null,null,null,null,null,null,null,null,null,null,null,null,null,null,null,null,null,null,null,null,null,null,null,null,null,null,null,null,null,null,null,null,{"$f":"+Calculations!$C$107","v":0},null,{"$f":"+Calculations!$C$115","v":0}]
[]
[]
[]
[]
[]
[]
[]
[]
[]
[]
[]
[null,null,null,null,null,null,null,null,null,null,null,null,null,null,null,null,null,null,null,null,null,null,null,null,null,null,null,null,null,null,null,null,null,null,null,null,null,null,null,null,null,null,null,null,null,null,null,null,null,null,null,null,null,null,null,null,null,null,null,null,null,null,null,null,null,null,null,null,null,null,null,null,null,null,null,null,null,null,null,null,null,null,null,null,null,null,null,null,null,null,null,null,null,null,null,null,null,null,null,null,null,null,null,null,null,null,null,null,null,null,null,null,null,null,null,null,null,null,null,null,null,null,null,null,null,null,null,null,null,null,null,null,null,null,null,null,null,null,null,null,null,null,null,null,null,null,null,null,null,null,null,null,null,null,null,null,{"$f":"+Calculations!$C$108","v":0}]
[]
[]
[]
[]
[]
[]
[]
[]
[]
[]
[]
[]
[null,null,null,null,null,null,null,null,null,null,null,null,null,null,null,null,null,null,null,null,null,null,null,null,null,null,null,null,null,null,null,null,null,null,null,null,null,null,null,null,null,null,null,null,null,null,null,null,null,null,null,null,null,null,null,null,null,null,null,null,null,null,null,null,null,null,null,null,null,null,null,null,null,null,null,null,null,null,null,null,null,null,null,null,null,null,null,null,null,null,null,null,null,null,null,null,null,null,null,null,null,null,null,null,null,null,null,null,null,null,null,null,null,null,null,null,null,null,null,null,null,null,null,null,null,null,null,null,null,null,null,null,null,null,null,null,null,null,null,null,null,null,null,null,null,null,null,null,null,null,null,null,null,null,null,null,"Spread of Responses by Area "]
[]
[null,null,null,null,null,null,null,null,null,null,null,null,null,null,null,null,null,null,null,null,null,null,null,null,null,null,null,null,null,null,null,null,null,null,null,null,null,null,null,null,null,null,null,null,null,null,null,null,null,null,null,null,null,null,null,null,null,null,null,null,null,null,null,null,null,null,null,null,null,null,null,null,null,null,null,null,null,null,null,null,null,null,null,null,null,null,null,null,null,null,null,null,null,null,null,null,null,null,null,null,null,null,null,null,null,null,null,null,null,null,null,null,null,null,null,null,null,null,null,null,null,null,null,null,null,null,null,null,null,null,null,null,null,null,null,null,null,null,null,null,null,null,null,null,null,null,null,null,null,null,null,null,null,null,null,null,{"$f":"+'DE_Areas & Ind'!$O$27","v":"Area VIII"}]
[null,null,null,null,null,null,null,null,null,null,null,null,null,null,null,null,null,null,null,null,null,null,null,null,null,null,null,null,null,null,null,null,null,null,null,null,null,null,null,null,null,null,null,null,null,null,null,null,null,null,null,null,null,null,null,null,null,null,null,null,null,null,null,null,null,null,null,null,null,null,null,null,null,null,null,null,null,null,null,null,null,null,null,null,null,null,null,null,null,null,null,null,null,null,null,null,null,null,null,null,null,null,null,null,null,null,null,null,null,null,null,null,null,null,null,null,null,null,null,null,null,null,null,null,null,null,null,null,null,null,null,null,null,null,null,null,null,null,null,null,null,null,null,null,null,null,null,null,null,null,null,null,null,null,null,null,{"$f":"+'DE_Areas & Ind'!$O$28","v":0}]
[]
[null,null,null,null,null,null,null,null,null,null,null,null,null,null,null,null,null,null,null,null,null,null,null,null,null,null,null,null,null,null,null,null,null,null,null,null,null,null,null,null,null,null,null,null,null,null,null,null,null,null,null,null,null,null,null,null,null,null,null,null,null,null,null,null,null,null,null,null,null,null,null,null,null,null,null,null,null,null,null,null,null,null,null,null,null,null,null,null,null,null,null,null,null,null,null,null,null,null,null,null,null,null,null,null,null,null,null,null,null,null,null,null,null,null,null,null,null,null,null,null,null,null,null,null,null,null,null,null,null,null,null,null,null,null,null,null,null,null,null,null,null,null,null,null,null,null,null,null,null,null,null,null,null,null,null,null,{"$f":"+Calculations!$C$116","v":0},null,{"$f":"+Calculations!$C$124","v":0}]
[]
[]
[]
[]
[]
[]
[]
[]
[]
[]
[]
[null,null,null,null,null,null,null,null,null,null,null,null,null,null,null,null,null,null,null,null,null,null,null,null,null,null,null,null,null,null,null,null,null,null,null,null,null,null,null,null,null,null,null,null,null,null,null,null,null,null,null,null,null,null,null,null,null,null,null,null,null,null,null,null,null,null,null,null,null,null,null,null,null,null,null,null,null,null,null,null,null,null,null,null,null,null,null,null,null,null,null,null,null,null,null,null,null,null,null,null,null,null,null,null,null,null,null,null,null,null,null,null,null,null,null,null,null,null,null,null,null,null,null,null,null,null,null,null,null,null,null,null,null,null,null,null,null,null,null,null,null,null,null,null,null,null,null,null,null,null,null,null,null,null,null,null,{"$f":"+Calculations!$C$117","v":0},null,{"$f":"+Calculations!$C$125","v":0}]
[]
[]
[]
[]
[]
[]
[]
[]
[]
[]
[]
[null,null,null,null,null,null,null,null,null,null,null,null,null,null,null,null,null,null,null,null,null,null,null,null,null,null,null,null,null,null,null,null,null,null,null,null,null,null,null,null,null,null,null,null,null,null,null,null,null,null,null,null,null,null,null,null,null,null,null,null,null,null,null,null,null,null,null,null,null,null,null,null,null,null,null,null,null,null,null,null,null,null,null,null,null,null,null,null,null,null,null,null,null,null,null,null,null,null,null,null,null,null,null,null,null,null,null,null,null,null,null,null,null,null,null,null,null,null,null,null,null,null,null,null,null,null,null,null,null,null,null,null,null,null,null,null,null,null,null,null,null,null,null,null,null,null,null,null,null,null,null,null,null,null,null,null,{"$f":"+Calculations!$C$118","v":0},null,{"$f":"+Calculations!$C$126","v":0}]
[]
[]
[]
[]
[]
[]
[]
[]
[]
[]
[]
[null,null,null,null,null,null,null,null,null,null,null,null,null,null,null,null,null,null,null,null,null,null,null,null,null,null,null,null,null,null,null,null,null,null,null,null,null,null,null,null,null,null,null,null,null,null,null,null,null,null,null,null,null,null,null,null,null,null,null,null,null,null,null,null,null,null,null,null,null,null,null,null,null,null,null,null,null,null,null,null,null,null,null,null,null,null,null,null,null,null,null,null,null,null,null,null,null,null,null,null,null,null,null,null,null,null,null,null,null,null,null,null,null,null,null,null,null,null,null,null,null,null,null,null,null,null,null,null,null,null,null,null,null,null,null,null,null,null,null,null,null,null,null,null,null,null,null,null,null,null,null,null,null,null,null,null,{"$f":"+Calculations!$C$119","v":0},null,{"$f":"+Calculations!$C$127","v":0}]
[]
[]
[]
[]
[]
[]
[]
[]
[]
[]
[]
[null,null,null,null,null,null,null,null,null,null,null,null,null,null,null,null,null,null,null,null,null,null,null,null,null,null,null,null,null,null,null,null,null,null,null,null,null,null,null,null,null,null,null,null,null,null,null,null,null,null,null,null,null,null,null,null,null,null,null,null,null,null,null,null,null,null,null,null,null,null,null,null,null,null,null,null,null,null,null,null,null,null,null,null,null,null,null,null,null,null,null,null,null,null,null,null,null,null,null,null,null,null,null,null,null,null,null,null,null,null,null,null,null,null,null,null,null,null,null,null,null,null,null,null,null,null,null,null,null,null,null,null,null,null,null,null,null,null,null,null,null,null,null,null,null,null,null,null,null,null,null,null,null,null,null,null,{"$f":"+Calculations!$C$120","v":0},null,{"$f":"+Calculations!$C$128","v":0}]
[]
[]
[]
[]
[]
[]
[]
[]
[]
[]
[]
[null,null,null,null,null,null,null,null,null,null,null,null,null,null,null,null,null,null,null,null,null,null,null,null,null,null,null,null,null,null,null,null,null,null,null,null,null,null,null,null,null,null,null,null,null,null,null,null,null,null,null,null,null,null,null,null,null,null,null,null,null,null,null,null,null,null,null,null,null,null,null,null,null,null,null,null,null,null,null,null,null,null,null,null,null,null,null,null,null,null,null,null,null,null,null,null,null,null,null,null,null,null,null,null,null,null,null,null,null,null,null,null,null,null,null,null,null,null,null,null,null,null,null,null,null,null,null,null,null,null,null,null,null,null,null,null,null,null,null,null,null,null,null,null,null,null,null,null,null,null,null,null,null,null,null,null,{"$f":"+Calculations!$C$121","v":0},null,{"$f":"+Calculations!$C$129","v":0}]
[]
[]
[]
[]
[]
[]
[]
[]
[]
[]
[]
[null,null,null,null,null,null,null,null,null,null,null,null,null,null,null,null,null,null,null,null,null,null,null,null,null,null,null,null,null,null,null,null,null,null,null,null,null,null,null,null,null,null,null,null,null,null,null,null,null,null,null,null,null,null,null,null,null,null,null,null,null,null,null,null,null,null,null,null,null,null,null,null,null,null,null,null,null,null,null,null,null,null,null,null,null,null,null,null,null,null,null,null,null,null,null,null,null,null,null,null,null,null,null,null,null,null,null,null,null,null,null,null,null,null,null,null,null,null,null,null,null,null,null,null,null,null,null,null,null,null,null,null,null,null,null,null,null,null,null,null,null,null,null,null,null,null,null,null,null,null,null,null,null,null,null,null,{"$f":"+Calculations!$C$122","v":0},null,{"$f":"+Calculations!$C$130","v":0}]
[]
[]
[]
[]
[]
[]
[]
[]
[]
[]
[]
[null,null,null,null,null,null,null,null,null,null,null,null,null,null,null,null,null,null,null,null,null,null,null,null,null,null,null,null,null,null,null,null,null,null,null,null,null,null,null,null,null,null,null,null,null,null,null,null,null,null,null,null,null,null,null,null,null,null,null,null,null,null,null,null,null,null,null,null,null,null,null,null,null,null,null,null,null,null,null,null,null,null,null,null,null,null,null,null,null,null,null,null,null,null,null,null,null,null,null,null,null,null,null,null,null,null,null,null,null,null,null,null,null,null,null,null,null,null,null,null,null,null,null,null,null,null,null,null,null,null,null,null,null,null,null,null,null,null,null,null,null,null,null,null,null,null,null,null,null,null,null,null,null,null,null,null,{"$f":"+Calculations!$C$123","v":0}]
[]
[]
[]
[]
[]
[]
[]
[]
[]
[]
[]
[]
[null,null,null,null,null,null,null,null,null,null,null,null,null,null,null,null,null,null,null,null,null,null,null,null,null,null,null,null,null,null,null,null,null,null,null,null,null,null,null,null,null,null,null,null,null,null,null,null,null,null,null,null,null,null,null,null,null,null,null,null,null,null,null,null,null,null,null,null,null,null,null,null,null,null,null,null,null,null,null,null,null,null,null,null,null,null,null,null,null,null,null,null,null,null,null,null,null,null,null,null,null,null,null,null,null,null,null,null,null,null,null,null,null,null,null,null,null,null,null,null,null,null,null,null,null,null,null,null,null,null,null,null,null,null,null,null,null,null,null,null,null,null,null,null,null,null,null,null,null,null,null,null,null,null,null,null,"Spread of Responses by Area "]
[]
[null,null,null,null,null,null,null,null,null,null,null,null,null,null,null,null,null,null,null,null,null,null,null,null,null,null,null,null,null,null,null,null,null,null,null,null,null,null,null,null,null,null,null,null,null,null,null,null,null,null,null,null,null,null,null,null,null,null,null,null,null,null,null,null,null,null,null,null,null,null,null,null,null,null,null,null,null,null,null,null,null,null,null,null,null,null,null,null,null,null,null,null,null,null,null,null,null,null,null,null,null,null,null,null,null,null,null,null,null,null,null,null,null,null,null,null,null,null,null,null,null,null,null,null,null,null,null,null,null,null,null,null,null,null,null,null,null,null,null,null,null,null,null,null,null,null,null,null,null,null,null,null,null,null,null,null,{"$f":"+'DE_Areas & Ind'!$U$27","v":"Area IX"}]
[null,null,null,null,null,null,null,null,null,null,null,null,null,null,null,null,null,null,null,null,null,null,null,null,null,null,null,null,null,null,null,null,null,null,null,null,null,null,null,null,null,null,null,null,null,null,null,null,null,null,null,null,null,null,null,null,null,null,null,null,null,null,null,null,null,null,null,null,null,null,null,null,null,null,null,null,null,null,null,null,null,null,null,null,null,null,null,null,null,null,null,null,null,null,null,null,null,null,null,null,null,null,null,null,null,null,null,null,null,null,null,null,null,null,null,null,null,null,null,null,null,null,null,null,null,null,null,null,null,null,null,null,null,null,null,null,null,null,null,null,null,null,null,null,null,null,null,null,null,null,null,null,null,null,null,null,{"$f":"+'DE_Areas & Ind'!$U$28","v":0}]
[]
[null,null,null,null,null,null,null,null,null,null,null,null,null,null,null,null,null,null,null,null,null,null,null,null,null,null,null,null,null,null,null,null,null,null,null,null,null,null,null,null,null,null,null,null,null,null,null,null,null,null,null,null,null,null,null,null,null,null,null,null,null,null,null,null,null,null,null,null,null,null,null,null,null,null,null,null,null,null,null,null,null,null,null,null,null,null,null,null,null,null,null,null,null,null,null,null,null,null,null,null,null,null,null,null,null,null,null,null,null,null,null,null,null,null,null,null,null,null,null,null,null,null,null,null,null,null,null,null,null,null,null,null,null,null,null,null,null,null,null,null,null,null,null,null,null,null,null,null,null,null,null,null,null,null,null,null,{"$f":"+Calculations!$C$131","v":0},null,{"$f":"+Calculations!$C$139","v":0}]
[]
[]
[]
[]
[]
[]
[]
[]
[]
[]
[]
[null,null,null,null,null,null,null,null,null,null,null,null,null,null,null,null,null,null,null,null,null,null,null,null,null,null,null,null,null,null,null,null,null,null,null,null,null,null,null,null,null,null,null,null,null,null,null,null,null,null,null,null,null,null,null,null,null,null,null,null,null,null,null,null,null,null,null,null,null,null,null,null,null,null,null,null,null,null,null,null,null,null,null,null,null,null,null,null,null,null,null,null,null,null,null,null,null,null,null,null,null,null,null,null,null,null,null,null,null,null,null,null,null,null,null,null,null,null,null,null,null,null,null,null,null,null,null,null,null,null,null,null,null,null,null,null,null,null,null,null,null,null,null,null,null,null,null,null,null,null,null,null,null,null,null,null,{"$f":"+Calculations!$C$132","v":0},null,{"$f":"+Calculations!$C$140","v":0}]
[]
[]
[]
[]
[]
[]
[]
[]
[]
[]
[]
[null,null,null,null,null,null,null,null,null,null,null,null,null,null,null,null,null,null,null,null,null,null,null,null,null,null,null,null,null,null,null,null,null,null,null,null,null,null,null,null,null,null,null,null,null,null,null,null,null,null,null,null,null,null,null,null,null,null,null,null,null,null,null,null,null,null,null,null,null,null,null,null,null,null,null,null,null,null,null,null,null,null,null,null,null,null,null,null,null,null,null,null,null,null,null,null,null,null,null,null,null,null,null,null,null,null,null,null,null,null,null,null,null,null,null,null,null,null,null,null,null,null,null,null,null,null,null,null,null,null,null,null,null,null,null,null,null,null,null,null,null,null,null,null,null,null,null,null,null,null,null,null,null,null,null,null,{"$f":"+Calculations!$C$133","v":0},null,{"$f":"+Calculations!$C$141","v":0}]
[]
[]
[]
[]
[]
[]
[]
[]
[]
[]
[]
[null,null,null,null,null,null,null,null,null,null,null,null,null,null,null,null,null,null,null,null,null,null,null,null,null,null,null,null,null,null,null,null,null,null,null,null,null,null,null,null,null,null,null,null,null,null,null,null,null,null,null,null,null,null,null,null,null,null,null,null,null,null,null,null,null,null,null,null,null,null,null,null,null,null,null,null,null,null,null,null,null,null,null,null,null,null,null,null,null,null,null,null,null,null,null,null,null,null,null,null,null,null,null,null,null,null,null,null,null,null,null,null,null,null,null,null,null,null,null,null,null,null,null,null,null,null,null,null,null,null,null,null,null,null,null,null,null,null,null,null,null,null,null,null,null,null,null,null,null,null,null,null,null,null,null,null,{"$f":"+Calculations!$C$134","v":0},null,{"$f":"+Calculations!$C$142","v":0}]
[]
[]
[]
[]
[]
[]
[]
[]
[]
[]
[]
[null,null,null,null,null,null,null,null,null,null,null,null,null,null,null,null,null,null,null,null,null,null,null,null,null,null,null,null,null,null,null,null,null,null,null,null,null,null,null,null,null,null,null,null,null,null,null,null,null,null,null,null,null,null,null,null,null,null,null,null,null,null,null,null,null,null,null,null,null,null,null,null,null,null,null,null,null,null,null,null,null,null,null,null,null,null,null,null,null,null,null,null,null,null,null,null,null,null,null,null,null,null,null,null,null,null,null,null,null,null,null,null,null,null,null,null,null,null,null,null,null,null,null,null,null,null,null,null,null,null,null,null,null,null,null,null,null,null,null,null,null,null,null,null,null,null,null,null,null,null,null,null,null,null,null,null,{"$f":"+Calculations!$C$135","v":0},null,{"$f":"+Calculations!$C$143","v":0}]
[]
[]
[]
[]
[]
[]
[]
[]
[]
[]
[]
[null,null,null,null,null,null,null,null,null,null,null,null,null,null,null,null,null,null,null,null,null,null,null,null,null,null,null,null,null,null,null,null,null,null,null,null,null,null,null,null,null,null,null,null,null,null,null,null,null,null,null,null,null,null,null,null,null,null,null,null,null,null,null,null,null,null,null,null,null,null,null,null,null,null,null,null,null,null,null,null,null,null,null,null,null,null,null,null,null,null,null,null,null,null,null,null,null,null,null,null,null,null,null,null,null,null,null,null,null,null,null,null,null,null,null,null,null,null,null,null,null,null,null,null,null,null,null,null,null,null,null,null,null,null,null,null,null,null,null,null,null,null,null,null,null,null,null,null,null,null,null,null,null,null,null,null,{"$f":"+Calculations!$C$136","v":0},null,{"$f":"+Calculations!$C$144","v":0}]
[]
[]
[]
[]
[]
[]
[]
[]
[]
[]
[]
[null,null,null,null,null,null,null,null,null,null,null,null,null,null,null,null,null,null,null,null,null,null,null,null,null,null,null,null,null,null,null,null,null,null,null,null,null,null,null,null,null,null,null,null,null,null,null,null,null,null,null,null,null,null,null,null,null,null,null,null,null,null,null,null,null,null,null,null,null,null,null,null,null,null,null,null,null,null,null,null,null,null,null,null,null,null,null,null,null,null,null,null,null,null,null,null,null,null,null,null,null,null,null,null,null,null,null,null,null,null,null,null,null,null,null,null,null,null,null,null,null,null,null,null,null,null,null,null,null,null,null,null,null,null,null,null,null,null,null,null,null,null,null,null,null,null,null,null,null,null,null,null,null,null,null,null,{"$f":"+Calculations!$C$137","v":0},null,{"$f":"+Calculations!$C$145","v":0}]
[]
[]
[]
[]
[]
[]
[]
[]
[]
[]
[]
[null,null,null,null,null,null,null,null,null,null,null,null,null,null,null,null,null,null,null,null,null,null,null,null,null,null,null,null,null,null,null,null,null,null,null,null,null,null,null,null,null,null,null,null,null,null,null,null,null,null,null,null,null,null,null,null,null,null,null,null,null,null,null,null,null,null,null,null,null,null,null,null,null,null,null,null,null,null,null,null,null,null,null,null,null,null,null,null,null,null,null,null,null,null,null,null,null,null,null,null,null,null,null,null,null,null,null,null,null,null,null,null,null,null,null,null,null,null,null,null,null,null,null,null,null,null,null,null,null,null,null,null,null,null,null,null,null,null,null,null,null,null,null,null,null,null,null,null,null,null,null,null,null,null,null,null,{"$f":"+Calculations!$C$138","v":0}]
[]
[]
[]
[]
[]
[]
[]
[]
[]
[]
[]
[]
[null,null,null,null,null,null,null,null,null,null,null,null,null,null,null,null,null,null,null,null,null,null,null,null,null,null,null,null,null,null,null,null,null,null,null,null,null,null,null,null,null,null,null,null,null,null,null,null,null,null,null,null,null,null,null,null,null,null,null,null,null,null,null,null,null,null,null,null,null,null,null,null,null,null,null,null,null,null,null,null,null,null,null,null,null,null,null,null,null,null,null,null,null,null,null,null,null,null,null,null,null,null,null,null,null,null,null,null,null,null,null,null,null,null,null,null,null,null,null,null,null,null,null,null,null,null,null,null,null,null,null,null,null,null,null,null,null,null,null,null,null,null,null,null,null,null,null,null,null,null,null,null,null,null,null,null,"Spread of Responses by Area "]
[]
[null,null,null,null,null,null,null,null,null,null,null,null,null,null,null,null,null,null,null,null,null,null,null,null,null,null,null,null,null,null,null,null,null,null,null,null,null,null,null,null,null,null,null,null,null,null,null,null,null,null,null,null,null,null,null,null,null,null,null,null,null,null,null,null,null,null,null,null,null,null,null,null,null,null,null,null,null,null,null,null,null,null,null,null,null,null,null,null,null,null,null,null,null,null,null,null,null,null,null,null,null,null,null,null,null,null,null,null,null,null,null,null,null,null,null,null,null,null,null,null,null,null,null,null,null,null,null,null,null,null,null,null,null,null,null,null,null,null,null,null,null,null,null,null,null,null,null,null,null,null,null,null,null,null,null,null,{"$f":"+'DE_Areas & Ind'!$AA$27","v":"Area X"}]
[null,null,null,null,null,null,null,null,null,null,null,null,null,null,null,null,null,null,null,null,null,null,null,null,null,null,null,null,null,null,null,null,null,null,null,null,null,null,null,null,null,null,null,null,null,null,null,null,null,null,null,null,null,null,null,null,null,null,null,null,null,null,null,null,null,null,null,null,null,null,null,null,null,null,null,null,null,null,null,null,null,null,null,null,null,null,null,null,null,null,null,null,null,null,null,null,null,null,null,null,null,null,null,null,null,null,null,null,null,null,null,null,null,null,null,null,null,null,null,null,null,null,null,null,null,null,null,null,null,null,null,null,null,null,null,null,null,null,null,null,null,null,null,null,null,null,null,null,null,null,null,null,null,null,null,null,{"$f":"+'DE_Areas & Ind'!$AA$28","v":0}]
[]
[null,null,null,null,null,null,null,null,null,null,null,null,null,null,null,null,null,null,null,null,null,null,null,null,null,null,null,null,null,null,null,null,null,null,null,null,null,null,null,null,null,null,null,null,null,null,null,null,null,null,null,null,null,null,null,null,null,null,null,null,null,null,null,null,null,null,null,null,null,null,null,null,null,null,null,null,null,null,null,null,null,null,null,null,null,null,null,null,null,null,null,null,null,null,null,null,null,null,null,null,null,null,null,null,null,null,null,null,null,null,null,null,null,null,null,null,null,null,null,null,null,null,null,null,null,null,null,null,null,null,null,null,null,null,null,null,null,null,null,null,null,null,null,null,null,null,null,null,null,null,null,null,null,null,null,null,{"$f":"+Calculations!$C$146","v":0},null,{"$f":"+Calculations!$C$154","v":0}]
[]
[]
[]
[]
[]
[]
[]
[]
[]
[]
[]
[null,null,null,null,null,null,null,null,null,null,null,null,null,null,null,null,null,null,null,null,null,null,null,null,null,null,null,null,null,null,null,null,null,null,null,null,null,null,null,null,null,null,null,null,null,null,null,null,null,null,null,null,null,null,null,null,null,null,null,null,null,null,null,null,null,null,null,null,null,null,null,null,null,null,null,null,null,null,null,null,null,null,null,null,null,null,null,null,null,null,null,null,null,null,null,null,null,null,null,null,null,null,null,null,null,null,null,null,null,null,null,null,null,null,null,null,null,null,null,null,null,null,null,null,null,null,null,null,null,null,null,null,null,null,null,null,null,null,null,null,null,null,null,null,null,null,null,null,null,null,null,null,null,null,null,null,{"$f":"+Calculations!$C$146","v":0},null,{"$f":"+Calculations!$C$155","v":0}]
[]
[]
[]
[]
[]
[]
[]
[]
[]
[]
[]
[null,null,null,null,null,null,null,null,null,null,null,null,null,null,null,null,null,null,null,null,null,null,null,null,null,null,null,null,null,null,null,null,null,null,null,null,null,null,null,null,null,null,null,null,null,null,null,null,null,null,null,null,null,null,null,null,null,null,null,null,null,null,null,null,null,null,null,null,null,null,null,null,null,null,null,null,null,null,null,null,null,null,null,null,null,null,null,null,null,null,null,null,null,null,null,null,null,null,null,null,null,null,null,null,null,null,null,null,null,null,null,null,null,null,null,null,null,null,null,null,null,null,null,null,null,null,null,null,null,null,null,null,null,null,null,null,null,null,null,null,null,null,null,null,null,null,null,null,null,null,null,null,null,null,null,null,{"$f":"+Calculations!$C$148","v":0},null,{"$f":"+Calculations!$C$156","v":0}]
[]
[]
[]
[]
[]
[]
[]
[]
[]
[]
[]
[null,null,null,null,null,null,null,null,null,null,null,null,null,null,null,null,null,null,null,null,null,null,null,null,null,null,null,null,null,null,null,null,null,null,null,null,null,null,null,null,null,null,null,null,null,null,null,null,null,null,null,null,null,null,null,null,null,null,null,null,null,null,null,null,null,null,null,null,null,null,null,null,null,null,null,null,null,null,null,null,null,null,null,null,null,null,null,null,null,null,null,null,null,null,null,null,null,null,null,null,null,null,null,null,null,null,null,null,null,null,null,null,null,null,null,null,null,null,null,null,null,null,null,null,null,null,null,null,null,null,null,null,null,null,null,null,null,null,null,null,null,null,null,null,null,null,null,null,null,null,null,null,null,null,null,null,{"$f":"+Calculations!$C$149","v":0},null,{"$f":"+Calculations!$C$157","v":0}]
[]
[]
[]
[]
[]
[]
[]
[]
[]
[]
[]
[null,null,null,null,null,null,null,null,null,null,null,null,null,null,null,null,null,null,null,null,null,null,null,null,null,null,null,null,null,null,null,null,null,null,null,null,null,null,null,null,null,null,null,null,null,null,null,null,null,null,null,null,null,null,null,null,null,null,null,null,null,null,null,null,null,null,null,null,null,null,null,null,null,null,null,null,null,null,null,null,null,null,null,null,null,null,null,null,null,null,null,null,null,null,null,null,null,null,null,null,null,null,null,null,null,null,null,null,null,null,null,null,null,null,null,null,null,null,null,null,null,null,null,null,null,null,null,null,null,null,null,null,null,null,null,null,null,null,null,null,null,null,null,null,null,null,null,null,null,null,null,null,null,null,null,null,{"$f":"+Calculations!$C$150","v":0},null,{"$f":"+Calculations!$C$158","v":0}]
[]
[]
[]
[]
[]
[]
[]
[]
[]
[]
[]
[null,null,null,null,null,null,null,null,null,null,null,null,null,null,null,null,null,null,null,null,null,null,null,null,null,null,null,null,null,null,null,null,null,null,null,null,null,null,null,null,null,null,null,null,null,null,null,null,null,null,null,null,null,null,null,null,null,null,null,null,null,null,null,null,null,null,null,null,null,null,null,null,null,null,null,null,null,null,null,null,null,null,null,null,null,null,null,null,null,null,null,null,null,null,null,null,null,null,null,null,null,null,null,null,null,null,null,null,null,null,null,null,null,null,null,null,null,null,null,null,null,null,null,null,null,null,null,null,null,null,null,null,null,null,null,null,null,null,null,null,null,null,null,null,null,null,null,null,null,null,null,null,null,null,null,null,{"$f":"+Calculations!$C$151","v":0},null,{"$f":"+Calculations!$C$159","v":0}]
[]
[]
[]
[]
[]
[]
[]
[]
[]
[]
[]
[null,null,null,null,null,null,null,null,null,null,null,null,null,null,null,null,null,null,null,null,null,null,null,null,null,null,null,null,null,null,null,null,null,null,null,null,null,null,null,null,null,null,null,null,null,null,null,null,null,null,null,null,null,null,null,null,null,null,null,null,null,null,null,null,null,null,null,null,null,null,null,null,null,null,null,null,null,null,null,null,null,null,null,null,null,null,null,null,null,null,null,null,null,null,null,null,null,null,null,null,null,null,null,null,null,null,null,null,null,null,null,null,null,null,null,null,null,null,null,null,null,null,null,null,null,null,null,null,null,null,null,null,null,null,null,null,null,null,null,null,null,null,null,null,null,null,null,null,null,null,null,null,null,null,null,null,{"$f":"+Calculations!$C$152","v":0},null,{"$f":"+Calculations!$C$160","v":0}]
[]
[]
[]
[]
[]
[]
[]
[]
[]
[]
[]
[null,null,null,null,null,null,null,null,null,null,null,null,null,null,null,null,null,null,null,null,null,null,null,null,null,null,null,null,null,null,null,null,null,null,null,null,null,null,null,null,null,null,null,null,null,null,null,null,null,null,null,null,null,null,null,null,null,null,null,null,null,null,null,null,null,null,null,null,null,null,null,null,null,null,null,null,null,null,null,null,null,null,null,null,null,null,null,null,null,null,null,null,null,null,null,null,null,null,null,null,null,null,null,null,null,null,null,null,null,null,null,null,null,null,null,null,null,null,null,null,null,null,null,null,null,null,null,null,null,null,null,null,null,null,null,null,null,null,null,null,null,null,null,null,null,null,null,null,null,null,null,null,null,null,null,null,{"$f":"+Calculations!$C$153","v":0}]

{"sheet":"Calculations","index":4,"n_rows":2429,"n_cols":52,"rows_kept":2429,"cut":false,"hidden":false,"merged":[]}
[]
[]
[]
[]
[]
[]
[]
[]
[]
[null,null,null,"Total/indicador","Ranking","Promedio / Indicador",null,"Indicadores","Valor del Indicador ","Gap","Strongly disagree","Disagree","Agree","Strongly agree","Don't Know",null,null,"Ranking",null,null,null,null,null,null,null,null,null,null,null,null,null,"Area   I"]
[1,{"$f":"+'DE_Areas & Ind'!C8","v":0},{"$f":"+'DE_Areas & Ind'!D8","v":0},{"$f":"+DE_Capacity!C676","v":0},{"$f":"RANK(D11,$D$11:$D$160)","v":1},{"$f":"+DE_Capacity!E676","v":{"$error":"#DIV/0!"}},null,{"$f":"C11","v":0},{"$f":"D11/(DE_Capacity!$C$523*DE_Capacity!$AA$3)","v":{"$error":"#DIV/0!"}},{"$f":"1-I11","v":{"$error":"#DIV/0!"}},{"$f":"COUNTIF(DE_Capacity!$C$14:$C$43,1)","v":0},{"$f":"COUNTIF(DE_Capacity!$C$14:$C$43,2)","v":0},{"$f":"COUNTIF(DE_Capacity!$C$14:$C$43,3)","v":0},{"$f":"COUNTIF(DE_Capacity!$C$14:$C$43,4)","v":0},{"$f":"COUNTIF(DE_Capacity!$C$14:$C$43,0)","v":0},null,null,{"$f":"RANK(D11,$D$11:$D$160,0)","v":1},null,null,"c",1]
[2,{"$f":"+'DE_Areas & Ind'!C9","v":0},{"$f":"+'DE_Areas & Ind'!D9","v":0},{"$f":"+DE_Capacity!C677","v":0},{"$f":"RANK(D12,$D$11:$D$160)","v":1},{"$f":"+DE_Capacity!E677","v":{"$error":"#DIV/0!"}},null,{"$f":"C12","v":0},{"$f":"D12/(DE_Capacity!$C$523*DE_Capacity!$AA$3)","v":{"$error":"#DIV/0!"}},{"$f":"1-I12","v":{"$error":"#DIV/0!"}},{"$f":"COUNTIF(DE_Capacity!$D$14:$D$43,1)","v":0},{"$f":"COUNTIF(DE_Capacity!$D$14:$D$43,2)","v":0},{"$f":"COUNTIF(DE_Capacity!$D$14:$D$43,3)","v":0},{"$f":"COUNTIF(DE_Capacity!$D$14:$D$43,4)","v":0},{"$f":"COUNTIF(DE_Capacity!$D$14:$D$43,0)","v":0},null,null,{"$f":"RANK(D12,$D$11:$D$160,0)","v":1},null,null,"d",2]
[3,{"$f":"+'DE_Areas & Ind'!C10","v":0},{"$f":"+'DE_Areas & Ind'!D10","v":0},{"$f":"+DE_Capacity!C678","v":0},1,{"$f":"+DE_Capacity!E678","v":{"$error":"#DIV/0!"}},null,0,{"$f":"D13/(DE_Capacity!$C$523*DE_Capacity!$AA$3)","v":{"$error":"#DIV/0!"}},{"$error":"#DIV/0!"},{"$f":"COUNTIF(DE_Capacity!$E$14:$E$43,1)","v":0},{"$f":"COUNTIF(DE_Capacity!$E$14:$E$43,2)","v":0},{"$f":"COUNTIF(DE_Capacity!$E$14:$E$43,3)","v":0},{"$f":"COUNTIF(DE_Capacity!$E$14:$E$43,4)","v":0},{"$f":"COUNTIF(DE_Capacity!$E$14:$E$43,0)","v":0},null,null,1,null,null,"e",3]
[4,{"$f":"+'DE_Areas & Ind'!C11","v":0},{"$f":"+'DE_Areas & Ind'!D11","v":0},{"$f":"+DE_Capacity!C679","v":0},1,{"$f":"+DE_Capacity!E679","v":{"$error":"#DIV/0!"}},null,0,{"$f":"D14/(DE_Capacity!$C$523*DE_Capacity!$AA$3)","v":{"$error":"#DIV/0!"}},{"$error":"#DIV/0!"},{"$f":"COUNTIF(DE_Capacity!$F$14:$F$43,1)","v":0},{"$f":"COUNTIF(DE_Capacity!$F$14:$F$43,2)","v":0},{"$f":"COUNTIF(DE_Capacity!$F$14:$F$43,3)","v":0},{"$f":"COUNTIF(DE_Capacity!$F$14:$F$43,4)","v":0},{"$f":"COUNTIF(DE_Capacity!$F$14:$F$43,0)","v":0},null,null,1,null,null,"f",4]
[5,{"$f":"+'DE_Areas & Ind'!C12","v":0},{"$f":"+'DE_Areas & Ind'!D12","v":0},{"$f":"+DE_Capacity!C680","v":0},1,{"$f":"+DE_Capacity!E680","v":{"$error":"#DIV/0!"}},null,0,{"$f":"D15/(DE_Capacity!$C$523*DE_Capacity!$AA$3)","v":{"$error":"#DIV/0!"}},{"$error":"#DIV/0!"},{"$f":"COUNTIF(DE_Capacity!$G$14:$G$43,1)","v":0},{"$f":"COUNTIF(DE_Capacity!$G$14:$G$43,2)","v":0},{"$f":"COUNTIF(DE_Capacity!$G$14:$G$43,3)","v":0},{"$f":"COUNTIF(DE_Capacity!$G$14:$G$43,4)","v":0},{"$f":"COUNTIF(DE_Capacity!$G$14:$G$43,0)","v":0},null,null,1,null,null,"g",5]
[6,{"$f":"+'DE_Areas & Ind'!C13","v":0},{"$f":"+'DE_Areas & Ind'!D13","v":0},{"$f":"+DE_Capacity!C681","v":0},1,{"$f":"+DE_Capacity!E681","v":{"$error":"#DIV/0!"}},null,0,{"$f":"D16/(DE_Capacity!$C$523*DE_Capacity!$AA$3)","v":{"$error":"#DIV/0!"}},{"$error":"#DIV/0!"},{"$f":"COUNTIF(DE_Capacity!$H$14:$H$43,1)","v":0},{"$f":"COUNTIF(DE_Capacity!$H$14:$H$43,2)","v":0},{"$f":"COUNTIF(DE_Capacity!$H$14:$H$43,3)","v":0},{"$f":"COUNTIF(DE_Capacity!$H$14:$H$43,4)","v":0},{"$f":"COUNTIF(DE_Capacity!$H$14:$H$43,0)","v":0},null,null,1,null,null,"h",6]
[7,{"$f":"+'DE_Areas & Ind'!C14","v":0},{"$f":"+'DE_Areas & Ind'!D14","v":0},{"$f":"+DE_Capacity!C682","v":0},1,{"$f":"+DE_Capacity!E682","v":{"$error":"#DIV/0!"}},null,0,{"$f":"D17/(DE_Capacity!$C$523*DE_Capacity!$AA$3)","v":{"$error":"#DIV/0!"}},{"$error":"#DIV/0!"},{"$f":"COUNTIF(DE_Capacity!$I$14:$I$43,1)","v":0},{"$f":"COUNTIF(DE_Capacity!$I$14:$I$43,2)","v":0},{"$f":"COUNTIF(DE_Capacity!$I$14:$I$43,3)","v":0},{"$f":"COUNTIF(DE_Capacity!$I$14:$I$43,4)","v":0},{"$f":"COUNTIF(DE_Capacity!$I$14:$I$43,0)","v":0},null,null,1,null,null,"i",7]
[8,{"$f":"+'DE_Areas & Ind'!C15","v":0},{"$f":"+'DE_Areas & Ind'!D15","v":0},{"$f":"+DE_Capacity!C683","v":0},1,{"$f":"+DE_Capacity!E683","v":{"$error":"#DIV/0!"}},null,0,{"$f":"D18/(DE_Capacity!$C$523*DE_Capacity!$AA$3)","v":{"$error":"#DIV/0!"}},{"$error":"#DIV/0!"},{"$f":"COUNTIF(DE_Capacity!$J$14:$J$43,1)","v":0},{"$f":"COUNTIF(DE_Capacity!$J$14:$J$43,2)","v":0},{"$f":"COUNTIF(DE_Capacity!$J$14:$J$43,3)","v":0},{"$f":"COUNTIF(DE_Capacity!$J$14:$J$43,4)","v":0},{"$f":"COUNTIF(DE_Capacity!$J$14:$J$43,0)","v":0},null,null,1,null,null,"j",8]
[9,{"$f":"+'DE_Areas & Ind'!C16","v":0},{"$f":"+'DE_Areas & Ind'!D16","v":0},{"$f":"+DE_Capacity!C684","v":0},1,{"$f":"+DE_Capacity!E684","v":{"$error":"#DIV/0!"}},null,0,{"$f":"D19/(DE_Capacity!$C$523*DE_Capacity!$AA$3)","v":{"$error":"#DIV/0!"}},{"$error":"#DIV/0!"},{"$f":"COUNTIF(DE_Capacity!$K$14:$K$43,1)","v":0},{"$f":"COUNTIF(DE_Capacity!$K$14:$K$43,2)","v":0},{"$f":"COUNTIF(DE_Capacity!$K$14:$K$43,3)","v":0},{"$f":"COUNTIF(DE_Capacity!$K$14:$K$43,4)","v":0},{"$f":"COUNTIF(DE_Capacity!$K$14:$K$43,0)","v":0},null,null,1,null,null,"k",9]
[10,{"$f":"+'DE_Areas & Ind'!C17","v":0},{"$f":"+'DE_Areas & Ind'!D17","v":0},{"$f":"+DE_Capacity!C685","v":0},1,{"$f":"+DE_Capacity!E685","v":{"$error":"#DIV/0!"}},null,0,{"$f":"D20/(DE_Capacity!$C$523*DE_Capacity!$AA$3)","v":{"$error":"#DIV/0!"}},{"$error":"#DIV/0!"},{"$f":"COUNTIF(DE_Capacity!$L$14:$L$43,1)","v":0},{"$f":"COUNTIF(DE_Capacity!$L$14:$L$43,2)","v":0},{"$f":"COUNTIF(DE_Capacity!$L$14:$L$43,3)","v":0},{"$f":"COUNTIF(DE_Capacity!$L$14:$L$43,4)","v":0},{"$f":"COUNTIF(DE_Capacity!$L$14:$L$43,0)","v":0},null,null,1,null,null,"l",10]
[11,{"$f":"+'DE_Areas & Ind'!C18","v":0},{"$f":"+'DE_Areas & Ind'!D18","v":0},{"$f":"+DE_Capacity!C686","v":0},1,{"$f":"+DE_Capacity!E686","v":{"$error":"#DIV/0!"}},null,0,{"$f":"D21/(DE_Capacity!$C$523*DE_Capacity!$AA$3)","v":{"$error":"#DIV/0!"}},{"$error":"#DIV/0!"},{"$f":"COUNTIF(DE_Capacity!$M$14:$M$43,1)","v":0},{"$f":"COUNTIF(DE_Capacity!$M$14:$M$43,2)","v":0},{"$f":"COUNTIF(DE_Capacity!$M$14:$M$43,3)","v":0},{"$f":"COUNTIF(DE_Capacity!$M$14:$M$43,4)","v":0},{"$f":"COUNTIF(DE_Capacity!$M$14:$M$43,0)","v":0},null,null,1,null,null,"m",11]
[12,{"$f":"+'DE_Areas & Ind'!C19","v":0},{"$f":"+'DE_Areas & Ind'!D19","v":0},{"$f":"+DE_Capacity!C687","v":0},1,{"$f":"+DE_Capacity!E687","v":{"$error":"#DIV/0!"}},null,0,{"$f":"D22/(DE_Capacity!$C$523*DE_Capacity!$AA$3)","v":{"$error":"#DIV/0!"}},{"$error":"#DIV/0!"},{"$f":"COUNTIF(DE_Capacity!$N$14:$N$43,1)","v":0},{"$f":"COUNTIF(DE_Capacity!$N$14:$N$43,2)","v":0},{"$f":"COUNTIF(DE_Capacity!$N$14:$N$43,3)","v":0},{"$f":"COUNTIF(DE_Capacity!$N$14:$N$43,4)","v":0},{"$f":"COUNTIF(DE_Capacity!$N$14:$N$43,0)","v":0},null,null,1,null,null,"n",12]
[13,{"$f":"+'DE_Areas & Ind'!C20","v":0},{"$f":"+'DE_Areas & Ind'!D20","v":0},{"$f":"+DE_Capacity!C688","v":0},1,{"$f":"+DE_Capacity!E688","v":{"$error":"#DIV/0!"}},null,0,{"$f":"D23/(DE_Capacity!$C$523*DE_Capacity!$AA$3)","v":{"$error":"#DIV/0!"}},{"$error":"#DIV/0!"},{"$f":"COUNTIF(DE_Capacity!$O$14:$O$43,1)","v":0},{"$f":"COUNTIF(DE_Capacity!$O$14:$O$43,2)","v":0},{"$f":"COUNTIF(DE_Capacity!$O$14:$O$43,3)","v":0},{"$f":"COUNTIF(DE_Capacity!$O$14:$O$43,4)","v":0},{"$f":"COUNTIF(DE_Capacity!$O$14:$O$43,0)","v":0},null,null,1,null,null,"o",13]
[14,{"$f":"+'DE_Areas & Ind'!C21","v":0},{"$f":"+'DE_Areas & Ind'!D21","v":0},{"$f":"+DE_Capacity!C689","v":0},1,{"$f":"+DE_Capacity!E689","v":{"$error":"#DIV/0!"}},null,0,{"$f":"D24/(DE_Capacity!$C$523*DE_Capacity!$AA$3)","v":{"$error":"#DIV/0!"}},{"$error":"#DIV/0!"},{"$f":"COUNTIF(DE_Capacity!$P$14:$P$43,1)","v":0},{"$f":"COUNTIF(DE_Capacity!$P$14:$P$43,2)","v":0},{"$f":"COUNTIF(DE_Capacity!$P$14:$P$43,3)","v":0},{"$f":"COUNTIF(DE_Capacity!$P$14:$P$43,4)","v":0},{"$f":"COUNTIF(DE_Capacity!$P$14:$P$43,0)","v":0},null,null,1,null,null,"p",14]
[15,{"$f":"+'DE_Areas & Ind'!C22","v":0},{"$f":"+'DE_Areas & Ind'!D22","v":0},{"$f":"+DE_Capacity!C690","v":0},1,{"$f":"+DE_Capacity!E690","v":{"$error":"#DIV/0!"}},null,0,{"$f":"D25/(DE_Capacity!$C$523*DE_Capacity!$AA$3)","v":{"$error":"#DIV/0!"}},{"$error":"#DIV/0!"},{"$f":"COUNTIF(DE_Capacity!$Q$14:$Q$43,1)","v":0},{"$f":"COUNTIF(DE_Capacity!$Q$14:$Q$43,2)","v":0},{"$f":"COUNTIF(DE_Capacity!$Q$14:$Q$43,3)","v":0},{"$f":"COUNTIF(DE_Capacity!$Q$14:$Q$43,4)","v":0},{"$f":"COUNTIF(DE_Capacity!$Q$14:$Q$43,0)","v":0},null,null,1,null,null,"q",15]
[16,{"$f":"+'DE_Areas & Ind'!I8","v":0},{"$f":"+'DE_Areas & Ind'!J8","v":0},{"$f":"+DE_Capacity!C691","v":0},1,{"$f":"+DE_Capacity!E691","v":{"$error":"#DIV/0!"}},null,0,{"$f":"D26/(DE_Capacity!$C$523*DE_Capacity!$AA$3)","v":{"$error":"#DIV/0!"}},{"$error":"#DIV/0!"},{"$f":"COUNTIF(DE_Capacity!$R$14:$R$43,1)","v":0},{"$f":"COUNTIF(DE_Capacity!$R$14:$R$43,2)","v":0},{"$f":"COUNTIF(DE_Capacity!$R$14:$R$43,3)","v":0},{"$f":"COUNTIF(DE_Capacity!$R$14:$R$43,4)","v":0},{"$f":"COUNTIF(DE_Capacity!$R$14:$R$43,0)","v":0},null,null,1,null,null,"r",16]
[17,{"$f":"+'DE_Areas & Ind'!I9","v":0},{"$f":"+'DE_Areas & Ind'!J9","v":0},{"$f":"+DE_Capacity!C692","v":0},1,{"$f":"+DE_Capacity!E692","v":{"$error":"#DIV/0!"}},null,0,{"$f":"D27/(DE_Capacity!$C$523*DE_Capacity!$AA$3)","v":{"$error":"#DIV/0!"}},{"$error":"#DIV/0!"},{"$f":"COUNTIF(DE_Capacity!$S$14:$S$43,1)","v":0},{"$f":"COUNTIF(DE_Capacity!$S$14:$S$43,2)","v":0},{"$f":"COUNTIF(DE_Capacity!$S$14:$S$43,3)","v":0},{"$f":"COUNTIF(DE_Capacity!$S$14:$S$43,4)","v":0},{"$f":"COUNTIF(DE_Capacity!$S$14:$S$43,0)","v":0},null,null,1,null,null,"s",17]
[18,{"$f":"+'DE_Areas & Ind'!I10","v":0},{"$f":"+'DE_Areas & Ind'!J10","v":0},{"$f":"+DE_Capacity!C693","v":0},1,{"$f":"+DE_Capacity!E693","v":{"$error":"#DIV/0!"}},null,0,{"$f":"D28/(DE_Capacity!$C$523*DE_Capacity!$AA$3)","v":{"$error":"#DIV/0!"}},{"$error":"#DIV/0!"},{"$f":"COUNTIF(DE_Capacity!$T$14:$T$43,1)","v":0},{"$f":"COUNTIF(DE_Capacity!$T$14:$T$43,2)","v":0},{"$f":"COUNTIF(DE_Capacity!$T$14:$T$43,3)","v":0},{"$f":"COUNTIF(DE_Capacity!$T$14:$T$43,4)","v":0},{"$f":"COUNTIF(DE_Capacity!$T$14:$T$43,0)","v":0},null,null,1,null,null,"t",18]
[19,{"$f":"+'DE_Areas & Ind'!I11","v":0},{"$f":"+'DE_Areas & Ind'!J11","v":0},{"$f":"+DE_Capacity!C694","v":0},1,{"$f":"+DE_Capacity!E694","v":{"$error":"#DIV/0!"}},null,0,{"$f":"D29/(DE_Capacity!$C$523*DE_Capacity!$AA$3)","v":{"$error":"#DIV/0!"}},{"$error":"#DIV/0!"},{"$f":"COUNTIF(DE_Capacity!$U$14:$U$43,1)","v":0},{"$f":"COUNTIF(DE_Capacity!$U$14:$U$43,2)","v":0},{"$f":"COUNTIF(DE_Capacity!$U$14:$U$43,3)","v":0},{"$f":"COUNTIF(DE_Capacity!$U$14:$U$43,4)","v":0},{"$f":"COUNTIF(DE_Capacity!$U$14:$U$43,0)","v":0},null,null,1,null,null,"u",19]
[20,{"$f":"+'DE_Areas & Ind'!I12","v":0},{"$f":"+'DE_Areas & Ind'!J12","v":0},{"$f":"+DE_Capacity!C695","v":0},1,{"$f":"+DE_Capacity!E695","v":{"$error":"#DIV/0!"}},null,0,{"$f":"D30/(DE_Capacity!$C$523*DE_Capacity!$AA$3)","v":{"$error":"#DIV/0!"}},{"$error":"#DIV/0!"},{"$f":"COUNTIF(DE_Capacity!$V$14:$V$43,1)","v":0},{"$f":"COUNTIF(DE_Capacity!$V$14:$V$43,2)","v":0},{"$f":"COUNTIF(DE_Capacity!$V$14:$V$43,3)","v":0},{"$f":"COUNTIF(DE_Capacity!$V$14:$V$43,4)","v":0},{"$f":"COUNTIF(DE_Capacity!$V$14:$V$43,0)","v":0},null,null,1,null,null,"v",20]
[21,{"$f":"+'DE_Areas & Ind'!I13","v":0},{"$f":"+'DE_Areas & Ind'!J13","v":0},{"$f":"+DE_Capacity!C696","v":0},1,{"$f":"+DE_Capacity!E696","v":{"$error":"#DIV/0!"}},null,0,{"$f":"D31/(DE_Capacity!$C$523*DE_Capacity!$AA$3)","v":{"$error":"#DIV/0!"}},{"$error":"#DIV/0!"},{"$f":"COUNTIF(DE_Capacity!$W$14:$W$43,1)","v":0},{"$f":"COUNTIF(DE_Capacity!$W$14:$W$43,2)","v":0},{"$f":"COUNTIF(DE_Capacity!$W$14:$W$43,3)","v":0},{"$f":"COUNTIF(DE_Capacity!$W$14:$W$43,4)","v":0},{"$f":"COUNTIF(DE_Capacity!$W$14:$W$43,0)","v":0},null,null,1,null,null,"w",21]
[22,{"$f":"+'DE_Areas & Ind'!I14","v":0},{"$f":"+'DE_Areas & Ind'!J14","v":0},{"$f":"+DE_Capacity!C697","v":0},1,{"$f":"+DE_Capacity!E697","v":{"$error":"#DIV/0!"}},null,0,{"$f":"D32/(DE_Capacity!$C$523*DE_Capacity!$AA$3)","v":{"$error":"#DIV/0!"}},{"$error":"#DIV/0!"},{"$f":"COUNTIF(DE_Capacity!$X$14:$X$43,1)","v":0},{"$f":"COUNTIF(DE_Capacity!$X$14:$X$43,2)","v":0},{"$f":"COUNTIF(DE_Capacity!$X$14:$X$43,3)","v":0},{"$f":"COUNTIF(DE_Capacity!$X$14:$X$43,4)","v":0},{"$f":"COUNTIF(DE_Capacity!$X$14:$X$43,0)","v":0},null,null,1,null,null,"x",22]
[23,{"$f":"+'DE_Areas & Ind'!I15","v":0},{"$f":"+'DE_Areas & Ind'!J15","v":0},{"$f":"+DE_Capacity!C698","v":0},1,{"$f":"+DE_Capacity!E698","v":{"$error":"#DIV/0!"}},null,0,{"$f":"D33/(DE_Capacity!$C$523*DE_Capacity!$AA$3)","v":{"$error":"#DIV/0!"}},{"$error":"#DIV/0!"},{"$f":"COUNTIF(DE_Capacity!$Y$14:$Y$43,1)","v":0},{"$f":"COUNTIF(DE_Capacity!$Y$14:$Y$43,2)","v":0},{"$f":"COUNTIF(DE_Capacity!$Y$14:$Y$43,3)","v":0},{"$f":"COUNTIF(DE_Capacity!$Y$14:$Y$43,4)","v":0},{"$f":"COUNTIF(DE_Capacity!$Y$14:$Y$43,0)","v":0},null,null,1,null,null,"y",23]
[24,{"$f":"+'DE_Areas & Ind'!I16","v":0},{"$f":"+'DE_Areas & Ind'!J16","v":0},{"$f":"+DE_Capacity!C699","v":0},1,{"$f":"+DE_Capacity!E699","v":{"$error":"#DIV/0!"}},null,0,{"$f":"D34/(DE_Capacity!$C$523*DE_Capacity!$AA$3)","v":{"$error":"#DIV/0!"}},{"$error":"#DIV/0!"},{"$f":"COUNTIF(DE_Capacity!$Z$14:$Z$43,1)","v":0},{"$f":"COUNTIF(DE_Capacity!$Z$14:$Z$43,2)","v":0},{"$f":"COUNTIF(DE_Capacity!$Z$14:$Z$43,3)","v":0},{"$f":"COUNTIF(DE_Capacity!$Z$14:$Z$43,4)","v":0},{"$f":"COUNTIF(DE_Capacity!$Z$14:$Z$43,0)","v":0},null,null,1,null,null,"z",24]
[25,{"$f":"+'DE_Areas & Ind'!I17","v":0},{"$f":"+'DE_Areas & Ind'!J17","v":0},{"$f":"+DE_Capacity!C700","v":0},1,{"$f":"+DE_Capacity!E700","v":{"$error":"#DIV/0!"}},null,0,{"$f":"D35/(DE_Capacity!$C$523*DE_Capacity!$AA$3)","v":{"$error":"#DIV/0!"}},{"$error":"#DIV/0!"},{"$f":"COUNTIF(DE_Capacity!$AA$14:$AA$43,1)","v":0},{"$f":"COUNTIF(DE_Capacity!$AA$14:$AA$43,2)","v":0},{"$f":"COUNTIF(DE_Capacity!$AA$14:$AA$43,3)","v":0},{"$f":"COUNTIF(DE_Capacity!$AA$14:$AA$43,4)","v":0},{"$f":"COUNTIF(DE_Capacity!$AA$14:$AA$43,0)","v":0},null,null,1,null,null,"AA",25]
[26,{"$f":"+'DE_Areas & Ind'!I18","v":0},{"$f":"+'DE_Areas & Ind'!J18","v":0},{"$f":"+DE_Capacity!C701","v":0},1,{"$f":"+DE_Capacity!E701","v":{"$error":"#DIV/0!"}},null,0,{"$f":"D36/(DE_Capacity!$C$523*DE_Capacity!$AA$3)","v":{"$error":"#DIV/0!"}},{"$error":"#DIV/0!"},{"$f":"COUNTIF(DE_Capacity!$AB$14:$AB$43,1)","v":0},{"$f":"COUNTIF(DE_Capacity!$AB$14:$AB$43,2)","v":0},{"$f":"COUNTIF(DE_Capacity!$AB$14:$AB$43,3)","v":0},{"$f":"COUNTIF(DE_Capacity!$AB$14:$AB$43,4)","v":0},{"$f":"COUNTIF(DE_Capacity!$AB$14:$AB$43,0)","v":0},null,null,1,null,null,"AB",26]
[27,{"$f":"+'DE_Areas & Ind'!I19","v":0},{"$f":"+'DE_Areas & Ind'!J19","v":0},{"$f":"+DE_Capacity!C702","v":0},1,{"$f":"+DE_Capacity!E702","v":{"$error":"#DIV/0!"}},null,0,{"$f":"D37/(DE_Capacity!$C$523*DE_Capacity!$AA$3)","v":{"$error":"#DIV/0!"}},{"$error":"#DIV/0!"},{"$f":"COUNTIF(DE_Capacity!$AC$14:$AC$43,1)","v":0},{"$f":"COUNTIF(DE_Capacity!$AC$14:$AC$43,2)","v":0},{"$f":"COUNTIF(DE_Capacity!$AC$14:$AC$43,3)","v":0},{"$f":"COUNTIF(DE_Capacity!$AC$14:$AC$43,4)","v":0},{"$f":"COUNTIF(DE_Capacity!$AC$14:$AC$43,0)","v":0},null,null,1,null,null,"AC",27]
[28,{"$f":"+'DE_Areas & Ind'!I20","v":0},{"$f":"+'DE_Areas & Ind'!J20","v":0},{"$f":"+DE_Capacity!C703","v":0},1,{"$f":"+DE_Capacity!E703","v":{"$error":"#DIV/0!"}},null,0,{"$f":"D38/(DE_Capacity!$C$523*DE_Capacity!$AA$3)","v":{"$error":"#DIV/0!"}},{"$error":"#DIV/0!"},{"$f":"COUNTIF(DE_Capacity!$AD$14:$AD$43,1)","v":0},{"$f":"COUNTIF(DE_Capacity!$AD$14:$AD$43,2)","v":0},{"$f":"COUNTIF(DE_Capacity!$AD$14:$AD$43,3)","v":0},{"$f":"COUNTIF(DE_Capacity!$AD$14:$AD$43,4)","v":0},{"$f":"COUNTIF(DE_Capacity!$AD$14:$AD$43,0)","v":0},null,null,1,null,null,"AD",28]
[29,{"$f":"+'DE_Areas & Ind'!I21","v":0},{"$f":"+'DE_Areas & Ind'!J21","v":0},{"$f":"+DE_Capacity!C704","v":0},1,{"$f":"+DE_Capacity!E704","v":{"$error":"#DIV/0!"}},null,0,{"$f":"D39/(DE_Capacity!$C$523*DE_Capacity!$AA$3)","v":{"$error":"#DIV/0!"}},{"$error":"#DIV/0!"},{"$f":"COUNTIF(DE_Capacity!$AE$14:$AE$43,1)","v":0},{"$f":"COUNTIF(DE_Capacity!$AE$14:$AE$43,2)","v":0},{"$f":"COUNTIF(DE_Capacity!$AE$14:$AE$43,3)","v":0},{"$f":"COUNTIF(DE_Capacity!$AE$14:$AE$43,4)","v":0},{"$f":"COUNTIF(DE_Capacity!$AE$14:$AE$43,0)","v":0},null,null,1,null,null,"AE",29]
[30,{"$f":"+'DE_Areas & Ind'!I22","v":0},{"$f":"+'DE_Areas & Ind'!J22","v":0},{"$f":"+DE_Capacity!C705","v":0},1,{"$f":"+DE_Capacity!E705","v":{"$error":"#DIV/0!"}},null,0,{"$f":"D40/(DE_Capacity!$C$523*DE_Capacity!$AA$3)","v":{"$error":"#DIV/0!"}},{"$error":"#DIV/0!"},{"$f":"COUNTIF(DE_Capacity!$AF$14:$AF$43,1)","v":0},{"$f":"COUNTIF(DE_Capacity!$AF$14:$AF$43,2)","v":0},{"$f":"COUNTIF(DE_Capacity!$AF$14:$AF$43,3)","v":0},{"$f":"COUNTIF(DE_Capacity!$AF$14:$AF$43,4)","v":0},{"$f":"COUNTIF(DE_Capacity!$AF$14:$AF$43,0)","v":0},null,null,1,null,null,"AF",30]
[31,{"$f":"+'DE_Areas & Ind'!O8","v":0},{"$f":"+'DE_Areas & Ind'!P8","v":0},{"$f":"+DE_Capacity!C706","v":0},1,{"$f":"+DE_Capacity!E706","v":{"$error":"#DIV/0!"}},null,0,{"$f":"D41/(DE_Capacity!$C$523*DE_Capacity!$AA$3)","v":{"$error":"#DIV/0!"}},{"$error":"#DIV/0!"},{"$f":"COUNTIF(DE_Capacity!$AG$14:$AG$43,1)","v":0},{"$f":"COUNTIF(DE_Capacity!$AG$14:$AG$43,2)","v":0},{"$f":"COUNTIF(DE_Capacity!$AG$14:$AG$43,3)","v":0},{"$f":"COUNTIF(DE_Capacity!$AG$14:$AG$43,4)","v":0},{"$f":"COUNTIF(DE_Capacity!$AG$14:$AG$43,0)","v":0},null,null,1,null,null,"AG",31]
[32,{"$f":"+'DE_Areas & Ind'!O9","v":0},{"$f":"+'DE_Areas & Ind'!P9","v":0},{"$f":"+DE_Capacity!C707","v":0},1,{"$f":"+DE_Capacity!E707","v":{"$error":"#DIV/0!"}},null,0,{"$f":"D42/(DE_Capacity!$C$523*DE_Capacity!$AA$3)","v":{"$error":"#DIV/0!"}},{"$error":"#DIV/0!"},{"$f":"COUNTIF(DE_Capacity!$AH$14:$AH$43,1)","v":0},{"$f":"COUNTIF(DE_Capacity!$AH$14:$AH$43,2)","v":0},{"$f":"COUNTIF(DE_Capacity!$AH$14:$AH$43,3)","v":0},{"$f":"COUNTIF(DE_Capacity!$AH$14:$AH$43,4)","v":0},{"$f":"COUNTIF(DE_Capacity!$AH$14:$AH$43,0)","v":0},null,null,1,null,null,"AH",32]
[33,{"$f":"+'DE_Areas & Ind'!O10","v":0},{"$f":"+'DE_Areas & Ind'!P10","v":0},{"$f":"+DE_Capacity!C708","v":0},1,{"$f":"+DE_Capacity!E708","v":{"$error":"#DIV/0!"}},null,0,{"$f":"D43/(DE_Capacity!$C$523*DE_Capacity!$AA$3)","v":{"$error":"#DIV/0!"}},{"$error":"#DIV/0!"},{"$f":"COUNTIF(DE_Capacity!$AI$14:$AI$43,1)","v":0},{"$f":"COUNTIF(DE_Capacity!$AI$14:$AI$43,2)","v":0},{"$f":"COUNTIF(DE_Capacity!$AI$14:$AI$43,3)","v":0},{"$f":"COUNTIF(DE_Capacity!$AI$14:$AI$43,4)","v":0},{"$f":"COUNTIF(DE_Capacity!$AI$14:$AI$43,0)","v":0},null,null,1,null,null,"AI",33]
[34,{"$f":"+'DE_Areas & Ind'!O11","v":0},{"$f":"+'DE_Areas & Ind'!P11","v":0},{"$f":"+DE_Capacity!C709","v":0},1,{"$f":"+DE_Capacity!E709","v":{"$error":"#DIV/0!"}},null,0,{"$f":"D44/(DE_Capacity!$C$523*DE_Capacity!$AA$3)","v":{"$error":"#DIV/0!"}},{"$error":"#DIV/0!"},{"$f":"COUNTIF(DE_Capacity!$AJ$14:$AJ$43,1)","v":0},{"$f":"COUNTIF(DE_Capacity!$AJ$14:$AJ$43,2)","v":0},{"$f":"COUNTIF(DE_Capacity!$AJ$14:$AJ$43,3)","v":0},{"$f":"COUNTIF(DE_Capacity!$AJ$14:$AJ$43,4)","v":0},{"$f":"COUNTIF(DE_Capacity!$AJ$14:$AJ$43,0)","v":0},null,null,1,null,null,"AJ",34]
[35,{"$f":"+'DE_Areas & Ind'!O12","v":0},{"$f":"+'DE_Areas & Ind'!P12","v":0},{"$f":"+DE_Capacity!C710","v":0},1,{"$f":"+DE_Capacity!E710","v":{"$error":"#DIV/0!"}},null,0,{"$f":"D45/(DE_Capacity!$C$523*DE_Capacity!$AA$3)","v":{"$error":"#DIV/0!"}},{"$error":"#DIV/0!"},{"$f":"COUNTIF(DE_Capacity!$AK$14:$AK$43,1)","v":0},{"$f":"COUNTIF(DE_Capacity!$AK$14:$AK$43,2)","v":0},{"$f":"COUNTIF(DE_Capacity!$AK$14:$AK$43,3)","v":0},{"$f":"COUNTIF(DE_Capacity!$AK$14:$AK$43,4)","v":0},{"$f":"COUNTIF(DE_Capacity!$AK$14:$AK$43,0)","v":0},null,null,1,null,null,"AK",35]
[36,{"$f":"+'DE_Areas & Ind'!O13","v":0},{"$f":"+'DE_Areas & Ind'!P13","v":0},{"$f":"+DE_Capacity!C711","v":0},1,{"$f":"+DE_Capacity!E711","v":{"$error":"#DIV/0!"}},null,0,{"$f":"D46/(DE_Capacity!$C$523*DE_Capacity!$AA$3)","v":{"$error":"#DIV/0!"}},{"$error":"#DIV/0!"},{"$f":"COUNTIF(DE_Capacity!$AL$14:$AL$43,1)","v":0},{"$f":"COUNTIF(DE_Capacity!$AL$14:$AL$43,2)","v":0},{"$f":"COUNTIF(DE_Capacity!$AL$14:$AL$43,3)","v":0},{"$f":"COUNTIF(DE_Capacity!$AL$14:$AL$43,4)","v":0},{"$f":"COUNTIF(DE_Capacity!$AL$14:$AL$43,0)","v":0},null,null,1,null,null,"AL",36]
[37,{"$f":"+'DE_Areas & Ind'!O14","v":0},{"$f":"+'DE_Areas & Ind'!P14","v":0},{"$f":"+DE_Capacity!C712","v":0},1,{"$f":"+DE_Capacity!E712","v":{"$error":"#DIV/0!"}},null,0,{"$f":"D47/(DE_Capacity!$C$523*DE_Capacity!$AA$3)","v":{"$error":"#DIV/0!"}},{"$error":"#DIV/0!"},{"$f":"COUNTIF(DE_Capacity!$AM$14:$AM$43,1)","v":0},{"$f":"COUNTIF(DE_Capacity!$AM$14:$AM$43,2)","v":0},{"$f":"COUNTIF(DE_Capacity!$AM$14:$AM$43,3)","v":0},{"$f":"COUNTIF(DE_Capacity!$AM$14:$AM$43,4)","v":0},{"$f":"COUNTIF(DE_Capacity!$AM$14:$AM$43,0)","v":0},null,null,1,null,null,"AM",37]
[38,{"$f":"+'DE_Areas & Ind'!O15","v":0},{"$f":"+'DE_Areas & Ind'!P15","v":0},{"$f":"+DE_Capacity!C713","v":0},1,{"$f":"+DE_Capacity!E713","v":{"$error":"#DIV/0!"}},null,{"$f":"C48","v":0},{"$f":"D48/(DE_Capacity!$C$523*DE_Capacity!$AA$3)","v":{"$error":"#DIV/0!"}},{"$error":"#DIV/0!"},{"$f":"COUNTIF(DE_Capacity!$AN$14:$AN$43,1)","v":0},{"$f":"COUNTIF(DE_Capacity!$AN$14:$AN$43,2)","v":0},{"$f":"COUNTIF(DE_Capacity!$AN$14:$AN$43,3)","v":0},{"$f":"COUNTIF(DE_Capacity!$AN$14:$AN$43,4)","v":0},{"$f":"COUNTIF(DE_Capacity!$AN$14:$AN$43,0)","v":0},null,null,1,null,null,"AN",38]
[39,{"$f":"+'DE_Areas & Ind'!O16","v":0},{"$f":"+'DE_Areas & Ind'!P16","v":0},{"$f":"+DE_Capacity!C714","v":0},1,{"$f":"+DE_Capacity!E714","v":{"$error":"#DIV/0!"}},null,0,{"$f":"D49/(DE_Capacity!$C$523*DE_Capacity!$AA$3)","v":{"$error":"#DIV/0!"}},{"$error":"#DIV/0!"},{"$f":"COUNTIF(DE_Capacity!$AO$14:$AO$43,1)","v":0},{"$f":"COUNTIF(DE_Capacity!$AO$14:$AO$43,2)","v":0},{"$f":"COUNTIF(DE_Capacity!$AO$14:$AO$43,3)","v":0},{"$f":"COUNTIF(DE_Capacity!$AO$14:$AO$43,4)","v":0},{"$f":"COUNTIF(DE_Capacity!$AO$14:$AO$43,0)","v":0},null,null,1,null,null,"AO",39]
[40,{"$f":"+'DE_Areas & Ind'!O17","v":0},{"$f":"+'DE_Areas & Ind'!P17","v":0},{"$f":"+DE_Capacity!C715","v":0},1,{"$f":"+DE_Capacity!E715","v":{"$error":"#DIV/0!"}},null,0,{"$f":"D50/(DE_Capacity!$C$523*DE_Capacity!$AA$3)","v":{"$error":"#DIV/0!"}},{"$error":"#DIV/0!"},{"$f":"COUNTIF(DE_Capacity!$AP$14:$AP$43,1)","v":0},{"$f":"COUNTIF(DE_Capacity!$AP$14:$AP$43,2)","v":0},{"$f":"COUNTIF(DE_Capacity!$AP$14:$AP$43,3)","v":0},{"$f":"COUNTIF(DE_Capacity!$AP$14:$AP$43,4)","v":0},{"$f":"COUNTIF(DE_Capacity!$AP$14:$AP$43,0)","v":0},null,null,1,null,null,"AP",40]
[41,{"$f":"+'DE_Areas & Ind'!O18","v":0},{"$f":"+'DE_Areas & Ind'!P18","v":0},{"$f":"+DE_Capacity!C716","v":0},1,{"$f":"+DE_Capacity!E716","v":{"$error":"#DIV/0!"}},null,0,{"$f":"D51/(DE_Capacity!$C$523*DE_Capacity!$AA$3)","v":{"$error":"#DIV/0!"}},{"$error":"#DIV/0!"},{"$f":"COUNTIF(DE_Capacity!$AQ$14:$AQ$43,1)","v":0},{"$f":"COUNTIF(DE_Capacity!$AQ$14:$AQ$43,2)","v":0},{"$f":"COUNTIF(DE_Capacity!$AQ$14:$AQ$43,3)","v":0},{"$f":"COUNTIF(DE_Capacity!$AQ$14:$AQ$43,4)","v":0},{"$f":"COUNTIF(DE_Capacity!$AQ$14:$AQ$43,0)","v":0},null,null,1,null,null,"AQ",41]
[42,{"$f":"+'DE_Areas & Ind'!O19","v":0},{"$f":"+'DE_Areas & Ind'!P19","v":0},{"$f":"+DE_Capacity!C717","v":0},1,{"$f":"+DE_Capacity!E717","v":{"$error":"#DIV/0!"}},null,0,{"$f":"D52/(DE_Capacity!$C$523*DE_Capacity!$AA$3)","v":{"$error":"#DIV/0!"}},{"$error":"#DIV/0!"},{"$f":"COUNTIF(DE_Capacity!$AR$14:$AR$43,1)","v":0},{"$f":"COUNTIF(DE_Capacity!$AR$14:$AR$43,2)","v":0},{"$f":"COUNTIF(DE_Capacity!$AR$14:$AR$43,3)","v":0},{"$f":"COUNTIF(DE_Capacity!$AR$14:$AR$43,4)","v":0},{"$f":"COUNTIF(DE_Capacity!$AR$14:$AR$43,0)","v":0},null,null,1,null,null,"AR",42]
[43,{"$f":"+'DE_Areas & Ind'!O20","v":0},{"$f":"+'DE_Areas & Ind'!P20","v":0},{"$f":"+DE_Capacity!C718","v":0},1,{"$f":"+DE_Capacity!E718","v":{"$error":"#DIV/0!"}},null,0,{"$f":"D53/(DE_Capacity!$C$523*DE_Capacity!$AA$3)","v":{"$error":"#DIV/0!"}},{"$error":"#DIV/0!"},{"$f":"COUNTIF(DE_Capacity!$AS$14:$AS$43,1)","v":0},{"$f":"COUNTIF(DE_Capacity!$AS$14:$AS$43,2)","v":0},{"$f":"COUNTIF(DE_Capacity!$AS$14:$AS$43,3)","v":0},{"$f":"COUNTIF(DE_Capacity!$AS$14:$AS$43,4)","v":0},{"$f":"COUNTIF(DE_Capacity!$AS$14:$AS$43,0)","v":0},null,null,1,null,null,"AS",43]
[44,{"$f":"+'DE_Areas & Ind'!O21","v":0},{"$f":"+'DE_Areas & Ind'!P21","v":0},{"$f":"+DE_Capacity!C719","v":0},1,{"$f":"+DE_Capacity!E719","v":{"$error":"#DIV/0!"}},null,0,{"$f":"D54/(DE_Capacity!$C$523*DE_Capacity!$AA$3)","v":{"$error":"#DIV/0!"}},{"$error":"#DIV/0!"},{"$f":"COUNTIF(DE_Capacity!$AT$14:$AT$43,1)","v":0},{"$f":"COUNTIF(DE_Capacity!$AT$14:$AT$43,2)","v":0},{"$f":"COUNTIF(DE_Capacity!$AT$14:$AT$43,3)","v":0},{"$f":"COUNTIF(DE_Capacity!$AT$14:$AT$43,4)","v":0},{"$f":"COUNTIF(DE_Capacity!$AT$14:$AT$43,0)","v":0},null,null,1,null,null,"AT",44]
[45,{"$f":"+'DE_Areas & Ind'!O22","v":0},{"$f":"+'DE_Areas & Ind'!P22","v":0},{"$f":"+DE_Capacity!C720","v":0},1,{"$f":"+DE_Capacity!E720","v":{"$error":"#DIV/0!"}},null,0,{"$f":"D55/(DE_Capacity!$C$523*DE_Capacity!$AA$3)","v":{"$error":"#DIV/0!"}},{"$error":"#DIV/0!"},{"$f":"COUNTIF(DE_Capacity!$AU$14:$AU$43,1)","v":0},{"$f":"COUNTIF(DE_Capacity!$AU$14:$AU$43,2)","v":0},{"$f":"COUNTIF(DE_Capacity!$AU$14:$AU$43,3)","v":0},{"$f":"COUNTIF(DE_Capacity!$AU$14:$AU$43,4)","v":0},{"$f":"COUNTIF(DE_Capacity!$AU$14:$AU$43,0)","v":0},null,null,1,null,null,"AU",45]
[46,{"$f":"+'DE_Areas & Ind'!U8","v":0},{"$f":"+'DE_Areas & Ind'!V8","v":0},{"$f":"+DE_Capacity!C721","v":0},1,{"$f":"+DE_Capacity!E721","v":{"$error":"#DIV/0!"}},null,0,{"$f":"D56/(DE_Capacity!$C$523*DE_Capacity!$AA$3)","v":{"$error":"#DIV/0!"}},{"$error":"#DIV/0!"},{"$f":"COUNTIF(DE_Capacity!$AV$14:$AV$43,1)","v":0},{"$f":"COUNTIF(DE_Capacity!$AV$14:$AV$43,2)","v":0},{"$f":"COUNTIF(DE_Capacity!$AV$14:$AV$43,3)","v":0},{"$f":"COUNTIF(DE_Capacity!$AV$14:$AV$43,4)","v":0},{"$f":"COUNTIF(DE_Capacity!$AV$14:$AV$43,0)","v":0},null,null,1,null,null,"AV",46]
[47,{"$f":"+'DE_Areas & Ind'!U9","v":0},{"$f":"+'DE_Areas & Ind'!V9","v":0},{"$f":"+DE_Capacity!C722","v":0},1,{"$f":"+DE_Capacity!E722","v":{"$error":"#DIV/0!"}},null,0,{"$f":"D57/(DE_Capacity!$C$523*DE_Capacity!$AA$3)","v":{"$error":"#DIV/0!"}},{"$error":"#DIV/0!"},{"$f":"COUNTIF(DE_Capacity!$AW$14:$AW$43,1)","v":0},{"$f":"COUNTIF(DE_Capacity!$AW$14:$AW$43,2)","v":0},{"$f":"COUNTIF(DE_Capacity!$AW$14:$AW$43,3)","v":0},{"$f":"COUNTIF(DE_Capacity!$AW$14:$AW$43,4)","v":0},{"$f":"COUNTIF(DE_Capacity!$AW$14:$AW$43,0)","v":0},null,null,1,null,null,"AW",47]
[48,{"$f":"+'DE_Areas & Ind'!U10","v":0},{"$f":"+'DE_Areas & Ind'!V10","v":0},{"$f":"+DE_Capacity!C723","v":0},1,{"$f":"+DE_Capacity!E723","v":{"$error":"#DIV/0!"}},null,0,{"$f":"D58/(DE_Capacity!$C$523*DE_Capacity!$AA$3)","v":{"$error":"#DIV/0!"}},{"$error":"#DIV/0!"},{"$f":"COUNTIF(DE_Capacity!$AX$14:$AX$43,1)","v":0},{"$f":"COUNTIF(DE_Capacity!$AX$14:$AX$43,2)","v":0},{"$f":"COUNTIF(DE_Capacity!$AX$14:$AX$43,3)","v":0},{"$f":"COUNTIF(DE_Capacity!$AX$14:$AX$43,4)","v":0},{"$f":"COUNTIF(DE_Capacity!$AX$14:$AX$43,0)","v":0},null,null,1,null,null,"AX",48]
[49,{"$f":"+'DE_Areas & Ind'!U11","v":0},{"$f":"+'DE_Areas & Ind'!V11","v":0},{"$f":"+DE_Capacity!C724","v":0},1,{"$f":"+DE_Capacity!E724","v":{"$error":"#DIV/0!"}},null,0,{"$f":"D59/(DE_Capacity!$C$523*DE_Capacity!$AA$3)","v":{"$error":"#DIV/0!"}},{"$error":"#DIV/0!"},{"$f":"COUNTIF(DE_Capacity!$AY$14:$AY$43,1)","v":0},{"$f":"COUNTIF(DE_Capacity!$AY$14:$AY$43,2)","v":0},{"$f":"COUNTIF(DE_Capacity!$AY$14:$AY$43,3)","v":0},{"$f":"COUNTIF(DE_Capacity!$AY$14:$AY$43,4)","v":0},{"$f":"COUNTIF(DE_Capacity!$AY$14:$AY$43,0)","v":0},null,null,1,null,null,"AY",49]
[50,{"$f":"+'DE_Areas & Ind'!U12","v":0},{"$f":"+'DE_Areas & Ind'!V12","v":0},{"$f":"+DE_Capacity!C725","v":0},1,{"$f":"+DE_Capacity!E725","v":{"$error":"#DIV/0!"}},null,0,{"$f":"D60/(DE_Capacity!$C$523*DE_Capacity!$AA$3)","v":{"$error":"#DIV/0!"}},{"$error":"#DIV/0!"},{"$f":"COUNTIF(DE_Capacity!$AZ$14:$AZ$43,1)","v":0},{"$f":"COUNTIF(DE_Capacity!$AZ$14:$AZ$43,2)","v":0},{"$f":"COUNTIF(DE_Capacity!$AZ$14:$AZ$43,3)","v":0},{"$f":"COUNTIF(DE_Capacity!$AZ$14:$AZ$43,4)","v":0},{"$f":"COUNTIF(DE_Capacity!$AZ$14:$AZ$43,0)","v":0},null,null,1,null,null,"AZ",50]
[51,{"$f":"+'DE_Areas & Ind'!U13","v":0},{"$f":"+'DE_Areas & Ind'!V13","v":0},{"$f":"+DE_Capacity!C726","v":0},1,{"$f":"+DE_Capacity!E726","v":{"$error":"#DIV/0!"}},null,0,{"$f":"D61/(DE_Capacity!$C$523*DE_Capacity!$AA$3)","v":{"$error":"#DIV/0!"}},{"$error":"#DIV/0!"},{"$f":"COUNTIF(DE_Capacity!$BA$14:$BA$43,1)","v":0},{"$f":"COUNTIF(DE_Capacity!$BA$14:$BA$43,2)","v":0},{"$f":"COUNTIF(DE_Capacity!$BA$14:$BA$43,3)","v":0},{"$f":"COUNTIF(DE_Capacity!$BA$14:$BA$43,4)","v":0},{"$f":"COUNTIF(DE_Capacity!$BA$14:$BA$43,0)","v":0},null,null,1,null,null,"BA",51]
[52,{"$f":"+'DE_Areas & Ind'!U14","v":0},{"$f":"+'DE_Areas & Ind'!V14","v":0},{"$f":"+DE_Capacity!C727","v":0},1,{"$f":"+DE_Capacity!E727","v":{"$error":"#DIV/0!"}},null,0,{"$f":"D62/(DE_Capacity!$C$523*DE_Capacity!$AA$3)","v":{"$error":"#DIV/0!"}},{"$error":"#DIV/0!"},{"$f":"COUNTIF(DE_Capacity!$BB$14:$BB$43,1)","v":0},{"$f":"COUNTIF(DE_Capacity!$BB$14:$BB$43,2)","v":0},{"$f":"COUNTIF(DE_Capacity!$BB$14:$BB$43,3)","v":0},{"$f":"COUNTIF(DE_Capacity!$BB$14:$BB$43,4)","v":0},{"$f":"COUNTIF(DE_Capacity!$BB$14:$BB$43,0)","v":0},null,null,1,null,null,"BB",52]
[53,{"$f":"+'DE_Areas & Ind'!U15","v":0},{"$f":"+'DE_Areas & Ind'!V15","v":0},{"$f":"+DE_Capacity!C728","v":0},1,{"$f":"+DE_Capacity!E728","v":{"$error":"#DIV/0!"}},null,0,{"$f":"D63/(DE_Capacity!$C$523*DE_Capacity!$AA$3)","v":{"$error":"#DIV/0!"}},{"$error":"#DIV/0!"},{"$f":"COUNTIF(DE_Capacity!$BC$14:$BC$43,1)","v":0},{"$f":"COUNTIF(DE_Capacity!$BC$14:$BC$43,2)","v":0},{"$f":"COUNTIF(DE_Capacity!$BC$14:$BC$43,3)","v":0},{"$f":"COUNTIF(DE_Capacity!$BC$14:$BC$43,4)","v":0},{"$f":"COUNTIF(DE_Capacity!$BC$14:$BC$43,0)","v":0},null,null,1,null,null,"BC",53]
[54,{"$f":"+'DE_Areas & Ind'!U16","v":0},{"$f":"+'DE_Areas & Ind'!V16","v":0},{"$f":"+DE_Capacity!C729","v":0},1,{"$f":"+DE_Capacity!E729","v":{"$error":"#DIV/0!"}},null,0,{"$f":"D64/(DE_Capacity!$C$523*DE_Capacity!$AA$3)","v":{"$error":"#DIV/0!"}},{"$error":"#DIV/0!"},{"$f":"COUNTIF(DE_Capacity!$BD$14:$BD$43,1)","v":0},{"$f":"COUNTIF(DE_Capacity!$BD$14:$BD$43,2)","v":0},{"$f":"COUNTIF(DE_Capacity!$BD$14:$BD$43,3)","v":0},{"$f":"COUNTIF(DE_Capacity!$BD$14:$BD$43,4)","v":0},{"$f":"COUNTIF(DE_Capacity!$BD$14:$BD$43,0)","v":0},null,null,1,null,null,"BD",54]
[55,{"$f":"+'DE_Areas & Ind'!U17","v":0},{"$f":"+'DE_Areas & Ind'!V17","v":0},{"$f":"+DE_Capacity!C730","v":0},1,{"$f":"+DE_Capacity!E730","v":{"$error":"#DIV/0!"}},null,0,{"$f":"D65/(DE_Capacity!$C$523*DE_Capacity!$AA$3)","v":{"$error":"#DIV/0!"}},{"$error":"#DIV/0!"},{"$f":"COUNTIF(DE_Capacity!$BE$14:$BE$43,1)","v":0},{"$f":"COUNTIF(DE_Capacity!$BE$14:$BE$43,2)","v":0},{"$f":"COUNTIF(DE_Capacity!$BE$14:$BE$43,3)","v":0},{"$f":"COUNTIF(DE_Capacity!$BE$14:$BE$43,4)","v":0},{"$f":"COUNTIF(DE_Capacity!$BE$14:$BE$43,0)","v":0},null,null,1,null,null,"BE",55]
[56,{"$f":"+'DE_Areas & Ind'!U18","v":0},{"$f":"+'DE_Areas & Ind'!V18","v":0},{"$f":"+DE_Capacity!C731","v":0},1,{"$f":"+DE_Capacity!E731","v":{"$error":"#DIV/0!"}},null,0,{"$f":"D66/(DE_Capacity!$C$523*DE_Capacity!$AA$3)","v":{"$error":"#DIV/0!"}},{"$error":"#DIV/0!"},{"$f":"COUNTIF(DE_Capacity!$BF$14:$BF$43,1)","v":0},{"$f":"COUNTIF(DE_Capacity!$BF$14:$BF$43,2)","v":0},{"$f":"COUNTIF(DE_Capacity!$BF$14:$BF$43,3)","v":0},{"$f":"COUNTIF(DE_Capacity!$BF$14:$BF$43,4)","v":0},{"$f":"COUNTIF(DE_Capacity!$BF$14:$BF$43,0)","v":0},null,null,1,null,null,"BF",56]
[57,{"$f":"+'DE_Areas & Ind'!U19","v":0},{"$f":"+'DE_Areas & Ind'!V19","v":0},{"$f":"+DE_Capacity!C732","v":0},1,{"$f":"+DE_Capacity!E732","v":{"$error":"#DIV/0!"}},null,0,{"$f":"D67/(DE_Capacity!$C$523*DE_Capacity!$AA$3)","v":{"$error":"#DIV/0!"}},{"$error":"#DIV/0!"},{"$f":"COUNTIF(DE_Capacity!$BG$14:$BG$43,1)","v":0},{"$f":"COUNTIF(DE_Capacity!$BG$14:$BG$43,2)","v":0},{"$f":"COUNTIF(DE_Capacity!$BG$14:$BG$43,3)","v":0},{"$f":"COUNTIF(DE_Capacity!$BG$14:$BG$43,4)","v":0},{"$f":"COUNTIF(DE_Capacity!$BG$14:$BG$43,0)","v":0},null,null,1,null,null,"BG",57]
[58,{"$f":"+'DE_Areas & Ind'!U20","v":0},{"$f":"+'DE_Areas & Ind'!V20","v":0},{"$f":"+DE_Capacity!C733","v":0},1,{"$f":"+DE_Capacity!E733","v":{"$error":"#DIV/0!"}},null,0,{"$f":"D68/(DE_Capacity!$C$523*DE_Capacity!$AA$3)","v":{"$error":"#DIV/0!"}},{"$error":"#DIV/0!"},{"$f":"COUNTIF(DE_Capacity!$BH$14:$BH$43,1)","v":0},{"$f":"COUNTIF(DE_Capacity!$BH$14:$BH$43,2)","v":0},{"$f":"COUNTIF(DE_Capacity!$BH$14:$BH$43,3)","v":0},{"$f":"COUNTIF(DE_Capacity!$BH$14:$BH$43,4)","v":0},{"$f":"COUNTIF(DE_Capacity!$BH$14:$BH$43,0)","v":0},null,null,1,null,null,"BH",58]
[59,{"$f":"+'DE_Areas & Ind'!U21","v":0},{"$f":"+'DE_Areas & Ind'!V21","v":0},{"$f":"+DE_Capacity!C734","v":0},1,{"$f":"+DE_Capacity!E734","v":{"$error":"#DIV/0!"}},null,0,{"$f":"D69/(DE_Capacity!$C$523*DE_Capacity!$AA$3)","v":{"$error":"#DIV/0!"}},{"$error":"#DIV/0!"},{"$f":"COUNTIF(DE_Capacity!$BI$14:$BI$43,1)","v":0},{"$f":"COUNTIF(DE_Capacity!$BI$14:$BI$43,2)","v":0},{"$f":"COUNTIF(DE_Capacity!$BI$14:$BI$43,3)","v":0},{"$f":"COUNTIF(DE_Capacity!$BI$14:$BI$43,4)","v":0},{"$f":"COUNTIF(DE_Capacity!$BI$14:$BI$43,0)","v":0},null,null,1,null,null,"BI",59]
[60,{"$f":"+'DE_Areas & Ind'!U22","v":0},{"$f":"+'DE_Areas & Ind'!V22","v":0},{"$f":"+DE_Capacity!C735","v":0},1,{"$f":"+DE_Capacity!E735","v":{"$error":"#DIV/0!"}},null,0,{"$f":"D70/(DE_Capacity!$C$523*DE_Capacity!$AA$3)","v":{"$error":"#DIV/0!"}},{"$error":"#DIV/0!"},{"$f":"COUNTIF(DE_Capacity!$BJ$14:$BJ$43,1)","v":0},{"$f":"COUNTIF(DE_Capacity!$BJ$14:$BJ$43,2)","v":0},{"$f":"COUNTIF(DE_Capacity!$BJ$14:$BJ$43,3)","v":0},{"$f":"COUNTIF(DE_Capacity!$BJ$14:$BJ$43,4)","v":0},{"$f":"COUNTIF(DE_Capacity!$BJ$14:$BJ$43,0)","v":0},null,null,1,null,null,"BJ",60]
[61,{"$f":"+'DE_Areas & Ind'!AA8","v":0},{"$f":"+'DE_Areas & Ind'!AB8","v":0},{"$f":"+DE_Capacity!C736","v":0},1,{"$f":"+DE_Capacity!E736","v":{"$error":"#DIV/0!"}},null,0,{"$f":"D71/(DE_Capacity!$C$523*DE_Capacity!$AA$3)","v":{"$error":"#DIV/0!"}},{"$error":"#DIV/0!"},{"$f":"COUNTIF(DE_Capacity!$BK$14:$BK$43,1)","v":0},{"$f":"COUNTIF(DE_Capacity!$BK$14:$BK$43,2)","v":0},{"$f":"COUNTIF(DE_Capacity!$BK$14:$BK$43,3)","v":0},{"$f":"COUNTIF(DE_Capacity!$BK$14:$BK$43,4)","v":0},{"$f":"COUNTIF(DE_Capacity!$BK$14:$BK$43,0)","v":0},null,null,1,null,null,"BK",61]
[62,{"$f":"+'DE_Areas & Ind'!AA9","v":0},{"$f":"+'DE_Areas & Ind'!AB9","v":0},{"$f":"+DE_Capacity!C737","v":0},1,{"$f":"+DE_Capacity!E737","v":{"$error":"#DIV/0!"}},null,0,{"$f":"D72/(DE_Capacity!$C$523*DE_Capacity!$AA$3)","v":{"$error":"#DIV/0!"}},{"$error":"#DIV/0!"},{"$f":"COUNTIF(DE_Capacity!$BL$14:$BL$43,1)","v":0},{"$f":"COUNTIF(DE_Capacity!$BL$14:$BL$43,2)","v":0},{"$f":"COUNTIF(DE_Capacity!$BL$14:$BL$43,3)","v":0},{"$f":"COUNTIF(DE_Capacity!$BL$14:$BL$43,4)","v":0},{"$f":"COUNTIF(DE_Capacity!$BL$14:$BL$43,0)","v":0},null,null,1,null,null,"BL",62]
[63,{"$f":"+'DE_Areas & Ind'!AA10","v":0},{"$f":"+'DE_Areas & Ind'!AB10","v":0},{"$f":"+DE_Capacity!C738","v":0},1,{"$f":"+DE_Capacity!E738","v":{"$error":"#DIV/0!"}},null,0,{"$f":"D73/(DE_Capacity!$C$523*DE_Capacity!$AA$3)","v":{"$error":"#DIV/0!"}},{"$error":"#DIV/0!"},{"$f":"COUNTIF(DE_Capacity!$BM$14:$BM$43,1)","v":0},{"$f":"COUNTIF(DE_Capacity!$BM$14:$BM$43,2)","v":0},{"$f":"COUNTIF(DE_Capacity!$BM$14:$BM$43,3)","v":0},{"$f":"COUNTIF(DE_Capacity!$BM$14:$BM$43,4)","v":0},{"$f":"COUNTIF(DE_Capacity!$BM$14:$BM$43,0)","v":0},null,null,1,null,null,"BM",63]
[64,{"$f":"+'DE_Areas & Ind'!AA11","v":0},{"$f":"+'DE_Areas & Ind'!AB11","v":0},{"$f":"+DE_Capacity!C739","v":0},1,{"$f":"+DE_Capacity!E739","v":{"$error":"#DIV/0!"}},null,0,{"$f":"D74/(DE_Capacity!$C$523*DE_Capacity!$AA$3)","v":{"$error":"#DIV/0!"}},{"$error":"#DIV/0!"},{"$f":"COUNTIF(DE_Capacity!$BN$14:$BN$43,1)","v":0},{"$f":"COUNTIF(DE_Capacity!$BN$14:$BN$43,2)","v":0},{"$f":"COUNTIF(DE_Capacity!$BN$14:$BN$43,3)","v":0},{"$f":"COUNTIF(DE_Capacity!$BN$14:$BN$43,4)","v":0},{"$f":"COUNTIF(DE_Capacity!$BN$14:$BN$43,0)","v":0},null,null,1,null,null,"BN",64]
[65,{"$f":"+'DE_Areas & Ind'!AA12","v":0},{"$f":"+'DE_Areas & Ind'!AB12","v":0},{"$f":"+DE_Capacity!C740","v":0},1,{"$f":"+DE_Capacity!E740","v":{"$error":"#DIV/0!"}},null,0,{"$f":"D75/(DE_Capacity!$C$523*DE_Capacity!$AA$3)","v":{"$error":"#DIV/0!"}},{"$error":"#DIV/0!"},{"$f":"COUNTIF(DE_Capacity!$BO$14:$BO$43,1)","v":0},{"$f":"COUNTIF(DE_Capacity!$BO$14:$BO$43,2)","v":0},{"$f":"COUNTIF(DE_Capacity!$BO$14:$BO$43,3)","v":0},{"$f":"COUNTIF(DE_Capacity!$BO$14:$BO$43,4)","v":0},{"$f":"COUNTIF(DE_Capacity!$BO$14:$BO$43,0)","v":0},null,null,1,null,null,"BO",65]
[66,{"$f":"+'DE_Areas & Ind'!AA13","v":0},{"$f":"+'DE_Areas & Ind'!AB13","v":0},{"$f":"+DE_Capacity!C741","v":0},{"$f":"RANK(D76,$D$11:$D$160)","v":1},{"$f":"+DE_Capacity!E741","v":{"$error":"#DIV/0!"}},null,{"$f":"C76","v":0},{"$f":"D76/(DE_Capacity!$C$523*DE_Capacity!$AA$3)","v":{"$error":"#DIV/0!"}},{"$f":"1-I76","v":{"$error":"#DIV/0!"}},{"$f":"COUNTIF(DE_Capacity!$BP$14:$BP$43,1)","v":0},{"$f":"COUNTIF(DE_Capacity!$BP$14:$BP$43,2)","v":0},{"$f":"COUNTIF(DE_Capacity!$BP$14:$BP$43,3)","v":0},{"$f":"COUNTIF(DE_Capacity!$BP$14:$BP$43,4)","v":0},{"$f":"COUNTIF(DE_Capacity!$BP$14:$BP$43,0)","v":0},null,null,{"$f":"RANK(D76,$D$11:$D$160,0)","v":1},null,null,"BP",66]
[67,{"$f":"+'DE_Areas & Ind'!AA14","v":0},{"$f":"+'DE_Areas & Ind'!AB14","v":0},{"$f":"+DE_Capacity!C742","v":0},1,{"$f":"+DE_Capacity!E742","v":{"$error":"#DIV/0!"}},null,0,{"$f":"D77/(DE_Capacity!$C$523*DE_Capacity!$AA$3)","v":{"$error":"#DIV/0!"}},{"$error":"#DIV/0!"},{"$f":"COUNTIF(DE_Capacity!$BQ$14:$BQ$43,1)","v":0},{"$f":"COUNTIF(DE_Capacity!$BQ$14:$BQ$43,2)","v":0},{"$f":"COUNTIF(DE_Capacity!$BQ$14:$BQ$43,3)","v":0},{"$f":"COUNTIF(DE_Capacity!$BQ$14:$BQ$43,4)","v":0},{"$f":"COUNTIF(DE_Capacity!$BQ$14:$BQ$43,0)","v":0},null,null,1,null,null,"BQ",67]
[68,{"$f":"+'DE_Areas & Ind'!AA15","v":0},{"$f":"+'DE_Areas & Ind'!AB15","v":0},{"$f":"+DE_Capacity!C743","v":0},1,{"$f":"+DE_Capacity!E743","v":{"$error":"#DIV/0!"}},null,0,{"$f":"D78/(DE_Capacity!$C$523*DE_Capacity!$AA$3)","v":{"$error":"#DIV/0!"}},{"$error":"#DIV/0!"},{"$f":"COUNTIF(DE_Capacity!$BR$14:$BR$43,1)","v":0},{"$f":"COUNTIF(DE_Capacity!$BR$14:$BR$43,2)","v":0},{"$f":"COUNTIF(DE_Capacity!$BR$14:$BR$43,3)","v":0},{"$f":"COUNTIF(DE_Capacity!$BR$14:$BR$43,4)","v":0},{"$f":"COUNTIF(DE_Capacity!$BR$14:$BR$43,0)","v":0},null,null,1,null,null,"BR",68]
[69,{"$f":"+'DE_Areas & Ind'!AA16","v":0},{"$f":"+'DE_Areas & Ind'!AB16","v":0},{"$f":"+DE_Capacity!C744","v":0},1,{"$f":"+DE_Capacity!E744","v":{"$error":"#DIV/0!"}},null,0,{"$f":"D79/(DE_Capacity!$C$523*DE_Capacity!$AA$3)","v":{"$error":"#DIV/0!"}},{"$error":"#DIV/0!"},{"$f":"COUNTIF(DE_Capacity!$BS$14:$BS$43,1)","v":0},{"$f":"COUNTIF(DE_Capacity!$BS$14:$BS$43,2)","v":0},{"$f":"COUNTIF(DE_Capacity!$BS$14:$BS$43,3)","v":0},{"$f":"COUNTIF(DE_Capacity!$BS$14:$BS$43,4)","v":0},{"$f":"COUNTIF(DE_Capacity!$BS$14:$BS$43,0)","v":0},null,null,1,null,null,"BS",69]
[70,{"$f":"+'DE_Areas & Ind'!AA17","v":0},{"$f":"+'DE_Areas & Ind'!AB17","v":0},{"$f":"+DE_Capacity!C745","v":0},1,{"$f":"+DE_Capacity!E745","v":{"$error":"#DIV/0!"}},null,0,{"$f":"D80/(DE_Capacity!$C$523*DE_Capacity!$AA$3)","v":{"$error":"#DIV/0!"}},{"$error":"#DIV/0!"},{"$f":"COUNTIF(DE_Capacity!$BT$14:$BT$43,1)","v":0},{"$f":"COUNTIF(DE_Capacity!$BT$14:$BT$43,2)","v":0},{"$f":"COUNTIF(DE_Capacity!$BT$14:$BT$43,3)","v":0},{"$f":"COUNTIF(DE_Capacity!$BT$14:$BT$43,4)","v":0},{"$f":"COUNTIF(DE_Capacity!$BT$14:$BT$43,0)","v":0},null,null,1,null,null,"BT",70]
[71,{"$f":"+'DE_Areas & Ind'!AA18","v":0},{"$f":"+'DE_Areas & Ind'!AB18","v":0},{"$f":"+DE_Capacity!C746","v":0},1,{"$f":"+DE_Capacity!E746","v":{"$error":"#DIV/0!"}},null,0,{"$f":"D81/(DE_Capacity!$C$523*DE_Capacity!$AA$3)","v":{"$error":"#DIV/0!"}},{"$error":"#DIV/0!"},{"$f":"COUNTIF(DE_Capacity!$BU$14:$BU$43,1)","v":0},{"$f":"COUNTIF(DE_Capacity!$BU$14:$BU$43,2)","v":0},{"$f":"COUNTIF(DE_Capacity!$BU$14:$BU$43,3)","v":0},{"$f":"COUNTIF(DE_Capacity!$BU$14:$BU$43,4)","v":0},{"$f":"COUNTIF(DE_Capacity!$BU$14:$BU$43,0)","v":0},null,null,1,null,null,"BU",71]
[72,{"$f":"+'DE_Areas & Ind'!AA19","v":0},{"$f":"+'DE_Areas & Ind'!AB19","v":0},{"$f":"+DE_Capacity!C747","v":0},1,{"$f":"+DE_Capacity!E747","v":{"$error":"#DIV/0!"}},null,0,{"$f":"D82/(DE_Capacity!$C$523*DE_Capacity!$AA$3)","v":{"$error":"#DIV/0!"}},{"$error":"#DIV/0!"},{"$f":"COUNTIF(DE_Capacity!$BV$14:$BV$43,1)","v":0},{"$f":"COUNTIF(DE_Capacity!$BV$14:$BV$43,2)","v":0},{"$f":"COUNTIF(DE_Capacity!$BV$14:$BV$43,3)","v":0},{"$f":"COUNTIF(DE_Capacity!$BV$14:$BV$43,4)","v":0},{"$f":"COUNTIF(DE_Capacity!$BV$14:$BV$43,0)","v":0},null,null,1,null,null,"BV",72]
[73,{"$f":"+'DE_Areas & Ind'!AA20","v":0},{"$f":"+'DE_Areas & Ind'!AB20","v":0},{"$f":"+DE_Capacity!C748","v":0},1,{"$f":"+DE_Capacity!E748","v":{"$error":"#DIV/0!"}},null,0,{"$f":"D83/(DE_Capacity!$C$523*DE_Capacity!$AA$3)","v":{"$error":"#DIV/0!"}},{"$error":"#DIV/0!"},{"$f":"COUNTIF(DE_Capacity!$BW$14:$BW$43,1)","v":0},{"$f":"COUNTIF(DE_Capacity!$BW$14:$BW$43,2)","v":0},{"$f":"COUNTIF(DE_Capacity!$BW$14:$BW$43,3)","v":0},{"$f":"COUNTIF(DE_Capacity!$BW$14:$BW$43,4)","v":0},{"$f":"COUNTIF(DE_Capacity!$BW$14:$BW$43,0)","v":0},null,null,1,null,null,"BW",73]
[74,{"$f":"+'DE_Areas & Ind'!AA21","v":0},{"$f":"+'DE_Areas & Ind'!AB21","v":0},{"$f":"+DE_Capacity!C749","v":0},1,{"$f":"+DE_Capacity!E749","v":{"$error":"#DIV/0!"}},null,0,{"$f":"D84/(DE_Capacity!$C$523*DE_Capacity!$AA$3)","v":{"$error":"#DIV/0!"}},{"$error":"#DIV/0!"},{"$f":"COUNTIF(DE_Capacity!$BX$14:$BX$43,1)","v":0},{"$f":"COUNTIF(DE_Capacity!$BX$14:$BX$43,2)","v":0},{"$f":"COUNTIF(DE_Capacity!$BX$14:$BX$43,3)","v":0},{"$f":"COUNTIF(DE_Capacity!$BX$14:$BX$43,4)","v":0},{"$f":"COUNTIF(DE_Capacity!$BX$14:$BX$43,0)","v":0},null,null,1,null,null,"BX",74]
[75,{"$f":"+'DE_Areas & Ind'!AA22","v":0},{"$f":"+'DE_Areas & Ind'!AB22","v":0},{"$f":"+DE_Capacity!C750","v":0},1,{"$f":"+DE_Capacity!E750","v":{"$error":"#DIV/0!"}},null,{"$f":"C85","v":0},{"$f":"D85/(DE_Capacity!$C$523*DE_Capacity!$AA$3)","v":{"$error":"#DIV/0!"}},{"$error":"#DIV/0!"},{"$f":"COUNTIF(DE_Capacity!$BY$14:$BY$43,1)","v":0},{"$f":"COUNTIF(DE_Capacity!$BY$14:$BY$43,2)","v":0},{"$f":"COUNTIF(DE_Capacity!$BY$14:$BY$43,3)","v":0},{"$f":"COUNTIF(DE_Capacity!$BY$14:$BY$43,4)","v":0},{"$f":"COUNTIF(DE_Capacity!$BY$14:$BY$43,0)","v":0},null,null,1,null,null,"BY",75]
[76,{"$f":"+'DE_Areas & Ind'!C30","v":0},{"$f":"+'DE_Areas & Ind'!D30","v":0},{"$f":"+DE_Capacity!C751","v":0},1,{"$f":"+DE_Capacity!E751","v":{"$error":"#DIV/0!"}},null,0,{"$f":"D86/(DE_Capacity!$C$523*DE_Capacity!$AA$3)","v":{"$error":"#DIV/0!"}},{"$error":"#DIV/0!"},{"$f":"COUNTIF(DE_Capacity!$BZ$14:$BZ$43,1)","v":0},{"$f":"COUNTIF(DE_Capacity!$BZ$14:$BZ$43,2)","v":0},{"$f":"COUNTIF(DE_Capacity!$BZ$14:$BZ$43,3)","v":0},{"$f":"COUNTIF(DE_Capacity!$BZ$14:$BZ$43,4)","v":0},{"$f":"COUNTIF(DE_Capacity!$BZ$14:$BZ$43,0)","v":0},null,null,1,null,null,"BZ",76]
[77,{"$f":"+'DE_Areas & Ind'!C31","v":0},{"$f":"+'DE_Areas & Ind'!D31","v":0},{"$f":"+DE_Capacity!C752","v":0},1,{"$f":"+DE_Capacity!E752","v":{"$error":"#DIV/0!"}},null,0,{"$f":"D87/(DE_Capacity!$C$523*DE_Capacity!$AA$3)","v":{"$error":"#DIV/0!"}},{"$error":"#DIV/0!"},{"$f":"COUNTIF(DE_Capacity!$CA$14:$CA$43,1)","v":0},{"$f":"COUNTIF(DE_Capacity!$CA$14:$CA$43,2)","v":0},{"$f":"COUNTIF(DE_Capacity!$CA$14:$CA$43,3)","v":0},{"$f":"COUNTIF(DE_Capacity!$CA$14:$CA$43,4)","v":0},{"$f":"COUNTIF(DE_Capacity!$CA$14:$CA$43,0)","v":0},null,null,1,null,null,"CA",77]
[78,{"$f":"+'DE_Areas & Ind'!C32","v":0},{"$f":"+'DE_Areas & Ind'!D32","v":0},{"$f":"+DE_Capacity!C753","v":0},1,{"$f":"+DE_Capacity!E753","v":{"$error":"#DIV/0!"}},null,0,{"$f":"D88/(DE_Capacity!$C$523*DE_Capacity!$AA$3)","v":{"$error":"#DIV/0!"}},{"$error":"#DIV/0!"},{"$f":"COUNTIF(DE_Capacity!$CB$14:$CB$43,1)","v":0},{"$f":"COUNTIF(DE_Capacity!$CB$14:$CB$43,2)","v":0},{"$f":"COUNTIF(DE_Capacity!$CB$14:$CB$43,3)","v":0},{"$f":"COUNTIF(DE_Capacity!$CB$14:$CB$43,4)","v":0},{"$f":"COUNTIF(DE_Capacity!$CB$14:$CB$43,0)","v":0},null,null,1,null,null,"CB",78]
[79,{"$f":"+'DE_Areas & Ind'!C33","v":0},{"$f":"+'DE_Areas & Ind'!D33","v":0},{"$f":"+DE_Capacity!C754","v":0},1,{"$f":"+DE_Capacity!E754","v":{"$error":"#DIV/0!"}},null,0,{"$f":"D89/(DE_Capacity!$C$523*DE_Capacity!$AA$3)","v":{"$error":"#DIV/0!"}},{"$error":"#DIV/0!"},{"$f":"COUNTIF(DE_Capacity!$CC$14:$CC$43,1)","v":0},{"$f":"COUNTIF(DE_Capacity!$CC$14:$CC$43,2)","v":0},{"$f":"COUNTIF(DE_Capacity!$CC$14:$CC$43,3)","v":0},{"$f":"COUNTIF(DE_Capacity!$CC$14:$CC$43,4)","v":0},{"$f":"COUNTIF(DE_Capacity!$CC$14:$CC$43,0)","v":0},null,null,1,null,null,"CC",79]
[80,{"$f":"+'DE_Areas & Ind'!C34","v":0},{"$f":"+'DE_Areas & Ind'!D34","v":0},{"$f":"+DE_Capacity!C755","v":0},1,{"$f":"+DE_Capacity!E755","v":{"$error":"#DIV/0!"}},null,0,{"$f":"D90/(DE_Capacity!$C$523*DE_Capacity!$AA$3)","v":{"$error":"#DIV/0!"}},{"$error":"#DIV/0!"},{"$f":"COUNTIF(DE_Capacity!$CD$14:$CD$43,1)","v":0},{"$f":"COUNTIF(DE_Capacity!$CD$14:$CD$43,2)","v":0},{"$f":"COUNTIF(DE_Capacity!$CD$14:$CD$43,3)","v":0},{"$f":"COUNTIF(DE_Capacity!$CD$14:$CD$43,4)","v":0},{"$f":"COUNTIF(DE_Capacity!$CD$14:$CD$43,0)","v":0},null,null,1,null,null,"CD",80]
[81,{"$f":"+'DE_Areas & Ind'!C35","v":0},{"$f":"+'DE_Areas & Ind'!D35","v":0},{"$f":"+DE_Capacity!C756","v":0},1,{"$f":"+DE_Capacity!E756","v":{"$error":"#DIV/0!"}},null,0,{"$f":"D91/(DE_Capacity!$C$523*DE_Capacity!$AA$3)","v":{"$error":"#DIV/0!"}},{"$error":"#DIV/0!"},{"$f":"COUNTIF(DE_Capacity!$CE$14:$CE$43,1)","v":0},{"$f":"COUNTIF(DE_Capacity!$CE$14:$CE$43,2)","v":0},{"$f":"COUNTIF(DE_Capacity!$CE$14:$CE$43,3)","v":0},{"$f":"COUNTIF(DE_Capacity!$CE$14:$CE$43,4)","v":0},{"$f":"COUNTIF(DE_Capacity!$CE$14:$CE$43,0)","v":0},null,null,1,null,null,"CE",81]
[82,{"$f":"+'DE_Areas & Ind'!C36","v":0},{"$f":"+'DE_Areas & Ind'!D36","v":0},{"$f":"+DE_Capacity!C757","v":0},1,{"$f":"+DE_Capacity!E757","v":{"$error":"#DIV/0!"}},null,0,{"$f":"D92/(DE_Capacity!$C$523*DE_Capacity!$AA$3)","v":{"$error":"#DIV/0!"}},{"$error":"#DIV/0!"},{"$f":"COUNTIF(DE_Capacity!$CF$14:$CF$43,1)","v":0},{"$f":"COUNTIF(DE_Capacity!$CF$14:$CF$43,2)","v":0},{"$f":"COUNTIF(DE_Capacity!$CF$14:$CF$43,3)","v":0},{"$f":"COUNTIF(DE_Capacity!$CF$14:$CF$43,4)","v":0},{"$f":"COUNTIF(DE_Capacity!$CF$14:$CF$43,0)","v":0},null,null,1,null,null,"CF",82]
[83,{"$f":"+'DE_Areas & Ind'!C37","v":0},{"$f":"+'DE_Areas & Ind'!D37","v":0},{"$f":"+DE_Capacity!C758","v":0},1,{"$f":"+DE_Capacity!E758","v":{"$error":"#DIV/0!"}},null,0,{"$f":"D93/(DE_Capacity!$C$523*DE_Capacity!$AA$3)","v":{"$error":"#DIV/0!"}},{"$error":"#DIV/0!"},{"$f":"COUNTIF(DE_Capacity!$CG$14:$CG$43,1)","v":0},{"$f":"COUNTIF(DE_Capacity!$CG$14:$CG$43,2)","v":0},{"$f":"COUNTIF(DE_Capacity!$CG$14:$CG$43,3)","v":0},{"$f":"COUNTIF(DE_Capacity!$CG$14:$CG$43,4)","v":0},{"$f":"COUNTIF(DE_Capacity!$CG$14:$CG$43,0)","v":0},null,null,1,null,null,"CG",83]
[84,{"$f":"+'DE_Areas & Ind'!C38","v":0},{"$f":"+'DE_Areas & Ind'!D38","v":0},{"$f":"+DE_Capacity!C759","v":0},1,{"$f":"+DE_Capacity!E759","v":{"$error":"#DIV/0!"}},null,0,{"$f":"D94/(DE_Capacity!$C$523*DE_Capacity!$AA$3)","v":{"$error":"#DIV/0!"}},{"$error":"#DIV/0!"},{"$f":"COUNTIF(DE_Capacity!$CH$14:$CH$43,1)","v":0},{"$f":"COUNTIF(DE_Capacity!$CH$14:$CH$43,2)","v":0},{"$f":"COUNTIF(DE_Capacity!$CH$14:$CH$43,3)","v":0},{"$f":"COUNTIF(DE_Capacity!$CH$14:$CH$43,4)","v":0},{"$f":"COUNTIF(DE_Capacity!$CH$14:$CH$43,0)","v":0},null,null,1,null,null,"CH",84]
[85,{"$f":"+'DE_Areas & Ind'!C39","v":0},{"$f":"+'DE_Areas & Ind'!D39","v":0},{"$f":"+DE_Capacity!C760","v":0},1,{"$f":"+DE_Capacity!E760","v":{"$error":"#DIV/0!"}},null,0,{"$f":"D95/(DE_Capacity!$C$523*DE_Capacity!$AA$3)","v":{"$error":"#DIV/0!"}},{"$error":"#DIV/0!"},{"$f":"COUNTIF(DE_Capacity!$CI$14:$CI$43,1)","v":0},{"$f":"COUNTIF(DE_Capacity!$CI$14:$CI$43,2)","v":0},{"$f":"COUNTIF(DE_Capacity!$CI$14:$CI$43,3)","v":0},{"$f":"COUNTIF(DE_Capacity!$CI$14:$CI$43,4)","v":0},{"$f":"COUNTIF(DE_Capacity!$CI$14:$CI$43,0)","v":0},null,null,1,null,null,"CI",85]
[86,{"$f":"+'DE_Areas & Ind'!C40","v":0},{"$f":"+'DE_Areas & Ind'!D40","v":0},{"$f":"+DE_Capacity!C761","v":0},1,{"$f":"+DE_Capacity!E761","v":{"$error":"#DIV/0!"}},null,0,{"$f":"D96/(DE_Capacity!$C$523*DE_Capacity!$AA$3)","v":{"$error":"#DIV/0!"}},{"$error":"#DIV/0!"},{"$f":"COUNTIF(DE_Capacity!$CJ$14:$CJ$43,1)","v":0},{"$f":"COUNTIF(DE_Capacity!$CJ$14:$CJ$43,2)","v":0},{"$f":"COUNTIF(DE_Capacity!$CJ$14:$CJ$43,3)","v":0},{"$f":"COUNTIF(DE_Capacity!$CJ$14:$CJ$43,4)","v":0},{"$f":"COUNTIF(DE_Capacity!$CJ$14:$CJ$43,0)","v":0},null,null,1,null,null,"CJ",86]
[87,{"$f":"+'DE_Areas & Ind'!C41","v":0},{"$f":"+'DE_Areas & Ind'!D41","v":0},{"$f":"+DE_Capacity!C762","v":0},1,{"$f":"+DE_Capacity!E762","v":{"$error":"#DIV/0!"}},null,0,{"$f":"D97/(DE_Capacity!$C$523*DE_Capacity!$AA$3)","v":{"$error":"#DIV/0!"}},{"$error":"#DIV/0!"},{"$f":"COUNTIF(DE_Capacity!$CK$14:$CK$43,1)","v":0},{"$f":"COUNTIF(DE_Capacity!$CK$14:$CK$43,2)","v":0},{"$f":"COUNTIF(DE_Capacity!$CK$14:$CK$43,3)","v":0},{"$f":"COUNTIF(DE_Capacity!$CK$14:$CK$43,4)","v":0},{"$f":"COUNTIF(DE_Capacity!$CK$14:$CK$43,0)","v":0},null,null,1,null,null,"CK",87]
[88,{"$f":"+'DE_Areas & Ind'!C42","v":0},{"$f":"+'DE_Areas & Ind'!D42","v":0},{"$f":"+DE_Capacity!C763","v":0},1,{"$f":"+DE_Capacity!E763","v":{"$error":"#DIV/0!"}},null,0,{"$f":"D98/(DE_Capacity!$C$523*DE_Capacity!$AA$3)","v":{"$error":"#DIV/0!"}},{"$error":"#DIV/0!"},{"$f":"COUNTIF(DE_Capacity!$CL$14:$CL$43,1)","v":0},{"$f":"COUNTIF(DE_Capacity!$CL$14:$CL$43,2)","v":0},{"$f":"COUNTIF(DE_Capacity!$CL$14:$CL$43,3)","v":0},{"$f":"COUNTIF(DE_Capacity!$CL$14:$CL$43,4)","v":0},{"$f":"COUNTIF(DE_Capacity!$CL$14:$CL$43,0)","v":0},null,null,1,null,null,"CL",88]
[89,{"$f":"+'DE_Areas & Ind'!C43","v":0},{"$f":"+'DE_Areas & Ind'!D43","v":0},{"$f":"+DE_Capacity!C764","v":0},1,{"$f":"+DE_Capacity!E764","v":{"$error":"#DIV/0!"}},null,0,{"$f":"D99/(DE_Capacity!$C$523*DE_Capacity!$AA$3)","v":{"$error":"#DIV/0!"}},{"$error":"#DIV/0!"},{"$f":"COUNTIF(DE_Capacity!$CM$14:$CM$43,1)","v":0},{"$f":"COUNTIF(DE_Capacity!$CM$14:$CM$43,2)","v":0},{"$f":"COUNTIF(DE_Capacity!$CM$14:$CM$43,3)","v":0},{"$f":"COUNTIF(DE_Capacity!$CM$14:$CM$43,4)","v":0},{"$f":"COUNTIF(DE_Capacity!$CM$14:$CM$43,0)","v":0},null,null,1,null,null,"CM",89]
[90,{"$f":"+'DE_Areas & Ind'!C44","v":0},{"$f":"+'DE_Areas & Ind'!D44","v":0},{"$f":"+DE_Capacity!C765","v":0},1,{"$f":"+DE_Capacity!E765","v":{"$error":"#DIV/0!"}},null,0,{"$f":"D100/(DE_Capacity!$C$523*DE_Capacity!$AA$3)","v":{"$error":"#DIV/0!"}},{"$error":"#DIV/0!"},{"$f":"COUNTIF(DE_Capacity!$CN$14:$CN$43,1)","v":0},{"$f":"COUNTIF(DE_Capacity!$CN$14:$CN$43,2)","v":0},{"$f":"COUNTIF(DE_Capacity!$CN$14:$CN$43,3)","v":0},{"$f":"COUNTIF(DE_Capacity!$CN$14:$CN$43,4)","v":0},{"$f":"COUNTIF(DE_Capacity!$CN$14:$CN$43,0)","v":0},null,null,1,null,null,"CN",90]
[91,{"$f":"+'DE_Areas & Ind'!I30","v":0},{"$f":"+'DE_Areas & Ind'!J30","v":0},{"$f":"+DE_Capacity!C766","v":0},1,{"$f":"+DE_Capacity!E766","v":{"$error":"#DIV/0!"}},null,0,{"$f":"D101/(DE_Capacity!$C$523*DE_Capacity!$AA$3)","v":{"$error":"#DIV/0!"}},{"$error":"#DIV/0!"},{"$f":"COUNTIF(DE_Capacity!$CO$14:$CO$43,1)","v":0},{"$f":"COUNTIF(DE_Capacity!$CO$14:$CO$43,2)","v":0},{"$f":"COUNTIF(DE_Capacity!$CO$14:$CO$43,3)","v":0},{"$f":"COUNTIF(DE_Capacity!$CO$14:$CO$43,4)","v":0},{"$f":"COUNTIF(DE_Capacity!$CO$14:$CO$43,0)","v":0},null,null,1,null,null,"CO",91]
[92,{"$f":"+'DE_Areas & Ind'!I31","v":0},{"$f":"+'DE_Areas & Ind'!J31","v":0},{"$f":"+DE_Capacity!C767","v":0},1,{"$f":"+DE_Capacity!E767","v":{"$error":"#DIV/0!"}},null,0,{"$f":"D102/(DE_Capacity!$C$523*DE_Capacity!$AA$3)","v":{"$error":"#DIV/0!"}},{"$error":"#DIV/0!"},{"$f":"COUNTIF(DE_Capacity!$CP$14:$CP$43,1)","v":0},{"$f":"COUNTIF(DE_Capacity!$CP$14:$CP$43,2)","v":0},{"$f":"COUNTIF(DE_Capacity!$CP$14:$CP$43,3)","v":0},{"$f":"COUNTIF(DE_Capacity!$CP$14:$CP$43,4)","v":0},{"$f":"COUNTIF(DE_Capacity!$CP$14:$CP$43,0)","v":0},null,null,1,null,null,"CP",92]
[93,{"$f":"+'DE_Areas & Ind'!I32","v":0},{"$f":"+'DE_Areas & Ind'!J32","v":0},{"$f":"+DE_Capacity!C768","v":0},1,{"$f":"+DE_Capacity!E768","v":{"$error":"#DIV/0!"}},null,0,{"$f":"D103/(DE_Capacity!$C$523*DE_Capacity!$AA$3)","v":{"$error":"#DIV/0!"}},{"$error":"#DIV/0!"},{"$f":"COUNTIF(DE_Capacity!$CQ$14:$CQ$43,1)","v":0},{"$f":"COUNTIF(DE_Capacity!$CQ$14:$CQ$43,2)","v":0},{"$f":"COUNTIF(DE_Capacity!$CQ$14:$CQ$43,3)","v":0},{"$f":"COUNTIF(DE_Capacity!$CQ$14:$CQ$43,4)","v":0},{"$f":"COUNTIF(DE_Capacity!$CQ$14:$CQ$43,0)","v":0},null,null,1,null,null,"CQ",93]
[94,{"$f":"+'DE_Areas & Ind'!I33","v":0},{"$f":"+'DE_Areas & Ind'!J33","v":0},{"$f":"+DE_Capacity!C769","v":0},1,{"$f":"+DE_Capacity!E769","v":{"$error":"#DIV/0!"}},null,0,{"$f":"D104/(DE_Capacity!$C$523*DE_Capacity!$AA$3)","v":{"$error":"#DIV/0!"}},{"$error":"#DIV/0!"},{"$f":"COUNTIF(DE_Capacity!$CR$14:$CR$43,1)","v":0},{"$f":"COUNTIF(DE_Capacity!$CR$14:$CR$43,2)","v":0},{"$f":"COUNTIF(DE_Capacity!$CR$14:$CR$43,3)","v":0},{"$f":"COUNTIF(DE_Capacity!$CR$14:$CR$43,4)","v":0},{"$f":"COUNTIF(DE_Capacity!$CR$14:$CR$43,0)","v":0},null,null,1,null,null,"CR",94]
[95,{"$f":"+'DE_Areas & Ind'!I34","v":0},{"$f":"+'DE_Areas & Ind'!J34","v":0},{"$f":"+DE_Capacity!C770","v":0},1,{"$f":"+DE_Capacity!E770","v":{"$error":"#DIV/0!"}},null,0,{"$f":"D105/(DE_Capacity!$C$523*DE_Capacity!$AA$3)","v":{"$error":"#DIV/0!"}},{"$error":"#DIV/0!"},{"$f":"COUNTIF(DE_Capacity!$CS$14:$CS$43,1)","v":0},{"$f":"COUNTIF(DE_Capacity!$CS$14:$CS$43,2)","v":0},{"$f":"COUNTIF(DE_Capacity!$CS$14:$CS$43,3)","v":0},{"$f":"COUNTIF(DE_Capacity!$CS$14:$CS$43,4)","v":0},{"$f":"COUNTIF(DE_Capacity!$CS$14:$CS$43,0)","v":0},null,null,1,null,null,"CS",95]
[96,{"$f":"+'DE_Areas & Ind'!I35","v":0},{"$f":"+'DE_Areas & Ind'!J35","v":0},{"$f":"+DE_Capacity!C771","v":0},1,{"$f":"+DE_Capacity!E771","v":{"$error":"#DIV/0!"}},null,0,{"$f":"D106/(DE_Capacity!$C$523*DE_Capacity!$AA$3)","v":{"$error":"#DIV/0!"}},{"$error":"#DIV/0!"},{"$f":"COUNTIF(DE_Capacity!$CT$14:$CT$43,1)","v":0},{"$f":"COUNTIF(DE_Capacity!$CT$14:$CT$43,2)","v":0},{"$f":"COUNTIF(DE_Capacity!$CT$14:$CT$43,3)","v":0},{"$f":"COUNTIF(DE_Capacity!$CT$14:$CT$43,4)","v":0},{"$f":"COUNTIF(DE_Capacity!$CT$14:$CT$43,0)","v":0},null,null,1,null,null,"CT",96]
[97,{"$f":"+'DE_Areas & Ind'!I36","v":0},{"$f":"+'DE_Areas & Ind'!J36","v":0},{"$f":"+DE_Capacity!C772","v":0},1,{"$f":"+DE_Capacity!E772","v":{"$error":"#DIV/0!"}},null,0,{"$f":"D107/(DE_Capacity!$C$523*DE_Capacity!$AA$3)","v":{"$error":"#DIV/0!"}},{"$error":"#DIV/0!"},{"$f":"COUNTIF(DE_Capacity!$CU$14:$CU$43,1)","v":0},{"$f":"COUNTIF(DE_Capacity!$CU$14:$CU$43,2)","v":0},{"$f":"COUNTIF(DE_Capacity!$CU$14:$CU$43,3)","v":0},{"$f":"COUNTIF(DE_Capacity!$CU$14:$CU$43,4)","v":0},{"$f":"COUNTIF(DE_Capacity!$CU$14:$CU$43,0)","v":0},null,null,1,null,null,"CU",97,null,null,null,null,null,null,null,null,null,"Area II"]
[98,{"$f":"+'DE_Areas & Ind'!I37","v":0},{"$f":"+'DE_Areas & Ind'!J37","v":0},{"$f":"+DE_Capacity!C773","v":0},1,{"$f":"+DE_Capacity!E773","v":{"$error":"#DIV/0!"}},null,0,{"$f":"D108/(DE_Capacity!$C$523*DE_Capacity!$AA$3)","v":{"$error":"#DIV/0!"}},{"$error":"#DIV/0!"},{"$f":"COUNTIF(DE_Capacity!$CV$14:$CV$43,1)","v":0},{"$f":"COUNTIF(DE_Capacity!$CV$14:$CV$43,2)","v":0},{"$f":"COUNTIF(DE_Capacity!$CV$14:$CV$43,3)","v":0},{"$f":"COUNTIF(DE_Capacity!$CV$14:$CV$43,4)","v":0},{"$f":"COUNTIF(DE_Capacity!$CV$14:$CV$43,0)","v":0},null,null,1,null,null,"CV",98]
[99,{"$f":"+'DE_Areas & Ind'!I38","v":0},{"$f":"+'DE_Areas & Ind'!J38","v":0},{"$f":"+DE_Capacity!C774","v":0},1,{"$f":"+DE_Capacity!E774","v":{"$error":"#DIV/0!"}},null,0,{"$f":"D109/(DE_Capacity!$C$523*DE_Capacity!$AA$3)","v":{"$error":"#DIV/0!"}},{"$error":"#DIV/0!"},{"$f":"COUNTIF(DE_Capacity!$CW$14:$CW$43,1)","v":0},{"$f":"COUNTIF(DE_Capacity!$CW$14:$CW$43,2)","v":0},{"$f":"COUNTIF(DE_Capacity!$CW$14:$CW$43,3)","v":0},{"$f":"COUNTIF(DE_Capacity!$CW$14:$CW$43,4)","v":0},{"$f":"COUNTIF(DE_Capacity!$CW$14:$CW$43,0)","v":0},null,null,1,null,null,"CW",99]
[100,{"$f":"+'DE_Areas & Ind'!I39","v":0},{"$f":"+'DE_Areas & Ind'!J39","v":0},{"$f":"+DE_Capacity!C775","v":0},1,{"$f":"+DE_Capacity!E775","v":{"$error":"#DIV/0!"}},null,0,{"$f":"D110/(DE_Capacity!$C$523*DE_Capacity!$AA$3)","v":{"$error":"#DIV/0!"}},{"$error":"#DIV/0!"},{"$f":"COUNTIF(DE_Capacity!$CX$14:$CX$43,1)","v":0},{"$f":"COUNTIF(DE_Capacity!$CX$14:$CX$43,2)","v":0},{"$f":"COUNTIF(DE_Capacity!$CX$14:$CX$43,3)","v":0},{"$f":"COUNTIF(DE_Capacity!$CX$14:$CX$43,4)","v":0},{"$f":"COUNTIF(DE_Capacity!$CX$14:$CX$43,0)","v":0},null,null,1,null,null,"CX",100]
[101,{"$f":"+'DE_Areas & Ind'!I40","v":0},{"$f":"+'DE_Areas & Ind'!J40","v":0},{"$f":"+DE_Capacity!C776","v":0},1,{"$f":"+DE_Capacity!E776","v":{"$error":"#DIV/0!"}},null,0,{"$f":"D111/(DE_Capacity!$C$523*DE_Capacity!$AA$3)","v":{"$error":"#DIV/0!"}},{"$error":"#DIV/0!"},{"$f":"COUNTIF(DE_Capacity!$CY$14:$CY$43,1)","v":0},{"$f":"COUNTIF(DE_Capacity!$CY$14:$CY$43,2)","v":0},{"$f":"COUNTIF(DE_Capacity!$CY$14:$CY$43,3)","v":0},{"$f":"COUNTIF(DE_Capacity!$CY$14:$CY$43,4)","v":0},{"$f":"COUNTIF(DE_Capacity!$CY$14:$CY$43,0)","v":0},null,null,1,null,null,"CY",101]
[102,{"$f":"+'DE_Areas & Ind'!I41","v":0},{"$f":"+'DE_Areas & Ind'!J41","v":0},{"$f":"+DE_Capacity!C777","v":0},1,{"$f":"+DE_Capacity!E777","v":{"$error":"#DIV/0!"}},null,0,{"$f":"D112/(DE_Capacity!$C$523*DE_Capacity!$AA$3)","v":{"$error":"#DIV/0!"}},{"$error":"#DIV/0!"},{"$f":"COUNTIF(DE_Capacity!$CZ$14:$CZ$43,1)","v":0},{"$f":"COUNTIF(DE_Capacity!$CZ$14:$CZ$43,2)","v":0},{"$f":"COUNTIF(DE_Capacity!$CZ$14:$CZ$43,3)","v":0},{"$f":"COUNTIF(DE_Capacity!$CZ$14:$CZ$43,4)","v":0},{"$f":"COUNTIF(DE_Capacity!$CZ$14:$CZ$43,0)","v":0},null,null,1,null,null,"CZ",102]
[103,{"$f":"+'DE_Areas & Ind'!I42","v":0},{"$f":"+'DE_Areas & Ind'!J42","v":0},{"$f":"+DE_Capacity!C778","v":0},1,{"$f":"+DE_Capacity!E778","v":{"$error":"#DIV/0!"}},null,0,{"$f":"D113/(DE_Capacity!$C$523*DE_Capacity!$AA$3)","v":{"$error":"#DIV/0!"}},{"$error":"#DIV/0!"},{"$f":"COUNTIF(DE_Capacity!$DA$14:$DA$43,1)","v":0},{"$f":"COUNTIF(DE_Capacity!$DA$14:$DA$43,2)","v":0},{"$f":"COUNTIF(DE_Capacity!$DA$14:$DA$43,3)","v":0},{"$f":"COUNTIF(DE_Capacity!$DA$14:$DA$43,4)","v":0},{"$f":"COUNTIF(DE_Capacity!$DA$14:$DA$43,0)","v":0},null,null,1,null,null,"DA",103]
[104,{"$f":"+'DE_Areas & Ind'!I43","v":0},{"$f":"+'DE_Areas & Ind'!J43","v":0},{"$f":"+DE_Capacity!C779","v":0},1,{"$f":"+DE_Capacity!E779","v":{"$error":"#DIV/0!"}},null,0,{"$f":"D114/(DE_Capacity!$C$523*DE_Capacity!$AA$3)","v":{"$error":"#DIV/0!"}},{"$error":"#DIV/0!"},{"$f":"COUNTIF(DE_Capacity!$DB$14:$DB$43,1)","v":0},{"$f":"COUNTIF(DE_Capacity!$DB$14:$DB$43,2)","v":0},{"$f":"COUNTIF(DE_Capacity!$DB$14:$DB$43,3)","v":0},{"$f":"COUNTIF(DE_Capacity!$DB$14:$DB$43,4)","v":0},{"$f":"COUNTIF(DE_Capacity!$DB$14:$DB$43,0)","v":0},null,null,1,null,null,"DB",104]
[105,{"$f":"+'DE_Areas & Ind'!I44","v":0},{"$f":"+'DE_Areas & Ind'!J44","v":0},{"$f":"+DE_Capacity!C780","v":0},1,{"$f":"+DE_Capacity!E780","v":{"$error":"#DIV/0!"}},null,0,{"$f":"D115/(DE_Capacity!$C$523*DE_Capacity!$AA$3)","v":{"$error":"#DIV/0!"}},{"$error":"#DIV/0!"},{"$f":"COUNTIF(DE_Capacity!$DC$14:$DC$43,1)","v":0},{"$f":"COUNTIF(DE_Capacity!$DC$14:$DC$43,2)","v":0},{"$f":"COUNTIF(DE_Capacity!$DC$14:$DC$43,3)","v":0},{"$f":"COUNTIF(DE_Capacity!$DC$14:$DC$43,4)","v":0},{"$f":"COUNTIF(DE_Capacity!$DC$14:$DC$43,0)","v":0},null,null,1,null,null,"DC",105]
[106,{"$f":"+'DE_Areas & Ind'!O30","v":0},{"$f":"+'DE_Areas & Ind'!P30","v":0},{"$f":"+DE_Capacity!C781","v":0},1,{"$f":"+DE_Capacity!E781","v":{"$error":"#DIV/0!"}},null,0,{"$f":"D116/(DE_Capacity!$C$523*DE_Capacity!$AA$3)","v":{"$error":"#DIV/0!"}},{"$error":"#DIV/0!"},{"$f":"COUNTIF(DE_Capacity!$DD$14:$DD$43,1)","v":0},{"$f":"COUNTIF(DE_Capacity!$DD$14:$DD$43,2)","v":0},{"$f":"COUNTIF(DE_Capacity!$DD$14:$DD$43,3)","v":0},{"$f":"COUNTIF(DE_Capacity!$DD$14:$DD$43,4)","v":0},{"$f":"COUNTIF(DE_Capacity!$DD$14:$DD$43,0)","v":0},null,null,1,null,null,"DD",106]
[107,{"$f":"+'DE_Areas & Ind'!O31","v":0},{"$f":"+'DE_Areas & Ind'!P31","v":0},{"$f":"+DE_Capacity!C782","v":0},1,{"$f":"+DE_Capacity!E782","v":{"$error":"#DIV/0!"}},null,0,{"$f":"D117/(DE_Capacity!$C$523*DE_Capacity!$AA$3)","v":{"$error":"#DIV/0!"}},{"$error":"#DIV/0!"},{"$f":"COUNTIF(DE_Capacity!$DE$14:$DE$43,1)","v":0},{"$f":"COUNTIF(DE_Capacity!$DE$14:$DE$43,2)","v":0},{"$f":"COUNTIF(DE_Capacity!$DE$14:$DE$43,3)","v":0},{"$f":"COUNTIF(DE_Capacity!$DE$14:$DE$43,4)","v":0},{"$f":"COUNTIF(DE_Capacity!$DE$14:$DE$43,0)","v":0},null,null,1,null,null,"DE",107]
[108,{"$f":"+'DE_Areas & Ind'!O32","v":0},{"$f":"+'DE_Areas & Ind'!P32","v":0},{"$f":"+DE_Capacity!C783","v":0},1,{"$f":"+DE_Capacity!E783","v":{"$error":"#DIV/0!"}},null,0,{"$f":"D118/(DE_Capacity!$C$523*DE_Capacity!$AA$3)","v":{"$error":"#DIV/0!"}},{"$error":"#DIV/0!"},{"$f":"COUNTIF(DE_Capacity!$DF$14:$DF$43,1)","v":0},{"$f":"COUNTIF(DE_Capacity!$DF$14:$DF$43,2)","v":0},{"$f":"COUNTIF(DE_Capacity!$DF$14:$DF$43,3)","v":0},{"$f":"COUNTIF(DE_Capacity!$DF$14:$DF$43,4)","v":0},{"$f":"COUNTIF(DE_Capacity!$DF$14:$DF$43,0)","v":0},null,null,1,null,null,"DF",108]
[109,{"$f":"+'DE_Areas & Ind'!O33","v":0},{"$f":"+'DE_Areas & Ind'!P33","v":0},{"$f":"+DE_Capacity!C784","v":0},1,{"$f":"+DE_Capacity!E784","v":{"$error":"#DIV/0!"}},null,0,{"$f":"D119/(DE_Capacity!$C$523*DE_Capacity!$AA$3)","v":{"$error":"#DIV/0!"}},{"$error":"#DIV/0!"},{"$f":"COUNTIF(DE_Capacity!$DG$14:$DG$43,1)","v":0},{"$f":"COUNTIF(DE_Capacity!$DG$14:$DG$43,2)","v":0},{"$f":"COUNTIF(DE_Capacity!$DG$14:$DG$43,3)","v":0},{"$f":"COUNTIF(DE_Capacity!$DG$14:$DG$43,4)","v":0},{"$f":"COUNTIF(DE_Capacity!$DG$14:$DG$43,0)","v":0},null,null,1,null,null,"DG",109]
[110,{"$f":"+'DE_Areas & Ind'!O34","v":0},{"$f":"+'DE_Areas & Ind'!P34","v":0},{"$f":"+DE_Capacity!C785","v":0},1,{"$f":"+DE_Capacity!E785","v":{"$error":"#DIV/0!"}},null,0,{"$f":"D120/(DE_Capacity!$C$523*DE_Capacity!$AA$3)","v":{"$error":"#DIV/0!"}},{"$error":"#DIV/0!"},{"$f":"COUNTIF(DE_Capacity!$DH$14:$DH$43,1)","v":0},{"$f":"COUNTIF(DE_Capacity!$DH$14:$DH$43,2)","v":0},{"$f":"COUNTIF(DE_Capacity!$DH$14:$DH$43,3)","v":0},{"$f":"COUNTIF(DE_Capacity!$DH$14:$DH$43,4)","v":0},{"$f":"COUNTIF(DE_Capacity!$DH$14:$DH$43,0)","v":0},null,null,1,null,null,"DH",110]
[111,{"$f":"+'DE_Areas & Ind'!O35","v":0},{"$f":"+'DE_Areas & Ind'!P35","v":0},{"$f":"+DE_Capacity!C786","v":0},1,{"$f":"+DE_Capacity!E786","v":{"$error":"#DIV/0!"}},null,0,{"$f":"D121/(DE_Capacity!$C$523*DE_Capacity!$AA$3)","v":{"$error":"#DIV/0!"}},{"$error":"#DIV/0!"},{"$f":"COUNTIF(DE_Capacity!$DI$14:$DI$43,1)","v":0},{"$f":"COUNTIF(DE_Capacity!$DI$14:$DI$43,2)","v":0},{"$f":"COUNTIF(DE_Capacity!$DI$14:$DI$43,3)","v":0},{"$f":"COUNTIF(DE_Capacity!$DI$14:$DI$43,4)","v":0},{"$f":"COUNTIF(DE_Capacity!$DI$14:$DI$43,0)","v":0},null,null,1,null,null,"DI",111]
[112,{"$f":"+'DE_Areas & Ind'!O36","v":0},{"$f":"+'DE_Areas & Ind'!P36","v":0},{"$f":"+DE_Capacity!C787","v":0},1,{"$f":"+DE_Capacity!E787","v":{"$error":"#DIV/0!"}},null,0,{"$f":"D122/(DE_Capacity!$C$523*DE_Capacity!$AA$3)","v":{"$error":"#DIV/0!"}},{"$error":"#DIV/0!"},{"$f":"COUNTIF(DE_Capacity!$DJ$14:$DJ$43,1)","v":0},{"$f":"COUNTIF(DE_Capacity!$DJ$14:$DJ$43,2)","v":0},{"$f":"COUNTIF(DE_Capacity!$DJ$14:$DJ$43,3)","v":0},{"$f":"COUNTIF(DE_Capacity!$DJ$14:$DJ$43,4)","v":0},{"$f":"COUNTIF(DE_Capacity!$DJ$14:$DJ$43,0)","v":0},null,null,1,null,null,"DJ",112]
[113,{"$f":"+'DE_Areas & Ind'!O37","v":0},{"$f":"+'DE_Areas & Ind'!P37","v":0},{"$f":"+DE_Capacity!C788","v":0},1,{"$f":"+DE_Capacity!E788","v":{"$error":"#DIV/0!"}},null,0,{"$f":"D123/(DE_Capacity!$C$523*DE_Capacity!$AA$3)","v":{"$error":"#DIV/0!"}},{"$error":"#DIV/0!"},{"$f":"COUNTIF(DE_Capacity!$DK$14:$DK$43,1)","v":0},{"$f":"COUNTIF(DE_Capacity!$DK$14:$DK$43,2)","v":0},{"$f":"COUNTIF(DE_Capacity!$DK$14:$DK$43,3)","v":0},{"$f":"COUNTIF(DE_Capacity!$DK$14:$DK$43,4)","v":0},{"$f":"COUNTIF(DE_Capacity!$DK$14:$DK$43,0)","v":0},null,null,1,null,null,"DK",113]
[114,{"$f":"+'DE_Areas & Ind'!O38","v":0},{"$f":"+'DE_Areas & Ind'!P38","v":0},{"$f":"+DE_Capacity!C789","v":0},1,{"$f":"+DE_Capacity!E789","v":{"$error":"#DIV/0!"}},null,0,{"$f":"D124/(DE_Capacity!$C$523*DE_Capacity!$AA$3)","v":{"$error":"#DIV/0!"}},{"$error":"#DIV/0!"},{"$f":"COUNTIF(DE_Capacity!$DL$14:$DL$43,1)","v":0},{"$f":"COUNTIF(DE_Capacity!$DL$14:$DL$43,2)","v":0},{"$f":"COUNTIF(DE_Capacity!$DL$14:$DL$43,3)","v":0},{"$f":"COUNTIF(DE_Capacity!$DL$14:$DL$43,4)","v":0},{"$f":"COUNTIF(DE_Capacity!$DL$14:$DL$43,0)","v":0},null,null,1,null,null,"DL",114]
[115,{"$f":"+'DE_Areas & Ind'!O39","v":0},{"$f":"+'DE_Areas & Ind'!P39","v":0},{"$f":"+DE_Capacity!C790","v":0},1,{"$f":"+DE_Capacity!E790","v":{"$error":"#DIV/0!"}},null,0,{"$f":"D125/(DE_Capacity!$C$523*DE_Capacity!$AA$3)","v":{"$error":"#DIV/0!"}},{"$error":"#DIV/0!"},{"$f":"COUNTIF(DE_Capacity!$DM$14:$DM$43,1)","v":0},{"$f":"COUNTIF(DE_Capacity!$DM$14:$DM$43,2)","v":0},{"$f":"COUNTIF(DE_Capacity!$DM$14:$DM$43,3)","v":0},{"$f":"COUNTIF(DE_Capacity!$DM$14:$DM$43,4)","v":0},{"$f":"COUNTIF(DE_Capacity!$DM$14:$DM$43,0)","v":0},null,null,1,null,null,"DM",115]
[116,{"$f":"+'DE_Areas & Ind'!O40","v":0},{"$f":"+'DE_Areas & Ind'!P40","v":0},{"$f":"+DE_Capacity!C791","v":0},1,{"$f":"+DE_Capacity!E791","v":{"$error":"#DIV/0!"}},null,0,{"$f":"D126/(DE_Capacity!$C$523*DE_Capacity!$AA$3)","v":{"$error":"#DIV/0!"}},{"$error":"#DIV/0!"},{"$f":"COUNTIF(DE_Capacity!$DN$14:$DN$43,1)","v":0},{"$f":"COUNTIF(DE_Capacity!$DN$14:$DN$43,2)","v":0},{"$f":"COUNTIF(DE_Capacity!$DN$14:$DN$43,3)","v":0},{"$f":"COUNTIF(DE_Capacity!$DN$14:$DN$43,4)","v":0},{"$f":"COUNTIF(DE_Capacity!$DN$14:$DN$43,0)","v":0},null,null,1,null,null,"DN",116]
[117,{"$f":"+'DE_Areas & Ind'!O41","v":0},{"$f":"+'DE_Areas & Ind'!P41","v":0},{"$f":"+DE_Capacity!C792","v":0},1,{"$f":"+DE_Capacity!E792","v":{"$error":"#DIV/0!"}},null,0,{"$f":"D127/(DE_Capacity!$C$523*DE_Capacity!$AA$3)","v":{"$error":"#DIV/0!"}},{"$error":"#DIV/0!"},{"$f":"COUNTIF(DE_Capacity!$DO$14:$DO$43,1)","v":0},{"$f":"COUNTIF(DE_Capacity!$DO$14:$DO$43,2)","v":0},{"$f":"COUNTIF(DE_Capacity!$DO$14:$DO$43,3)","v":0},{"$f":"COUNTIF(DE_Capacity!$DO$14:$DO$43,4)","v":0},{"$f":"COUNTIF(DE_Capacity!$DO$14:$DO$43,0)","v":0},null,null,1,null,null,"DO",117]
[118,{"$f":"+'DE_Areas & Ind'!O42","v":0},{"$f":"+'DE_Areas & Ind'!P42","v":0},{"$f":"+DE_Capacity!C793","v":0},1,{"$f":"+DE_Capacity!E793","v":{"$error":"#DIV/0!"}},null,0,{"$f":"D128/(DE_Capacity!$C$523*DE_Capacity!$AA$3)","v":{"$error":"#DIV/0!"}},{"$error":"#DIV/0!"},{"$f":"COUNTIF(DE_Capacity!$DP$14:$DP$43,1)","v":0},{"$f":"COUNTIF(DE_Capacity!$DP$14:$DP$43,2)","v":0},{"$f":"COUNTIF(DE_Capacity!$DP$14:$DP$43,3)","v":0},{"$f":"COUNTIF(DE_Capacity!$DP$14:$DP$43,4)","v":0},{"$f":"COUNTIF(DE_Capacity!$DP$14:$DP$43,0)","v":0},null,null,1,null,null,"DP",118]
[119,{"$f":"+'DE_Areas & Ind'!O43","v":0},{"$f":"+'DE_Areas & Ind'!P43","v":0},{"$f":"+DE_Capacity!C794","v":0},1,{"$f":"+DE_Capacity!E794","v":{"$error":"#DIV/0!"}},null,0,{"$f":"D129/(DE_Capacity!$C$523*DE_Capacity!$AA$3)","v":{"$error":"#DIV/0!"}},{"$error":"#DIV/0!"},{"$f":"COUNTIF(DE_Capacity!$DQ$14:$DQ$43,1)","v":0},{"$f":"COUNTIF(DE_Capacity!$DQ$14:$DQ$43,2)","v":0},{"$f":"COUNTIF(DE_Capacity!$DQ$14:$DQ$43,3)","v":0},{"$f":"COUNTIF(DE_Capacity!$DQ$14:$DQ$43,4)","v":0},{"$f":"COUNTIF(DE_Capacity!$DQ$14:$DQ$43,0)","v":0},null,null,1,null,null,"DQ",119]
[120,{"$f":"+'DE_Areas & Ind'!O44","v":0},{"$f":"+'DE_Areas & Ind'!P44","v":0},{"$f":"+DE_Capacity!C795","v":0},1,{"$f":"+DE_Capacity!E795","v":{"$error":"#DIV/0!"}},null,0,{"$f":"D130/(DE_Capacity!$C$523*DE_Capacity!$AA$3)","v":{"$error":"#DIV/0!"}},{"$error":"#DIV/0!"},{"$f":"COUNTIF(DE_Capacity!$DR$14:$DR$43,1)","v":0},{"$f":"COUNTIF(DE_Capacity!$DR$14:$DR$43,2)","v":0},{"$f":"COUNTIF(DE_Capacity!$DR$14:$DR$43,3)","v":0},{"$f":"COUNTIF(DE_Capacity!$DR$14:$DR$43,4)","v":0},{"$f":"COUNTIF(DE_Capacity!$DR$14:$DR$43,0)","v":0},null,null,1,null,null,"DR",120]
[121,{"$f":"+'DE_Areas & Ind'!U30","v":0},{"$f":"+'DE_Areas & Ind'!V30","v":0},{"$f":"+DE_Capacity!C796","v":0},1,{"$f":"+DE_Capacity!E796","v":{"$error":"#DIV/0!"}},null,0,{"$f":"D131/(DE_Capacity!$C$523*DE_Capacity!$AA$3)","v":{"$error":"#DIV/0!"}},{"$error":"#DIV/0!"},{"$f":"COUNTIF(DE_Capacity!$DS$14:$DS$43,1)","v":0},{"$f":"COUNTIF(DE_Capacity!$DS$14:$DS$43,2)","v":0},{"$f":"COUNTIF(DE_Capacity!$DS$14:$DS$43,3)","v":0},{"$f":"COUNTIF(DE_Capacity!$DS$14:$DS$43,4)","v":0},{"$f":"COUNTIF(DE_Capacity!$DS$14:$DS$43,0)","v":0},null,null,1,null,null,"DS",121]
[122,{"$f":"+'DE_Areas & Ind'!U31","v":0},{"$f":"+'DE_Areas & Ind'!V31","v":0},{"$f":"+DE_Capacity!C797","v":0},1,{"$f":"+DE_Capacity!E797","v":{"$error":"#DIV/0!"}},null,0,{"$f":"D132/(DE_Capacity!$C$523*DE_Capacity!$AA$3)","v":{"$error":"#DIV/0!"}},{"$error":"#DIV/0!"},{"$f":"COUNTIF(DE_Capacity!$DT$14:$DT$43,1)","v":0},{"$f":"COUNTIF(DE_Capacity!$DT$14:$DT$43,2)","v":0},{"$f":"COUNTIF(DE_Capacity!$DT$14:$DT$43,3)","v":0},{"$f":"COUNTIF(DE_Capacity!$DT$14:$DT$43,4)","v":0},{"$f":"COUNTIF(DE_Capacity!$DT$14:$DT$43,0)","v":0},null,null,1,null,null,"DT",122]
[123,{"$f":"+'DE_Areas & Ind'!U32","v":0},{"$f":"+'DE_Areas & Ind'!V32","v":0},{"$f":"+DE_Capacity!C798","v":0},1,{"$f":"+DE_Capacity!E798","v":{"$error":"#DIV/0!"}},null,0,{"$f":"D133/(DE_Capacity!$C$523*DE_Capacity!$AA$3)","v":{"$error":"#DIV/0!"}},{"$error":"#DIV/0!"},{"$f":"COUNTIF(DE_Capacity!$DU$14:$DU$43,1)","v":0},{"$f":"COUNTIF(DE_Capacity!$DU$14:$DU$43,2)","v":0},{"$f":"COUNTIF(DE_Capacity!$DU$14:$DU$43,3)","v":0},{"$f":"COUNTIF(DE_Capacity!$DU$14:$DU$43,4)","v":0},{"$f":"COUNTIF(DE_Capacity!$DU$14:$DU$43,0)","v":0},null,null,1,null,null,"DU",123]
[124,{"$f":"+'DE_Areas & Ind'!U33","v":0},{"$f":"+'DE_Areas & Ind'!V33","v":0},{"$f":"+DE_Capacity!C799","v":0},1,{"$f":"+DE_Capacity!E799","v":{"$error":"#DIV/0!"}},null,0,{"$f":"D134/(DE_Capacity!$C$523*DE_Capacity!$AA$3)","v":{"$error":"#DIV/0!"}},{"$error":"#DIV/0!"},{"$f":"COUNTIF(DE_Capacity!$DV$14:$DV$43,1)","v":0},{"$f":"COUNTIF(DE_Capacity!$DV$14:$DV$43,2)","v":0},{"$f":"COUNTIF(DE_Capacity!$DV$14:$DV$43,3)","v":0},{"$f":"COUNTIF(DE_Capacity!$DV$14:$DV$43,4)","v":0},{"$f":"COUNTIF(DE_Capacity!$DV$14:$DV$43,0)","v":0},null,null,1,null,null,"DV",124]
[125,{"$f":"+'DE_Areas & Ind'!U34","v":0},{"$f":"+'DE_Areas & Ind'!V34","v":0},{"$f":"+DE_Capacity!C800","v":0},1,{"$f":"+DE_Capacity!E800","v":{"$error":"#DIV/0!"}},null,0,{"$f":"D135/(DE_Capacity!$C$523*DE_Capacity!$AA$3)","v":{"$error":"#DIV/0!"}},{"$error":"#DIV/0!"},{"$f":"COUNTIF(DE_Capacity!$DW$14:$DW$43,1)","v":0},{"$f":"COUNTIF(DE_Capacity!$DW$14:$DW$43,2)","v":0},{"$f":"COUNTIF(DE_Capacity!$DW$14:$DW$43,3)","v":0},{"$f":"COUNTIF(DE_Capacity!$DW$14:$DW$43,4)","v":0},{"$f":"COUNTIF(DE_Capacity!$DW$14:$DW$43,0)","v":0},null,null,1,null,null,"DW",125]
[126,{"$f":"+'DE_Areas & Ind'!U35","v":0},{"$f":"+'DE_Areas & Ind'!V35","v":0},{"$f":"+DE_Capacity!C801","v":0},1,{"$f":"+DE_Capacity!E801","v":{"$error":"#DIV/0!"}},null,0,{"$f":"D136/(DE_Capacity!$C$523*DE_Capacity!$AA$3)","v":{"$error":"#DIV/0!"}},{"$error":"#DIV/0!"},{"$f":"COUNTIF(DE_Capacity!$DX$14:$DX$43,1)","v":0},{"$f":"COUNTIF(DE_Capacity!$DX$14:$DX$43,2)","v":0},{"$f":"COUNTIF(DE_Capacity!$DX$14:$DX$43,3)","v":0},{"$f":"COUNTIF(DE_Capacity!$DX$14:$DX$43,4)","v":0},{"$f":"COUNTIF(DE_Capacity!$DX$14:$DX$43,0)","v":0},null,null,1,null,null,"DX",126]
[127,{"$f":"+'DE_Areas & Ind'!U36","v":0},{"$f":"+'DE_Areas & Ind'!V36","v":0},{"$f":"+DE_Capacity!C802","v":0},1,{"$f":"+DE_Capacity!E802","v":{"$error":"#DIV/0!"}},null,0,{"$f":"D137/(DE_Capacity!$C$523*DE_Capacity!$AA$3)","v":{"$error":"#DIV/0!"}},{"$error":"#DIV/0!"},{"$f":"COUNTIF(DE_Capacity!$DY$14:$DY$43,1)","v":0},{"$f":"COUNTIF(DE_Capacity!$DY$14:$DY$43,2)","v":0},{"$f":"COUNTIF(DE_Capacity!$DY$14:$DY$43,3)","v":0},{"$f":"COUNTIF(DE_Capacity!$DY$14:$DY$43,4)","v":0},{"$f":"COUNTIF(DE_Capacity!$DY$14:$DY$43,0)","v":0},null,null,1,null,null,"DY",127]
[128,{"$f":"+'DE_Areas & Ind'!U37","v":0},{"$f":"+'DE_Areas & Ind'!V37","v":0},{"$f":"+DE_Capacity!C803","v":0},1,{"$f":"+DE_Capacity!E803","v":{"$error":"#DIV/0!"}},null,0,{"$f":"D138/(DE_Capacity!$C$523*DE_Capacity!$AA$3)","v":{"$error":"#DIV/0!"}},{"$error":"#DIV/0!"},{"$f":"COUNTIF(DE_Capacity!$DZ$14:$DZ$43,1)","v":0},{"$f":"COUNTIF(DE_Capacity!$DZ$14:$DZ$43,2)","v":0},{"$f":"COUNTIF(DE_Capacity!$DZ$14:$DZ$43,3)","v":0},{"$f":"COUNTIF(DE_Capacity!$DZ$14:$DZ$43,4)","v":0},{"$f":"COUNTIF(DE_Capacity!$DZ$14:$DZ$43,0)","v":0},null,null,1,null,null,"DZ",128]
[129,{"$f":"+'DE_Areas & Ind'!U38","v":0},{"$f":"+'DE_Areas & Ind'!V38","v":0},{"$f":"+DE_Capacity!C804","v":0},1,{"$f":"+DE_Capacity!E804","v":{"$error":"#DIV/0!"}},null,0,{"$f":"D139/(DE_Capacity!$C$523*DE_Capacity!$AA$3)","v":{"$error":"#DIV/0!"}},{"$error":"#DIV/0!"},{"$f":"COUNTIF(DE_Capacity!$EA$14:$EA$43,1)","v":0},{"$f":"COUNTIF(DE_Capacity!$EA$14:$EA$43,2)","v":0},{"$f":"COUNTIF(DE_Capacity!$EA$14:$EA$43,3)","v":0},{"$f":"COUNTIF(DE_Capacity!$EA$14:$EA$43,4)","v":0},{"$f":"COUNTIF(DE_Capacity!$EA$14:$EA$43,0)","v":0},null,null,1,null,null,"EA",129]
[130,{"$f":"+'DE_Areas & Ind'!U39","v":0},{"$f":"+'DE_Areas & Ind'!V39","v":0},{"$f":"+DE_Capacity!C805","v":0},{"$f":"RANK(D140,$D$11:$D$160)","v":1},{"$f":"+DE_Capacity!E805","v":{"$error":"#DIV/0!"}},null,{"$f":"C140","v":0},{"$f":"D140/(DE_Capacity!$C$523*DE_Capacity!$AA$3)","v":{"$error":"#DIV/0!"}},{"$f":"1-I140","v":{"$error":"#DIV/0!"}},{"$f":"COUNTIF(DE_Capacity!$EB$14:$EB$43,1)","v":0},{"$f":"COUNTIF(DE_Capacity!$EB$14:$EB$43,2)","v":0},{"$f":"COUNTIF(DE_Capacity!$EB$14:$EB$43,3)","v":0},{"$f":"COUNTIF(DE_Capacity!$EB$14:$EB$43,4)","v":0},{"$f":"COUNTIF(DE_Capacity!$EB$14:$EB$43,0)","v":0},null,null,{"$f":"RANK(D140,$D$11:$D$160,0)","v":1},null,null,"EB",130]
[131,{"$f":"+'DE_Areas & Ind'!U40","v":0},{"$f":"+'DE_Areas & Ind'!V40","v":0},{"$f":"+DE_Capacity!C806","v":0},1,{"$f":"+DE_Capacity!E806","v":{"$error":"#DIV/0!"}},null,0,{"$f":"D141/(DE_Capacity!$C$523*DE_Capacity!$AA$3)","v":{"$error":"#DIV/0!"}},{"$error":"#DIV/0!"},{"$f":"COUNTIF(DE_Capacity!$EC$14:$EC$43,1)","v":0},{"$f":"COUNTIF(DE_Capacity!$EC$14:$EC$43,2)","v":0},{"$f":"COUNTIF(DE_Capacity!$EC$14:$EC$43,3)","v":0},{"$f":"COUNTIF(DE_Capacity!$EC$14:$EC$43,4)","v":0},{"$f":"COUNTIF(DE_Capacity!$EC$14:$EC$43,0)","v":0},null,null,1,null,null,"EC",131]
[132,{"$f":"+'DE_Areas & Ind'!U41","v":0},{"$f":"+'DE_Areas & Ind'!V41","v":0},{"$f":"+DE_Capacity!C807","v":0},1,{"$f":"+DE_Capacity!E807","v":{"$error":"#DIV/0!"}},null,0,{"$f":"D142/(DE_Capacity!$C$523*DE_Capacity!$AA$3)","v":{"$error":"#DIV/0!"}},{"$error":"#DIV/0!"},{"$f":"COUNTIF(DE_Capacity!$ED$14:$ED$43,1)","v":0},{"$f":"COUNTIF(DE_Capacity!$ED$14:$ED$43,2)","v":0},{"$f":"COUNTIF(DE_Capacity!$ED$14:$ED$43,3)","v":0},{"$f":"COUNTIF(DE_Capacity!$ED$14:$ED$43,4)","v":0},{"$f":"COUNTIF(DE_Capacity!$ED$14:$ED$43,0)","v":0},null,null,1,null,null,"ED",132]
[133,{"$f":"+'DE_Areas & Ind'!U42","v":0},{"$f":"+'DE_Areas & Ind'!V42","v":0},{"$f":"+DE_Capacity!C808","v":0},1,{"$f":"+DE_Capacity!E808","v":{"$error":"#DIV/0!"}},null,0,{"$f":"D143/(DE_Capacity!$C$523*DE_Capacity!$AA$3)","v":{"$error":"#DIV/0!"}},{"$error":"#DIV/0!"},{"$f":"COUNTIF(DE_Capacity!$EE$14:$EE$43,1)","v":0},{"$f":"COUNTIF(DE_Capacity!$EE$14:$EE$43,2)","v":0},{"$f":"COUNTIF(DE_Capacity!$EE$14:$EE$43,3)","v":0},{"$f":"COUNTIF(DE_Capacity!$EE$14:$EE$43,4)","v":0},{"$f":"COUNTIF(DE_Capacity!$EE$14:$EE$43,0)","v":0},null,null,1,null,null,"EE",133]
[134,{"$f":"+'DE_Areas & Ind'!U43","v":0},{"$f":"+'DE_Areas & Ind'!V43","v":0},{"$f":"+DE_Capacity!C809","v":0},1,{"$f":"+DE_Capacity!E809","v":{"$error":"#DIV/0!"}},null,0,{"$f":"D144/(DE_Capacity!$C$523*DE_Capacity!$AA$3)","v":{"$error":"#DIV/0!"}},{"$error":"#DIV/0!"},{"$f":"COUNTIF(DE_Capacity!$EF$14:$EF$43,1)","v":0},{"$f":"COUNTIF(DE_Capacity!$EF$14:$EF$43,2)","v":0},{"$f":"COUNTIF(DE_Capacity!$EF$14:$EF$43,3)","v":0},{"$f":"COUNTIF(DE_Capacity!$EF$14:$EF$43,4)","v":0},{"$f":"COUNTIF(DE_Capacity!$EF$14:$EF$43,0)","v":0},null,null,1,null,null,"EF",134]
[135,{"$f":"+'DE_Areas & Ind'!U44","v":0},{"$f":"+'DE_Areas & Ind'!V44","v":0},{"$f":"+DE_Capacity!C810","v":0},1,{"$f":"+DE_Capacity!E810","v":{"$error":"#DIV/0!"}},null,0,{"$f":"D145/(DE_Capacity!$C$523*DE_Capacity!$AA$3)","v":{"$error":"#DIV/0!"}},{"$error":"#DIV/0!"},{"$f":"COUNTIF(DE_Capacity!$EG$14:$EG$43,1)","v":0},{"$f":"COUNTIF(DE_Capacity!$EG$14:$EG$43,2)","v":0},{"$f":"COUNTIF(DE_Capacity!$EG$14:$EG$43,3)","v":0},{"$f":"COUNTIF(DE_Capacity!$EG$14:$EG$43,4)","v":0},{"$f":"COUNTIF(DE_Capacity!$EG$14:$EG$43,0)","v":0},null,null,1,null,null,"EG",135]
[136,{"$f":"+'DE_Areas & Ind'!AA30","v":0},{"$f":"+'DE_Areas & Ind'!AB30","v":0},{"$f":"+DE_Capacity!C811","v":0},1,{"$f":"+DE_Capacity!E811","v":{"$error":"#DIV/0!"}},null,0,{"$f":"D146/(DE_Capacity!$C$523*DE_Capacity!$AA$3)","v":{"$error":"#DIV/0!"}},{"$error":"#DIV/0!"},{"$f":"COUNTIF(DE_Capacity!$EH$14:$EH$43,1)","v":0},{"$f":"COUNTIF(DE_Capacity!$EH$14:$EH$43,2)","v":0},{"$f":"COUNTIF(DE_Capacity!$EH$14:$EH$43,3)","v":0},{"$f":"COUNTIF(DE_Capacity!$EH$14:$EH$43,4)","v":0},{"$f":"COUNTIF(DE_Capacity!$EH$14:$EH$43,0)","v":0},null,null,1,null,null,"EH",136]
[137,{"$f":"+'DE_Areas & Ind'!AA31","v":0},{"$f":"+'DE_Areas & Ind'!AB31","v":0},{"$f":"+DE_Capacity!C812","v":0},1,{"$f":"+DE_Capacity!E812","v":{"$error":"#DIV/0!"}},null,0,{"$f":"D147/(DE_Capacity!$C$523*DE_Capacity!$AA$3)","v":{"$error":"#DIV/0!"}},{"$error":"#DIV/0!"},{"$f":"COUNTIF(DE_Capacity!$EI$14:$EI$43,1)","v":0},{"$f":"COUNTIF(DE_Capacity!$EI$14:$EI$43,2)","v":0},{"$f":"COUNTIF(DE_Capacity!$EI$14:$EI$43,3)","v":0},{"$f":"COUNTIF(DE_Capacity!$EI$14:$EI$43,4)","v":0},{"$f":"COUNTIF(DE_Capacity!$EI$14:$EI$43,0)","v":0},null,null,1,null,null,"EI",137]
[138,{"$f":"+'DE_Areas & Ind'!AA32","v":0},{"$f":"+'DE_Areas & Ind'!AB32","v":0},{"$f":"+DE_Capacity!C813","v":0},1,{"$f":"+DE_Capacity!E813","v":{"$error":"#DIV/0!"}},null,0,{"$f":"D148/(DE_Capacity!$C$523*DE_Capacity!$AA$3)","v":{"$error":"#DIV/0!"}},{"$error":"#DIV/0!"},{"$f":"COUNTIF(DE_Capacity!$EJ$14:$EJ$43,1)","v":0},{"$f":"COUNTIF(DE_Capacity!$EJ$14:$EJ$43,2)","v":0},{"$f":"COUNTIF(DE_Capacity!$EJ$14:$EJ$43,3)","v":0},{"$f":"COUNTIF(DE_Capacity!$EJ$14:$EJ$43,4)","v":0},{"$f":"COUNTIF(DE_Capacity!$EJ$14:$EJ$43,0)","v":0},null,null,1,null,null,"EJ",138]
[139,{"$f":"+'DE_Areas & Ind'!AA33","v":0},{"$f":"+'DE_Areas & Ind'!AB33","v":0},{"$f":"+DE_Capacity!C814","v":0},1,{"$f":"+DE_Capacity!E814","v":{"$error":"#DIV/0!"}},null,0,{"$f":"D149/(DE_Capacity!$C$523*DE_Capacity!$AA$3)","v":{"$error":"#DIV/0!"}},{"$error":"#DIV/0!"},{"$f":"COUNTIF(DE_Capacity!$EK$14:$EK$43,1)","v":0},{"$f":"COUNTIF(DE_Capacity!$EK$14:$EK$43,2)","v":0},{"$f":"COUNTIF(DE_Capacity!$EK$14:$EK$43,3)","v":0},{"$f":"COUNTIF(DE_Capacity!$EK$14:$EK$43,4)","v":0},{"$f":"COUNTIF(DE_Capacity!$EK$14:$EK$43,0)","v":0},null,null,1,null,null,"EK",139]
[140,{"$f":"+'DE_Areas & Ind'!AA34","v":0},{"$f":"+'DE_Areas & Ind'!AB34","v":0},{"$f":"+DE_Capacity!C815","v":0},1,{"$f":"+DE_Capacity!E815","v":{"$error":"#DIV/0!"}},null,0,{"$f":"D150/(DE_Capacity!$C$523*DE_Capacity!$AA$3)","v":{"$error":"#DIV/0!"}},{"$error":"#DIV/0!"},{"$f":"COUNTIF(DE_Capacity!$EL$14:$EL$43,1)","v":0},{"$f":"COUNTIF(DE_Capacity!$EL$14:$EL$43,2)","v":0},{"$f":"COUNTIF(DE_Capacity!$EL$14:$EL$43,3)","v":0},{"$f":"COUNTIF(DE_Capacity!$EL$14:$EL$43,4)","v":0},{"$f":"COUNTIF(DE_Capacity!$EL$14:$EL$43,0)","v":0},null,null,1,null,null,"EL",140]
[141,{"$f":"+'DE_Areas & Ind'!AA35","v":0},{"$f":"+'DE_Areas & Ind'!AB35","v":0},{"$f":"+DE_Capacity!C816","v":0},1,{"$f":"+DE_Capacity!E816","v":{"$error":"#DIV/0!"}},null,0,{"$f":"D151/(DE_Capacity!$C$523*DE_Capacity!$AA$3)","v":{"$error":"#DIV/0!"}},{"$error":"#DIV/0!"},{"$f":"COUNTIF(DE_Capacity!$EM$14:$EM$43,1)","v":0},{"$f":"COUNTIF(DE_Capacity!$EM$14:$EM$43,2)","v":0},{"$f":"COUNTIF(DE_Capacity!$EM$14:$EM$43,3)","v":0},{"$f":"COUNTIF(DE_Capacity!$EM$14:$EM$43,4)","v":0},{"$f":"COUNTIF(DE_Capacity!$EM$14:$EM$43,0)","v":0},null,null,1,null,null,"EM",141]
[142,{"$f":"+'DE_Areas & Ind'!AA36","v":0},{"$f":"+'DE_Areas & Ind'!AB36","v":0},{"$f":"+DE_Capacity!C817","v":0},1,{"$f":"+DE_Capacity!E817","v":{"$error":"#DIV/0!"}},null,0,{"$f":"D152/(DE_Capacity!$C$523*DE_Capacity!$AA$3)","v":{"$error":"#DIV/0!"}},{"$error":"#DIV/0!"},{"$f":"COUNTIF(DE_Capacity!$EN$14:$EN$43,1)","v":0},{"$f":"COUNTIF(DE_Capacity!$EN$14:$EN$43,2)","v":0},{"$f":"COUNTIF(DE_Capacity!$EN$14:$EN$43,3)","v":0},{"$f":"COUNTIF(DE_Capacity!$EN$14:$EN$43,4)","v":0},{"$f":"COUNTIF(DE_Capacity!$EN$14:$EN$43,0)","v":0},null,null,1,null,null,"EN",142]
[143,{"$f":"+'DE_Areas & Ind'!AA37","v":0},{"$f":"+'DE_Areas & Ind'!AB37","v":0},{"$f":"+DE_Capacity!C818","v":0},1,{"$f":"+DE_Capacity!E818","v":{"$error":"#DIV/0!"}},null,0,{"$f":"D153/(DE_Capacity!$C$523*DE_Capacity!$AA$3)","v":{"$error":"#DIV/0!"}},{"$error":"#DIV/0!"},{"$f":"COUNTIF(DE_Capacity!$EO$14:$EO$43,1)","v":0},{"$f":"COUNTIF(DE_Capacity!$EO$14:$EO$43,2)","v":0},{"$f":"COUNTIF(DE_Capacity!$EO$14:$EO$43,3)","v":0},{"$f":"COUNTIF(DE_Capacity!$EO$14:$EO$43,4)","v":0},{"$f":"COUNTIF(DE_Capacity!$EO$14:$EO$43,0)","v":0},null,null,1,null,null,"EO",143]
[144,{"$f":"+'DE_Areas & Ind'!AA38","v":0},{"$f":"+'DE_Areas & Ind'!AB38","v":0},{"$f":"+DE_Capacity!C819","v":0},1,{"$f":"+DE_Capacity!E819","v":{"$error":"#DIV/0!"}},null,0,{"$f":"D154/(DE_Capacity!$C$523*DE_Capacity!$AA$3)","v":{"$error":"#DIV/0!"}},{"$error":"#DIV/0!"},{"$f":"COUNTIF(DE_Capacity!$EP$14:$EP$43,1)","v":0},{"$f":"COUNTIF(DE_Capacity!$EP$14:$EP$43,2)","v":0},{"$f":"COUNTIF(DE_Capacity!$EP$14:$EP$43,3)","v":0},{"$f":"COUNTIF(DE_Capacity!$EP$14:$EP$43,4)","v":0},{"$f":"COUNTIF(DE_Capacity!$EP$14:$EP$43,0)","v":0},null,null,1,null,null,"EP",144]
[145,{"$f":"+'DE_Areas & Ind'!AA39","v":0},{"$f":"+'DE_Areas & Ind'!AB39","v":0},{"$f":"+DE_Capacity!C820","v":0},1,{"$f":"+DE_Capacity!E820","v":{"$error":"#DIV/0!"}},null,{"$f":"C155","v":0},{"$f":"D155/(DE_Capacity!$C$523*DE_Capacity!$AA$3)","v":{"$error":"#DIV/0!"}},{"$error":"#DIV/0!"},{"$f":"COUNTIF(DE_Capacity!$EQ$14:$EQ$43,1)","v":0},{"$f":"COUNTIF(DE_Capacity!$EQ$14:$EQ$43,2)","v":0},{"$f":"COUNTIF(DE_Capacity!$EQ$14:$EQ$43,3)","v":0},{"$f":"COUNTIF(DE_Capacity!$EQ$14:$EQ$43,4)","v":0},{"$f":"COUNTIF(DE_Capacity!$EQ$14:$EQ$43,0)","v":0},null,null,1,null,null,"EQ",145]
[146,{"$f":"+'DE_Areas & Ind'!AA40","v":0},{"$f":"+'DE_Areas & Ind'!AB40","v":0},{"$f":"+DE_Capacity!C821","v":0},1,{"$f":"+DE_Capacity!E821","v":{"$error":"#DIV/0!"}},null,0,{"$f":"D156/(DE_Capacity!$C$523*DE_Capacity!$AA$3)","v":{"$error":"#DIV/0!"}},{"$error":"#DIV/0!"},{"$f":"COUNTIF(DE_Capacity!$ER$14:$ER$43,1)","v":0},{"$f":"COUNTIF(DE_Capacity!$ER$14:$ER$43,2)","v":0},{"$f":"COUNTIF(DE_Capacity!$ER$14:$ER$43,3)","v":0},{"$f":"COUNTIF(DE_Capacity!$ER$14:$ER$43,4)","v":0},{"$f":"COUNTIF(DE_Capacity!$ER$14:$ER$43,0)","v":0},null,null,1,null,null,"ER",146]
[147,{"$f":"+'DE_Areas & Ind'!AA41","v":0},{"$f":"+'DE_Areas & Ind'!AB41","v":0},{"$f":"+DE_Capacity!C822","v":0},1,{"$f":"+DE_Capacity!E822","v":{"$error":"#DIV/0!"}},null,0,{"$f":"D157/(DE_Capacity!$C$523*DE_Capacity!$AA$3)","v":{"$error":"#DIV/0!"}},{"$error":"#DIV/0!"},{"$f":"COUNTIF(DE_Capacity!$ES$14:$ES$43,1)","v":0},{"$f":"COUNTIF(DE_Capacity!$ES$14:$ES$43,2)","v":0},{"$f":"COUNTIF(DE_Capacity!$ES$14:$ES$43,3)","v":0},{"$f":"COUNTIF(DE_Capacity!$ES$14:$ES$43,4)","v":0},{"$f":"COUNTIF(DE_Capacity!$ES$14:$ES$43,0)","v":0},null,null,1,null,null,"ES",147]
[148,{"$f":"+'DE_Areas & Ind'!AA42","v":0},{"$f":"+'DE_Areas & Ind'!AB42","v":0},{"$f":"+DE_Capacity!C823","v":0},1,{"$f":"+DE_Capacity!E823","v":{"$error":"#DIV/0!"}},null,0,{"$f":"D158/(DE_Capacity!$C$523*DE_Capacity!$AA$3)","v":{"$error":"#DIV/0!"}},{"$error":"#DIV/0!"},{"$f":"COUNTIF(DE_Capacity!$ET$14:$ET$43,1)","v":0},{"$f":"COUNTIF(DE_Capacity!$ET$14:$ET$43,2)","v":0},{"$f":"COUNTIF(DE_Capacity!$ET$14:$ET$43,3)","v":0},{"$f":"COUNTIF(DE_Capacity!$ET$14:$ET$43,4)","v":0},{"$f":"COUNTIF(DE_Capacity!$ET$14:$ET$43,0)","v":0},null,null,1,null,null,"ET",148]
[149,{"$f":"+'DE_Areas & Ind'!AA43","v":0},{"$f":"+'DE_Areas & Ind'!AB43","v":0},{"$f":"+DE_Capacity!C824","v":0},1,{"$f":"+DE_Capacity!E824","v":{"$error":"#DIV/0!"}},null,0,{"$f":"D159/(DE_Capacity!$C$523*DE_Capacity!$AA$3)","v":{"$error":"#DIV/0!"}},{"$error":"#DIV/0!"},{"$f":"COUNTIF(DE_Capacity!$EU$14:$EU$43,1)","v":0},{"$f":"COUNTIF(DE_Capacity!$EU$14:$EU$43,2)","v":0},{"$f":"COUNTIF(DE_Capacity!$EU$14:$EU$43,3)","v":0},{"$f":"COUNTIF(DE_Capacity!$EU$14:$EU$43,4)","v":0},{"$f":"COUNTIF(DE_Capacity!$EU$14:$EU$43,0)","v":0},null,null,1,null,null,"EU",149]
[150,{"$f":"+'DE_Areas & Ind'!AA44","v":0},{"$f":"+'DE_Areas & Ind'!AB44","v":0},{"$f":"+DE_Capacity!C825","v":0},1,{"$f":"+DE_Capacity!E825","v":{"$error":"#DIV/0!"}},null,0,{"$f":"D160/(DE_Capacity!$C$523*DE_Capacity!$AA$3)","v":{"$error":"#DIV/0!"}},{"$error":"#DIV/0!"},{"$f":"COUNTIF(DE_Capacity!$EV$14:$EV$43,1)","v":0},{"$f":"COUNTIF(DE_Capacity!$EV$14:$EV$43,2)","v":0},{"$f":"COUNTIF(DE_Capacity!$EV$14:$EV$43,3)","v":0},{"$f":"COUNTIF(DE_Capacity!$EV$14:$EV$43,4)","v":0},{"$f":"COUNTIF(DE_Capacity!$EV$14:$EV$43,0)","v":0},null,null,1,null,null,"EV",150]
[151]
[152]
[153]
[154]
[155]
[156]
[157]
[158]
[159]
[160]
[161]
[162]
[163]
[164]
[165]
[166]
[167]
[168]
[169]
[170]
[171]
[172]
[173]
[174]
[175]
[176]
[177]
[178]
[179]
[180]
[181]
[182]
[183]
[184]
[185]
[186]
[187]
[188]
[189]
[190]
[191]
[192]
[193]
[194]
[195]
[196]
[197]
[198]
[199]
[200]
[201]
[202]
[203]
[204]
[205]
[206]
[207]
[208]
[209]
[210]
[211]
[212]
[213]
[214]
[215]
[216]
[217]
[218]
[219]
[220]
[221]
[222]
[223]
[224]
[225]
[226]
[227]
[228]
[229]
[230]
[231]
[232]
[233]
[234]
[235]
[236]
[237]
[238]
[239]
[240]
[241]
[242]
[243]
[244]
[245]
[246]
[247]
[248]
[249]
[250]
[251]
[252]
[253]
[254]
[255]
[256]
[257]
[258]
[259]
[260]
[261]
[262]
[263]
[264]
[265]
[266]
[267]
[268]
[269]
[270]
[271]
[272]
[273]
[274]
[275]
[276]
[277]
[278]
[279]
[280]
[281]
[282]
[283]
[284]
[285]
[286]
[287]
[288]
[289]
[290]
[291]
[292]
[293]
[294]
[295]
[296]
[297]
[298]
[299]
[300]
[301]
[302]
[303]
[304]
[305]
[306]
[307]
[308]
[309]
[310]
[311]
[312]
[313]
[314]
[315]
[316]
[317]
[318]
[319]
[320]
[321]
[322]
[323]
[324]
[325]
[326]
[327]
[328]
[329]
[330]
[331]
[332]
[333]
[334]
[335]
[336]
[337]
[338]
[339]
[340]
[341]
[342]
[343]
[344]
[345]
[346]
[347]
[348]
[349]
[350]
[351]
[352]
[353]
[354]
[355]
[356]
[357]
[358]
[359]
[360]
[361]
[362]
[363]
[364]
[365]
[366]
[367]
[368]
[369]
[370]
[371]
[372]
[373]
[374]
[375]
[376]
[377]
[378]
[379]
[380]
[381]
[382]
[383]
[384]
[385]
[386]
[387]
[388]
[389]
[390]
[391]
[392]
[393]
[394]
[395]
[396]
[397]
[398]
[399]
[400]
[401]
[402]
[403]
[404]
[405]
[406]
[407]
[408]
[409]
[410]
[411]
[412]
[413]
[414]
[415]
[416]
[417]
[418]
[419]
[420]
[421]
[422]
[423]
[424]
[425]
[426]
[427]
[428]
[429]
[430]
[431]
[432]
[433]
[434]
[435]
[436]
[437]
[438]
[439]
[440]
[441]
[442]
[443]
[444]
[445]
[446]
[447]
[448]
[449]
[450]
[451]
[452]
[453]
[454]
[455]
[456]
[457]
[458]
[459]
[460]
[461]
[462]
[463]
[464]
[465]
[466]
[467]
[468]
[469]
[470]
[471]
[472]
[473]
[474]
[475]
[476]
[477]
[478]
[479]
[480]
[481]
[482]
[483]
[484]
[485]
[486]
[487]
[488]
[489]
[490]
[491]
[492]
[493]
[494]
[495]
[496]
[497]
[498]
[499]
[500]
[501]
[502]
[503]
[504]
[505]
[506]
[507]
[508]
[509]
[510]
[511]
[512]
[513]
[514]
[515]
[516]
[517]
[518]
[519]
[520]
[521]
[522]
[523]
[524]
[525]
[526]
[527]
[528]
[529]
[530]
[531]
[532]
[533]
[534]
[535]
[536]
[537]
[538]
[539]
[540]
[541]
[542]
[543]
[544]
[545]
[546]
[547]
[548]
[549]
[550]
[551]
[552]
[553]
[554]
[555]
[556]
[557]
[558]
[559]
[560]
[561]
[562]
[563]
[564]
[565]
[566]
[567]
[568]
[569]
[570]
[571]
[572]
[573]
[574]
[575]
[576]
[577]
[578]
[579]
[580]
[581]
[582]
[583]
[584]
[585]
[586]
[587]
[588]
[589]
[590]
[591]
[592]
[593]
[594]
[595]
[596]
[597]
[598]
[599]
[600]
[601]
[602]
[603]
[604]
[605]
[606]
[607]
[608]
[609]
[610]
[611]
[612]
[613]
[614]
[615]
[616]
[617]
[618]
[619]
[620]
[621]
[622]
[623]
[624]
[625]
[626]
[627]
[628]
[629]
[630]
[631]
[632]
[633]
[634]
[635]
[636]
[637]
[638]
[639]
[640]
[641]
[642]
[643]
[644]
[645]
[646]
[647]
[648]
[649]
[650]
[651]
[652]
[653]
[654]
[655]
[656]
[657]
[658]
[659]
[660]
[661]
[662]
[663]
[664]
[665]
[666]
[667]
[668]
[669]
[670]
[671]
[672]
[673]
[674]
[675]
[676]
[677]
[678]
[679]
[680]
[681]
[682]
[683]
[684]
[685]
[686]
[687]
[688]
[689]
[690]
[691]
[692]
[693]
[694]
[695]
[696]
[697]
[698]
[699]
[700]
[701]
[702]
[703]
[704]
[705]
[706]
[707]
[708]
[709]
[710]
[711]
[712]
[713]
[714]
[715]
[716]
[717]
[718]
[719]
[720]
[721]
[722]
[723]
[724]
[725]
[726]
[727]
[728]
[729]
[730]
[731]
[732]
[733]
[734]
[735]
[736]
[737]
[738]
[739]
[740]
[741]
[742]
[743]
[744]
[745]
[746]
[747]
[748]
[749]
[750]
[751]
[752]
[753]
[754]
[755]
[756]
[757]
[758]
[759]
[760]
[761]
[762]
[763]
[764]
[765]
[766]
[767]
[768]
[769]
[770]
[771]
[772]
[773]
[774]
[775]
[776]
[777]
[778]
[779]
[780]
[781]
[782]
[783]
[784]
[785]
[786]
[787]
[788]
[789]
[790]
[791]
[792]
[793]
[794]
[795]
[796]
[797]
[798]
[799]
[800]
[]
[]
[]
[]
[]
[]
[]
[]
[]
[]
[]
[]
[null,null,null,null,null,null,null,"Indicadores","Valor del Indicador ","Brecha","Totalmente en desacuerdo","En desacuerdo","Un poco en desacuerdo","No sé","Un poco de acuerdo",null,null,"Ranking"]
[150,0,0,0,1,{"$error":"#DIV/0!"},150,0,{"$error":"#DIV/0!"},{"$error":"#DIV/0!"},0,0,0,0,0,null,null,1,null,null,null,null,null,null,null,null,null,null,null,null,null,null,null,null,null,null,null,null,null,null,null,null,null,null,null,null,null,null,null,null,{"$f":"+H824","v":0},{"$f":"+I824*100","v":{"$error":"#DIV/0!"}}]
[149,0,0,0,1,{"$error":"#DIV/0!"},149,0,{"$error":"#DIV/0!"},{"$error":"#DIV/0!"},0,0,0,0,0,null,null,1,null,null,null,null,null,null,null,null,null,null,null,null,null,null,null,null,null,null,null,null,null,null,null,null,null,null,null,null,null,null,null,null,{"$f":"+H825","v":0},{"$f":"+I825*100","v":{"$error":"#DIV/0!"}}]
[148,0,0,0,1,{"$error":"#DIV/0!"},148,0,{"$error":"#DIV/0!"},{"$error":"#DIV/0!"},0,0,0,0,0,null,null,1,null,null,null,null,null,null,null,null,null,null,null,null,null,null,null,null,null,null,null,null,null,null,null,null,null,null,null,null,null,null,null,null,0,{"$error":"#DIV/0!"}]
[147,0,0,0,1,{"$error":"#DIV/0!"},147,0,{"$error":"#DIV/0!"},{"$error":"#DIV/0!"},0,0,0,0,0,null,null,1,null,null,null,null,null,null,null,null,null,null,null,null,null,null,null,null,null,null,null,null,null,null,null,null,null,null,null,null,null,null,null,null,0,{"$error":"#DIV/0!"}]
[146,0,0,0,1,{"$error":"#DIV/0!"},146,0,{"$error":"#DIV/0!"},{"$error":"#DIV/0!"},0,0,0,0,0,null,null,1,null,null,null,null,null,null,null,null,null,null,null,null,null,null,null,null,null,null,null,null,null,null,null,null,null,null,null,null,null,null,null,null,0,{"$error":"#DIV/0!"}]
[145,0,0,0,1,{"$error":"#DIV/0!"},145,0,{"$error":"#DIV/0!"},{"$error":"#DIV/0!"},0,0,0,0,0,null,null,1,null,null,null,null,null,null,null,null,null,null,null,null,null,null,null,null,null,null,null,null,null,null,null,null,null,null,null,null,null,null,null,null,0,{"$error":"#DIV/0!"}]
[144,0,0,0,1,{"$error":"#DIV/0!"},144,0,{"$error":"#DIV/0!"},{"$error":"#DIV/0!"},0,0,0,0,0,null,null,1,null,null,null,null,null,null,null,null,null,null,null,null,null,null,null,null,null,null,null,null,null,null,null,null,null,null,null,null,null,null,null,null,0,{"$error":"#DIV/0!"}]
[143,0,0,0,1,{"$error":"#DIV/0!"},143,0,{"$error":"#DIV/0!"},{"$error":"#DIV/0!"},0,0,0,0,0,null,null,1,null,null,null,null,null,null,null,null,null,null,null,null,null,null,null,null,null,null,null,null,null,null,null,null,null,null,null,null,null,null,null,null,0,{"$error":"#DIV/0!"}]
[142,0,0,0,1,{"$error":"#DIV/0!"},142,0,{"$error":"#DIV/0!"},{"$error":"#DIV/0!"},0,0,0,0,0,null,null,1,null,null,null,null,null,null,null,null,null,null,null,null,null,null,null,null,null,null,null,null,null,null,null,null,null,null,null,null,null,null,null,null,0,{"$error":"#DIV/0!"}]
[141,0,0,0,1,{"$error":"#DIV/0!"},141,0,{"$error":"#DIV/0!"},{"$error":"#DIV/0!"},0,0,0,0,0,null,null,1,null,null,null,null,null,null,null,null,null,null,null,null,null,null,null,null,null,null,null,null,null,null,null,null,null,null,null,null,null,null,null,null,0,{"$error":"#DIV/0!"}]
[140,0,0,0,1,{"$error":"#DIV/0!"},140,0,{"$error":"#DIV/0!"},{"$error":"#DIV/0!"},0,0,0,0,0,null,null,1,null,null,null,null,null,null,null,null,null,null,null,null,null,null,null,null,null,null,null,null,null,null,null,null,null,null,null,null,null,null,null,null,0,{"$error":"#DIV/0!"}]
[139,0,0,0,1,{"$error":"#DIV/0!"},139,0,{"$error":"#DIV/0!"},{"$error":"#DIV/0!"},0,0,0,0,0,null,null,1,null,null,null,null,null,null,null,null,null,null,null,null,null,null,null,null,null,null,null,null,null,null,null,null,null,null,null,null,null,null,null,null,0,{"$error":"#DIV/0!"}]
[138,0,0,0,1,{"$error":"#DIV/0!"},138,0,{"$error":"#DIV/0!"},{"$error":"#DIV/0!"},0,0,0,0,0,null,null,1,null,null,null,null,null,null,null,null,null,null,null,null,null,null,null,null,null,null,null,null,null,null,null,null,null,null,null,null,null,null,null,null,0,{"$error":"#DIV/0!"}]
[137,0,0,0,1,{"$error":"#DIV/0!"},137,0,{"$error":"#DIV/0!"},{"$error":"#DIV/0!"},0,0,0,0,0,null,null,1,null,null,null,null,null,null,null,null,null,null,null,null,null,null,null,null,null,null,null,null,null,null,null,null,null,null,null,null,null,null,null,null,0,{"$error":"#DIV/0!"}]
[136,0,0,0,1,{"$error":"#DIV/0!"},136,0,{"$error":"#DIV/0!"},{"$error":"#DIV/0!"},0,0,0,0,0,null,null,1,null,null,null,null,null,null,null,null,null,null,null,null,null,null,null,null,null,null,null,null,null,null,null,null,null,null,null,null,null,null,null,null,0,{"$error":"#DIV/0!"}]
[135,0,0,0,1,{"$error":"#DIV/0!"},135,0,{"$error":"#DIV/0!"},{"$error":"#DIV/0!"},0,0,0,0,0,null,null,1,null,null,null,null,null,null,null,null,null,null,null,null,null,null,null,null,null,null,null,null,null,null,null,null,null,null,null,null,null,null,null,null,0,{"$error":"#DIV/0!"}]
[134,0,0,0,1,{"$error":"#DIV/0!"},134,0,{"$error":"#DIV/0!"},{"$error":"#DIV/0!"},0,0,0,0,0,null,null,1,null,null,null,null,null,null,null,null,null,null,null,null,null,null,null,null,null,null,null,null,null,null,null,null,null,null,null,null,null,null,null,null,0,{"$error":"#DIV/0!"}]
[133,0,0,0,1,{"$error":"#DIV/0!"},133,0,{"$error":"#DIV/0!"},{"$error":"#DIV/0!"},0,0,0,0,0,null,null,1,null,null,null,null,null,null,null,null,null,null,null,null,null,null,null,null,null,null,null,null,null,null,null,null,null,null,null,null,null,null,null,null,0,{"$error":"#DIV/0!"}]
[132,0,0,0,1,{"$error":"#DIV/0!"},132,0,{"$error":"#DIV/0!"},{"$error":"#DIV/0!"},0,0,0,0,0,null,null,1,null,null,null,null,null,null,null,null,null,null,null,null,null,null,null,null,null,null,null,null,null,null,null,null,null,null,null,null,null,null,null,null,0,{"$error":"#DIV/0!"}]
[131,0,0,0,1,{"$error":"#DIV/0!"},131,0,{"$error":"#DIV/0!"},{"$error":"#DIV/0!"},0,0,0,0,0,null,null,1,null,null,null,null,null,null,null,null,null,null,null,null,null,null,null,null,null,null,null,null,null,null,null,null,null,null,null,null,null,null,null,null,0,{"$error":"#DIV/0!"}]
[130,0,0,0,1,{"$error":"#DIV/0!"},130,0,{"$error":"#DIV/0!"},{"$error":"#DIV/0!"},0,0,0,0,0,null,null,1,null,null,null,null,null,null,null,null,null,null,null,null,null,null,null,null,null,null,null,null,null,null,null,null,null,null,null,null,null,null,null,null,0,{"$error":"#DIV/0!"}]
[129,0,0,0,1,{"$error":"#DIV/0!"},129,0,{"$error":"#DIV/0!"},{"$error":"#DIV/0!"},0,0,0,0,0,null,null,1,null,null,null,null,null,null,null,null,null,null,null,null,null,null,null,null,null,null,null,null,null,null,null,null,null,null,null,null,null,null,null,null,0,{"$error":"#DIV/0!"}]
[128,0,0,0,1,{"$error":"#DIV/0!"},128,0,{"$error":"#DIV/0!"},{"$error":"#DIV/0!"},0,0,0,0,0,null,null,1,null,null,null,null,null,null,null,null,null,null,null,null,null,null,null,null,null,null,null,null,null,null,null,null,null,null,null,null,null,null,null,null,0,{"$error":"#DIV/0!"}]
[127,0,0,0,1,{"$error":"#DIV/0!"},127,0,{"$error":"#DIV/0!"},{"$error":"#DIV/0!"},0,0,0,0,0,null,null,1,null,null,null,null,null,null,null,null,null,null,null,null,null,null,null,null,null,null,null,null,null,null,null,null,null,null,null,null,null,null,null,null,0,{"$error":"#DIV/0!"}]
[126,0,0,0,1,{"$error":"#DIV/0!"},126,0,{"$error":"#DIV/0!"},{"$error":"#DIV/0!"},0,0,0,0,0,null,null,1,null,null,null,null,null,null,null,null,null,null,null,null,null,null,null,null,null,null,null,null,null,null,null,null,null,null,null,null,null,null,null,null,0,{"$error":"#DIV/0!"}]
[125,0,0,0,1,{"$error":"#DIV/0!"},125,0,{"$error":"#DIV/0!"},{"$error":"#DIV/0!"},0,0,0,0,0,null,null,1,null,null,null,null,null,null,null,null,null,null,null,null,null,null,null,null,null,null,null,null,null,null,null,null,null,null,null,null,null,null,null,null,0,{"$error":"#DIV/0!"}]
[124,0,0,0,1,{"$error":"#DIV/0!"},124,0,{"$error":"#DIV/0!"},{"$error":"#DIV/0!"},0,0,0,0,0,null,null,1,null,null,null,null,null,null,null,null,null,null,null,null,null,null,null,null,null,null,null,null,null,null,null,null,null,null,null,null,null,null,null,null,0,{"$error":"#DIV/0!"}]
[123,0,0,0,1,{"$error":"#DIV/0!"},123,0,{"$error":"#DIV/0!"},{"$error":"#DIV/0!"},0,0,0,0,0,null,null,1,null,null,null,null,null,null,null,null,null,null,null,null,null,null,null,null,null,null,null,null,null,null,null,null,null,null,null,null,null,null,null,null,0,{"$error":"#DIV/0!"}]
[122,0,0,0,1,{"$error":"#DIV/0!"},122,0,{"$error":"#DIV/0!"},{"$error":"#DIV/0!"},0,0,0,0,0,null,null,1,null,null,null,null,null,null,null,null,null,null,null,null,null,null,null,null,null,null,null,null,null,null,null,null,null,null,null,null,null,null,null,null,0,{"$error":"#DIV/0!"}]
[121,0,0,0,1,{"$error":"#DIV/0!"},121,0,{"$error":"#DIV/0!"},{"$error":"#DIV/0!"},0,0,0,0,0,null,null,1,null,null,null,null,null,null,null,null,null,null,null,null,null,null,null,null,null,null,null,null,null,null,null,null,null,null,null,null,null,null,null,null,0,{"$error":"#DIV/0!"}]
[120,0,0,0,1,{"$error":"#DIV/0!"},120,0,{"$error":"#DIV/0!"},{"$error":"#DIV/0!"},0,0,0,0,0,null,null,1,null,null,null,null,null,null,null,null,null,null,null,null,null,null,null,null,null,null,null,null,null,null,null,null,null,null,null,null,null,null,null,null,0,{"$error":"#DIV/0!"}]
[119,0,0,0,1,{"$error":"#DIV/0!"},119,0,{"$error":"#DIV/0!"},{"$error":"#DIV/0!"},0,0,0,0,0,null,null,1,null,null,null,null,null,null,null,null,null,null,null,null,null,null,null,null,null,null,null,null,null,null,null,null,null,null,null,null,null,null,null,null,0,{"$error":"#DIV/0!"}]
[118,0,0,0,1,{"$error":"#DIV/0!"},118,0,{"$error":"#DIV/0!"},{"$error":"#DIV/0!"},0,0,0,0,0,null,null,1,null,null,null,null,null,null,null,null,null,null,null,null,null,"Area III",null,null,null,null,null,null,null,null,null,null,null,null,null,null,null,null,null,null,0,{"$error":"#DIV/0!"}]
[117,0,0,0,1,{"$error":"#DIV/0!"},117,0,{"$error":"#DIV/0!"},{"$error":"#DIV/0!"},0,0,0,0,0,null,null,1,null,null,null,null,null,null,null,null,null,null,null,null,null,null,null,null,null,null,null,null,null,null,null,null,null,null,null,null,null,null,null,null,0,{"$error":"#DIV/0!"}]
[116,0,0,0,1,{"$error":"#DIV/0!"},116,0,{"$error":"#DIV/0!"},{"$error":"#DIV/0!"},0,0,0,0,0,null,null,1,null,null,null,null,null,null,null,null,null,null,null,null,null,null,null,null,null,null,null,null,null,null,null,null,null,null,null,null,null,null,null,null,0,{"$error":"#DIV/0!"}]
[115,0,0,0,1,{"$error":"#DIV/0!"},115,0,{"$error":"#DIV/0!"},{"$error":"#DIV/0!"},0,0,0,0,0,null,null,1,null,null,null,null,null,null,null,null,null,null,null,null,null,null,null,null,null,null,null,null,null,null,null,null,null,null,null,null,null,null,null,null,0,{"$error":"#DIV/0!"}]
[114,0,0,0,1,{"$error":"#DIV/0!"},114,0,{"$error":"#DIV/0!"},{"$error":"#DIV/0!"},0,0,0,0,0,null,null,1,null,null,null,null,null,null,null,null,null,null,null,null,null,null,null,null,null,null,null,null,null,null,null,null,null,null,null,null,null,null,null,null,0,{"$error":"#DIV/0!"}]
[113,0,0,0,1,{"$error":"#DIV/0!"},113,0,{"$error":"#DIV/0!"},{"$error":"#DIV/0!"},0,0,0,0,0,null,null,1,null,null,null,null,null,null,null,null,null,null,null,null,null,null,null,null,null,null,null,null,null,null,null,null,null,null,null,null,null,null,null,null,0,{"$error":"#DIV/0!"}]
[112,0,0,0,1,{"$error":"#DIV/0!"},112,0,{"$error":"#DIV/0!"},{"$error":"#DIV/0!"},0,0,0,0,0,null,null,1,null,null,null,null,null,null,null,null,null,null,null,null,null,null,null,null,null,null,null,null,null,null,null,null,null,null,null,null,null,null,null,null,0,{"$error":"#DIV/0!"}]
[111,0,0,0,1,{"$error":"#DIV/0!"},111,0,{"$error":"#DIV/0!"},{"$error":"#DIV/0!"},0,0,0,0,0,null,null,1,null,null,null,null,null,null,null,null,null,null,null,null,null,null,null,null,null,null,null,null,null,null,null,null,null,null,null,null,null,null,null,null,0,{"$error":"#DIV/0!"}]
[110,0,0,0,1,{"$error":"#DIV/0!"},110,0,{"$error":"#DIV/0!"},{"$error":"#DIV/0!"},0,0,0,0,0,null,null,1,null,null,null,null,null,null,null,null,null,null,null,null,null,null,null,null,null,null,null,null,null,null,null,null,null,null,null,null,null,null,null,null,0,{"$error":"#DIV/0!"}]
[109,0,0,0,1,{"$error":"#DIV/0!"},109,0,{"$error":"#DIV/0!"},{"$error":"#DIV/0!"},0,0,0,0,0,null,null,1,null,null,null,null,null,null,null,null,null,null,null,null,null,null,null,null,null,null,null,null,null,null,null,null,null,null,null,null,null,null,null,null,0,{"$error":"#DIV/0!"}]
[108,0,0,0,1,{"$error":"#DIV/0!"},108,0,{"$error":"#DIV/0!"},{"$error":"#DIV/0!"},0,0,0,0,0,null,null,1,null,null,null,null,null,null,null,null,null,null,null,null,null,null,null,null,null,null,null,null,null,null,null,null,null,null,null,null,null,null,null,null,0,{"$error":"#DIV/0!"}]
[107,0,0,0,1,{"$error":"#DIV/0!"},107,0,{"$error":"#DIV/0!"},{"$error":"#DIV/0!"},0,0,0,0,0,null,null,1,null,null,null,null,null,null,null,null,null,null,null,null,null,null,null,null,null,null,null,null,null,null,null,null,null,null,null,null,null,null,null,null,0,{"$error":"#DIV/0!"}]
[106,0,0,0,1,{"$error":"#DIV/0!"},106,0,{"$error":"#DIV/0!"},{"$error":"#DIV/0!"},0,0,0,0,0,null,null,1,null,null,null,null,null,null,null,null,null,null,null,null,null,null,null,null,null,null,null,null,null,null,null,null,null,null,null,null,null,null,null,null,0,{"$error":"#DIV/0!"}]
[105,0,0,0,1,{"$error":"#DIV/0!"},105,0,{"$error":"#DIV/0!"},{"$error":"#DIV/0!"},0,0,0,0,0,null,null,1,null,null,null,null,null,null,null,null,null,null,null,null,null,null,null,null,null,null,null,null,null,null,null,null,null,null,null,null,null,null,null,null,0,{"$error":"#DIV/0!"}]
[104,0,0,0,1,{"$error":"#DIV/0!"},104,0,{"$error":"#DIV/0!"},{"$error":"#DIV/0!"},0,0,0,0,0,null,null,1,null,null,null,null,null,null,null,null,null,null,null,null,null,null,null,null,null,null,null,null,null,null,null,null,null,null,null,null,null,null,null,null,0,{"$error":"#DIV/0!"}]
[103,0,0,0,1,{"$error":"#DIV/0!"},103,0,{"$error":"#DIV/0!"},{"$error":"#DIV/0!"},0,0,0,0,0,null,null,1,null,null,null,null,null,null,null,null,null,null,null,null,null,null,null,null,null,null,null,null,null,null,null,null,null,null,null,null,null,null,null,null,0,{"$error":"#DIV/0!"}]
[102,0,0,0,1,{"$error":"#DIV/0!"},102,0,{"$error":"#DIV/0!"},{"$error":"#DIV/0!"},0,0,0,0,0,null,null,1,null,null,null,null,null,null,null,null,null,null,null,null,null,null,null,null,null,null,null,null,null,null,null,null,null,null,null,null,null,null,null,null,0,{"$error":"#DIV/0!"}]
[101,0,0,0,1,{"$error":"#DIV/0!"},101,0,{"$error":"#DIV/0!"},{"$error":"#DIV/0!"},0,0,0,0,0,null,null,1,null,null,null,null,null,null,null,null,null,null,null,null,null,null,null,null,null,null,null,null,null,null,null,null,null,null,null,null,null,null,null,null,0,{"$error":"#DIV/0!"}]
[100,0,0,0,1,{"$error":"#DIV/0!"},100,0,{"$error":"#DIV/0!"},{"$error":"#DIV/0!"},0,0,0,0,0,null,null,1,null,null,null,null,null,null,null,null,null,null,null,null,null,null,null,null,null,null,null,null,null,null,null,null,null,null,null,null,null,null,null,null,{"$f":"+H874","v":0},{"$f":"+I874*100","v":{"$error":"#DIV/0!"}}]
[99,0,0,0,1,{"$error":"#DIV/0!"},99,0,{"$error":"#DIV/0!"},{"$error":"#DIV/0!"},0,0,0,0,0,null,null,1,null,null,null,null,null,null,null,null,null,null,null,null,null,null,null,null,null,null,null,null,null,null,null,null,null,null,null,null,null,null,null,null,{"$f":"+H875","v":0},{"$f":"+I875*100","v":{"$error":"#DIV/0!"}}]
[98,0,0,0,1,{"$error":"#DIV/0!"},98,0,{"$error":"#DIV/0!"},{"$error":"#DIV/0!"},0,0,0,0,0,null,null,1,null,null,null,null,null,null,null,null,null,null,null,null,null,null,null,null,null,null,null,null,null,null,null,null,null,null,null,null,null,null,null,null,0,{"$error":"#DIV/0!"}]
[97,0,0,0,1,{"$error":"#DIV/0!"},97,0,{"$error":"#DIV/0!"},{"$error":"#DIV/0!"},0,0,0,0,0,null,null,1,null,null,null,null,null,null,null,null,null,null,null,null,null,null,null,null,null,null,null,null,null,null,null,null,null,null,null,null,null,null,null,null,0,{"$error":"#DIV/0!"}]
[96,0,0,0,1,{"$error":"#DIV/0!"},96,0,{"$error":"#DIV/0!"},{"$error":"#DIV/0!"},0,0,0,0,0,null,null,1,null,null,null,null,null,null,null,null,null,null,null,null,null,null,null,null,null,null,null,null,null,null,null,null,null,null,null,null,null,null,null,null,0,{"$error":"#DIV/0!"}]
[95,0,0,0,1,{"$error":"#DIV/0!"},95,0,{"$error":"#DIV/0!"},{"$error":"#DIV/0!"},0,0,0,0,0,null,null,1,null,null,null,null,null,null,null,null,null,null,null,null,null,null,null,null,null,null,null,null,null,null,null,null,null,null,null,null,null,null,null,null,0,{"$error":"#DIV/0!"}]
[94,0,0,0,1,{"$error":"#DIV/0!"},94,0,{"$error":"#DIV/0!"},{"$error":"#DIV/0!"},0,0,0,0,0,null,null,1,null,null,null,null,null,null,null,null,null,null,null,null,null,null,null,null,null,null,null,null,null,null,null,null,null,null,null,null,null,null,null,null,0,{"$error":"#DIV/0!"}]
[93,0,0,0,1,{"$error":"#DIV/0!"},93,0,{"$error":"#DIV/0!"},{"$error":"#DIV/0!"},0,0,0,0,0,null,null,1,null,null,null,null,null,null,null,null,null,null,null,null,null,null,null,null,null,null,null,null,null,null,null,null,null,null,null,null,null,null,null,null,0,{"$error":"#DIV/0!"}]
[92,0,0,0,1,{"$error":"#DIV/0!"},92,0,{"$error":"#DIV/0!"},{"$error":"#DIV/0!"},0,0,0,0,0,null,null,1,null,null,null,null,null,null,null,null,null,null,null,null,null,null,null,null,null,null,null,null,null,null,null,null,null,null,null,null,null,null,null,null,0,{"$error":"#DIV/0!"}]
[91,0,0,0,1,{"$error":"#DIV/0!"},91,0,{"$error":"#DIV/0!"},{"$error":"#DIV/0!"},0,0,0,0,0,null,null,1,null,null,null,null,null,null,null,null,null,null,null,null,null,null,null,null,null,null,null,null,null,null,null,null,null,null,null,null,null,null,null,null,0,{"$error":"#DIV/0!"}]
[90,0,0,0,1,{"$error":"#DIV/0!"},90,0,{"$error":"#DIV/0!"},{"$error":"#DIV/0!"},0,0,0,0,0,null,null,1,null,null,null,null,null,null,null,null,null,null,null,null,null,null,null,null,null,null,null,null,null,null,null,null,null,null,null,null,null,null,null,null,0,{"$error":"#DIV/0!"}]
[89,0,0,0,1,{"$error":"#DIV/0!"},89,0,{"$error":"#DIV/0!"},{"$error":"#DIV/0!"},0,0,0,0,0,null,null,1,null,null,null,null,null,null,null,null,null,null,null,null,null,null,null,null,null,null,null,null,null,null,null,null,null,null,null,null,null,null,null,null,0,{"$error":"#DIV/0!"}]
[88,0,0,0,1,{"$error":"#DIV/0!"},88,0,{"$error":"#DIV/0!"},{"$error":"#DIV/0!"},0,0,0,0,0,null,null,1,null,null,null,null,null,null,null,null,null,null,null,null,null,null,null,null,null,null,null,null,null,null,null,null,null,null,null,null,null,null,null,null,0,{"$error":"#DIV/0!"}]
[87,0,0,0,1,{"$error":"#DIV/0!"},87,0,{"$error":"#DIV/0!"},{"$error":"#DIV/0!"},0,0,0,0,0,null,null,1,null,null,null,null,null,null,null,null,null,null,null,null,null,null,null,null,null,null,null,null,null,null,null,null,null,null,null,null,null,null,null,null,0,{"$error":"#DIV/0!"}]
[86,0,0,0,1,{"$error":"#DIV/0!"},86,0,{"$error":"#DIV/0!"},{"$error":"#DIV/0!"},0,0,0,0,0,null,null,1,null,null,null,null,null,null,null,null,null,null,null,null,null,null,null,null,null,null,null,null,null,null,null,null,null,null,null,null,null,null,null,null,0,{"$error":"#DIV/0!"}]
[85,0,0,0,1,{"$error":"#DIV/0!"},85,0,{"$error":"#DIV/0!"},{"$error":"#DIV/0!"},0,0,0,0,0,null,null,1,null,null,null,null,null,null,null,null,null,null,null,null,null,null,null,null,null,null,null,null,null,null,null,null,null,null,null,null,null,null,null,null,0,{"$error":"#DIV/0!"}]
[84,0,0,0,1,{"$error":"#DIV/0!"},84,0,{"$error":"#DIV/0!"},{"$error":"#DIV/0!"},0,0,0,0,0,null,null,1,null,null,null,null,null,null,null,null,null,null,null,null,null,null,null,null,null,null,null,null,null,null,null,null,null,null,null,null,null,null,null,null,0,{"$error":"#DIV/0!"}]
[83,0,0,0,1,{"$error":"#DIV/0!"},83,0,{"$error":"#DIV/0!"},{"$error":"#DIV/0!"},0,0,0,0,0,null,null,1,null,null,null,null,null,null,null,null,null,null,null,null,null,null,null,null,null,null,null,null,null,null,null,null,null,null,null,null,null,null,null,null,0,{"$error":"#DIV/0!"}]
[82,0,0,0,1,{"$error":"#DIV/0!"},82,0,{"$error":"#DIV/0!"},{"$error":"#DIV/0!"},0,0,0,0,0,null,null,1,null,null,null,null,null,null,null,null,null,null,null,null,null,null,null,null,null,null,null,null,null,null,null,null,null,null,null,null,null,null,null,null,0,{"$error":"#DIV/0!"}]
[81,0,0,0,1,{"$error":"#DIV/0!"},81,0,{"$error":"#DIV/0!"},{"$error":"#DIV/0!"},0,0,0,0,0,null,null,1,null,null,null,null,null,null,null,null,null,null,null,null,null,null,null,null,null,null,null,null,null,null,null,null,null,null,null,null,null,null,null,null,0,{"$error":"#DIV/0!"}]
[80,0,0,0,1,{"$error":"#DIV/0!"},80,0,{"$error":"#DIV/0!"},{"$error":"#DIV/0!"},0,0,0,0,0,null,null,1,null,null,null,null,null,null,null,null,null,null,null,null,null,null,null,null,null,null,null,null,null,null,null,null,null,null,null,null,null,null,null,null,0,{"$error":"#DIV/0!"}]
[79,0,0,0,1,{"$error":"#DIV/0!"},79,0,{"$error":"#DIV/0!"},{"$error":"#DIV/0!"},0,0,0,0,0,null,null,1,null,null,null,null,null,null,null,null,null,null,null,null,null,null,null,null,null,null,null,null,null,null,null,null,null,null,null,null,null,null,null,null,0,{"$error":"#DIV/0!"}]
[78,0,0,0,1,{"$error":"#DIV/0!"},78,0,{"$error":"#DIV/0!"},{"$error":"#DIV/0!"},0,0,0,0,0,null,null,1,null,null,null,null,null,null,null,null,null,null,null,null,null,null,null,null,null,null,null,null,null,null,null,null,null,null,null,null,null,null,null,null,0,{"$error":"#DIV/0!"}]
[77,0,0,0,1,{"$error":"#DIV/0!"},77,0,{"$error":"#DIV/0!"},{"$error":"#DIV/0!"},0,0,0,0,0,null,null,1,null,null,null,null,null,null,null,null,null,null,null,null,null,null,null,null,null,null,null,null,null,null,null,null,null,null,null,null,null,null,null,null,0,{"$error":"#DIV/0!"}]
[76,0,0,0,1,{"$error":"#DIV/0!"},76,0,{"$error":"#DIV/0!"},{"$error":"#DIV/0!"},0,0,0,0,0,null,null,1,null,null,null,null,null,null,null,null,null,null,null,null,null,null,null,null,null,null,null,null,null,null,null,null,null,null,null,null,null,null,null,null,0,{"$error":"#DIV/0!"}]
[75,0,0,0,1,{"$error":"#DIV/0!"},75,0,{"$error":"#DIV/0!"},{"$error":"#DIV/0!"},0,0,0,0,0,null,null,1,null,null,null,null,null,null,null,null,null,null,null,null,null,null,null,null,null,null,null,null,null,null,null,null,null,null,null,null,null,null,null,null,0,{"$error":"#DIV/0!"}]
[74,0,0,0,1,{"$error":"#DIV/0!"},74,0,{"$error":"#DIV/0!"},{"$error":"#DIV/0!"},0,0,0,0,0,null,null,1,null,null,null,null,null,null,null,null,null,null,null,null,null,null,null,null,null,null,null,null,null,null,null,null,null,null,null,null,null,null,null,null,{"$f":"+H900","v":0},{"$f":"+I900*100","v":{"$error":"#DIV/0!"}}]
[73,0,0,0,1,{"$error":"#DIV/0!"},73,0,{"$error":"#DIV/0!"},{"$error":"#DIV/0!"},0,0,0,0,0,null,null,1,null,null,null,null,null,null,null,null,null,null,null,null,null,null,null,null,null,null,null,null,null,null,null,null,null,null,null,null,null,null,null,null,{"$f":"+H901","v":0},{"$f":"+I901*100","v":{"$error":"#DIV/0!"}}]
[72,0,0,0,1,{"$error":"#DIV/0!"},72,0,{"$error":"#DIV/0!"},{"$error":"#DIV/0!"},0,0,0,0,0,null,null,1,null,null,null,null,null,null,null,null,null,null,null,null,null,null,null,null,null,null,null,null,null,null,null,null,null,null,null,null,null,null,null,null,0,{"$error":"#DIV/0!"}]
[71,0,0,0,1,{"$error":"#DIV/0!"},71,0,{"$error":"#DIV/0!"},{"$error":"#DIV/0!"},0,0,0,0,0,null,null,1,null,null,null,null,null,null,null,null,null,null,null,null,null,null,null,null,null,null,null,null,null,null,null,null,null,null,null,null,null,null,null,null,0,{"$error":"#DIV/0!"}]
[70,0,0,0,1,{"$error":"#DIV/0!"},70,0,{"$error":"#DIV/0!"},{"$error":"#DIV/0!"},0,0,0,0,0,null,null,1,null,null,null,null,null,null,null,null,null,null,null,null,null,null,null,null,null,null,null,null,null,null,null,null,null,null,null,null,null,null,null,null,0,{"$error":"#DIV/0!"}]
[69,0,0,0,1,{"$error":"#DIV/0!"},69,0,{"$error":"#DIV/0!"},{"$error":"#DIV/0!"},0,0,0,0,0,null,null,1,null,null,null,null,null,null,null,null,null,null,null,null,null,null,null,null,null,null,null,null,null,null,null,null,null,null,null,null,null,null,null,null,0,{"$error":"#DIV/0!"}]
[68,0,0,0,1,{"$error":"#DIV/0!"},68,0,{"$error":"#DIV/0!"},{"$error":"#DIV/0!"},0,0,0,0,0,null,null,1,null,null,null,null,null,null,null,null,null,null,null,null,null,null,null,null,null,null,null,null,null,null,null,null,null,null,null,null,null,null,null,null,0,{"$error":"#DIV/0!"}]
[67,0,0,0,1,{"$error":"#DIV/0!"},67,0,{"$error":"#DIV/0!"},{"$error":"#DIV/0!"},0,0,0,0,0,null,null,1,null,null,null,null,null,null,null,null,null,null,null,null,null,null,null,null,null,null,null,null,null,null,null,null,null,null,null,null,null,null,null,null,0,{"$error":"#DIV/0!"}]
[66,0,0,0,1,{"$error":"#DIV/0!"},66,0,{"$error":"#DIV/0!"},{"$error":"#DIV/0!"},0,0,0,0,0,null,null,1,null,null,null,null,null,null,null,null,null,null,null,null,null,null,null,null,null,null,null,null,null,null,null,null,null,null,null,null,null,null,null,null,0,{"$error":"#DIV/0!"}]
[65,0,0,0,1,{"$error":"#DIV/0!"},65,0,{"$error":"#DIV/0!"},{"$error":"#DIV/0!"},0,0,0,0,0,null,null,1,null,null,null,null,null,null,null,null,null,null,null,null,null,null,null,null,null,null,null,null,null,null,null,null,null,null,null,null,null,null,null,null,0,{"$error":"#DIV/0!"}]
[64,0,0,0,1,{"$error":"#DIV/0!"},64,0,{"$error":"#DIV/0!"},{"$error":"#DIV/0!"},0,0,0,0,0,null,null,1,null,null,null,null,null,null,null,null,null,null,null,null,null,null,null,null,null,null,null,null,null,null,null,null,null,null,null,null,null,null,null,null,0,{"$error":"#DIV/0!"}]
[63,0,0,0,1,{"$error":"#DIV/0!"},63,0,{"$error":"#DIV/0!"},{"$error":"#DIV/0!"},0,0,0,0,0,null,null,1,null,null,null,null,null,null,null,null,null,null,null,null,null,null,null,null,null,null,null,null,null,null,null,null,null,null,null,null,null,null,null,null,0,{"$error":"#DIV/0!"}]
[62,0,0,0,1,{"$error":"#DIV/0!"},62,0,{"$error":"#DIV/0!"},{"$error":"#DIV/0!"},0,0,0,0,0,null,null,1,null,null,null,null,null,null,null,null,null,null,null,null,null,null,null,null,null,null,null,null,null,null,null,null,null,null,null,null,null,null,null,null,0,{"$error":"#DIV/0!"}]
[61,0,0,0,1,{"$error":"#DIV/0!"},61,0,{"$error":"#DIV/0!"},{"$error":"#DIV/0!"},0,0,0,0,0,null,null,1,null,null,null,null,null,null,null,null,null,null,null,null,null,null,null,null,null,null,null,null,null,null,null,null,null,null,null,null,null,null,null,null,0,{"$error":"#DIV/0!"}]
[60,0,0,0,1,{"$error":"#DIV/0!"},60,0,{"$error":"#DIV/0!"},{"$error":"#DIV/0!"},0,0,0,0,0,null,null,1,null,null,null,null,null,null,null,null,null,null,null,null,null,null,null,null,null,null,null,null,null,null,null,null,null,null,null,null,null,null,null,null,0,{"$error":"#DIV/0!"}]
[59,0,0,0,1,{"$error":"#DIV/0!"},59,0,{"$error":"#DIV/0!"},{"$error":"#DIV/0!"},0,0,0,0,0,null,null,1,null,null,null,null,null,null,null,null,null,null,null,null,null,null,null,null,null,null,null,null,null,null,null,null,null,null,null,null,null,null,null,null,0,{"$error":"#DIV/0!"}]
[58,0,0,0,1,{"$error":"#DIV/0!"},58,0,{"$error":"#DIV/0!"},{"$error":"#DIV/0!"},0,0,0,0,0,null,null,1,null,null,null,null,null,null,null,null,null,null,null,null,null,null,null,null,null,null,null,null,null,null,null,null,null,null,null,null,null,null,null,null,0,{"$error":"#DIV/0!"}]
[57,0,0,0,1,{"$error":"#DIV/0!"},57,0,{"$error":"#DIV/0!"},{"$error":"#DIV/0!"},0,0,0,0,0,null,null,1,null,null,null,null,null,null,null,null,null,null,null,null,null,null,null,null,null,null,null,null,null,null,null,null,null,null,null,null,null,null,null,null,0,{"$error":"#DIV/0!"}]
[56,0,0,0,1,{"$error":"#DIV/0!"},56,0,{"$error":"#DIV/0!"},{"$error":"#DIV/0!"},0,0,0,0,0,null,null,1,null,null,null,null,null,null,null,null,null,null,null,null,null,null,null,null,null,null,null,null,null,null,null,null,null,null,null,null,null,null,null,null,0,{"$error":"#DIV/0!"}]
[55,0,0,0,1,{"$error":"#DIV/0!"},55,0,{"$error":"#DIV/0!"},{"$error":"#DIV/0!"},0,0,0,0,0,null,null,1,null,null,null,null,null,null,null,null,null,null,null,null,null,null,null,null,null,null,null,null,null,null,null,null,null,null,null,null,null,null,null,null,0,{"$error":"#DIV/0!"}]
[54,0,0,0,1,{"$error":"#DIV/0!"},54,0,{"$error":"#DIV/0!"},{"$error":"#DIV/0!"},0,0,0,0,0,null,null,1,null,null,null,null,null,null,null,null,null,null,null,null,null,null,null,null,null,null,null,null,null,null,null,null,null,null,null,null,null,null,null,null,0,{"$error":"#DIV/0!"}]
[53,0,0,0,1,{"$error":"#DIV/0!"},53,0,{"$error":"#DIV/0!"},{"$error":"#DIV/0!"},0,0,0,0,0,null,null,1,null,null,null,null,null,null,null,null,null,null,null,null,null,null,null,null,null,null,null,null,null,null,null,null,null,null,null,null,null,null,null,null,0,{"$error":"#DIV/0!"}]
[52,0,0,0,1,{"$error":"#DIV/0!"},52,0,{"$error":"#DIV/0!"},{"$error":"#DIV/0!"},0,0,0,0,0,null,null,1,null,null,null,null,null,null,null,null,null,null,null,null,null,null,null,null,null,null,null,null,null,null,null,null,null,null,null,null,null,null,null,null,0,{"$error":"#DIV/0!"}]
[51,0,0,0,1,{"$error":"#DIV/0!"},51,0,{"$error":"#DIV/0!"},{"$error":"#DIV/0!"},0,0,0,0,0,null,null,1,null,null,null,null,null,null,null,null,null,null,null,null,null,null,null,null,null,null,null,null,null,null,null,null,null,null,null,null,null,null,null,null,0,{"$error":"#DIV/0!"}]
[50,0,0,0,1,{"$error":"#DIV/0!"},50,0,{"$error":"#DIV/0!"},{"$error":"#DIV/0!"},0,0,0,0,0,null,null,1,null,null,null,null,null,null,null,null,null,null,null,null,null,null,null,null,null,null,null,null,null,null,null,null,null,null,null,null,null,null,null,null,0,{"$error":"#DIV/0!"}]
[49,0,0,0,1,{"$error":"#DIV/0!"},49,0,{"$error":"#DIV/0!"},{"$error":"#DIV/0!"},0,0,0,0,0,null,null,1,null,null,null,null,null,null,null,null,null,null,null,null,null,null,null,null,null,null,null,null,null,null,null,null,null,null,null,null,null,null,null,null,0,{"$error":"#DIV/0!"}]
[48,0,0,0,1,{"$error":"#DIV/0!"},48,0,{"$error":"#DIV/0!"},{"$error":"#DIV/0!"},0,0,0,0,0,null,null,1,null,null,null,null,null,null,null,null,null,null,null,null,null,null,null,null,null,null,null,null,null,null,null,null,null,null,null,null,null,null,null,null,0,{"$error":"#DIV/0!"}]
[47,0,0,0,1,{"$error":"#DIV/0!"},47,0,{"$error":"#DIV/0!"},{"$error":"#DIV/0!"},0,0,0,0,0,null,null,1,null,null,null,null,null,null,null,null,null,null,null,null,null,null,null,null,null,null,null,null,null,null,null,null,null,null,null,null,null,null,null,null,0,{"$error":"#DIV/0!"}]
[46,0,0,0,1,{"$error":"#DIV/0!"},46,0,{"$error":"#DIV/0!"},{"$error":"#DIV/0!"},0,0,0,0,0,null,null,1,null,null,null,null,null,null,null,null,null,null,null,null,null,null,null,null,null,null,null,null,null,null,null,null,null,null,null,null,null,null,null,null,0,{"$error":"#DIV/0!"}]
[45,0,0,0,1,{"$error":"#DIV/0!"},45,0,{"$error":"#DIV/0!"},{"$error":"#DIV/0!"},0,0,0,0,0,null,null,1,null,null,null,null,null,null,null,null,null,null,null,null,null,null,null,null,null,null,null,null,null,null,null,null,null,null,null,null,null,null,null,null,{"$f":"+H929","v":0},{"$f":"+I929*100","v":{"$error":"#DIV/0!"}}]
[44,0,0,0,1,{"$error":"#DIV/0!"},44,0,{"$error":"#DIV/0!"},{"$error":"#DIV/0!"},0,0,0,0,0,null,null,1,null,null,null,null,null,null,null,null,null,null,null,null,null,null,null,null,null,null,null,null,null,null,null,null,null,null,null,null,null,null,null,null,{"$f":"+H930","v":0},{"$f":"+I930*100","v":{"$error":"#DIV/0!"}}]
[43,0,0,0,1,{"$error":"#DIV/0!"},43,0,{"$error":"#DIV/0!"},{"$error":"#DIV/0!"},0,0,0,0,0,null,null,1,null,null,null,null,null,null,null,null,null,null,null,null,null,null,null,null,null,null,null,null,null,null,null,null,null,null,null,null,null,null,null,null,0,{"$error":"#DIV/0!"}]
[42,0,0,0,1,{"$error":"#DIV/0!"},42,0,{"$error":"#DIV/0!"},{"$error":"#DIV/0!"},0,0,0,0,0,null,null,1,null,null,null,null,null,null,null,null,null,null,null,null,null,null,null,null,null,null,null,null,null,null,null,null,null,null,null,null,null,null,null,null,0,{"$error":"#DIV/0!"}]
[41,0,0,0,1,{"$error":"#DIV/0!"},41,0,{"$error":"#DIV/0!"},{"$error":"#DIV/0!"},0,0,0,0,0,null,null,1,null,null,null,null,null,null,null,null,null,null,null,null,null,null,null,null,null,null,null,null,null,null,null,null,null,null,null,null,null,null,null,null,0,{"$error":"#DIV/0!"}]
[40,0,0,0,1,{"$error":"#DIV/0!"},40,0,{"$error":"#DIV/0!"},{"$error":"#DIV/0!"},0,0,0,0,0,null,null,1,null,null,null,null,null,null,null,null,null,null,null,null,null,null,null,null,null,null,null,null,null,null,null,null,null,null,null,null,null,null,null,null,0,{"$error":"#DIV/0!"}]
[39,0,0,0,1,{"$error":"#DIV/0!"},39,0,{"$error":"#DIV/0!"},{"$error":"#DIV/0!"},0,0,0,0,0,null,null,1,null,null,null,null,null,null,null,null,null,null,null,null,null,null,null,null,null,null,null,null,null,null,null,null,null,null,null,null,null,null,null,null,0,{"$error":"#DIV/0!"}]
[38,0,0,0,1,{"$error":"#DIV/0!"},38,0,{"$error":"#DIV/0!"},{"$error":"#DIV/0!"},0,0,0,0,0,null,null,1,null,null,null,null,null,null,null,null,null,null,null,null,null,null,null,null,null,null,null,null,null,null,null,null,null,null,null,null,null,null,null,null,0,{"$error":"#DIV/0!"}]
[37,0,0,0,1,{"$error":"#DIV/0!"},37,0,{"$error":"#DIV/0!"},{"$error":"#DIV/0!"},0,0,0,0,0,null,null,1,null,null,null,null,null,null,null,null,null,null,null,null,null,null,null,null,null,null,null,null,null,null,null,null,null,null,null,null,null,null,null,null,0,{"$error":"#DIV/0!"}]
[36,0,0,0,1,{"$error":"#DIV/0!"},36,0,{"$error":"#DIV/0!"},{"$error":"#DIV/0!"},0,0,0,0,0,null,null,1,null,null,null,null,null,null,null,null,null,null,null,null,null,null,null,null,null,null,null,null,null,null,null,null,null,null,null,null,null,null,null,null,0,{"$error":"#DIV/0!"}]
[35,0,0,0,1,{"$error":"#DIV/0!"},35,0,{"$error":"#DIV/0!"},{"$error":"#DIV/0!"},0,0,0,0,0,null,null,1,null,null,null,null,null,null,null,null,null,null,null,null,null,null,null,null,null,null,null,null,null,null,null,null,null,null,null,null,null,null,null,null,0,{"$error":"#DIV/0!"}]
[34,0,0,0,1,{"$error":"#DIV/0!"},34,0,{"$error":"#DIV/0!"},{"$error":"#DIV/0!"},0,0,0,0,0,null,null,1,null,null,null,null,null,null,null,null,null,null,null,null,null,null,null,null,null,null,null,null,null,null,null,null,null,null,null,null,null,null,null,null,0,{"$error":"#DIV/0!"}]
[33,0,0,0,1,{"$error":"#DIV/0!"},33,0,{"$error":"#DIV/0!"},{"$error":"#DIV/0!"},0,0,0,0,0,null,null,1,null,null,null,null,null,null,null,null,null,null,null,null,null,null,null,null,null,null,null,null,null,null,null,null,null,null,null,null,null,null,null,null,0,{"$error":"#DIV/0!"}]
[32,0,0,0,1,{"$error":"#DIV/0!"},32,0,{"$error":"#DIV/0!"},{"$error":"#DIV/0!"},0,0,0,0,0,null,null,1,null,null,null,null,null,null,null,null,null,null,null,null,null,null,null,null,null,null,null,null,null,null,null,null,null,null,null,null,null,null,null,null,0,{"$error":"#DIV/0!"}]
[31,0,0,0,1,{"$error":"#DIV/0!"},31,0,{"$error":"#DIV/0!"},{"$error":"#DIV/0!"},0,0,0,0,0,null,null,1,null,null,null,null,null,null,null,null,null,null,null,null,null,null,null,null,null,null,null,null,null,null,null,null,null,null,null,null,null,null,null,null,0,{"$error":"#DIV/0!"}]
[30,0,0,0,1,{"$error":"#DIV/0!"},30,0,{"$error":"#DIV/0!"},{"$error":"#DIV/0!"},0,0,0,0,0,null,null,1,null,null,null,null,null,null,null,null,null,null,null,null,null,null,null,null,null,null,null,null,null,null,null,null,null,null,null,null,null,null,null,null,0,{"$error":"#DIV/0!"}]
[29,0,0,0,1,{"$error":"#DIV/0!"},29,0,{"$error":"#DIV/0!"},{"$error":"#DIV/0!"},0,0,0,0,0,null,null,1,null,null,null,null,null,null,null,null,null,null,null,null,null,null,null,null,null,null,null,null,null,null,null,null,null,null,null,null,null,null,null,null,0,{"$error":"#DIV/0!"}]
[28,0,0,0,1,{"$error":"#DIV/0!"},28,0,{"$error":"#DIV/0!"},{"$error":"#DIV/0!"},0,0,0,0,0,null,null,1,null,null,null,null,null,null,null,null,null,null,null,null,null,null,null,null,null,null,null,null,null,null,null,null,null,null,null,null,null,null,null,null,0,{"$error":"#DIV/0!"}]
[27,0,0,0,1,{"$error":"#DIV/0!"},27,0,{"$error":"#DIV/0!"},{"$error":"#DIV/0!"},0,0,0,0,0,null,null,1,null,null,null,null,null,null,null,null,null,null,null,null,null,null,null,null,null,null,null,null,null,null,null,null,null,null,null,null,null,null,null,null,0,{"$error":"#DIV/0!"}]
[26,0,0,0,1,{"$error":"#DIV/0!"},26,0,{"$error":"#DIV/0!"},{"$error":"#DIV/0!"},0,0,0,0,0,null,null,1,null,null,null,null,null,null,null,null,null,null,null,null,null,null,null,null,null,null,null,null,null,null,null,null,null,null,null,null,null,null,null,null,0,{"$error":"#DIV/0!"}]
[25,0,0,0,1,{"$error":"#DIV/0!"},25,0,{"$error":"#DIV/0!"},{"$error":"#DIV/0!"},0,0,0,0,0,null,null,1,null,null,null,null,null,null,null,null,null,null,null,null,null,null,null,null,null,null,null,null,null,null,null,null,null,null,null,null,null,null,null,null,0,{"$error":"#DIV/0!"}]
[24,0,0,0,1,{"$error":"#DIV/0!"},24,0,{"$error":"#DIV/0!"},{"$error":"#DIV/0!"},0,0,0,0,0,null,null,1,null,null,null,null,null,null,null,null,null,null,null,null,null,null,null,null,null,null,null,null,null,null,null,null,null,null,null,null,null,null,null,null,0,{"$error":"#DIV/0!"}]
[23,0,0,0,1,{"$error":"#DIV/0!"},23,0,{"$error":"#DIV/0!"},{"$error":"#DIV/0!"},0,0,0,0,0,null,null,1,null,null,null,null,null,null,null,null,null,null,null,null,null,null,null,null,null,null,null,null,null,null,null,null,null,null,null,null,null,null,null,null,0,{"$error":"#DIV/0!"}]
[22,0,0,0,1,{"$error":"#DIV/0!"},22,0,{"$error":"#DIV/0!"},{"$error":"#DIV/0!"},0,0,0,0,0,null,null,1,null,null,null,null,null,null,null,null,null,null,null,null,null,null,null,null,null,null,null,null,null,null,null,null,null,null,null,null,null,null,null,null,0,{"$error":"#DIV/0!"}]
[21,0,0,0,1,{"$error":"#DIV/0!"},21,0,{"$error":"#DIV/0!"},{"$error":"#DIV/0!"},0,0,0,0,0,null,null,1,null,null,null,null,null,null,null,null,null,null,null,null,null,null,null,null,null,null,null,null,null,null,null,null,null,null,null,null,null,null,null,null,{"$f":"+H953","v":0},{"$f":"+I953*100","v":{"$error":"#DIV/0!"}}]
[20,0,0,0,1,{"$error":"#DIV/0!"},20,0,{"$error":"#DIV/0!"},{"$error":"#DIV/0!"},0,0,0,0,0,null,null,1,null,null,null,null,null,null,null,null,null,null,null,null,null,null,null,null,null,null,null,null,null,null,null,null,null,null,null,null,null,null,null,null,0,{"$error":"#DIV/0!"}]
[19,0,0,0,1,{"$error":"#DIV/0!"},19,0,{"$error":"#DIV/0!"},{"$error":"#DIV/0!"},0,0,0,0,0,null,null,1,null,null,null,null,null,null,null,null,null,null,null,null,null,"Area IV",null,null,null,null,null,null,null,null,null,null,null,null,null,null,null,null,null,null,0,{"$error":"#DIV/0!"}]
[18,0,0,0,1,{"$error":"#DIV/0!"},18,0,{"$error":"#DIV/0!"},{"$error":"#DIV/0!"},0,0,0,0,0,null,null,1,null,null,null,null,null,null,null,null,null,null,null,null,null,null,null,null,null,null,null,null,null,null,null,null,null,null,null,null,null,null,null,null,0,{"$error":"#DIV/0!"}]
[17,0,0,0,1,{"$error":"#DIV/0!"},17,0,{"$error":"#DIV/0!"},{"$error":"#DIV/0!"},0,0,0,0,0,null,null,1,null,null,null,null,null,null,null,null,null,null,null,null,null,null,null,null,null,null,null,null,null,null,null,null,null,null,null,null,null,null,null,null,0,{"$error":"#DIV/0!"}]
[16,0,0,0,1,{"$error":"#DIV/0!"},16,0,{"$error":"#DIV/0!"},{"$error":"#DIV/0!"},0,0,0,0,0,null,null,1,null,null,null,null,null,null,null,null,null,null,null,null,null,null,null,null,null,null,null,null,null,null,null,null,null,null,null,null,null,null,null,null,0,{"$error":"#DIV/0!"}]
[15,0,0,0,1,{"$error":"#DIV/0!"},15,0,{"$error":"#DIV/0!"},{"$error":"#DIV/0!"},0,0,0,0,0,null,null,1,null,null,null,null,null,null,null,null,null,null,null,null,null,null,null,null,null,null,null,null,null,null,null,null,null,null,null,null,null,null,null,null,0,{"$error":"#DIV/0!"}]
[14,0,0,0,1,{"$error":"#DIV/0!"},14,0,{"$error":"#DIV/0!"},{"$error":"#DIV/0!"},0,0,0,0,0,null,null,1,null,null,null,null,null,null,null,null,null,null,null,null,null,null,null,null,null,null,null,null,null,null,null,null,null,null,null,null,null,null,null,null,0,{"$error":"#DIV/0!"}]
[13,0,0,0,1,{"$error":"#DIV/0!"},13,0,{"$error":"#DIV/0!"},{"$error":"#DIV/0!"},0,0,0,0,0,null,null,1,null,null,null,null,null,null,null,null,null,null,null,null,null,null,null,null,null,null,null,null,null,null,null,null,null,null,null,null,null,null,null,null,0,{"$error":"#DIV/0!"}]
[12,0,0,0,1,{"$error":"#DIV/0!"},12,0,{"$error":"#DIV/0!"},{"$error":"#DIV/0!"},0,0,0,0,0,null,null,1,null,null,null,null,null,null,null,null,null,null,null,null,null,null,null,null,null,null,null,null,null,null,null,null,null,null,null,null,null,null,null,null,0,{"$error":"#DIV/0!"}]
[11,0,0,0,1,{"$error":"#DIV/0!"},11,0,{"$error":"#DIV/0!"},{"$error":"#DIV/0!"},0,0,0,0,0,null,null,1,null,null,null,null,null,null,null,null,null,null,null,null,null,null,null,null,null,null,null,null,null,null,null,null,null,null,null,null,null,null,null,null,0,{"$error":"#DIV/0!"}]
[10,0,0,0,1,{"$error":"#DIV/0!"},10,0,{"$error":"#DIV/0!"},{"$error":"#DIV/0!"},0,0,0,0,0,null,null,1,null,null,null,null,null,null,null,null,null,null,null,null,null,null,null,null,null,null,null,null,null,null,null,null,null,null,null,null,null,null,null,null,0,{"$error":"#DIV/0!"}]
[9,0,0,0,1,{"$error":"#DIV/0!"},9,0,{"$error":"#DIV/0!"},{"$error":"#DIV/0!"},0,0,0,0,0,null,null,1,null,null,null,null,null,null,null,null,null,null,null,null,null,null,null,null,null,null,null,null,null,null,null,null,null,null,null,null,null,null,null,null,0,{"$error":"#DIV/0!"}]
[8,0,0,0,1,{"$error":"#DIV/0!"},8,0,{"$error":"#DIV/0!"},{"$error":"#DIV/0!"},0,0,0,0,0,null,null,1,null,null,null,null,null,null,null,null,null,null,null,null,null,null,null,null,null,null,null,null,null,null,null,null,null,null,null,null,null,null,null,null,0,{"$error":"#DIV/0!"}]
[7,0,0,0,1,{"$error":"#DIV/0!"},7,0,{"$error":"#DIV/0!"},{"$error":"#DIV/0!"},0,0,0,0,0,null,null,1,null,null,null,null,null,null,null,null,null,null,null,null,null,null,null,null,null,null,null,null,null,null,null,null,null,null,null,null,null,null,null,null,0,{"$error":"#DIV/0!"}]
[6,0,0,0,1,{"$error":"#DIV/0!"},6,0,{"$error":"#DIV/0!"},{"$error":"#DIV/0!"},0,0,0,0,0,null,null,1,null,null,null,null,null,null,null,null,null,null,null,null,null,null,null,null,null,null,null,null,null,null,null,null,null,null,null,null,null,null,null,null,0,{"$error":"#DIV/0!"}]
[5,0,0,0,1,{"$error":"#DIV/0!"},5,0,{"$error":"#DIV/0!"},{"$error":"#DIV/0!"},0,0,0,0,0,null,null,1,null,null,null,null,null,null,null,null,null,null,null,null,null,null,null,null,null,null,null,null,null,null,null,null,null,null,null,null,null,null,null,null,0,{"$error":"#DIV/0!"}]
[4,0,0,0,1,{"$error":"#DIV/0!"},4,0,{"$error":"#DIV/0!"},{"$error":"#DIV/0!"},0,0,0,0,0,null,null,1,null,null,null,null,null,null,null,null,null,null,null,null,null,null,null,null,null,null,null,null,null,null,null,null,null,null,null,null,null,null,null,null,0,{"$error":"#DIV/0!"}]
[3,0,0,0,1,{"$error":"#DIV/0!"},3,0,{"$error":"#DIV/0!"},{"$error":"#DIV/0!"},0,0,0,0,0,null,null,1,null,null,null,null,null,null,null,null,null,null,null,null,null,null,null,null,null,null,null,null,null,null,null,null,null,null,null,null,null,null,null,null,0,{"$error":"#DIV/0!"}]
[2,0,0,0,1,{"$error":"#DIV/0!"},2,0,{"$error":"#DIV/0!"},{"$error":"#DIV/0!"},0,0,0,0,0,null,null,1,null,null,null,null,null,null,null,null,null,null,null,null,null,null,null,null,null,null,null,null,null,null,null,null,null,null,null,null,null,null,null,null,0,{"$error":"#DIV/0!"}]
[1,0,0,0,1,{"$error":"#DIV/0!"},1,0,{"$error":"#DIV/0!"},{"$error":"#DIV/0!"},0,0,0,0,0,null,null,1,null,null,null,null,null,null,null,null,null,null,null,null,null,null,null,null,null,null,null,null,null,null,null,null,null,null,null,null,null,null,null,null,0,{"$error":"#DIV/0!"}]
[]
[]
[]
[]
[]
[]
[]
[]
[]
[]
[]
[]
[]
[]
[]
[]
[]
[]
[]
[]
[]
[]
[]
[]
[]
[]
[]
[]
[]
[]
[]
[]
[]
[]
[]
[]
[]
[]
[]
[]
[]
[]
[]
[]
[]
[]
[]
[]
[]
[]
[]
[]
[]
[]
[]
[]
[]
[]
[]
[]
[]
[]
[]
[]
[]
[]
[]
[]
[]
[]
[]
[]
[]
[]
[]
[]
[]
[]
[]
[]
[]
[]
[]
[]
[]
[]
[]
[]
[]
[]
[]
[]
[]
[]
[]
[]
[]
[]
[]
[]
[]
[]
[]
[]
[]
[]
[]
[]
[]
[]
[]
[]
[]
[]
[]
[]
[]
[]
[]
[]
[]
[]
[]
[]
[]
[]
[]
[]
[]
[]
[]
[]
[]
[]
[]
[]
[]
[]
[]
[]
[]
[]
[]
[]
[]
[]
[]
[]
[]
[]
[]
[]
[]
[]
[]
[]
[]
[]
[]
[]
[]
[]
[]
[]
[]
[]
[]
[]
[]
[]
[]
[]
[]
[]
[]
[]
[]
[]
[]
[]
[]
[]
[]
[]
[]
[]
[]
[]
[]
[]
[]
[]
[]
[]
[]
[]
[]
[]
[]
[]
[]
[]
[]
[]
[]
[]
[]
[]
[]
[]
[]
[]
[]
[]
[]
[]
[]
[]
[]
[]
[]
[]
[]
[]
[]
[]
[]
[]
[]
[]
[]
[]
[]
[]
[]
[]
[]
[]
[]
[]
[]
[]
[]
[]
[]
[]
[]
[]
[]
[]
[]
[]
[]
[]
[]
[]
[]
[]
[]
[]
[]
[]
[]
[]
[]
[]
[]
[]
[]
[]
[]
[]
[]
[]
[]
[]
[]
[]
[]
[]
[]
[]
[]
[]
[]
[]
[]
[]
[]
[]
[]
[]
[]
[]
[]
[]
[]
[]
[]
[]
[]
[]
[]
[]
[]
[]
[]
[]
[]
[]
[]
[]
[]
[]
[]
[]
[]
[]
[]
[]
[]
[]
[]
[]
[]
[]
[]
[]
[]
[]
[]
[]
[]
[]
[]
[]
[]
[]
[]
[]
[]
[]
[]
[]
[]
[]
[]
[]
[]
[]
[]
[]
[]
[]
[]
[]
[]
[]
[]
[]
[]
[]
[]
[]
[]
[]
[]
[]
[]
[]
[]
[]
[]
[]
[]
[]
[]
[]
[]
[]
[]
[]
[]
[]
[]
[]
[]
[]
[]
[]
[]
[]
[]
[]
[]
[]
[]
[]
[]
[]
[]
[]
[]
[]
[]
[]
[]
[]
[]
[]
[]
[]
[]
[]
[]
[]
[]
[]
[]
[]
[]
[]
[]
[]
[]
[]
[]
[]
[]
[]
[]
[]
[]
[]
[]
[]
[]
[]
[]
[]
[]
[]
[]
[]
[]
[]
[]
[]
[]
[]
[]
[]
[]
[]
[]
[]
[]
[]
[]
[]
[]
[]
[]
[]
[]
[]
[]
[]
[]
[]
[]
[]
[]
[]
[]
[]
[]
[]
[]
[]
[]
[]
[]
[]
[]
[]
[]
[]
[]
[]
[]
[]
[]
[]
[]
[]
[]
[]
[]
[]
[]
[]
[]
[]
[]
[]
[]
[]
[]
[]
[]
[]
[]
[]
[]
[]
[]
[]
[]
[]
[]
[]
[]
[]
[]
[]
[]
[]
[]
[]
[]
[]
[]
[]
[]
[]
[]
[]
[]
[]
[]
[]
[]
[]
[]
[]
[]
[]
[]
[]
[]
[]
[]
[]
[]
[]
[]
[]
[]
[]
[]
[]
[]
[]
[]
[]
[]
[]
[]
[]
[]
[]
[]
[]
[]
[]
[]
[]
[]
[]
[]
[]
[]
[]
[]
[]
[]
[]
[]
[]
[]
[]
[]
[]
[]
[]
[]
[]
[]
[]
[]
[]
[]
[]
[]
[]
[]
[]
[]
[]
[]
[]
[]
[]
[]
[]
[]
[]
[]
[]
[]
[]
[]
[]
[]
[]
[]
[]
[]
[]
[]
[]
[]
[]
[]
[]
[]
[]
[]
[]
[]
[]
[]
[]
[]
[]
[]
[]
[]
[]
[]
[]
[]
[]
[null,null,null,null,null,null,null,100]
[null,null,null,null,null,null,null,{"$f":"H823","v":"Indicadores"},"Valor del Indicador ","Brecha","Totalmente en desacuerdo","En desacuerdo","Un poco en desacuerdo","No sé","Un poco de acuerdo",null,null,{"$f":"R823","v":"Ranking"}]
[null,null,null,null,null,null,1,1000,{"$error":"#DIV/0!"},{"$error":"#DIV/0!"},1000,1000,1000,1000,1000,null,null,1]
[null,null,null,null,null,null,2,1000,{"$error":"#DIV/0!"},{"$error":"#DIV/0!"},1000,1000,1000,1000,1000,null,null,1]
[null,null,null,null,null,null,3,1000,{"$error":"#DIV/0!"},{"$error":"#DIV/0!"},1000,1000,1000,1000,1000,null,null,1]
[null,null,null,null,null,null,4,1000,{"$error":"#DIV/0!"},{"$error":"#DIV/0!"},1000,1000,1000,1000,1000,null,null,1]
[null,null,null,null,null,null,5,1000,{"$error":"#DIV/0!"},{"$error":"#DIV/0!"},1000,1000,1000,1000,1000,null,null,1]
[null,null,null,null,null,null,6,1000,{"$error":"#DIV/0!"},{"$error":"#DIV/0!"},1000,1000,1000,1000,1000,null,null,1]
[null,null,null,null,null,null,7,1000,{"$error":"#DIV/0!"},{"$error":"#DIV/0!"},1000,1000,1000,1000,1000,null,null,1]
[null,null,null,null,null,null,8,1000,{"$error":"#DIV/0!"},{"$error":"#DIV/0!"},1000,1000,1000,1000,1000,null,null,1]
[null,null,null,null,null,null,9,1000,{"$error":"#DIV/0!"},{"$error":"#DIV/0!"},1000,1000,1000,1000,1000,null,null,1]
[null,null,null,null,null,null,10,1000,{"$error":"#DIV/0!"},{"$error":"#DIV/0!"},1000,1000,1000,1000,1000,null,null,1]
[null,null,null,null,null,null,11,1000,{"$error":"#DIV/0!"},{"$error":"#DIV/0!"},1000,1000,1000,1000,1000,null,null,1]
[null,null,null,null,null,null,12,1000,{"$error":"#DIV/0!"},{"$error":"#DIV/0!"},1000,1000,1000,1000,1000,null,null,1]
[null,null,null,null,null,null,13,1000,{"$error":"#DIV/0!"},{"$error":"#DIV/0!"},1000,1000,1000,1000,1000,null,null,1]
[null,null,null,null,null,null,14,1000,{"$error":"#DIV/0!"},{"$error":"#DIV/0!"},1000,1000,1000,1000,1000,null,null,1]
[null,null,null,null,null,null,15,1000,{"$error":"#DIV/0!"},{"$error":"#DIV/0!"},1000,1000,1000,1000,1000,null,null,1]
[null,null,null,null,null,null,16,1000,{"$error":"#DIV/0!"},{"$error":"#DIV/0!"},1000,1000,1000,1000,1000,null,null,1]
[null,null,null,null,null,null,17,1000,{"$error":"#DIV/0!"},{"$error":"#DIV/0!"},1000,1000,1000,1000,1000,null,null,1]
[null,null,null,null,null,null,18,1000,{"$error":"#DIV/0!"},{"$error":"#DIV/0!"},1000,1000,1000,1000,1000,null,null,1]
[null,null,null,null,null,null,19,1000,{"$error":"#DIV/0!"},{"$error":"#DIV/0!"},1000,1000,1000,1000,1000,null,null,1]
[null,null,null,null,null,null,20,1000,{"$error":"#DIV/0!"},{"$error":"#DIV/0!"},1000,1000,1000,1000,1000,null,null,1]
[null,null,null,null,null,null,21,1000,{"$error":"#DIV/0!"},{"$error":"#DIV/0!"},1000,1000,1000,1000,1000,null,null,1]
[null,null,null,null,null,null,22,1000,{"$error":"#DIV/0!"},{"$error":"#DIV/0!"},1000,1000,1000,1000,1000,null,null,1]
[null,null,null,null,null,null,23,1000,{"$error":"#DIV/0!"},{"$error":"#DIV/0!"},1000,1000,1000,1000,1000,null,null,1]
[null,null,null,null,null,null,24,1000,{"$error":"#DIV/0!"},{"$error":"#DIV/0!"},1000,1000,1000,1000,1000,null,null,1]
[null,null,null,null,null,null,25,1000,{"$error":"#DIV/0!"},{"$error":"#DIV/0!"},1000,1000,1000,1000,1000,null,null,1]
[null,null,null,null,null,null,26,1000,{"$error":"#DIV/0!"},{"$error":"#DIV/0!"},1000,1000,1000,1000,1000,null,null,1]
[null,null,null,null,null,null,27,1000,{"$error":"#DIV/0!"},{"$error":"#DIV/0!"},1000,1000,1000,1000,1000,null,null,1]
[null,null,null,null,null,null,28,1000,{"$error":"#DIV/0!"},{"$error":"#DIV/0!"},1000,1000,1000,1000,1000,null,null,1]
[null,null,null,null,null,null,29,1000,{"$error":"#DIV/0!"},{"$error":"#DIV/0!"},1000,1000,1000,1000,1000,null,null,1]
[null,null,null,null,null,null,30,1000,{"$error":"#DIV/0!"},{"$error":"#DIV/0!"},1000,1000,1000,1000,1000,null,null,1]
[null,null,null,null,null,null,31,1000,{"$error":"#DIV/0!"},{"$error":"#DIV/0!"},1000,1000,1000,1000,1000,null,null,1]
[null,null,null,null,null,null,32,1000,{"$error":"#DIV/0!"},{"$error":"#DIV/0!"},1000,1000,1000,1000,1000,null,null,1]
[null,null,null,null,null,null,33,1000,{"$error":"#DIV/0!"},{"$error":"#DIV/0!"},1000,1000,1000,1000,1000,null,null,1]
[null,null,null,null,null,null,34,1000,{"$error":"#DIV/0!"},{"$error":"#DIV/0!"},1000,1000,1000,1000,1000,null,null,1]
[null,null,null,null,null,null,35,1000,{"$error":"#DIV/0!"},{"$error":"#DIV/0!"},1000,1000,1000,1000,1000,null,null,1]
[null,null,null,null,null,null,36,1000,{"$error":"#DIV/0!"},{"$error":"#DIV/0!"},1000,1000,1000,1000,1000,null,null,1]
[null,null,null,null,null,null,37,1000,{"$error":"#DIV/0!"},{"$error":"#DIV/0!"},1000,1000,1000,1000,1000,null,null,1]
[null,null,null,null,null,null,38,1000,{"$error":"#DIV/0!"},{"$error":"#DIV/0!"},1000,1000,1000,1000,1000,null,null,1]
[null,null,null,null,null,null,39,1000,{"$error":"#DIV/0!"},{"$error":"#DIV/0!"},1000,1000,1000,1000,1000,null,null,1]
[null,null,null,null,null,null,40,1000,{"$error":"#DIV/0!"},{"$error":"#DIV/0!"},1000,1000,1000,1000,1000,null,null,1]
[null,null,null,null,null,null,41,1000,{"$error":"#DIV/0!"},{"$error":"#DIV/0!"},1000,1000,1000,1000,1000,null,null,1]
[null,null,null,null,null,null,42,1000,{"$error":"#DIV/0!"},{"$error":"#DIV/0!"},1000,1000,1000,1000,1000,null,null,1]
[null,null,null,null,null,null,43,1000,{"$error":"#DIV/0!"},{"$error":"#DIV/0!"},1000,1000,1000,1000,1000,null,null,1]
[null,null,null,null,null,null,44,1000,{"$error":"#DIV/0!"},{"$error":"#DIV/0!"},1000,1000,1000,1000,1000,null,null,1]
[null,null,null,null,null,null,45,1000,{"$error":"#DIV/0!"},{"$error":"#DIV/0!"},1000,1000,1000,1000,1000,null,null,1]
[null,null,null,null,null,null,46,1000,{"$error":"#DIV/0!"},{"$error":"#DIV/0!"},1000,1000,1000,1000,1000,null,null,1]
[null,null,null,null,null,null,47,1000,{"$error":"#DIV/0!"},{"$error":"#DIV/0!"},1000,1000,1000,1000,1000,null,null,1]
[null,null,null,null,null,null,48,1000,{"$error":"#DIV/0!"},{"$error":"#DIV/0!"},1000,1000,1000,1000,1000,null,null,1]
[null,null,null,null,null,null,49,1000,{"$error":"#DIV/0!"},{"$error":"#DIV/0!"},1000,1000,1000,1000,1000,null,null,1]
[null,null,null,null,null,null,50,1000,{"$error":"#DIV/0!"},{"$error":"#DIV/0!"},1000,1000,1000,1000,1000,null,null,1]
[null,null,null,null,null,null,51,1000,{"$error":"#DIV/0!"},{"$error":"#DIV/0!"},1000,1000,1000,1000,1000,null,null,1]
[null,null,null,null,null,null,52,1000,{"$error":"#DIV/0!"},{"$error":"#DIV/0!"},1000,1000,1000,1000,1000,null,null,1]
[null,null,null,null,null,null,53,1000,{"$error":"#DIV/0!"},{"$error":"#DIV/0!"},1000,1000,1000,1000,1000,null,null,1]
[null,null,null,null,null,null,54,1000,{"$error":"#DIV/0!"},{"$error":"#DIV/0!"},1000,1000,1000,1000,1000,null,null,1]
[null,null,null,null,null,null,55,1000,{"$error":"#DIV/0!"},{"$error":"#DIV/0!"},1000,1000,1000,1000,1000,null,null,1]
[null,null,null,null,null,null,56,1000,{"$error":"#DIV/0!"},{"$error":"#DIV/0!"},1000,1000,1000,1000,1000,null,null,1]
[null,null,null,null,null,null,57,1000,{"$error":"#DIV/0!"},{"$error":"#DIV/0!"},1000,1000,1000,1000,1000,null,null,1]
[null,null,null,null,null,null,58,1000,{"$error":"#DIV/0!"},{"$error":"#DIV/0!"},1000,1000,1000,1000,1000,null,null,1]
[null,null,null,null,null,null,59,1000,{"$error":"#DIV/0!"},{"$error":"#DIV/0!"},1000,1000,1000,1000,1000,null,null,1]
[null,null,null,null,null,null,60,1000,{"$error":"#DIV/0!"},{"$error":"#DIV/0!"},1000,1000,1000,1000,1000,null,null,1]
[null,null,null,null,null,null,61,1000,{"$error":"#DIV/0!"},{"$error":"#DIV/0!"},1000,1000,1000,1000,1000,null,null,1]
[null,null,null,null,null,null,62,1000,{"$error":"#DIV/0!"},{"$error":"#DIV/0!"},1000,1000,1000,1000,1000,null,null,1]
[null,null,null,null,null,null,63,1000,{"$error":"#DIV/0!"},{"$error":"#DIV/0!"},1000,1000,1000,1000,1000,null,null,1]
[null,null,null,null,null,null,64,1000,{"$error":"#DIV/0!"},{"$error":"#DIV/0!"},1000,1000,1000,1000,1000,null,null,1]
[null,null,null,null,null,null,65,1000,{"$error":"#DIV/0!"},{"$error":"#DIV/0!"},1000,1000,1000,1000,1000,null,null,1]
[null,null,null,null,null,null,66,1000,{"$error":"#DIV/0!"},{"$error":"#DIV/0!"},1000,1000,1000,1000,1000,null,null,1]
[null,null,null,null,null,null,67,1000,{"$error":"#DIV/0!"},{"$error":"#DIV/0!"},1000,1000,1000,1000,1000,null,null,1]
[null,null,null,null,null,null,68,1000,{"$error":"#DIV/0!"},{"$error":"#DIV/0!"},1000,1000,1000,1000,1000,null,null,1]
[null,null,null,null,null,null,69,1000,{"$error":"#DIV/0!"},{"$error":"#DIV/0!"},1000,1000,1000,1000,1000,null,null,1]
[null,null,null,null,null,null,70,1000,{"$error":"#DIV/0!"},{"$error":"#DIV/0!"},1000,1000,1000,1000,1000,null,null,1]
[null,null,null,null,null,null,71,1000,{"$error":"#DIV/0!"},{"$error":"#DIV/0!"},1000,1000,1000,1000,1000,null,null,1]
[null,null,null,null,null,null,72,1000,{"$error":"#DIV/0!"},{"$error":"#DIV/0!"},1000,1000,1000,1000,1000,null,null,1]
[null,null,null,null,null,null,73,1000,{"$error":"#DIV/0!"},{"$error":"#DIV/0!"},1000,1000,1000,1000,1000,null,null,1]
[null,null,null,null,null,null,74,1000,{"$error":"#DIV/0!"},{"$error":"#DIV/0!"},1000,1000,1000,1000,1000,null,null,1,null,null,null,null,null,null,null,null,null,null,null,null,null,"Area V"]
[null,null,null,null,null,null,75,1000,{"$error":"#DIV/0!"},{"$error":"#DIV/0!"},1000,1000,1000,1000,1000,null,null,1]
[null,null,null,null,null,null,76,1000,{"$error":"#DIV/0!"},{"$error":"#DIV/0!"},1000,1000,1000,1000,1000,null,null,1]
[null,null,null,null,null,null,77,1000,{"$error":"#DIV/0!"},{"$error":"#DIV/0!"},1000,1000,1000,1000,1000,null,null,1]
[null,null,null,null,null,null,78,1000,{"$error":"#DIV/0!"},{"$error":"#DIV/0!"},1000,1000,1000,1000,1000,null,null,1]
[null,null,null,null,null,null,79,1000,{"$error":"#DIV/0!"},{"$error":"#DIV/0!"},1000,1000,1000,1000,1000,null,null,1]
[null,null,null,null,null,null,80,1000,{"$error":"#DIV/0!"},{"$error":"#DIV/0!"},1000,1000,1000,1000,1000,null,null,1]
[null,null,null,null,null,null,81,1000,{"$error":"#DIV/0!"},{"$error":"#DIV/0!"},1000,1000,1000,1000,1000,null,null,1]
[null,null,null,null,null,null,82,1000,{"$error":"#DIV/0!"},{"$error":"#DIV/0!"},1000,1000,1000,1000,1000,null,null,1]
[null,null,null,null,null,null,83,1000,{"$error":"#DIV/0!"},{"$error":"#DIV/0!"},1000,1000,1000,1000,1000,null,null,1]
[null,null,null,null,null,null,84,1000,{"$error":"#DIV/0!"},{"$error":"#DIV/0!"},1000,1000,1000,1000,1000,null,null,1]
[null,null,null,null,null,null,85,1000,{"$error":"#DIV/0!"},{"$error":"#DIV/0!"},1000,1000,1000,1000,1000,null,null,1]
[null,null,null,null,null,null,86,1000,{"$error":"#DIV/0!"},{"$error":"#DIV/0!"},1000,1000,1000,1000,1000,null,null,1]
[null,null,null,null,null,null,87,1000,{"$error":"#DIV/0!"},{"$error":"#DIV/0!"},1000,1000,1000,1000,1000,null,null,1]
[null,null,null,null,null,null,88,1000,{"$error":"#DIV/0!"},{"$error":"#DIV/0!"},1000,1000,1000,1000,1000,null,null,1]
[null,null,null,null,null,null,89,1000,{"$error":"#DIV/0!"},{"$error":"#DIV/0!"},1000,1000,1000,1000,1000,null,null,1]
[null,null,null,null,null,null,90,1000,{"$error":"#DIV/0!"},{"$error":"#DIV/0!"},1000,1000,1000,1000,1000,null,null,1]
[null,null,null,null,null,null,91,1000,{"$error":"#DIV/0!"},{"$error":"#DIV/0!"},1000,1000,1000,1000,1000,null,null,1]
[null,null,null,null,null,null,92,1000,{"$error":"#DIV/0!"},{"$error":"#DIV/0!"},1000,1000,1000,1000,1000,null,null,1]
[null,null,null,null,null,null,93,1000,{"$error":"#DIV/0!"},{"$error":"#DIV/0!"},1000,1000,1000,1000,1000,null,null,1]
[null,null,null,null,null,null,94,1000,{"$error":"#DIV/0!"},{"$error":"#DIV/0!"},1000,1000,1000,1000,1000,null,null,1]
[null,null,null,null,null,null,95,1000,{"$error":"#DIV/0!"},{"$error":"#DIV/0!"},1000,1000,1000,1000,1000,null,null,1]
[null,null,null,null,null,null,96,1000,{"$error":"#DIV/0!"},{"$error":"#DIV/0!"},1000,1000,1000,1000,1000,null,null,1]
[null,null,null,null,null,null,97,1000,{"$error":"#DIV/0!"},{"$error":"#DIV/0!"},1000,1000,1000,1000,1000,null,null,1]
[null,null,null,null,null,null,98,1000,{"$error":"#DIV/0!"},{"$error":"#DIV/0!"},1000,1000,1000,1000,1000,null,null,1]
[null,null,null,null,null,null,99,1000,{"$error":"#DIV/0!"},{"$error":"#DIV/0!"},1000,1000,1000,1000,1000,null,null,1]
[null,null,null,null,null,null,100,1000,{"$error":"#DIV/0!"},{"$error":"#DIV/0!"},1000,1000,1000,1000,1000,null,null,1]
[null,null,null,null,null,null,101,1000,{"$error":"#DIV/0!"},{"$error":"#DIV/0!"},1000,1000,1000,1000,1000,null,null,1]
[null,null,null,null,null,null,102,1000,{"$error":"#DIV/0!"},{"$error":"#DIV/0!"},1000,1000,1000,1000,1000,null,null,1]
[null,null,null,null,null,null,103,1000,{"$error":"#DIV/0!"},{"$error":"#DIV/0!"},1000,1000,1000,1000,1000,null,null,1]
[null,null,null,null,null,null,104,1000,{"$error":"#DIV/0!"},{"$error":"#DIV/0!"},1000,1000,1000,1000,1000,null,null,1]
[null,null,null,null,null,null,105,1000,{"$error":"#DIV/0!"},{"$error":"#DIV/0!"},1000,1000,1000,1000,1000,null,null,1]
[null,null,null,null,null,null,106,1000,{"$error":"#DIV/0!"},{"$error":"#DIV/0!"},1000,1000,1000,1000,1000,null,null,1]
[null,null,null,null,null,null,107,1000,{"$error":"#DIV/0!"},{"$error":"#DIV/0!"},1000,1000,1000,1000,1000,null,null,1]
[null,null,null,null,null,null,108,1000,{"$error":"#DIV/0!"},{"$error":"#DIV/0!"},1000,1000,1000,1000,1000,null,null,1]
[null,null,null,null,null,null,109,1000,{"$error":"#DIV/0!"},{"$error":"#DIV/0!"},1000,1000,1000,1000,1000,null,null,1]
[null,null,null,null,null,null,110,1000,{"$error":"#DIV/0!"},{"$error":"#DIV/0!"},1000,1000,1000,1000,1000,null,null,1]
[null,null,null,null,null,null,111,1000,{"$error":"#DIV/0!"},{"$error":"#DIV/0!"},1000,1000,1000,1000,1000,null,null,1]
[null,null,null,null,null,null,112,1000,{"$error":"#DIV/0!"},{"$error":"#DIV/0!"},1000,1000,1000,1000,1000,null,null,1]
[null,null,null,null,null,null,113,1000,{"$error":"#DIV/0!"},{"$error":"#DIV/0!"},1000,1000,1000,1000,1000,null,null,1]
[null,null,null,null,null,null,114,1000,{"$error":"#DIV/0!"},{"$error":"#DIV/0!"},1000,1000,1000,1000,1000,null,null,1]
[null,null,null,null,null,null,115,1000,{"$error":"#DIV/0!"},{"$error":"#DIV/0!"},1000,1000,1000,1000,1000,null,null,1]
[null,null,null,null,null,null,116,1000,{"$error":"#DIV/0!"},{"$error":"#DIV/0!"},1000,1000,1000,1000,1000,null,null,1]
[null,null,null,null,null,null,117,1000,{"$error":"#DIV/0!"},{"$error":"#DIV/0!"},1000,1000,1000,1000,1000,null,null,1]
[null,null,null,null,null,null,118,1000,{"$error":"#DIV/0!"},{"$error":"#DIV/0!"},1000,1000,1000,1000,1000,null,null,1]
[null,null,null,null,null,null,119,1000,{"$error":"#DIV/0!"},{"$error":"#DIV/0!"},1000,1000,1000,1000,1000,null,null,1]
[null,null,null,null,null,null,120,1000,{"$error":"#DIV/0!"},{"$error":"#DIV/0!"},1000,1000,1000,1000,1000,null,null,1]
[null,null,null,null,null,null,121,1000,{"$error":"#DIV/0!"},{"$error":"#DIV/0!"},1000,1000,1000,1000,1000,null,null,1]
[null,null,null,null,null,null,122,1000,{"$error":"#DIV/0!"},{"$error":"#DIV/0!"},1000,1000,1000,1000,1000,null,null,1]
[null,null,null,null,null,null,123,1000,{"$error":"#DIV/0!"},{"$error":"#DIV/0!"},1000,1000,1000,1000,1000,null,null,1]
[null,null,null,null,null,null,124,1000,{"$error":"#DIV/0!"},{"$error":"#DIV/0!"},1000,1000,1000,1000,1000,null,null,1]
[null,null,null,null,null,null,125,1000,{"$error":"#DIV/0!"},{"$error":"#DIV/0!"},1000,1000,1000,1000,1000,null,null,1]
[null,null,null,null,null,null,126,1000,{"$error":"#DIV/0!"},{"$error":"#DIV/0!"},1000,1000,1000,1000,1000,null,null,1]
[null,null,null,null,null,null,127,1000,{"$error":"#DIV/0!"},{"$error":"#DIV/0!"},1000,1000,1000,1000,1000,null,null,1]
[null,null,null,null,null,null,128,1000,{"$error":"#DIV/0!"},{"$error":"#DIV/0!"},1000,1000,1000,1000,1000,null,null,1]
[null,null,null,null,null,null,129,1000,{"$error":"#DIV/0!"},{"$error":"#DIV/0!"},1000,1000,1000,1000,1000,null,null,1]
[null,null,null,null,null,null,130,1000,{"$error":"#DIV/0!"},{"$error":"#DIV/0!"},1000,1000,1000,1000,1000,null,null,1]
[null,null,null,null,null,null,131,1000,{"$error":"#DIV/0!"},{"$error":"#DIV/0!"},1000,1000,1000,1000,1000,null,null,1]
[null,null,null,null,null,null,132,1000,{"$error":"#DIV/0!"},{"$error":"#DIV/0!"},1000,1000,1000,1000,1000,null,null,1]
[null,null,null,null,null,null,133,1000,{"$error":"#DIV/0!"},{"$error":"#DIV/0!"},1000,1000,1000,1000,1000,null,null,1]
[null,null,null,null,null,null,134,1000,{"$error":"#DIV/0!"},{"$error":"#DIV/0!"},1000,1000,1000,1000,1000,null,null,1]
[null,null,null,null,null,null,135,1000,{"$error":"#DIV/0!"},{"$error":"#DIV/0!"},1000,1000,1000,1000,1000,null,null,1]
[null,null,null,null,null,null,136,1000,{"$error":"#DIV/0!"},{"$error":"#DIV/0!"},1000,1000,1000,1000,1000,null,null,1]
[null,null,null,null,null,null,137,1000,{"$error":"#DIV/0!"},{"$error":"#DIV/0!"},1000,1000,1000,1000,1000,null,null,1]
[null,null,null,null,null,null,138,1000,{"$error":"#DIV/0!"},{"$error":"#DIV/0!"},1000,1000,1000,1000,1000,null,null,1]
[null,null,null,null,null,null,139,1000,{"$error":"#DIV/0!"},{"$error":"#DIV/0!"},1000,1000,1000,1000,1000,null,null,1]
[null,null,null,null,null,null,140,1000,{"$error":"#DIV/0!"},{"$error":"#DIV/0!"},1000,1000,1000,1000,1000,null,null,1]
[null,null,null,null,null,null,141,1000,{"$error":"#DIV/0!"},{"$error":"#DIV/0!"},1000,1000,1000,1000,1000,null,null,1]
[null,null,null,null,null,null,142,1000,{"$error":"#DIV/0!"},{"$error":"#DIV/0!"},1000,1000,1000,1000,1000,null,null,1]
[null,null,null,null,null,null,143,1000,{"$error":"#DIV/0!"},{"$error":"#DIV/0!"},1000,1000,1000,1000,1000,null,null,1]
[null,null,null,null,null,null,144,1000,{"$error":"#DIV/0!"},{"$error":"#DIV/0!"},1000,1000,1000,1000,1000,null,null,1]
[null,null,null,null,null,null,145,1000,{"$error":"#DIV/0!"},{"$error":"#DIV/0!"},1000,1000,1000,1000,1000,null,null,1]
[null,null,null,null,null,null,146,1000,{"$error":"#DIV/0!"},{"$error":"#DIV/0!"},1000,1000,1000,1000,1000,null,null,1]
[null,null,null,null,null,null,147,1000,{"$error":"#DIV/0!"},{"$error":"#DIV/0!"},1000,1000,1000,1000,1000,null,null,1]
[null,null,null,null,null,null,148,1000,{"$error":"#DIV/0!"},{"$error":"#DIV/0!"},1000,1000,1000,1000,1000,null,null,1]
[null,null,null,null,null,null,149,1000,{"$error":"#DIV/0!"},{"$error":"#DIV/0!"},1000,1000,1000,1000,1000,null,null,1]
[null,null,null,null,null,null,150,1000,{"$error":"#DIV/0!"},{"$error":"#DIV/0!"},1000,1000,1000,1000,1000,null,null,1]
[null,null,null,null,null,null,151,null,1000,1000]
[null,null,null,null,null,null,152,null,1000,1000]
[null,null,null,null,null,null,153,null,1000,1000]
[null,null,null,null,null,null,154,null,1000,1000]
[null,null,null,null,null,null,155,null,1000,1000]
[null,null,null,null,null,null,156,null,1000,1000]
[null,null,null,null,null,null,157,null,1000,1000]
[null,null,null,null,null,null,158,null,1000,1000]
[null,null,null,null,null,null,159,null,1000,1000]
[null,null,null,null,null,null,160,null,1000,1000]
[null,null,null,null,null,null,161,null,1000,1000]
[null,null,null,null,null,null,162,null,1000,1000]
[null,null,null,null,null,null,163,null,1000,1000]
[null,null,null,null,null,null,164,null,1000,1000]
[null,null,null,null,null,null,165,null,1000,1000]
[null,null,null,null,null,null,166,null,1000,1000]
[null,null,null,null,null,null,167,null,1000,1000]
[null,null,null,null,null,null,168,null,1000,1000]
[null,null,null,null,null,null,169,null,1000,1000]
[null,null,null,null,null,null,170,null,1000,1000]
[null,null,null,null,null,null,171,null,1000,1000]
[null,null,null,null,null,null,172,null,1000,1000]
[null,null,null,null,null,null,173,null,1000,1000,null,null,null,null,null,null,null,null,null,null,null,null,null,null,null,null,null,null,null,null,null,"Area VI"]
[null,null,null,null,null,null,174,null,1000,1000]
[null,null,null,null,null,null,175,null,1000,1000]
[null,null,null,null,null,null,176,null,1000,1000]
[null,null,null,null,null,null,177,null,1000,1000]
[null,null,null,null,null,null,178,null,1000,1000]
[null,null,null,null,null,null,179,null,1000,1000]
[null,null,null,null,null,null,180,null,1000,1000]
[null,null,null,null,null,null,181,null,1000,1000]
[null,null,null,null,null,null,182,null,1000,1000]
[null,null,null,null,null,null,183,null,1000,1000]
[null,null,null,null,null,null,184,null,1000,1000]
[null,null,null,null,null,null,185,null,1000,1000]
[null,null,null,null,null,null,186,null,1000,1000]
[null,null,null,null,null,null,187,null,1000,1000]
[null,null,null,null,null,null,188,null,1000,1000]
[null,null,null,null,null,null,189,null,1000,1000]
[null,null,null,null,null,null,190,null,1000,1000]
[null,null,null,null,null,null,191,null,1000,1000]
[null,null,null,null,null,null,192,null,1000,1000]
[null,null,null,null,null,null,193,null,1000,1000]
[null,null,null,null,null,null,194,null,1000,1000]
[null,null,null,null,null,null,195,null,1000,1000]
[null,null,null,null,null,null,196,null,1000,1000]
[null,null,null,null,null,null,197,null,1000,1000]
[null,null,null,null,null,null,198,null,1000,1000]
[null,null,null,null,null,null,199,null,1000,1000]
[null,null,null,null,null,null,200,null,1000,1000]
[null,null,null,null,null,null,201,null,1000,1000]
[null,null,null,null,null,null,202,null,1000,1000]
[null,null,null,null,null,null,203,null,1000,1000]
[null,null,null,null,null,null,204,null,1000,1000]
[null,null,null,null,null,null,205,null,1000,1000]
[null,null,null,null,null,null,206,null,1000,1000]
[null,null,null,null,null,null,207,null,1000,1000]
[null,null,null,null,null,null,208,null,1000,1000]
[null,null,null,null,null,null,209,null,1000,1000]
[null,null,null,null,null,null,210,null,1000,1000]
[null,null,null,null,null,null,211,null,1000,1000]
[null,null,null,null,null,null,212,null,1000,1000]
[null,null,null,null,null,null,213,null,1000,1000]
[null,null,null,null,null,null,214,null,1000,1000]
[null,null,null,null,null,null,215,null,1000,1000]
[null,null,null,null,null,null,216,null,1000,1000]
[null,null,null,null,null,null,217,null,1000,1000]
[null,null,null,null,null,null,218,null,1000,1000]
[null,null,null,null,null,null,219,null,1000,1000]
[null,null,null,null,null,null,220,null,1000,1000]
[null,null,null,null,null,null,221,null,1000,1000]
[null,null,null,null,null,null,222,null,1000,1000]
[null,null,null,null,null,null,223,null,1000,1000]
[null,null,null,null,null,null,224,null,1000,1000]
[null,null,null,null,null,null,225,null,1000,1000]
[null,null,null,null,null,null,226,null,1000,1000]
[null,null,null,null,null,null,227,null,1000,1000]
[null,null,null,null,null,null,228,null,1000,1000]
[null,null,null,null,null,null,229,null,1000,1000]
[null,null,null,null,null,null,230,null,1000,1000]
[null,null,null,null,null,null,231,null,1000,1000]
[null,null,null,null,null,null,232,null,1000,1000]
[null,null,null,null,null,null,233,null,1000,1000]
[null,null,null,null,null,null,234,null,1000,1000]
[null,null,null,null,null,null,235,null,1000,1000]
[null,null,null,null,null,null,236,null,1000,1000]
[null,null,null,null,null,null,237,null,1000,1000]
[null,null,null,null,null,null,238,null,1000,1000]
[null,null,null,null,null,null,239,null,1000,1000]
[null,null,null,null,null,null,240,null,1000,1000]
[null,null,null,null,null,null,241,null,1000,1000]
[null,null,null,null,null,null,242,null,1000,1000]
[null,null,null,null,null,null,243,null,1000,1000]
[null,null,null,null,null,null,244,null,1000,1000]
[null,null,null,null,null,null,245,null,1000,1000]
[null,null,null,null,null,null,246,null,1000,1000]
[null,null,null,null,null,null,247,null,1000,1000]
[null,null,null,null,null,null,248,null,1000,1000]
[null,null,null,null,null,null,249,null,1000,1000]
[null,null,null,null,null,null,250,null,1000,1000]
[null,null,null,null,null,null,251,null,1000,1000]
[null,null,null,null,null,null,252,null,1000,1000]
[null,null,null,null,null,null,253,null,1000,1000]
[null,null,null,null,null,null,254,null,1000,1000]
[null,null,null,null,null,null,255,null,1000,1000]
[null,null,null,null,null,null,256,null,1000,1000]
[null,null,null,null,null,null,257,null,1000,1000]
[null,null,null,null,null,null,258,null,1000,1000]
[null,null,null,null,null,null,259,null,1000,1000]
[null,null,null,null,null,null,260,null,1000,1000]
[null,null,null,null,null,null,261,null,1000,1000]
[null,null,null,null,null,null,262,null,1000,1000]
[null,null,null,null,null,null,263,null,1000,1000]
[null,null,null,null,null,null,264,null,1000,1000]
[null,null,null,null,null,null,265,null,1000,1000]
[null,null,null,null,null,null,266,null,1000,1000]
[null,null,null,null,null,null,267,null,1000,1000]
[null,null,null,null,null,null,268,null,1000,1000]
[null,null,null,null,null,null,269,null,1000,1000]
[null,null,null,null,null,null,270,null,1000,1000]
[null,null,null,null,null,null,271,null,1000,1000]
[null,null,null,null,null,null,272,null,1000,1000,null,null,null,null,null,null,null,null,null,null,null,null,null,null,null,null,null,null,null,null,null,"Area VII"]
[null,null,null,null,null,null,273,null,1000,1000]
[null,null,null,null,null,null,274,null,1000,1000]
[null,null,null,null,null,null,275,null,1000,1000]
[null,null,null,null,null,null,276,null,1000,1000]
[null,null,null,null,null,null,277,null,1000,1000]
[null,null,null,null,null,null,278,null,1000,1000]
[null,null,null,null,null,null,279,null,1000,1000]
[null,null,null,null,null,null,280,null,1000,1000]
[null,null,null,null,null,null,281,null,1000,1000]
[null,null,null,null,null,null,282,null,1000,1000]
[null,null,null,null,null,null,283,null,1000,1000]
[null,null,null,null,null,null,284,null,1000,1000]
[null,null,null,null,null,null,285,null,1000,1000]
[null,null,null,null,null,null,286,null,1000,1000]
[null,null,null,null,null,null,287,null,1000,1000]
[null,null,null,null,null,null,288,null,1000,1000]
[null,null,null,null,null,null,289,null,1000,1000]
[null,null,null,null,null,null,290,null,1000,1000]
[null,null,null,null,null,null,291,null,1000,1000]
[null,null,null,null,null,null,292,null,1000,1000]
[null,null,null,null,null,null,293,null,1000,1000]
[null,null,null,null,null,null,294,null,1000,1000]
[null,null,null,null,null,null,295,null,1000,1000]
[null,null,null,null,null,null,296,null,1000,1000]
[null,null,null,null,null,null,297,null,1000,1000]
[null,null,null,null,null,null,298,null,1000,1000]
[null,null,null,null,null,null,299,null,1000,1000]
[null,null,null,null,null,null,300,null,1000,1000]
[null,null,null,null,null,null,301,null,1000,1000]
[null,null,null,null,null,null,302,null,1000,1000]
[null,null,null,null,null,null,303,null,1000,1000]
[null,null,null,null,null,null,304,null,1000,1000]
[null,null,null,null,null,null,305,null,1000,1000]
[null,null,null,null,null,null,306,null,1000,1000]
[null,null,null,null,null,null,307,null,1000,1000]
[null,null,null,null,null,null,308,null,1000,1000]
[null,null,null,null,null,null,309,null,1000,1000]
[null,null,null,null,null,null,310,null,1000,1000]
[null,null,null,null,null,null,311,null,1000,1000]
[null,null,null,null,null,null,312,null,1000,1000]
[null,null,null,null,null,null,313,null,1000,1000]
[null,null,null,null,null,null,314,null,1000,1000]
[null,null,null,null,null,null,315,null,1000,1000]
[null,null,null,null,null,null,316,null,1000,1000]
[null,null,null,null,null,null,317,null,1000,1000]
[null,null,null,null,null,null,318,null,1000,1000]
[null,null,null,null,null,null,319,null,1000,1000]
[null,null,null,null,null,null,320,null,1000,1000]
[null,null,null,null,null,null,321,null,1000,1000]
[null,null,null,null,null,null,322,null,1000,1000]
[null,null,null,null,null,null,323,null,1000,1000]
[null,null,null,null,null,null,324,null,1000,1000]
[null,null,null,null,null,null,325,null,1000,1000]
[null,null,null,null,null,null,326,null,1000,1000]
[null,null,null,null,null,null,327,null,1000,1000]
[null,null,null,null,null,null,328,null,1000,1000]
[null,null,null,null,null,null,329,null,1000,1000]
[null,null,null,null,null,null,330,null,1000,1000]
[null,null,null,null,null,null,331,null,1000,1000]
[null,null,null,null,null,null,332,null,1000,1000]
[null,null,null,null,null,null,333,null,1000,1000]
[null,null,null,null,null,null,334,null,1000,1000]
[null,null,null,null,null,null,335,null,1000,1000]
[null,null,null,null,null,null,336,null,1000,1000]
[null,null,null,null,null,null,337,null,1000,1000]
[null,null,null,null,null,null,338,null,1000,1000]
[null,null,null,null,null,null,339,null,1000,1000]
[null,null,null,null,null,null,340,null,1000,1000]
[null,null,null,null,null,null,341,null,1000,1000]
[null,null,null,null,null,null,342,null,1000,1000]
[null,null,null,null,null,null,343,null,1000,1000]
[null,null,null,null,null,null,344,null,1000,1000]
[null,null,null,null,null,null,345,null,1000,1000]
[null,null,null,null,null,null,346,null,1000,1000]
[null,null,null,null,null,null,347,null,1000,1000]
[null,null,null,null,null,null,348,null,1000,1000]
[null,null,null,null,null,null,349,null,1000,1000]
[null,null,null,null,null,null,350,null,1000,1000]
[null,null,null,null,null,null,351,null,1000,1000]
[null,null,null,null,null,null,352,null,1000,1000]
[null,null,null,null,null,null,353,null,1000,1000]
[null,null,null,null,null,null,354,null,1000,1000]
[null,null,null,null,null,null,355,null,1000,1000]
[null,null,null,null,null,null,356,null,1000,1000]
[null,null,null,null,null,null,357,null,1000,1000]
[null,null,null,null,null,null,358,null,1000,1000]
[null,null,null,null,null,null,359,null,1000,1000]
[null,null,null,null,null,null,360,null,1000,1000]
[null,null,null,null,null,null,361,null,1000,1000]
[null,null,null,null,null,null,362,null,1000,1000]
[null,null,null,null,null,null,363,null,1000,1000]
[null,null,null,null,null,null,364,null,1000,1000]
[null,null,null,null,null,null,365,null,1000,1000]
[null,null,null,null,null,null,366,null,1000,1000]
[null,null,null,null,null,null,367,null,1000,1000]
[null,null,null,null,null,null,368,null,1000,1000]
[null,null,null,null,null,null,369,null,1000,1000]
[null,null,null,null,null,null,370,null,1000,1000]
[null,null,null,null,null,null,371,null,1000,1000,null,null,null,null,null,null,null,null,null,null,null,null,null,null,null,null,null,null,null,null,null,"Area VIII"]
[null,null,null,null,null,null,372,null,1000,1000]
[null,null,null,null,null,null,373,null,1000,1000]
[null,null,null,null,null,null,374,null,1000,1000]
[null,null,null,null,null,null,375,null,1000,1000]
[null,null,null,null,null,null,376,null,1000,1000]
[null,null,null,null,null,null,377,null,1000,1000]
[null,null,null,null,null,null,378,null,1000,1000]
[null,null,null,null,null,null,379,null,1000,1000]
[null,null,null,null,null,null,380,null,1000,1000]
[null,null,null,null,null,null,381,null,1000,1000]
[null,null,null,null,null,null,382,null,1000,1000]
[null,null,null,null,null,null,383,null,1000,1000]
[null,null,null,null,null,null,384,null,1000,1000]
[null,null,null,null,null,null,385,null,1000,1000]
[null,null,null,null,null,null,386,null,1000,1000]
[null,null,null,null,null,null,387,null,1000,1000]
[null,null,null,null,null,null,388,null,1000,1000]
[null,null,null,null,null,null,389,null,1000,1000]
[null,null,null,null,null,null,390,null,1000,1000]
[null,null,null,null,null,null,391,null,1000,1000]
[null,null,null,null,null,null,392,null,1000,1000]
[null,null,null,null,null,null,393,null,1000,1000]
[null,null,null,null,null,null,394,null,1000,1000]
[null,null,null,null,null,null,395,null,1000,1000]
[null,null,null,null,null,null,396,null,1000,1000]
[null,null,null,null,null,null,397,null,1000,1000]
[null,null,null,null,null,null,398,null,1000,1000]
[null,null,null,null,null,null,399,null,1000,1000]
[null,null,null,null,null,null,400,null,1000,1000]
[null,null,null,null,null,null,401,null,1000,1000]
[null,null,null,null,null,null,402,null,1000,1000]
[null,null,null,null,null,null,403,null,1000,1000]
[null,null,null,null,null,null,404,null,1000,1000]
[null,null,null,null,null,null,405,null,1000,1000]
[null,null,null,null,null,null,406,null,1000,1000]
[null,null,null,null,null,null,407,null,1000,1000]
[null,null,null,null,null,null,408,null,1000,1000]
[null,null,null,null,null,null,409,null,1000,1000]
[null,null,null,null,null,null,410,null,1000,1000]
[null,null,null,null,null,null,411,null,1000,1000]
[null,null,null,null,null,null,412,null,1000,1000]
[null,null,null,null,null,null,413,null,1000,1000]
[null,null,null,null,null,null,414,null,1000,1000]
[null,null,null,null,null,null,415,null,1000,1000]
[null,null,null,null,null,null,416,null,1000,1000]
[null,null,null,null,null,null,417,null,1000,1000]
[null,null,null,null,null,null,418,null,1000,1000]
[null,null,null,null,null,null,419,null,1000,1000]
[null,null,null,null,null,null,420,null,1000,1000]
[null,null,null,null,null,null,421,null,1000,1000]
[null,null,null,null,null,null,422,null,1000,1000]
[null,null,null,null,null,null,423,null,1000,1000]
[null,null,null,null,null,null,424,null,1000,1000]
[null,null,null,null,null,null,425,null,1000,1000]
[null,null,null,null,null,null,426,null,1000,1000]
[null,null,null,null,null,null,427,null,1000,1000]
[null,null,null,null,null,null,428,null,1000,1000]
[null,null,null,null,null,null,429,null,1000,1000]
[null,null,null,null,null,null,430,null,1000,1000]
[null,null,null,null,null,null,431,null,1000,1000]
[null,null,null,null,null,null,432,null,1000,1000]
[null,null,null,null,null,null,433,null,1000,1000]
[null,null,null,null,null,null,434,null,1000,1000]
[null,null,null,null,null,null,435,null,1000,1000]
[null,null,null,null,null,null,436,null,1000,1000]
[null,null,null,null,null,null,437,null,1000,1000]
[null,null,null,null,null,null,438,null,1000,1000]
[null,null,null,null,null,null,439,null,1000,1000]
[null,null,null,null,null,null,440,null,1000,1000]
[null,null,null,null,null,null,441,null,1000,1000]
[null,null,null,null,null,null,442,null,1000,1000]
[null,null,null,null,null,null,443,null,1000,1000]
[null,null,null,null,null,null,444,null,1000,1000]
[null,null,null,null,null,null,445,null,1000,1000]
[null,null,null,null,null,null,446,null,1000,1000]
[null,null,null,null,null,null,447,null,1000,1000]
[null,null,null,null,null,null,448,null,1000,1000]
[null,null,null,null,null,null,449,null,1000,1000]
[null,null,null,null,null,null,450,null,1000,1000]
[null,null,null,null,null,null,451,null,1000,1000]
[null,null,null,null,null,null,452,null,1000,1000]
[null,null,null,null,null,null,453,null,1000,1000]
[null,null,null,null,null,null,454,null,1000,1000]
[null,null,null,null,null,null,455,null,1000,1000]
[null,null,null,null,null,null,456,null,1000,1000]
[null,null,null,null,null,null,457,null,1000,1000]
[null,null,null,null,null,null,458,null,1000,1000]
[null,null,null,null,null,null,459,null,1000,1000]
[null,null,null,null,null,null,460,null,1000,1000]
[null,null,null,null,null,null,461,null,1000,1000]
[null,null,null,null,null,null,462,null,1000,1000]
[null,null,null,null,null,null,463,null,1000,1000]
[null,null,null,null,null,null,464,null,1000,1000]
[null,null,null,null,null,null,465,null,1000,1000]
[null,null,null,null,null,null,466,null,1000,1000]
[null,null,null,null,null,null,467,null,1000,1000]
[null,null,null,null,null,null,468,null,1000,1000]
[null,null,null,null,null,null,469,null,1000,1000]
[null,null,null,null,null,null,470,null,1000,1000,null,null,null,null,null,null,null,null,null,null,null,null,null,null,null,null,null,null,null,null,null,"Area IX"]
[null,null,null,null,null,null,471,null,1000,1000]
[null,null,null,null,null,null,472,null,1000,1000]
[null,null,null,null,null,null,473,null,1000,1000]
[null,null,null,null,null,null,474,null,1000,1000]
[null,null,null,null,null,null,475,null,1000,1000]
[null,null,null,null,null,null,476,null,1000,1000]
[null,null,null,null,null,null,477,null,1000,1000]
[null,null,null,null,null,null,478,null,1000,1000]
[null,null,null,null,null,null,479,null,1000,1000]
[null,null,null,null,null,null,480,null,1000,1000]
[null,null,null,null,null,null,481,null,1000,1000]
[null,null,null,null,null,null,482,null,1000,1000]
[null,null,null,null,null,null,483,null,1000,1000]
[null,null,null,null,null,null,484,null,1000,1000]
[null,null,null,null,null,null,485,null,1000,1000]
[null,null,null,null,null,null,486,null,1000,1000]
[null,null,null,null,null,null,487,null,1000,1000]
[null,null,null,null,null,null,488,null,1000,1000]
[null,null,null,null,null,null,489,null,1000,1000]
[null,null,null,null,null,null,490,null,1000,1000]
[null,null,null,null,null,null,491,null,1000,1000]
[null,null,null,null,null,null,492,null,1000,1000]
[null,null,null,null,null,null,493,null,1000,1000]
[null,null,null,null,null,null,494,null,1000,1000]
[null,null,null,null,null,null,495,null,1000,1000]
[null,null,null,null,null,null,496,null,1000,1000]
[null,null,null,null,null,null,497,null,1000,1000]
[null,null,null,null,null,null,498,null,1000,1000]
[null,null,null,null,null,null,499,null,1000,1000]
[null,null,null,null,null,null,500,null,1000,1000]
[null,null,null,null,null,null,501,null,1000,1000]
[null,null,null,null,null,null,502,null,1000,1000]
[null,null,null,null,null,null,503,null,1000,1000]
[null,null,null,null,null,null,504,null,1000,1000]
[null,null,null,null,null,null,505,null,1000,1000]
[null,null,null,null,null,null,506,null,1000,1000]
[null,null,null,null,null,null,507,null,1000,1000]
[null,null,null,null,null,null,508,null,1000,1000]
[null,null,null,null,null,null,509,null,1000,1000]
[null,null,null,null,null,null,510,null,1000,1000]
[null,null,null,null,null,null,511,null,1000,1000]
[null,null,null,null,null,null,512,null,1000,1000]
[null,null,null,null,null,null,513,null,1000,1000]
[null,null,null,null,null,null,514,null,1000,1000]
[null,null,null,null,null,null,515,null,1000,1000]
[null,null,null,null,null,null,516,null,1000,1000]
[null,null,null,null,null,null,517,null,1000,1000]
[null,null,null,null,null,null,518,null,1000,1000]
[null,null,null,null,null,null,519,null,1000,1000]
[null,null,null,null,null,null,520,null,1000,1000]
[null,null,null,null,null,null,521,null,1000,1000]
[null,null,null,null,null,null,522,null,1000,1000]
[null,null,null,null,null,null,523,null,1000,1000]
[null,null,null,null,null,null,524,null,1000,1000]
[null,null,null,null,null,null,525,null,1000,1000]
[null,null,null,null,null,null,526,null,1000,1000]
[null,null,null,null,null,null,527,null,1000,1000]
[null,null,null,null,null,null,528,null,1000,1000]
[null,null,null,null,null,null,529,null,1000,1000]
[null,null,null,null,null,null,530,null,1000,1000]
[null,null,null,null,null,null,531,null,1000,1000]
[null,null,null,null,null,null,532,null,1000,1000]
[null,null,null,null,null,null,533,null,1000,1000]
[null,null,null,null,null,null,534,null,1000,1000]
[null,null,null,null,null,null,535,null,1000,1000]
[null,null,null,null,null,null,536,null,1000,1000]
[null,null,null,null,null,null,537,null,1000,1000]
[null,null,null,null,null,null,538,null,1000,1000]
[null,null,null,null,null,null,539,null,1000,1000]
[null,null,null,null,null,null,540,null,1000,1000]
[null,null,null,null,null,null,541,null,1000,1000]
[null,null,null,null,null,null,542,null,1000,1000]
[null,null,null,null,null,null,543,null,1000,1000]
[null,null,null,null,null,null,544,null,1000,1000]
[null,null,null,null,null,null,545,null,1000,1000]
[null,null,null,null,null,null,546,null,1000,1000]
[null,null,null,null,null,null,547,null,1000,1000]
[null,null,null,null,null,null,548,null,1000,1000]
[null,null,null,null,null,null,549,null,1000,1000]
[null,null,null,null,null,null,550,null,1000,1000]
[null,null,null,null,null,null,551,null,1000,1000]
[null,null,null,null,null,null,552,null,1000,1000]
[null,null,null,null,null,null,553,null,1000,1000]
[null,null,null,null,null,null,554,null,1000,1000]
[null,null,null,null,null,null,555,null,1000,1000]
[null,null,null,null,null,null,556,null,1000,1000]
[null,null,null,null,null,null,557,null,1000,1000]
[null,null,null,null,null,null,558,null,1000,1000]
[null,null,null,null,null,null,559,null,1000,1000]
[null,null,null,null,null,null,560,null,1000,1000]
[null,null,null,null,null,null,561,null,1000,1000]
[null,null,null,null,null,null,562,null,1000,1000]
[null,null,null,null,null,null,563,null,1000,1000]
[null,null,null,null,null,null,564,null,1000,1000]
[null,null,null,null,null,null,565,null,1000,1000]
[null,null,null,null,null,null,566,null,1000,1000]
[null,null,null,null,null,null,567,null,1000,1000]
[null,null,null,null,null,null,568,null,1000,1000]
[null,null,null,null,null,null,569,null,1000,1000,null,null,null,null,null,null,null,null,null,null,null,null,null,null,null,null,null,null,null,null,null,"Area X"]
[null,null,null,null,null,null,570,null,1000,1000]
[null,null,null,null,null,null,571,null,1000,1000]
[null,null,null,null,null,null,572,null,1000,1000]
[null,null,null,null,null,null,573,null,1000,1000]
[null,null,null,null,null,null,574,null,1000,1000]
[null,null,null,null,null,null,575,null,1000,1000]
[null,null,null,null,null,null,576,null,1000,1000]
[null,null,null,null,null,null,577,null,1000,1000]
[null,null,null,null,null,null,578,null,1000,1000]
[null,null,null,null,null,null,579,null,1000,1000]
[null,null,null,null,null,null,580,null,1000,1000]
[null,null,null,null,null,null,581,null,1000,1000]
[null,null,null,null,null,null,582,null,1000,1000]
[null,null,null,null,null,null,583,null,1000,1000]
[null,null,null,null,null,null,584,null,1000,1000]
[null,null,null,null,null,null,585,null,1000,1000]
[null,null,null,null,null,null,586,null,1000,1000]
[null,null,null,null,null,null,587,null,1000,1000]
[null,null,null,null,null,null,588,null,1000,1000]
[null,null,null,null,null,null,589,null,1000,1000]
[null,null,null,null,null,null,590,null,1000,1000]
[null,null,null,null,null,null,591,null,1000,1000]
[null,null,null,null,null,null,592,null,1000,1000]
[null,null,null,null,null,null,593,null,1000,1000]
[null,null,null,null,null,null,594,null,1000,1000]
[null,null,null,null,null,null,595,null,1000,1000]
[null,null,null,null,null,null,596,null,1000,1000]
[null,null,null,null,null,null,597,null,1000,1000]
[null,null,null,null,null,null,598,null,1000,1000]
[null,null,null,null,null,null,599,null,1000,1000]
[null,null,null,null,null,null,600,null,1000,1000]
[null,null,null,null,null,null,601,null,1000,1000]
[null,null,null,null,null,null,602,null,1000,1000]
[null,null,null,null,null,null,603,null,1000,1000]
[null,null,null,null,null,null,604,null,1000,1000]
[null,null,null,null,null,null,605,null,1000,1000]
[null,null,null,null,null,null,606,null,1000,1000]
[null,null,null,null,null,null,607,null,1000,1000]
[null,null,null,null,null,null,608,null,1000,1000]
[null,null,null,null,null,null,609,null,1000,1000]
[null,null,null,null,null,null,610,null,1000,1000]
[null,null,null,null,null,null,611,null,1000,1000]
[null,null,null,null,null,null,612,null,1000,1000]
[null,null,null,null,null,null,613,null,1000,1000]
[null,null,null,null,null,null,614,null,1000,1000]
[null,null,null,null,null,null,615,null,1000,1000]
[null,null,null,null,null,null,616,null,1000,1000]
[null,null,null,null,null,null,617,null,1000,1000]
[null,null,null,null,null,null,618,null,1000,1000]
[null,null,null,null,null,null,619,null,1000,1000]
[null,null,null,null,null,null,620,null,1000,1000]
[null,null,null,null,null,null,621,null,1000,1000]
[null,null,null,null,null,null,622,null,1000,1000]
[null,null,null,null,null,null,623,null,1000,1000]
[null,null,null,null,null,null,624,null,1000,1000]
[null,null,null,null,null,null,625,null,1000,1000]
[null,null,null,null,null,null,626,null,1000,1000]
[null,null,null,null,null,null,627,null,1000,1000]
[null,null,null,null,null,null,628,null,1000,1000]
[null,null,null,null,null,null,629,null,1000,1000]
[null,null,null,null,null,null,630,null,1000,1000]
[null,null,null,null,null,null,631,null,1000,1000]
[null,null,null,null,null,null,632,null,1000,1000]
[null,null,null,null,null,null,633,null,1000,1000]
[null,null,null,null,null,null,634,null,1000,1000]
[null,null,null,null,null,null,635,null,1000,1000]
[null,null,null,null,null,null,636,null,1000,1000]
[null,null,null,null,null,null,637,null,1000,1000]
[null,null,null,null,null,null,638,null,1000,1000]
[null,null,null,null,null,null,639,null,1000,1000]
[null,null,null,null,null,null,640,null,1000,1000]
[null,null,null,null,null,null,641,null,1000,1000]
[null,null,null,null,null,null,642,null,1000,1000]
[null,null,null,null,null,null,643,null,1000,1000]
[null,null,null,null,null,null,644,null,1000,1000]
[null,null,null,null,null,null,645,null,1000,1000]
[null,null,null,null,null,null,646,null,1000,1000]
[null,null,null,null,null,null,647,null,1000,1000]
[null,null,null,null,null,null,648,null,1000,1000]
[null,null,null,null,null,null,649,null,1000,1000]
[null,null,null,null,null,null,650,null,1000,1000]
[null,null,null,null,null,null,651,null,1000,1000]
[null,null,null,null,null,null,652,null,1000,1000]
[null,null,null,null,null,null,653,null,1000,1000]
[null,null,null,null,null,null,654,null,1000,1000]
[null,null,null,null,null,null,655,null,1000,1000]
[null,null,null,null,null,null,656,null,1000,1000]
[null,null,null,null,null,null,657,null,1000,1000]
[null,null,null,null,null,null,658,null,1000,1000]
[null,null,null,null,null,null,659,null,1000,1000]
[null,null,null,null,null,null,660,null,1000,1000]
[null,null,null,null,null,null,661,null,1000,1000]
[null,null,null,null,null,null,662,null,1000,1000]
[null,null,null,null,null,null,663,null,1000,1000]
[null,null,null,null,null,null,664,null,1000,1000]
[null,null,null,null,null,null,665,null,1000,1000]
[null,null,null,null,null,null,666,null,1000,1000]
[null,null,null,null,null,null,667,null,1000,1000]
[null,null,null,null,null,null,668,null,1000,1000]
[null,null,null,null,null,null,669,null,1000,1000]
[null,null,null,null,null,null,670,null,1000,1000]
[null,null,null,null,null,null,671,null,1000,1000]
[null,null,null,null,null,null,672,null,1000,1000]
[null,null,null,null,null,null,673,null,1000,1000]
[null,null,null,null,null,null,674,null,1000,1000]
[null,null,null,null,null,null,675,null,1000,1000]
[null,null,null,null,null,null,676,null,1000,1000]
[null,null,null,null,null,null,677,null,1000,1000]
[null,null,null,null,null,null,678,null,1000,1000]
[null,null,null,null,null,null,679,null,1000,1000]
[null,null,null,null,null,null,680,null,1000,1000]
[null,null,null,null,null,null,681,null,1000,1000]
[null,null,null,null,null,null,682,null,1000,1000]
[null,null,null,null,null,null,683,null,1000,1000]
[null,null,null,null,null,null,684,null,1000,1000]
[null,null,null,null,null,null,685,null,1000,1000]
[null,null,null,null,null,null,686,null,1000,1000]
[null,null,null,null,null,null,687,null,1000,1000]
[null,null,null,null,null,null,688,null,1000,1000]
[null,null,null,null,null,null,689,null,1000,1000]
[null,null,null,null,null,null,690,null,1000,1000]
[null,null,null,null,null,null,691,null,1000,1000]
[null,null,null,null,null,null,692,null,1000,1000]
[null,null,null,null,null,null,693,null,1000,1000]
[null,null,null,null,null,null,694,null,1000,1000]
[null,null,null,null,null,null,695,null,1000,1000]
[null,null,null,null,null,null,696,null,1000,1000]
[null,null,null,null,null,null,697,null,1000,1000]
[null,null,null,null,null,null,698,null,1000,1000]
[null,null,null,null,null,null,699,null,1000,1000]
[null,null,null,null,null,null,700,null,1000,1000]
[null,null,null,null,null,null,701,null,1000,1000]
[null,null,null,null,null,null,702,null,1000,1000]
[null,null,null,null,null,null,703,null,1000,1000]
[null,null,null,null,null,null,704,null,1000,1000]
[null,null,null,null,null,null,705,null,1000,1000]
[null,null,null,null,null,null,706,null,1000,1000]
[null,null,null,null,null,null,707,null,1000,1000]
[null,null,null,null,null,null,708,null,1000,1000]
[null,null,null,null,null,null,709,null,1000,1000]
[null,null,null,null,null,null,710,null,1000,1000]
[null,null,null,null,null,null,711,null,1000,1000]
[null,null,null,null,null,null,712,null,1000,1000]
[null,null,null,null,null,null,713,null,1000,1000]
[null,null,null,null,null,null,714,null,1000,1000]
[null,null,null,null,null,null,715,null,1000,1000]
[null,null,null,null,null,null,716,null,1000,1000]
[null,null,null,null,null,null,717,null,1000,1000]
[null,null,null,null,null,null,718,null,1000,1000]
[null,null,null,null,null,null,719,null,1000,1000]
[null,null,null,null,null,null,720,null,1000,1000]
[null,null,null,null,null,null,721,null,1000,1000]
[null,null,null,null,null,null,722,null,1000,1000]
[null,null,null,null,null,null,723,null,1000,1000]
[null,null,null,null,null,null,724,null,1000,1000]
[null,null,null,null,null,null,725,null,1000,1000]
[null,null,null,null,null,null,726,null,1000,1000]
[null,null,null,null,null,null,727,null,1000,1000]
[null,null,null,null,null,null,728,null,1000,1000]
[null,null,null,null,null,null,729,null,1000,1000]
[null,null,null,null,null,null,730,null,1000,1000]
[null,null,null,null,null,null,731,null,1000,1000]
[null,null,null,null,null,null,732,null,1000,1000]
[null,null,null,null,null,null,733,null,1000,1000]
[null,null,null,null,null,null,734,null,1000,1000]
[null,null,null,null,null,null,735,null,1000,1000]
[null,null,null,null,null,null,736,null,1000,1000]
[null,null,null,null,null,null,737,null,1000,1000]
[null,null,null,null,null,null,738,null,1000,1000]
[null,null,null,null,null,null,739,null,1000,1000]
[null,null,null,null,null,null,740,null,1000,1000]
[null,null,null,null,null,null,741,null,1000,1000]
[null,null,null,null,null,null,742,null,1000,1000]
[null,null,null,null,null,null,743,null,1000,1000]
[null,null,null,null,null,null,744,null,1000,1000]
[null,null,null,null,null,null,745,null,1000,1000]
[null,null,null,null,null,null,746,null,1000,1000]
[null,null,null,null,null,null,747,null,1000,1000]
[null,null,null,null,null,null,748,null,1000,1000]
[null,null,null,null,null,null,749,null,1000,1000]
[null,null,null,null,null,null,750,null,1000,1000]
[null,null,null,null,null,null,751,null,1000,1000]
[null,null,null,null,null,null,752,null,1000,1000]
[null,null,null,null,null,null,753,null,1000,1000]
[null,null,null,null,null,null,754,null,1000,1000]
[null,null,null,null,null,null,755,null,1000,1000]
[null,null,null,null,null,null,756,null,1000,1000]
[null,null,null,null,null,null,757,null,1000,1000]
[null,null,null,null,null,null,758,null,1000,1000]
[null,null,null,null,null,null,759,null,1000,1000]
[null,null,null,null,null,null,760,null,1000,1000]
[null,null,null,null,null,null,761,null,1000,1000]
[null,null,null,null,null,null,762,null,1000,1000]
[null,null,null,null,null,null,763,null,1000,1000]
[null,null,null,null,null,null,764,null,1000,1000]
[null,null,null,null,null,null,765,null,1000,1000]
[null,null,null,null,null,null,766,null,1000,1000]
[null,null,null,null,null,null,767,null,1000,1000]
[null,null,null,null,null,null,768,null,1000,1000]
[null,null,null,null,null,null,769,null,1000,1000]
[null,null,null,null,null,null,770,null,1000,1000]
[null,null,null,null,null,null,771,null,1000,1000]
[null,null,null,null,null,null,772,null,1000,1000]
[null,null,null,null,null,null,773,null,1000,1000]
[null,null,null,null,null,null,774,null,1000,1000]
[null,null,null,null,null,null,775,null,1000,1000]
[null,null,null,null,null,null,776,null,1000,1000]
[null,null,null,null,null,null,777,null,1000,1000]
[null,null,null,null,null,null,778,null,1000,1000]
[null,null,null,null,null,null,779,null,1000,1000]
[null,null,null,null,null,null,780,null,1000,1000]
[null,null,null,null,null,null,781,null,1000,1000]
[null,null,null,null,null,null,782,null,1000,1000]
[null,null,null,null,null,null,783,null,1000,1000]
[null,null,null,null,null,null,784,null,1000,1000]
[null,null,null,null,null,null,785,null,1000,1000]
[null,null,null,null,null,null,786,null,1000,1000]
[null,null,null,null,null,null,787,null,1000,1000]
[null,null,null,null,null,null,788,null,1000,1000]
[null,null,null,null,null,null,789,null,1000,1000]
[null,null,null,null,null,null,790,null,1000,1000]
[null,null,null,null,null,null,791,null,1000,1000]
[null,null,null,null,null,null,792,null,1000,1000]
[null,null,null,null,null,null,793,null,1000,1000]
[null,null,null,null,null,null,794,null,1000,1000]
[null,null,null,null,null,null,795,null,1000,1000]
[null,null,null,null,null,null,796,null,1000,1000]
[null,null,null,null,null,null,797,null,1000,1000]
[null,null,null,null,null,null,798,null,1000,1000]
[null,null,null,null,null,null,799,null,1000,1000]
[null,null,null,null,null,null,800,null,1000,1000]

{"sheet":"Cover","index":5,"n_rows":56,"n_cols":2,"rows_kept":56,"cut":false,"hidden":false,"merged":[[12,0,12,13],[54,0,54,13],[55,0,55,13],[19,1,28,11]]}
[]
[]
[]
[]
[]
[]
[]
[]
[]
[]
[]
[]
[{"$f":"+'Cov '!B9","v":"Organizational Capacity Assessment"}]
[]
[]
[]
[]
[]
[]
[null,{"$f":"DE_Capacity!C3","v":0}]
[]
[]
[]
[]
[]
[]
[]
[]
[]
[]
[]
[]
[]
[]
[]
[]
[]
[]
[]
[]
[]
[]
[]
[]
[]
[]
[]
[]
[]
[]
[]
[]
[]
[]
[{"$f":"+DE_Capacity!AF3","v":0}]
[{"$f":"DE_Capacity!W5","v":0}]

{"sheet":"General","index":6,"n_rows":37,"n_cols":84,"rows_kept":37,"cut":false,"hidden":false,"merged":[[1,1,1,11],[3,2,3,3],[3,10,3,11],[5,10,5,11],[23,1,23,11],[22,1,22,2],[20,1,20,11],[19,1,19,2],[17,1,17,11],[16,1,16,2],[14,1,14,11],[13,1,13,2],[11,1,11,11],[10,1,10,2]]}
[]
[null,{"$f":"+'Cov '!B9","v":"Organizational Capacity Assessment"}]
[]
[null,{"$f":"+DE_Capacity!B3","v":"Organization's Name"},{"$f":"DE_Capacity!C3","v":0},null,null,null,{"$f":"+DE_Capacity!B5","v":"Assessment Date"},null,null,null,{"$f":"DE_Capacity!C5","v":0}]
[]
[null,{"$f":"+DE_Capacity!Q3","v":"Number of Participants "},{"$f":"DE_Capacity!AA3","v":0},null,null,null,{"$f":"+DE_Capacity!Q5","v":"Results Debriefing Date"},null,null,null,{"$f":"DE_Capacity!W5","v":0},null,null,null,null,null,null,null,null,null,null,null,null,null,null,null,null,null,null,null,null,null,null,null,null,null,null,null,null,null,null,null,null,null,null,null,null,null,null,null,null,null,null,null,null,null,null,null,null,null,null,null,null,null,null,null,null,null,null,null,null,null,null,null,null,null,null,{"$f":"+DE_Capacity!AJJ501","v":"CapacidadGnral"},{"$f":"+DE_Capacity!AJK501","v":"ConsensoGnral"},null,null,null,"CapacidadGnral","ConsensoGnral"]
[null,null,null,null,null,null,null,null,null,null,null,null,null,null,null,null,null,null,null,null,null,null,null,null,null,null,null,null,null,null,null,null,null,null,null,null,null,null,null,null,null,null,null,null,null,null,null,null,null,null,null,null,null,null,null,null,null,null,null,null,null,null,null,null,null,null,null,null,null,null,null,null,null,null,null,null,{"$f":"+DE_Capacity!AJI502","v":" "},{"$f":"IF(ISERR(DE_Capacity!AJJ502),\"0\",IF(DE_Capacity!AJJ502=\" \",\"0\",DE_Capacity!AJJ502))","v":"0"},{"$f":"IF(ISERR(DE_Capacity!AJK502),\"0\",IF(DE_Capacity!AJK502=\" \",\"0\",DE_Capacity!AJK502))","v":"0"},null,null," "]
[null,null,null,null,null,null,null,null,null,null,null,null,null,null,null,null,null,null,null,null,null,null,null,null,null,null,null,null,null,null,null,null,null,null,null,null,null,null,null,null,null,null,null,null,null,null,null,null,null,null,null,null,null,null,null,null,null,null,null,null,null,null,null,null,null,null,null,null,null,null,null,null,null,null,null,null,{"$f":"+DE_Capacity!AJI503","v":" "},{"$f":"IF(ISERR(DE_Capacity!AJJ503),\"0\",IF(DE_Capacity!AJJ503=\" \",\"0\",DE_Capacity!AJJ503))","v":"0"},{"$f":"IF(ISERR(DE_Capacity!AJK503),\"0\",IF(DE_Capacity!AJK503=\" \",\"0\",DE_Capacity!AJK503))","v":"0"},null,null," "]
[null,"Results",null,null,null,null,null,null,null,null,null,null,null,null,null,null,null,null,null,null,null,null,null,null,null,null,null,null,null,null,null,null,null,null,null,null,null,null,null,null,null,null,null,null,null,null,null,null,null,null,null,null,null,null,null,null,null,null,null,null,null,null,null,null,null,null,null,null,null,null,null,null,null,null,null,null,{"$f":"+DE_Capacity!AJI504","v":" "},{"$f":"IF(ISERR(DE_Capacity!AJJ504),\"0\",IF(DE_Capacity!AJJ504=\" \",\"0\",DE_Capacity!AJJ504))","v":"0"},{"$f":"IF(ISERR(DE_Capacity!AJK504),\"0\",IF(DE_Capacity!AJK504=\" \",\"0\",DE_Capacity!AJK504))","v":"0"},null,null," "]
[null,null,null,null,null,null,null,null,null,null,null,null,null,null,null,null,null,null,null,null,null,null,null,null,null,null,null,null,null,null,null,null,null,null,null,null,null,null,null,null,null,null,null,null,null,null,null,null,null,null,null,null,null,null,null,null,null,null,null,null,null,null,null,null,null,null,null,null,null,null,null,null,null,null,null,null,{"$f":"+DE_Capacity!AJI505","v":" "},{"$f":"IF(ISERR(DE_Capacity!AJJ505),\"0\",IF(DE_Capacity!AJJ505=\" \",\"0\",DE_Capacity!AJJ505))","v":"0"},{"$f":"IF(ISERR(DE_Capacity!AJK505),\"0\",IF(DE_Capacity!AJK505=\" \",\"0\",DE_Capacity!AJK505))","v":"0"},null,null," "]
[null,null,null,null,null,null,null,null,null,null,null,null,null,null,null,null,null,null,null,null,null,null,null,null,null,null,null,null,null,null,null,null,null,null,null,null,null,null,null,null,null,null,null,null,null,null,null,null,null,null,null,null,null,null,null,null,null,null,null,null,null,null,null,null,null,null,null,null,null,null,null,null,null,null,null,null,{"$f":"+DE_Capacity!AJI506","v":" "},{"$f":"IF(ISERR(DE_Capacity!AJJ506),\"0\",IF(DE_Capacity!AJJ506=\" \",\"0\",DE_Capacity!AJJ506))","v":"0"},{"$f":"IF(ISERR(DE_Capacity!AJK506),\"0\",IF(DE_Capacity!AJK506=\" \",\"0\",DE_Capacity!AJK506))","v":"0"},null,null," "]
[null,null,null,null,null,null,null,null,null,null,null,null,null,null,null,null,null,null,null,null,null,null,null,null,null,null,null,null,null,null,null,null,null,null,null,null,null,null,null,null,null,null,null,null,null,null,null,null,null,null,null,null,null,null,null,null,null,null,null,null,null,null,null,null,null,null,null,null,null,null,null,null,null,null,null,null,{"$f":"+DE_Capacity!AJI507","v":" "},{"$f":"IF(ISERR(DE_Capacity!AJJ507),\"0\",IF(DE_Capacity!AJJ507=\" \",\"0\",DE_Capacity!AJJ507))","v":"0"},{"$f":"IF(ISERR(DE_Capacity!AJK507),\"0\",IF(DE_Capacity!AJK507=\" \",\"0\",DE_Capacity!AJK507))","v":"0"},null,null," "]
[null,null,null,null,null,null,null,null,null,null,null,null,null,null,null,null,null,null,null,null,null,null,null,null,null,null,null,null,null,null,null,null,null,null,null,null,null,null,null,null,null,null,null,null,null,null,null,null,null,null,null,null,null,null,null,null,null,null,null,null,null,null,null,null,null,null,null,null,null,null,null,null,null,null,null,null,{"$f":"+DE_Capacity!AJI508","v":" "},{"$f":"IF(ISERR(DE_Capacity!AJJ508),\"0\",IF(DE_Capacity!AJJ508=\" \",\"0\",DE_Capacity!AJJ508))","v":"0"},{"$f":"IF(ISERR(DE_Capacity!AJK508),\"0\",IF(DE_Capacity!AJK508=\" \",\"0\",DE_Capacity!AJK508))","v":"0"},null,null," "]
[null,null,null,null,null,null,null,null,null,null,null,null,null,null,null,null,null,null,null,null,null,null,null,null,null,null,null,null,null,null,null,null,null,null,null,null,null,null,null,null,null,null,null,null,null,null,null,null,null,null,null,null,null,null,null,null,null,null,null,null,null,null,null,null,null,null,null,null,null,null,null,null,null,null,null,null,{"$f":"+DE_Capacity!AJI509","v":" "},{"$f":"IF(ISERR(DE_Capacity!AJJ509),\"0\",IF(DE_Capacity!AJJ509=\" \",\"0\",DE_Capacity!AJJ509))","v":"0"},{"$f":"IF(ISERR(DE_Capacity!AJK509),\"0\",IF(DE_Capacity!AJK509=\" \",\"0\",DE_Capacity!AJK509))","v":"0"},null,null," "]
[null,null,null,null,null,null,null,null,null,null,null,null,null,null,null,null,null,null,null,null,null,null,null,null,null,null,null,null,null,null,null,null,null,null,null,null,null,null,null,null,null,null,null,null,null,null,null,null,null,null,null,null,null,null,null,null,null,null,null,null,null,null,null,null,null,null,null,null,null,null,null,null,null,null,null,null,{"$f":"+DE_Capacity!AJI510","v":" "},{"$f":"IF(ISERR(DE_Capacity!AJJ510),\"0\",IF(DE_Capacity!AJJ510=\" \",\"0\",DE_Capacity!AJJ510))","v":"0"},{"$f":"IF(ISERR(DE_Capacity!AJK510),\"0\",IF(DE_Capacity!AJK510=\" \",\"0\",DE_Capacity!AJK510))","v":"0"},null,null," "]
[null,null,null,null,null,null,null,null,null,null,null,null,null,null,null,null,null,null,null,null,null,null,null,null,null,null,null,null,null,null,null,null,null,null,null,null,null,null,null,null,null,null,null,null,null,null,null,null,null,null,null,null,null,null,null,null,null,null,null,null,null,null,null,null,null,null,null,null,null,null,null,null,null,null,null,null,{"$f":"+DE_Capacity!AJI511","v":" "},{"$f":"IF(ISERR(DE_Capacity!AJJ511),\"0\",IF(DE_Capacity!AJJ511=\" \",\"0\",DE_Capacity!AJJ511))","v":"0"},{"$f":"IF(ISERR(DE_Capacity!AJK511),\"0\",IF(DE_Capacity!AJK511=\" \",\"0\",DE_Capacity!AJK511))","v":"0"},null,null," "]
[]
[]
[]
[]
[]
[]
[]
[]
[]
[]
[]
[]
[null,null,null,null,null,null,null,null,null,null,null,null,null,null,null,null,null,null,null,null,null,null,null,null,null,null,null,null,null,null,null,null,null,null,null,null,null,null,null,null,null,null,null,null,null,null,null,null,null,null,null,null,null,null,null,null,null,null,null,null,null,null,null,null,null,null,null,null,null,null,null,null,null,null,null,null,null,{"$f":"+ISERR(DE_Capacity!AJJ502)","v":false},{"$f":"+ISERR(DE_Capacity!AJK502)","v":true}]
[null,null,null,null,null,null,null,null,null,null,null,null,null,null,null,null,null,null,null,null,null,null,null,null,null,null,null,null,null,null,null,null,null,null,null,null,null,null,null,null,null,null,null,null,null,null,null,null,null,null,null,null,null,null,null,null,null,null,null,null,null,null,null,null,null,null,null,null,null,null,null,null,null,null,null,null,null,{"$f":"+ISERR(DE_Capacity!AJJ503)","v":false},{"$f":"+ISERR(DE_Capacity!AJK503)","v":true}]
[null,null,null,null,null,null,null,null,null,null,null,null,null,null,null,null,null,null,null,null,null,null,null,null,null,null,null,null,null,null,null,null,null,null,null,null,null,null,null,null,null,null,null,null,null,null,null,null,null,null,null,null,null,null,null,null,null,null,null,null,null,null,null,null,null,null,null,null,null,null,null,null,null,null,null,null,null,{"$f":"+ISERR(DE_Capacity!AJJ504)","v":false},{"$f":"+ISERR(DE_Capacity!AJK504)","v":true}]
[null,null,null,null,null,null,null,null,null,null,null,null,null,null,null,null,null,null,null,null,null,null,null,null,null,null,null,null,null,null,null,null,null,null,null,null,null,null,null,null,null,null,null,null,null,null,null,null,null,null,null,null,null,null,null,null,null,null,null,null,null,null,null,null,null,null,null,null,null,null,null,null,null,null,null,null,null,{"$f":"+ISERR(DE_Capacity!AJJ505)","v":false},{"$f":"+ISERR(DE_Capacity!AJK505)","v":true}]
[null,null,null,null,null,null,null,null,null,null,null,null,null,null,null,null,null,null,null,null,null,null,null,null,null,null,null,null,null,null,null,null,null,null,null,null,null,null,null,null,null,null,null,null,null,null,null,null,null,null,null,null,null,null,null,null,null,null,null,null,null,null,null,null,null,null,null,null,null,null,null,null,null,null,null,null,null,{"$f":"+ISERR(DE_Capacity!AJJ506)","v":false},{"$f":"+ISERR(DE_Capacity!AJK506)","v":true}]
[null,null,null,null,null,null,null,null,null,null,null,null,null,null,null,null,null,null,null,null,null,null,null,null,null,null,null,null,null,null,null,null,null,null,null,null,null,null,null,null,null,null,null,null,null,null,null,null,null,null,null,null,null,null,null,null,null,null,null,null,null,null,null,null,null,null,null,null,null,null,null,null,null,null,null,null,null,{"$f":"+ISERR(DE_Capacity!AJJ507)","v":false},{"$f":"+ISERR(DE_Capacity!AJK507)","v":true}]
[null,null,null,null,null,null,null,null,null,null,null,null,null,null,null,null,null,null,null,null,null,null,null,null,null,null,null,null,null,null,null,null,null,null,null,null,null,null,null,null,null,null,null,null,null,null,null,null,null,null,null,null,null,null,null,null,null,null,null,null,null,null,null,null,null,null,null,null,null,null,null,null,null,null,null,null,null,{"$f":"+ISERR(DE_Capacity!AJJ508)","v":false},{"$f":"+ISERR(DE_Capacity!AJK508)","v":true}]
[null,null,null,null,null,null,null,null,null,null,null,null,null,null,null,null,null,null,null,null,null,null,null,null,null,null,null,null,null,null,null,null,null,null,null,null,null,null,null,null,null,null,null,null,null,null,null,null,null,null,null,null,null,null,null,null,null,null,null,null,null,null,null,null,null,null,null,null,null,null,null,null,null,null,null,null,null,{"$f":"+ISERR(DE_Capacity!AJJ509)","v":false},{"$f":"+ISERR(DE_Capacity!AJK509)","v":true}]
[null,null,null,null,null,null,null,null,null,null,null,null,null,null,null,null,null,null,null,null,null,null,null,null,null,null,null,null,null,null,null,null,null,null,null,null,null,null,null,null,null,null,null,null,null,null,null,null,null,null,null,null,null,null,null,null,null,null,null,null,null,null,null,null,null,null,null,null,null,null,null,null,null,null,null,null,null,{"$f":"+ISERR(DE_Capacity!AJJ510)","v":false},{"$f":"+ISERR(DE_Capacity!AJK510)","v":true}]

{"sheet":"I","index":7,"n_rows":43,"n_cols":104,"rows_kept":43,"cut":false,"hidden":false,"merged":[[36,3,36,7],[26,3,26,7],[37,3,37,7],[38,3,38,7],[31,3,31,7],[32,3,32,7],[33,3,33,7],[34,3,34,7],[35,3,35,7],[1,1,1,9],[24,3,24,7],[28,3,28,7],[29,3,29,7],[30,3,30,7],[39,3,39,7],[40,3,40,7],[41,3,41,7],[42,3,42,7],[45,1,50,9]]}
[]
[null,{"$f":"+'DE_Areas & Ind'!C6","v":0}]
[]
[null," Ranking Capacity",null,null,{"$f":"IF(DE_Capacity!AII507='DE_Areas & Ind'!$C$7,DE_Capacity!AII510,(IF(DE_Capacity!AIJ507='DE_Areas & Ind'!$C$7,DE_Capacity!AIJ510,(IF(DE_Capacity!AIK507='DE_Areas & Ind'!$C$7,DE_Capacity!AIK510,(IF(DE_Capacity!AIL507='DE_Areas & Ind'!$C$7,DE_Capacity!AIL510,(IF(DE_Capacity!AIM507='DE_Areas & Ind'!$C$7,DE_Capacity!AIM510,(IF(DE_Capacity!AIN507='DE_Areas & Ind'!$C$7,DE_Capacity!AIN510,(IF(DE_Capacity!AIO507='DE_Areas & Ind'!$C$7,DE_Capacity!AIO510,(IF(DE_Capacity!AIP507='DE_Areas & Ind'!$C$7,DE_Capacity!AIP510,(IF(DE_Capacity!AIQ507='DE_Areas & Ind'!$C$7,DE_Capacity!AIQ510,(IF(DE_Capacity!AIR507='DE_Areas & Ind'!$C$7,DE_Capacity!AIR510,\" \")))))))))))))))))))","v":{"$error":"#VALUE!"}}]
[]
[null,null,null,null,null,null,null,null,null,null,null,null,null,null,null,null,null,null,null,null,null,null,null,null,null,null,null,null,null,null,null,null,null,null,null,null,null,null,null,null,null,null,null,null,null,null,null,null,null,null,null,null,null,null,null,null,null,null,null,null,null,null,null,null,null,null,null,null,null,null,null,null,null,null,null,null,null,null,null,null,null,null,null,null,null,null,null,null,null,null,null,null,null,null,null,null,null,null,"Mediana","Mínimo","Máximo",null,"Min_Adj","Max_Adj"]
[null,null,null,null,null,null,null,null,null,null,null,null,null,null,null,null,null,null,null,null,null,null,null,null,null,null,null,null,null,null,null,null,null,null,null,null,null,null,null,null,null,null,null,null,null,null,null,null,null,null,null,null,null,null,null,null,null,null,null,null,null,null,null,null,null,null,null,null,null,null,null,null,null,null,null,null,null,null,null,null,null,null,null,null,null,null,null,null,null,null,null,null,null,null,null,null,null,null,{"$f":"MEDIAN(CE10:CE24)","v":{"$error":"#NUM!"}},{"$f":"MIN(CE10:CE24)","v":0},{"$f":"MAX(CE10:CE24)","v":0}]
[null,null,null,null,null,null,null,null,null,null,null,null,null,null,null,null,null,null,null,null,null,null,null,null,null,null,null,null,null,null,null,null,null,null,null,null,null,null,null,null,null,null,null,null,null,null,null,null,null,null,null,null,null,null,null,null,null,null,null,null,null,null,null,null,null,null,null,null,null,null,null,null,null,null,null,null,null,null,null,null,null,null,null,null,null,null,null,null,null,null,null,null,null,null,null,null,null,null,{"$f":"MEDIAN(CF10:CF24)","v":{"$error":"#NUM!"}},{"$f":"MIN(CF10:CF24)","v":0},{"$f":"MAX(CF10:CF24)","v":0}]
[null,null,null,null,null,null,null,null,null,null,null,null,null,null,null,null,null,null,null,null,null,null,null,null,null,null,null,null,null,null,null,null,null,null,null,null,null,null,null,null,null,null,null,null,null,null,null,null,null,null,null,null,null,null,null,null,null,null,null,null,null,null,null,null,null,null,null,null,null,null,null,null,null,null,null,null,null,null,"Capacidad","Consenso",null,null,"Capacidad","Consenso"]
[null,null,null,null,null,null,null,null,null,null,null,null,null,null,null,null,null,null,null,null,null,null,null,null,null,null,null,null,null,null,null,null,null,null,null,null,null,null,null,null,null,null,null,null,null,null,null,null,null,null,null,null,null,null,null,null,null,null,null,null,null,null,null,null,null,null,null,null,null,null,null,null,null,null,null,null,null,{"$f":"IF(DE_Capacity!C623=\" \",\" \",DE_Capacity!C623)","v":0},{"$f":"+IF(ISERR(DE_Capacity!E623),\"0\",IF(DE_Capacity!E623=\" \",\"0\",DE_Capacity!E623))","v":"0"},{"$f":"IF(ISERR(DE_Capacity!G623),\"0\",IF(DE_Capacity!G623=\" \",\"0\",DE_Capacity!G623))","v":"0"}]
[null,null,null,null,null,null,null,null,null,null,null,null,null,null,null,null,null,null,null,null,null,null,null,null,null,null,null,null,null,null,null,null,null,null,null,null,null,null,null,null,null,null,null,null,null,null,null,null,null,null,null,null,null,null,null,null,null,null,null,null,null,null,null,null,null,null,null,null,null,null,null,null,null,null,null,null,null,{"$f":"IF(DE_Capacity!C624=\" \",\" \",DE_Capacity!C624)","v":0},{"$f":"+IF(ISERR(DE_Capacity!E624),\"0\",IF(DE_Capacity!E624=\" \",\"0\",DE_Capacity!E624))","v":"0"},{"$f":"IF(ISERR(DE_Capacity!G624),\"0\",IF(DE_Capacity!G624=\" \",\"0\",DE_Capacity!G624))","v":"0"}]
[null,null,null,null,null,null,null,null,null,null,null,null,null,null,null,null,null,null,null,null,null,null,null,null,null,null,null,null,null,null,null,null,null,null,null,null,null,null,null,null,null,null,null,null,null,null,null,null,null,null,null,null,null,null,null,null,null,null,null,null,null,null,null,null,null,null,null,null,null,null,null,null,null,null,null,null,null,{"$f":"IF(DE_Capacity!C625=\" \",\" \",DE_Capacity!C625)","v":0},{"$f":"+IF(ISERR(DE_Capacity!E625),\"0\",IF(DE_Capacity!E625=\" \",\"0\",DE_Capacity!E625))","v":"0"},{"$f":"IF(ISERR(DE_Capacity!G625),\"0\",IF(DE_Capacity!G625=\" \",\"0\",DE_Capacity!G625))","v":"0"}]
[null,null,null,null,null,null,null,null,null,null,null,null,null,null,null,null,null,null,null,null,null,null,null,null,null,null,null,null,null,null,null,null,null,null,null,null,null,null,null,null,null,null,null,null,null,null,null,null,null,null,null,null,null,null,null,null,null,null,null,null,null,null,null,null,null,null,null,null,null,null,null,null,null,null,null,null,null,{"$f":"IF(DE_Capacity!C626=\" \",\" \",DE_Capacity!C626)","v":0},{"$f":"+IF(ISERR(DE_Capacity!E626),\"0\",IF(DE_Capacity!E626=\" \",\"0\",DE_Capacity!E626))","v":"0"},{"$f":"IF(ISERR(DE_Capacity!G626),\"0\",IF(DE_Capacity!G626=\" \",\"0\",DE_Capacity!G626))","v":"0"}]
[null,null,null,null,null,null,null,null,null,null,null,null,null,null,null,null,null,null,null,null,null,null,null,null,null,null,null,null,null,null,null,null,null,null,null,null,null,null,null,null,null,null,null,null,null,null,null,null,null,null,null,null,null,null,null,null,null,null,null,null,null,null,null,null,null,null,null,null,null,null,null,null,null,null,null,null,null,{"$f":"IF(DE_Capacity!C627=\" \",\" \",DE_Capacity!C627)","v":0},{"$f":"+IF(ISERR(DE_Capacity!E627),\"0\",IF(DE_Capacity!E627=\" \",\"0\",DE_Capacity!E627))","v":"0"},{"$f":"IF(ISERR(DE_Capacity!G627),\"0\",IF(DE_Capacity!G627=\" \",\"0\",DE_Capacity!G627))","v":"0"}]
[null,null,null,null,null,null,null,null,null,null,null,null,null,null,null,null,null,null,null,null,null,null,null,null,null,null,null,null,null,null,null,null,null,null,null,null,null,null,null,null,null,null,null,null,null,null,null,null,null,null,null,null,null,null,null,null,null,null,null,null,null,null,null,null,null,null,null,null,null,null,null,null,null,null,null,null,null,{"$f":"IF(DE_Capacity!C628=\" \",\" \",DE_Capacity!C628)","v":0},{"$f":"+IF(ISERR(DE_Capacity!E628),\"0\",IF(DE_Capacity!E628=\" \",\"0\",DE_Capacity!E628))","v":"0"},{"$f":"IF(ISERR(DE_Capacity!G628),\"0\",IF(DE_Capacity!G628=\" \",\"0\",DE_Capacity!G628))","v":"0"}]
[null,null,null,null,null,null,null,null,null,null,null,null,null,null,null,null,null,null,null,null,null,null,null,null,null,null,null,null,null,null,null,null,null,null,null,null,null,null,null,null,null,null,null,null,null,null,null,null,null,null,null,null,null,null,null,null,null,null,null,null,null,null,null,null,null,null,null,null,null,null,null,null,null,null,null,null,null,{"$f":"IF(DE_Capacity!C629=\" \",\" \",DE_Capacity!C629)","v":0},{"$f":"+IF(ISERR(DE_Capacity!E629),\"0\",IF(DE_Capacity!E629=\" \",\"0\",DE_Capacity!E629))","v":"0"},{"$f":"IF(ISERR(DE_Capacity!G629),\"0\",IF(DE_Capacity!G629=\" \",\"0\",DE_Capacity!G629))","v":"0"}]
[null,null,null,null,null,null,null,null,null,null,null,null,null,null,null,null,null,null,null,null,null,null,null,null,null,null,null,null,null,null,null,null,null,null,null,null,null,null,null,null,null,null,null,null,null,null,null,null,null,null,null,null,null,null,null,null,null,null,null,null,null,null,null,null,null,null,null,null,null,null,null,null,null,null,null,null,null,{"$f":"IF(DE_Capacity!C630=\" \",\" \",DE_Capacity!C630)","v":0},{"$f":"+IF(ISERR(DE_Capacity!E630),\"0\",IF(DE_Capacity!E630=\" \",\"0\",DE_Capacity!E630))","v":"0"},{"$f":"IF(ISERR(DE_Capacity!G630),\"0\",IF(DE_Capacity!G630=\" \",\"0\",DE_Capacity!G630))","v":"0"}]
[null,null,null,null,null,null,null,null,null,null,null,null,null,null,null,null,null,null,null,null,null,null,null,null,null,null,null,null,null,null,null,null,null,null,null,null,null,null,null,null,null,null,null,null,null,null,null,null,null,null,null,null,null,null,null,null,null,null,null,null,null,null,null,null,null,null,null,null,null,null,null,null,null,null,null,null,null,{"$f":"IF(DE_Capacity!C631=\" \",\" \",DE_Capacity!C631)","v":0},{"$f":"+IF(ISERR(DE_Capacity!E631),\"0\",IF(DE_Capacity!E631=\" \",\"0\",DE_Capacity!E631))","v":"0"},{"$f":"IF(ISERR(DE_Capacity!G631),\"0\",IF(DE_Capacity!G631=\" \",\"0\",DE_Capacity!G631))","v":"0"}]
[null,null,null,null,null,null,null,null,null,null,null,null,null,null,null,null,null,null,null,null,null,null,null,null,null,null,null,null,null,null,null,null,null,null,null,null,null,null,null,null,null,null,null,null,null,null,null,null,null,null,null,null,null,null,null,null,null,null,null,null,null,null,null,null,null,null,null,null,null,null,null,null,null,null,null,null,null,{"$f":"IF(DE_Capacity!C632=\" \",\" \",DE_Capacity!C632)","v":0},{"$f":"+IF(ISERR(DE_Capacity!E632),\"0\",IF(DE_Capacity!E632=\" \",\"0\",DE_Capacity!E632))","v":"0"},{"$f":"IF(ISERR(DE_Capacity!G632),\"0\",IF(DE_Capacity!G632=\" \",\"0\",DE_Capacity!G632))","v":"0"}]
[null,null,null,null,null,null,null,null,null,null,null,null,null,null,null,null,null,null,null,null,null,null,null,null,null,null,null,null,null,null,null,null,null,null,null,null,null,null,null,null,null,null,null,null,null,null,null,null,null,null,null,null,null,null,null,null,null,null,null,null,null,null,null,null,null,null,null,null,null,null,null,null,null,null,null,null,null,{"$f":"IF(DE_Capacity!C633=\" \",\" \",DE_Capacity!C633)","v":0},{"$f":"+IF(ISERR(DE_Capacity!E633),\"0\",IF(DE_Capacity!E633=\" \",\"0\",DE_Capacity!E633))","v":"0"},{"$f":"IF(ISERR(DE_Capacity!G633),\"0\",IF(DE_Capacity!G633=\" \",\"0\",DE_Capacity!G633))","v":"0"}]
[null,null,null,null,null,null,null,null,null,null,null,null,null,null,null,null,null,null,null,null,null,null,null,null,null,null,null,null,null,null,null,null,null,null,null,null,null,null,null,null,null,null,null,null,null,null,null,null,null,null,null,null,null,null,null,null,null,null,null,null,null,null,null,null,null,null,null,null,null,null,null,null,null,null,null,null,null,{"$f":"IF(DE_Capacity!C634=\" \",\" \",DE_Capacity!C634)","v":0},{"$f":"+IF(ISERR(DE_Capacity!E634),\"0\",IF(DE_Capacity!E634=\" \",\"0\",DE_Capacity!E634))","v":"0"},{"$f":"IF(ISERR(DE_Capacity!G634),\"0\",IF(DE_Capacity!G634=\" \",\"0\",DE_Capacity!G634))","v":"0"}]
[null,null,null,null,null,null,null,null,null,null,null,null,null,null,null,null,null,null,null,null,null,null,null,null,null,null,null,null,null,null,null,null,null,null,null,null,null,null,null,null,null,null,null,null,null,null,null,null,null,null,null,null,null,null,null,null,null,null,null,null,null,null,null,null,null,null,null,null,null,null,null,null,null,null,null,null,null,{"$f":"IF(DE_Capacity!C635=\" \",\" \",DE_Capacity!C635)","v":0},{"$f":"+IF(ISERR(DE_Capacity!E635),\"0\",IF(DE_Capacity!E635=\" \",\"0\",DE_Capacity!E635))","v":"0"},{"$f":"IF(ISERR(DE_Capacity!G635),\"0\",IF(DE_Capacity!G635=\" \",\"0\",DE_Capacity!G635))","v":"0"}]
[null,"Detail",null,null,null,null,null,null,null,null,null,null,null,null,null,null,null,null,null,null,null,null,null,null,null,null,null,null,null,null,null,null,null,null,null,null,null,null,null,null,null,null,null,null,null,null,null,null,null,null,null,null,null,null,null,null,null,null,null,null,null,null,null,null,null,null,null,null,null,null,null,null,null,null,null,null,null,{"$f":"IF(DE_Capacity!C636=\" \",\" \",DE_Capacity!C636)","v":0},{"$f":"+IF(ISERR(DE_Capacity!E636),\"0\",IF(DE_Capacity!E636=\" \",\"0\",DE_Capacity!E636))","v":"0"},{"$f":"IF(ISERR(DE_Capacity!G636),\"0\",IF(DE_Capacity!G636=\" \",\"0\",DE_Capacity!G636))","v":"0"}]
[null,null,null,null,null,null,null,null,null,null,null,null,null,null,null,null,null,null,null,null,null,null,null,null,null,null,null,null,null,null,null,null,null,null,null,null,null,null,null,null,null,null,null,null,null,null,null,null,null,null,null,null,null,null,null,null,null,null,null,null,null,null,null,null,null,null,null,null,null,null,null,null,null,null,null,null,null,{"$f":"IF(DE_Capacity!C637=\" \",\" \",DE_Capacity!C637)","v":0},{"$f":"+IF(ISERR(DE_Capacity!E637),\"0\",IF(DE_Capacity!E637=\" \",\"0\",DE_Capacity!E637))","v":"0"},{"$f":"IF(ISERR(DE_Capacity!G637),\"0\",IF(DE_Capacity!G637=\" \",\"0\",DE_Capacity!G637))","v":"0"}]
[null,"Indicator",null,"Description",null,null,null,null,null,"Average"]
[]
[null,null,null,"Maximum Value ==>",null,null,null,null,null,{"$f":"+DE_Capacity!$C$523","v":4}]
[]
[null,{"$f":"IF(Calculations!B11=0,\" \",Calculations!B11)","v":" "},null,{"$f":"IF(Calculations!C11=0,\" \",Calculations!C11)","v":" "},null,null,null,null,null,{"$f":"IF(ISERR(Calculations!F11),\" \",Calculations!F11)","v":" "}]
[null,{"$f":"IF(Calculations!B12=0,\" \",Calculations!B12)","v":" "},null,{"$f":"IF(Calculations!C12=0,\" \",Calculations!C12)","v":" "},null,null,null,null,null,{"$f":"IF(ISERR(Calculations!F12),\" \",Calculations!F12)","v":" "}]
[null,{"$f":"IF(Calculations!B13=0,\" \",Calculations!B13)","v":" "},null,{"$f":"IF(Calculations!C13=0,\" \",Calculations!C13)","v":" "},null,null,null,null,null,{"$f":"IF(ISERR(Calculations!F13),\" \",Calculations!F13)","v":" "}]
[null,{"$f":"IF(Calculations!B14=0,\" \",Calculations!B14)","v":" "},null,{"$f":"IF(Calculations!C14=0,\" \",Calculations!C14)","v":" "},null,null,null,null,null,{"$f":"IF(ISERR(Calculations!F14),\" \",Calculations!F14)","v":" "}]
[null,{"$f":"IF(Calculations!B15=0,\" \",Calculations!B15)","v":" "},null,{"$f":"IF(Calculations!C15=0,\" \",Calculations!C15)","v":" "},null,null,null,null,null,{"$f":"IF(ISERR(Calculations!F15),\" \",Calculations!F15)","v":" "}]
[null,{"$f":"IF(Calculations!B16=0,\" \",Calculations!B16)","v":" "},null,{"$f":"IF(Calculations!C16=0,\" \",Calculations!C16)","v":" "},null,null,null,null,null,{"$f":"IF(ISERR(Calculations!F16),\" \",Calculations!F16)","v":" "}]
[null,{"$f":"IF(Calculations!B17=0,\" \",Calculations!B17)","v":" "},null,{"$f":"IF(Calculations!C17=0,\" \",Calculations!C17)","v":" "},null,null,null,null,null,{"$f":"IF(ISERR(Calculations!F17),\" \",Calculations!F17)","v":" "}]
[null,{"$f":"IF(Calculations!B18=0,\" \",Calculations!B18)","v":" "},null,{"$f":"IF(Calculations!C18=0,\" \",Calculations!C18)","v":" "},null,null,null,null,null,{"$f":"IF(ISERR(Calculations!F18),\" \",Calculations!F18)","v":" "}]
[null,{"$f":"IF(Calculations!B19=0,\" \",Calculations!B19)","v":" "},null,{"$f":"IF(Calculations!C19=0,\" \",Calculations!C19)","v":" "},null,null,null,null,null,{"$f":"IF(ISERR(Calculations!F19),\" \",Calculations!F19)","v":" "}]
[null,{"$f":"IF(Calculations!B20=0,\" \",Calculations!B20)","v":" "},null,{"$f":"IF(Calculations!C20=0,\" \",Calculations!C20)","v":" "},null,null,null,null,null,{"$f":"IF(ISERR(Calculations!F20),\" \",Calculations!F20)","v":" "}]
[null,{"$f":"IF(Calculations!B21=0,\" \",Calculations!B21)","v":" "},null,{"$f":"IF(Calculations!C21=0,\" \",Calculations!C21)","v":" "},null,null,null,null,null,{"$f":"IF(ISERR(Calculations!F21),\" \",Calculations!F21)","v":" "}]
[null,{"$f":"IF(Calculations!B22=0,\" \",Calculations!B22)","v":" "},null,{"$f":"IF(Calculations!C22=0,\" \",Calculations!C22)","v":" "},null,null,null,null,null,{"$f":"IF(ISERR(Calculations!F22),\" \",Calculations!F22)","v":" "}]
[null,{"$f":"IF(Calculations!B23=0,\" \",Calculations!B23)","v":" "},null,{"$f":"IF(Calculations!C23=0,\" \",Calculations!C23)","v":" "},null,null,null,null,null,{"$f":"IF(ISERR(Calculations!F23),\" \",Calculations!F23)","v":" "}]
[null,{"$f":"IF(Calculations!B24=0,\" \",Calculations!B24)","v":" "},null,{"$f":"IF(Calculations!C24=0,\" \",Calculations!C24)","v":" "},null,null,null,null,null,{"$f":"IF(ISERR(Calculations!F24),\" \",Calculations!F24)","v":" "}]
[null,{"$f":"IF(Calculations!B25=0,\" \",Calculations!B25)","v":" "},null,{"$f":"IF(Calculations!C25=0,\" \",Calculations!C25)","v":" "},null,null,null,null,null,{"$f":"IF(ISERR(Calculations!F25),\" \",Calculations!F25)","v":" "}]

{"sheet":"II","index":8,"n_rows":52,"n_cols":104,"rows_kept":52,"cut":false,"hidden":false,"merged":[[36,3,36,7],[1,1,1,9],[24,3,24,7],[26,3,26,7],[28,3,28,7],[29,3,29,7],[30,3,30,7],[31,3,31,7],[32,3,32,7],[33,3,33,7],[34,3,34,7],[35,3,35,7],[45,1,50,9],[37,3,37,7],[38,3,38,7],[39,3,39,7],[40,3,40,7],[41,3,41,7],[42,3,42,7]]}
[]
[null,{"$f":"+'DE_Areas & Ind'!I6","v":0}]
[]
[null," Ranking Capacity",null,null,{"$f":"IF(DE_Capacity!AII507='DE_Areas & Ind'!$I$7,DE_Capacity!AII510,(IF(DE_Capacity!AIJ507='DE_Areas & Ind'!$I$7,DE_Capacity!AIJ510,(IF(DE_Capacity!AIK507='DE_Areas & Ind'!$I$7,DE_Capacity!AIK510,(IF(DE_Capacity!AIL507='DE_Areas & Ind'!$I$7,DE_Capacity!AIL510,(IF(DE_Capacity!AIM507='DE_Areas & Ind'!$I$7,DE_Capacity!AIM510,(IF(DE_Capacity!AIN507='DE_Areas & Ind'!$I$7,DE_Capacity!AIN510,(IF(DE_Capacity!AIO507='DE_Areas & Ind'!$I$7,DE_Capacity!AIO510,(IF(DE_Capacity!AIP507='DE_Areas & Ind'!$I$7,DE_Capacity!AIP510,(IF(DE_Capacity!AIQ507='DE_Areas & Ind'!$I$7,DE_Capacity!AIQ510,(IF(DE_Capacity!AIR507='DE_Areas & Ind'!$I$7,DE_Capacity!AIR510,\" \")))))))))))))))))))","v":{"$error":"#VALUE!"}}]
[]
[null,null,null,null,null,null,null,null,null,null,null,null,null,null,null,null,null,null,null,null,null,null,null,null,null,null,null,null,null,null,null,null,null,null,null,null,null,null,null,null,null,null,null,null,null,null,null,null,null,null,null,null,null,null,null,null,null,null,null,null,null,null,null,null,null,null,null,null,null,null,null,null,null,null,null,null,null,null,null,null,null,null,null,null,null,null,null,null,null,null,null,null,null,null,null,null,null,null,"Mediana","Mínimo","Máximo",null,"Min_Adj","Max_Adj"]
[null,null,null,null,null,null,null,null,null,null,null,null,null,null,null,null,null,null,null,null,null,null,null,null,null,null,null,null,null,null,null,null,null,null,null,null,null,null,null,null,null,null,null,null,null,null,null,null,null,null,null,null,null,null,null,null,null,null,null,null,null,null,null,null,null,null,null,null,null,null,null,null,null,null,null,null,null,null,null,null,null,null,null,null,null,null,null,null,null,null,null,null,null,null,null,null,null,null,{"$f":"MEDIAN(CE10:CE24)","v":{"$error":"#NUM!"}},{"$f":"MIN(CE10:CE24)","v":0},{"$f":"MAX(CE10:CE24)","v":0}]
[null,null,null,null,null,null,null,null,null,null,null,null,null,null,null,null,null,null,null,null,null,null,null,null,null,null,null,null,null,null,null,null,null,null,null,null,null,null,null,null,null,null,null,null,null,null,null,null,null,null,null,null,null,null,null,null,null,null,null,null,null,null,null,null,null,null,null,null,null,null,null,null,null,null,null,null,null,null,null,null,null,null,null,null,null,null,null,null,null,null,null,null,null,null,null,null,null,null,{"$f":"MEDIAN(CF10:CF24)","v":{"$error":"#NUM!"}},{"$f":"MIN(CF10:CF24)","v":0},{"$f":"MAX(CF10:CF24)","v":0}]
[null,null,null,null,null,null,null,null,null,null,null,null,null,null,null,null,null,null,null,null,null,null,null,null,null,null,null,null,null,null,null,null,null,null,null,null,null,null,null,null,null,null,null,null,null,null,null,null,null,null,null,null,null,null,null,null,null,null,null,null,null,null,null,null,null,null,null,null,null,null,null,null,null,null,null,null,null,null,"Capacidad","Consenso",null,null,"Capacidad","Consenso"]
[null,null,null,null,null,null,null,null,null,null,null,null,null,null,null,null,null,null,null,null,null,null,null,null,null,null,null,null,null,null,null,null,null,null,null,null,null,null,null,null,null,null,null,null,null,null,null,null,null,null,null,null,null,null,null,null,null,null,null,null,null,null,null,null,null,null,null,null,null,null,null,null,null,null,null,null,null,{"$f":"IF(DE_Capacity!R623=\" \",\" \",DE_Capacity!R623)","v":0},{"$f":"IF(ISERR(DE_Capacity!T623),\"0\",IF(DE_Capacity!T623=\" \",\"0\",DE_Capacity!T623))","v":"0"},{"$f":"IF(ISERR(DE_Capacity!V623),\"0\",IF(DE_Capacity!V623=\" \",\"0\",DE_Capacity!V623))","v":"0"}]
[null,null,null,null,null,null,null,null,null,null,null,null,null,null,null,null,null,null,null,null,null,null,null,null,null,null,null,null,null,null,null,null,null,null,null,null,null,null,null,null,null,null,null,null,null,null,null,null,null,null,null,null,null,null,null,null,null,null,null,null,null,null,null,null,null,null,null,null,null,null,null,null,null,null,null,null,null,{"$f":"IF(DE_Capacity!R624=\" \",\" \",DE_Capacity!R624)","v":0},{"$f":"IF(ISERR(DE_Capacity!T624),\"0\",IF(DE_Capacity!T624=\" \",\"0\",DE_Capacity!T624))","v":"0"},{"$f":"IF(ISERR(DE_Capacity!V624),\"0\",IF(DE_Capacity!V624=\" \",\"0\",DE_Capacity!V624))","v":"0"}]
[null,null,null,null,null,null,null,null,null,null,null,null,null,null,null,null,null,null,null,null,null,null,null,null,null,null,null,null,null,null,null,null,null,null,null,null,null,null,null,null,null,null,null,null,null,null,null,null,null,null,null,null,null,null,null,null,null,null,null,null,null,null,null,null,null,null,null,null,null,null,null,null,null,null,null,null,null,{"$f":"IF(DE_Capacity!R625=\" \",\" \",DE_Capacity!R625)","v":0},{"$f":"IF(ISERR(DE_Capacity!T625),\"0\",IF(DE_Capacity!T625=\" \",\"0\",DE_Capacity!T625))","v":"0"},{"$f":"IF(ISERR(DE_Capacity!V625),\"0\",IF(DE_Capacity!V625=\" \",\"0\",DE_Capacity!V625))","v":"0"}]
[null,null,null,null,null,null,null,null,null,null,null,null,null,null,null,null,null,null,null,null,null,null,null,null,null,null,null,null,null,null,null,null,null,null,null,null,null,null,null,null,null,null,null,null,null,null,null,null,null,null,null,null,null,null,null,null,null,null,null,null,null,null,null,null,null,null,null,null,null,null,null,null,null,null,null,null,null,{"$f":"IF(DE_Capacity!R626=\" \",\" \",DE_Capacity!R626)","v":0},{"$f":"IF(ISERR(DE_Capacity!T626),\"0\",IF(DE_Capacity!T626=\" \",\"0\",DE_Capacity!T626))","v":"0"},{"$f":"IF(ISERR(DE_Capacity!V626),\"0\",IF(DE_Capacity!V626=\" \",\"0\",DE_Capacity!V626))","v":"0"}]
[null,null,null,null,null,null,null,null,null,null,null,null,null,null,null,null,null,null,null,null,null,null,null,null,null,null,null,null,null,null,null,null,null,null,null,null,null,null,null,null,null,null,null,null,null,null,null,null,null,null,null,null,null,null,null,null,null,null,null,null,null,null,null,null,null,null,null,null,null,null,null,null,null,null,null,null,null,{"$f":"IF(DE_Capacity!R627=\" \",\" \",DE_Capacity!R627)","v":0},{"$f":"IF(ISERR(DE_Capacity!T627),\"0\",IF(DE_Capacity!T627=\" \",\"0\",DE_Capacity!T627))","v":"0"},{"$f":"IF(ISERR(DE_Capacity!V627),\"0\",IF(DE_Capacity!V627=\" \",\"0\",DE_Capacity!V627))","v":"0"}]
[null,null,null,null,null,null,null,null,null,null,null,null,null,null,null,null,null,null,null,null,null,null,null,null,null,null,null,null,null,null,null,null,null,null,null,null,null,null,null,null,null,null,null,null,null,null,null,null,null,null,null,null,null,null,null,null,null,null,null,null,null,null,null,null,null,null,null,null,null,null,null,null,null,null,null,null,null,{"$f":"IF(DE_Capacity!R628=\" \",\" \",DE_Capacity!R628)","v":0},{"$f":"IF(ISERR(DE_Capacity!T628),\"0\",IF(DE_Capacity!T628=\" \",\"0\",DE_Capacity!T628))","v":"0"},{"$f":"IF(ISERR(DE_Capacity!V628),\"0\",IF(DE_Capacity!V628=\" \",\"0\",DE_Capacity!V628))","v":"0"}]
[null,null,null,null,null,null,null,null,null,null,null,null,null,null,null,null,null,null,null,null,null,null,null,null,null,null,null,null,null,null,null,null,null,null,null,null,null,null,null,null,null,null,null,null,null,null,null,null,null,null,null,null,null,null,null,null,null,null,null,null,null,null,null,null,null,null,null,null,null,null,null,null,null,null,null,null,null,{"$f":"IF(DE_Capacity!R629=\" \",\" \",DE_Capacity!R629)","v":0},{"$f":"IF(ISERR(DE_Capacity!T629),\"0\",IF(DE_Capacity!T629=\" \",\"0\",DE_Capacity!T629))","v":"0"},{"$f":"IF(ISERR(DE_Capacity!V629),\"0\",IF(DE_Capacity!V629=\" \",\"0\",DE_Capacity!V629))","v":"0"}]
[null,null,null,null,null,null,null,null,null,null,null,null,null,null,null,null,null,null,null,null,null,null,null,null,null,null,null,null,null,null,null,null,null,null,null,null,null,null,null,null,null,null,null,null,null,null,null,null,null,null,null,null,null,null,null,null,null,null,null,null,null,null,null,null,null,null,null,null,null,null,null,null,null,null,null,null,null,{"$f":"IF(DE_Capacity!R630=\" \",\" \",DE_Capacity!R630)","v":0},{"$f":"IF(ISERR(DE_Capacity!T630),\"0\",IF(DE_Capacity!T630=\" \",\"0\",DE_Capacity!T630))","v":"0"},{"$f":"IF(ISERR(DE_Capacity!V630),\"0\",IF(DE_Capacity!V630=\" \",\"0\",DE_Capacity!V630))","v":"0"}]
[null,null,null,null,null,null,null,null,null,null,null,null,null,null,null,null,null,null,null,null,null,null,null,null,null,null,null,null,null,null,null,null,null,null,null,null,null,null,null,null,null,null,null,null,null,null,null,null,null,null,null,null,null,null,null,null,null,null,null,null,null,null,null,null,null,null,null,null,null,null,null,null,null,null,null,null,null,{"$f":"IF(DE_Capacity!R631=\" \",\" \",DE_Capacity!R631)","v":0},{"$f":"IF(ISERR(DE_Capacity!T631),\"0\",IF(DE_Capacity!T631=\" \",\"0\",DE_Capacity!T631))","v":"0"},{"$f":"IF(ISERR(DE_Capacity!V631),\"0\",IF(DE_Capacity!V631=\" \",\"0\",DE_Capacity!V631))","v":"0"}]
[null,null,null,null,null,null,null,null,null,null,null,null,null,null,null,null,null,null,null,null,null,null,null,null,null,null,null,null,null,null,null,null,null,null,null,null,null,null,null,null,null,null,null,null,null,null,null,null,null,null,null,null,null,null,null,null,null,null,null,null,null,null,null,null,null,null,null,null,null,null,null,null,null,null,null,null,null,{"$f":"IF(DE_Capacity!R632=\" \",\" \",DE_Capacity!R632)","v":0},{"$f":"IF(ISERR(DE_Capacity!T632),\"0\",IF(DE_Capacity!T632=\" \",\"0\",DE_Capacity!T632))","v":"0"},{"$f":"IF(ISERR(DE_Capacity!V632),\"0\",IF(DE_Capacity!V632=\" \",\"0\",DE_Capacity!V632))","v":"0"}]
[null,null,null,null,null,null,null,null,null,null,null,null,null,null,null,null,null,null,null,null,null,null,null,null,null,null,null,null,null,null,null,null,null,null,null,null,null,null,null,null,null,null,null,null,null,null,null,null,null,null,null,null,null,null,null,null,null,null,null,null,null,null,null,null,null,null,null,null,null,null,null,null,null,null,null,null,null,{"$f":"IF(DE_Capacity!R633=\" \",\" \",DE_Capacity!R633)","v":0},{"$f":"IF(ISERR(DE_Capacity!T633),\"0\",IF(DE_Capacity!T633=\" \",\"0\",DE_Capacity!T633))","v":"0"},{"$f":"IF(ISERR(DE_Capacity!V633),\"0\",IF(DE_Capacity!V633=\" \",\"0\",DE_Capacity!V633))","v":"0"}]
[null,null,null,null,null,null,null,null,null,null,null,null,null,null,null,null,null,null,null,null,null,null,null,null,null,null,null,null,null,null,null,null,null,null,null,null,null,null,null,null,null,null,null,null,null,null,null,null,null,null,null,null,null,null,null,null,null,null,null,null,null,null,null,null,null,null,null,null,null,null,null,null,null,null,null,null,null,{"$f":"IF(DE_Capacity!R634=\" \",\" \",DE_Capacity!R634)","v":0},{"$f":"IF(ISERR(DE_Capacity!T634),\"0\",IF(DE_Capacity!T634=\" \",\"0\",DE_Capacity!T634))","v":"0"},{"$f":"IF(ISERR(DE_Capacity!V634),\"0\",IF(DE_Capacity!V634=\" \",\"0\",DE_Capacity!V634))","v":"0"}]
[null,null,null,null,null,null,null,null,null,null,null,null,null,null,null,null,null,null,null,null,null,null,null,null,null,null,null,null,null,null,null,null,null,null,null,null,null,null,null,null,null,null,null,null,null,null,null,null,null,null,null,null,null,null,null,null,null,null,null,null,null,null,null,null,null,null,null,null,null,null,null,null,null,null,null,null,null,{"$f":"IF(DE_Capacity!R635=\" \",\" \",DE_Capacity!R635)","v":0},{"$f":"IF(ISERR(DE_Capacity!T635),\"0\",IF(DE_Capacity!T635=\" \",\"0\",DE_Capacity!T635))","v":"0"},{"$f":"IF(ISERR(DE_Capacity!V635),\"0\",IF(DE_Capacity!V635=\" \",\"0\",DE_Capacity!V635))","v":"0"}]
[null,"Detail",null,null,null,null,null,null,null,null,null,null,null,null,null,null,null,null,null,null,null,null,null,null,null,null,null,null,null,null,null,null,null,null,null,null,null,null,null,null,null,null,null,null,null,null,null,null,null,null,null,null,null,null,null,null,null,null,null,null,null,null,null,null,null,null,null,null,null,null,null,null,null,null,null,null,null,{"$f":"IF(DE_Capacity!R636=\" \",\" \",DE_Capacity!R636)","v":0},{"$f":"IF(ISERR(DE_Capacity!T636),\"0\",IF(DE_Capacity!T636=\" \",\"0\",DE_Capacity!T636))","v":"0"},{"$f":"IF(ISERR(DE_Capacity!V636),\"0\",IF(DE_Capacity!V636=\" \",\"0\",DE_Capacity!V636))","v":"0"}]
[null,null,null,null,null,null,null,null,null,null,null,null,null,null,null,null,null,null,null,null,null,null,null,null,null,null,null,null,null,null,null,null,null,null,null,null,null,null,null,null,null,null,null,null,null,null,null,null,null,null,null,null,null,null,null,null,null,null,null,null,null,null,null,null,null,null,null,null,null,null,null,null,null,null,null,null,null,{"$f":"IF(DE_Capacity!R637=\" \",\" \",DE_Capacity!R637)","v":0},{"$f":"IF(ISERR(DE_Capacity!T637),\"0\",IF(DE_Capacity!T637=\" \",\"0\",DE_Capacity!T637))","v":"0"},{"$f":"IF(ISERR(DE_Capacity!V637),\"0\",IF(DE_Capacity!V637=\" \",\"0\",DE_Capacity!V637))","v":"0"}]
[null,"Indicator",null,"Description",null,null,null,null,null,"Average"]
[]
[null,null,null,"Maximum Value ==>",null,null,null,null,null,{"$f":"+DE_Capacity!$C$523","v":4}]
[]
[null,{"$f":"IF(+Calculations!B26=0,\" \",+Calculations!B26)","v":" "},null,{"$f":"IF(+Calculations!C26=0,\" \",+Calculations!C26)","v":" "},null,null,null,null,null,{"$f":"IF(ISERR(Calculations!F26),\" \",Calculations!F26)","v":" "}]
[null,{"$f":"IF(+Calculations!B27=0,\" \",+Calculations!B27)","v":" "},null,{"$f":"IF(+Calculations!C27=0,\" \",+Calculations!C27)","v":" "},null,null,null,null,null,{"$f":"IF(ISERR(Calculations!F27),\" \",Calculations!F27)","v":" "}]
[null,{"$f":"IF(+Calculations!B28=0,\" \",+Calculations!B28)","v":" "},null,{"$f":"IF(+Calculations!C28=0,\" \",+Calculations!C28)","v":" "},null,null,null,null,null,{"$f":"IF(ISERR(Calculations!F28),\" \",Calculations!F28)","v":" "}]
[null,{"$f":"IF(+Calculations!B29=0,\" \",+Calculations!B29)","v":" "},null,{"$f":"IF(+Calculations!C29=0,\" \",+Calculations!C29)","v":" "},null,null,null,null,null,{"$f":"IF(ISERR(Calculations!F29),\" \",Calculations!F29)","v":" "}]
[null,{"$f":"IF(+Calculations!B30=0,\" \",+Calculations!B30)","v":" "},null,{"$f":"IF(+Calculations!C30=0,\" \",+Calculations!C30)","v":" "},null,null,null,null,null,{"$f":"IF(ISERR(Calculations!F30),\" \",Calculations!F30)","v":" "}]
[null,{"$f":"IF(+Calculations!B31=0,\" \",+Calculations!B31)","v":" "},null,{"$f":"IF(+Calculations!C31=0,\" \",+Calculations!C31)","v":" "},null,null,null,null,null,{"$f":"IF(ISERR(Calculations!F31),\" \",Calculations!F31)","v":" "}]
[null,{"$f":"IF(+Calculations!B32=0,\" \",+Calculations!B32)","v":" "},null,{"$f":"IF(+Calculations!C32=0,\" \",+Calculations!C32)","v":" "},null,null,null,null,null,{"$f":"IF(ISERR(Calculations!F32),\" \",Calculations!F32)","v":" "}]
[null,{"$f":"IF(+Calculations!B33=0,\" \",+Calculations!B33)","v":" "},null,{"$f":"IF(+Calculations!C33=0,\" \",+Calculations!C33)","v":" "},null,null,null,null,null,{"$f":"IF(ISERR(Calculations!F33),\" \",Calculations!F33)","v":" "}]
[null,{"$f":"IF(+Calculations!B34=0,\" \",+Calculations!B34)","v":" "},null,{"$f":"IF(+Calculations!C34=0,\" \",+Calculations!C34)","v":" "},null,null,null,null,null,{"$f":"IF(ISERR(Calculations!F34),\" \",Calculations!F34)","v":" "}]
[null,{"$f":"IF(+Calculations!B35=0,\" \",+Calculations!B35)","v":" "},null,{"$f":"IF(+Calculations!C35=0,\" \",+Calculations!C35)","v":" "},null,null,null,null,null,{"$f":"IF(ISERR(Calculations!F35),\" \",Calculations!F35)","v":" "}]
[null,{"$f":"IF(+Calculations!B36=0,\" \",+Calculations!B36)","v":" "},null,{"$f":"IF(+Calculations!C36=0,\" \",+Calculations!C36)","v":" "},null,null,null,null,null,{"$f":"IF(ISERR(Calculations!F36),\" \",Calculations!F36)","v":" "}]
[null,{"$f":"IF(+Calculations!B37=0,\" \",+Calculations!B37)","v":" "},null,{"$f":"IF(+Calculations!C37=0,\" \",+Calculations!C37)","v":" "},null,null,null,null,null,{"$f":"IF(ISERR(Calculations!F37),\" \",Calculations!F37)","v":" "}]
[null,{"$f":"IF(+Calculations!B38=0,\" \",+Calculations!B38)","v":" "},null,{"$f":"IF(+Calculations!C38=0,\" \",+Calculations!C38)","v":" "},null,null,null,null,null,{"$f":"IF(ISERR(Calculations!F38),\" \",Calculations!F38)","v":" "}]
[null,{"$f":"IF(+Calculations!B39=0,\" \",+Calculations!B39)","v":" "},null,{"$f":"IF(+Calculations!C39=0,\" \",+Calculations!C39)","v":" "},null,null,null,null,null,{"$f":"IF(ISERR(Calculations!F39),\" \",Calculations!F39)","v":" "}]
[null,{"$f":"IF(+Calculations!B40=0,\" \",+Calculations!B40)","v":" "},null,{"$f":"IF(+Calculations!C40=0,\" \",+Calculations!C40)","v":" "},null,null,null,null,null,{"$f":"IF(ISERR(Calculations!F40),\" \",Calculations!F40)","v":" "},3]
[]
[]
[]
[]
[]
[]
[]
[]
[null,null,null,null,null,null,null,null,null,null,3]

{"sheet":"III","index":9,"n_rows":43,"n_cols":104,"rows_kept":43,"cut":false,"hidden":false,"merged":[[36,3,36,7],[1,1,1,9],[24,3,24,7],[26,3,26,7],[28,3,28,7],[29,3,29,7],[30,3,30,7],[31,3,31,7],[32,3,32,7],[33,3,33,7],[34,3,34,7],[35,3,35,7],[45,1,50,9],[37,3,37,7],[38,3,38,7],[39,3,39,7],[40,3,40,7],[41,3,41,7],[42,3,42,7]]}
[]
[null,{"$f":"+'DE_Areas & Ind'!O6","v":0}]
[]
[null," Ranking Capacity",null,null,{"$f":"IF(DE_Capacity!AII507='DE_Areas & Ind'!$O$7,DE_Capacity!AII510,(IF(DE_Capacity!AIJ507='DE_Areas & Ind'!$O$7,DE_Capacity!AIJ510,(IF(DE_Capacity!AIK507='DE_Areas & Ind'!$O$7,DE_Capacity!AIK510,(IF(DE_Capacity!AIL507='DE_Areas & Ind'!$O$7,DE_Capacity!AIL510,(IF(DE_Capacity!AIM507='DE_Areas & Ind'!$O$7,DE_Capacity!AIM510,(IF(DE_Capacity!AIN507='DE_Areas & Ind'!$O$7,DE_Capacity!AIN510,(IF(DE_Capacity!AIO507='DE_Areas & Ind'!$O$7,DE_Capacity!AIO510,(IF(DE_Capacity!AIP507='DE_Areas & Ind'!$O$7,DE_Capacity!AIP510,(IF(DE_Capacity!AIQ507='DE_Areas & Ind'!$O$7,DE_Capacity!AIQ510,(IF(DE_Capacity!AIR507='DE_Areas & Ind'!$O$7,DE_Capacity!AIR510,\" \")))))))))))))))))))","v":{"$error":"#VALUE!"}}]
[]
[null,null,null,null,null,null,null,null,null,null,null,null,null,null,null,null,null,null,null,null,null,null,null,null,null,null,null,null,null,null,null,null,null,null,null,null,null,null,null,null,null,null,null,null,null,null,null,null,null,null,null,null,null,null,null,null,null,null,null,null,null,null,null,null,null,null,null,null,null,null,null,null,null,null,null,null,null,null,null,null,null,null,null,null,null,null,null,null,null,null,null,null,null,null,null,null,null,null,"Mediana","Mínimo","Máximo",null,"Min_Adj","Max_Adj"]
[null,null,null,null,null,null,null,null,null,null,null,null,null,null,null,null,null,null,null,null,null,null,null,null,null,null,null,null,null,null,null,null,null,null,null,null,null,null,null,null,null,null,null,null,null,null,null,null,null,null,null,null,null,null,null,null,null,null,null,null,null,null,null,null,null,null,null,null,null,null,null,null,null,null,null,null,null,null,null,null,null,null,null,null,null,null,null,null,null,null,null,null,null,null,null,null,null,null,{"$f":"MEDIAN(CE10:CE24)","v":{"$error":"#NUM!"}},{"$f":"MIN(CE10:CE24)","v":0},{"$f":"MAX(CE10:CE24)","v":0}]
[null,null,null,null,null,null,null,null,null,null,null,null,null,null,null,null,null,null,null,null,null,null,null,null,null,null,null,null,null,null,null,null,null,null,null,null,null,null,null,null,null,null,null,null,null,null,null,null,null,null,null,null,null,null,null,null,null,null,null,null,null,null,null,null,null,null,null,null,null,null,null,null,null,null,null,null,null,null,null,null,null,null,null,null,null,null,null,null,null,null,null,null,null,null,null,null,null,null,{"$f":"MEDIAN(CF10:CF24)","v":{"$error":"#NUM!"}},{"$f":"MIN(CF10:CF24)","v":0},{"$f":"MAX(CF10:CF24)","v":0}]
[null,null,null,null,null,null,null,null,null,null,null,null,null,null,null,null,null,null,null,null,null,null,null,null,null,null,null,null,null,null,null,null,null,null,null,null,null,null,null,null,null,null,null,null,null,null,null,null,null,null,null,null,null,null,null,null,null,null,null,null,null,null,null,null,null,null,null,null,null,null,null,null,null,null,null,null,null,null,"Capacidad","Consenso",null,null,"Capacidad","Consenso"]
[null,null,null,null,null,null,null,null,null,null,null,null,null,null,null,null,null,null,null,null,null,null,null,null,null,null,null,null,null,null,null,null,null,null,null,null,null,null,null,null,null,null,null,null,null,null,null,null,null,null,null,null,null,null,null,null,null,null,null,null,null,null,null,null,null,null,null,null,null,null,null,null,null,null,null,null,null,{"$f":"IF(DE_Capacity!AG623=\" \",\" \",DE_Capacity!AG623)","v":0},{"$f":"IF(ISERR(DE_Capacity!AI623),\"0\",IF(DE_Capacity!AI623=\" \",\"0\",DE_Capacity!AI623))","v":"0"},{"$f":"IF(ISERR(DE_Capacity!AK623),\"0\",IF(DE_Capacity!AK623=\" \",\"0\",DE_Capacity!AK623))","v":"0"}]
[null,null,null,null,null,null,null,null,null,null,null,null,null,null,null,null,null,null,null,null,null,null,null,null,null,null,null,null,null,null,null,null,null,null,null,null,null,null,null,null,null,null,null,null,null,null,null,null,null,null,null,null,null,null,null,null,null,null,null,null,null,null,null,null,null,null,null,null,null,null,null,null,null,null,null,null,null,{"$f":"IF(DE_Capacity!AG624=\" \",\" \",DE_Capacity!AG624)","v":0},{"$f":"IF(ISERR(DE_Capacity!AI624),\"0\",IF(DE_Capacity!AI624=\" \",\"0\",DE_Capacity!AI624))","v":"0"},{"$f":"IF(ISERR(DE_Capacity!AK624),\"0\",IF(DE_Capacity!AK624=\" \",\"0\",DE_Capacity!AK624))","v":"0"}]
[null,null,null,null,null,null,null,null,null,null,null,null,null,null,null,null,null,null,null,null,null,null,null,null,null,null,null,null,null,null,null,null,null,null,null,null,null,null,null,null,null,null,null,null,null,null,null,null,null,null,null,null,null,null,null,null,null,null,null,null,null,null,null,null,null,null,null,null,null,null,null,null,null,null,null,null,null,{"$f":"IF(DE_Capacity!AG625=\" \",\" \",DE_Capacity!AG625)","v":0},{"$f":"IF(ISERR(DE_Capacity!AI625),\"0\",IF(DE_Capacity!AI625=\" \",\"0\",DE_Capacity!AI625))","v":"0"},{"$f":"IF(ISERR(DE_Capacity!AK625),\"0\",IF(DE_Capacity!AK625=\" \",\"0\",DE_Capacity!AK625))","v":"0"}]
[null,null,null,null,null,null,null,null,null,null,null,null,null,null,null,null,null,null,null,null,null,null,null,null,null,null,null,null,null,null,null,null,null,null,null,null,null,null,null,null,null,null,null,null,null,null,null,null,null,null,null,null,null,null,null,null,null,null,null,null,null,null,null,null,null,null,null,null,null,null,null,null,null,null,null,null,null,{"$f":"IF(DE_Capacity!AG626=\" \",\" \",DE_Capacity!AG626)","v":0},{"$f":"IF(ISERR(DE_Capacity!AI626),\"0\",IF(DE_Capacity!AI626=\" \",\"0\",DE_Capacity!AI626))","v":"0"},{"$f":"IF(ISERR(DE_Capacity!AK626),\"0\",IF(DE_Capacity!AK626=\" \",\"0\",DE_Capacity!AK626))","v":"0"}]
[null,null,null,null,null,null,null,null,null,null,null,null,null,null,null,null,null,null,null,null,null,null,null,null,null,null,null,null,null,null,null,null,null,null,null,null,null,null,null,null,null,null,null,null,null,null,null,null,null,null,null,null,null,null,null,null,null,null,null,null,null,null,null,null,null,null,null,null,null,null,null,null,null,null,null,null,null,{"$f":"IF(DE_Capacity!AG627=\" \",\" \",DE_Capacity!AG627)","v":0},{"$f":"IF(ISERR(DE_Capacity!AI627),\"0\",IF(DE_Capacity!AI627=\" \",\"0\",DE_Capacity!AI627))","v":"0"},{"$f":"IF(ISERR(DE_Capacity!AK627),\"0\",IF(DE_Capacity!AK627=\" \",\"0\",DE_Capacity!AK627))","v":"0"}]
[null,null,null,null,null,null,null,null,null,null,null,null,null,null,null,null,null,null,null,null,null,null,null,null,null,null,null,null,null,null,null,null,null,null,null,null,null,null,null,null,null,null,null,null,null,null,null,null,null,null,null,null,null,null,null,null,null,null,null,null,null,null,null,null,null,null,null,null,null,null,null,null,null,null,null,null,null,{"$f":"IF(DE_Capacity!AG628=\" \",\" \",DE_Capacity!AG628)","v":0},{"$f":"IF(ISERR(DE_Capacity!AI628),\"0\",IF(DE_Capacity!AI628=\" \",\"0\",DE_Capacity!AI628))","v":"0"},{"$f":"IF(ISERR(DE_Capacity!AK628),\"0\",IF(DE_Capacity!AK628=\" \",\"0\",DE_Capacity!AK628))","v":"0"}]
[null,null,null,null,null,null,null,null,null,null,null,null,null,null,null,null,null,null,null,null,null,null,null,null,null,null,null,null,null,null,null,null,null,null,null,null,null,null,null,null,null,null,null,null,null,null,null,null,null,null,null,null,null,null,null,null,null,null,null,null,null,null,null,null,null,null,null,null,null,null,null,null,null,null,null,null,null,{"$f":"IF(DE_Capacity!AG629=\" \",\" \",DE_Capacity!AG629)","v":0},{"$f":"IF(ISERR(DE_Capacity!AI629),\"0\",IF(DE_Capacity!AI629=\" \",\"0\",DE_Capacity!AI629))","v":"0"},{"$f":"IF(ISERR(DE_Capacity!AK629),\"0\",IF(DE_Capacity!AK629=\" \",\"0\",DE_Capacity!AK629))","v":"0"}]
[null,null,null,null,null,null,null,null,null,null,null,null,null,null,null,null,null,null,null,null,null,null,null,null,null,null,null,null,null,null,null,null,null,null,null,null,null,null,null,null,null,null,null,null,null,null,null,null,null,null,null,null,null,null,null,null,null,null,null,null,null,null,null,null,null,null,null,null,null,null,null,null,null,null,null,null,null,{"$f":"IF(DE_Capacity!AG630=\" \",\" \",DE_Capacity!AG630)","v":0},{"$f":"IF(ISERR(DE_Capacity!AI630),\"0\",IF(DE_Capacity!AI630=\" \",\"0\",DE_Capacity!AI630))","v":"0"},{"$f":"IF(ISERR(DE_Capacity!AK630),\"0\",IF(DE_Capacity!AK630=\" \",\"0\",DE_Capacity!AK630))","v":"0"}]
[null,null,null,null,null,null,null,null,null,null,null,null,null,null,null,null,null,null,null,null,null,null,null,null,null,null,null,null,null,null,null,null,null,null,null,null,null,null,null,null,null,null,null,null,null,null,null,null,null,null,null,null,null,null,null,null,null,null,null,null,null,null,null,null,null,null,null,null,null,null,null,null,null,null,null,null,null,{"$f":"IF(DE_Capacity!AG631=\" \",\" \",DE_Capacity!AG631)","v":0},{"$f":"IF(ISERR(DE_Capacity!AI631),\"0\",IF(DE_Capacity!AI631=\" \",\"0\",DE_Capacity!AI631))","v":"0"},{"$f":"IF(ISERR(DE_Capacity!AK631),\"0\",IF(DE_Capacity!AK631=\" \",\"0\",DE_Capacity!AK631))","v":"0"}]
[null,null,null,null,null,null,null,null,null,null,null,null,null,null,null,null,null,null,null,null,null,null,null,null,null,null,null,null,null,null,null,null,null,null,null,null,null,null,null,null,null,null,null,null,null,null,null,null,null,null,null,null,null,null,null,null,null,null,null,null,null,null,null,null,null,null,null,null,null,null,null,null,null,null,null,null,null,{"$f":"IF(DE_Capacity!AG632=\" \",\" \",DE_Capacity!AG632)","v":0},{"$f":"IF(ISERR(DE_Capacity!AI632),\"0\",IF(DE_Capacity!AI632=\" \",\"0\",DE_Capacity!AI632))","v":"0"},{"$f":"IF(ISERR(DE_Capacity!AK632),\"0\",IF(DE_Capacity!AK632=\" \",\"0\",DE_Capacity!AK632))","v":"0"}]
[null,null,null,null,null,null,null,null,null,null,null,null,null,null,null,null,null,null,null,null,null,null,null,null,null,null,null,null,null,null,null,null,null,null,null,null,null,null,null,null,null,null,null,null,null,null,null,null,null,null,null,null,null,null,null,null,null,null,null,null,null,null,null,null,null,null,null,null,null,null,null,null,null,null,null,null,null,{"$f":"IF(DE_Capacity!AG633=\" \",\" \",DE_Capacity!AG633)","v":0},{"$f":"IF(ISERR(DE_Capacity!AI633),\"0\",IF(DE_Capacity!AI633=\" \",\"0\",DE_Capacity!AI633))","v":"0"},{"$f":"IF(ISERR(DE_Capacity!AK633),\"0\",IF(DE_Capacity!AK633=\" \",\"0\",DE_Capacity!AK633))","v":"0"}]
[null,null,null,null,null,null,null,null,null,null,null,null,null,null,null,null,null,null,null,null,null,null,null,null,null,null,null,null,null,null,null,null,null,null,null,null,null,null,null,null,null,null,null,null,null,null,null,null,null,null,null,null,null,null,null,null,null,null,null,null,null,null,null,null,null,null,null,null,null,null,null,null,null,null,null,null,null,{"$f":"IF(DE_Capacity!AG634=\" \",\" \",DE_Capacity!AG634)","v":0},{"$f":"IF(ISERR(DE_Capacity!AI634),\"0\",IF(DE_Capacity!AI634=\" \",\"0\",DE_Capacity!AI634))","v":"0"},{"$f":"IF(ISERR(DE_Capacity!AK634),\"0\",IF(DE_Capacity!AK634=\" \",\"0\",DE_Capacity!AK634))","v":"0"}]
[null,null,null,null,null,null,null,null,null,null,null,null,null,null,null,null,null,null,null,null,null,null,null,null,null,null,null,null,null,null,null,null,null,null,null,null,null,null,null,null,null,null,null,null,null,null,null,null,null,null,null,null,null,null,null,null,null,null,null,null,null,null,null,null,null,null,null,null,null,null,null,null,null,null,null,null,null,{"$f":"IF(DE_Capacity!AG635=\" \",\" \",DE_Capacity!AG635)","v":0},{"$f":"IF(ISERR(DE_Capacity!AI635),\"0\",IF(DE_Capacity!AI635=\" \",\"0\",DE_Capacity!AI635))","v":"0"},{"$f":"IF(ISERR(DE_Capacity!AK635),\"0\",IF(DE_Capacity!AK635=\" \",\"0\",DE_Capacity!AK635))","v":"0"}]
[null,"Detail",null,null,null,null,null,null,null,null,null,null,null,null,null,null,null,null,null,null,null,null,null,null,null,null,null,null,null,null,null,null,null,null,null,null,null,null,null,null,null,null,null,null,null,null,null,null,null,null,null,null,null,null,null,null,null,null,null,null,null,null,null,null,null,null,null,null,null,null,null,null,null,null,null,null,null,{"$f":"IF(DE_Capacity!AG636=\" \",\" \",DE_Capacity!AG636)","v":0},{"$f":"IF(ISERR(DE_Capacity!AI636),\"0\",IF(DE_Capacity!AI636=\" \",\"0\",DE_Capacity!AI636))","v":"0"},{"$f":"IF(ISERR(DE_Capacity!AK636),\"0\",IF(DE_Capacity!AK636=\" \",\"0\",DE_Capacity!AK636))","v":"0"}]
[null,null,null,null,null,null,null,null,null,null,null,null,null,null,null,null,null,null,null,null,null,null,null,null,null,null,null,null,null,null,null,null,null,null,null,null,null,null,null,null,null,null,null,null,null,null,null,null,null,null,null,null,null,null,null,null,null,null,null,null,null,null,null,null,null,null,null,null,null,null,null,null,null,null,null,null,null,{"$f":"IF(DE_Capacity!AG637=\" \",\" \",DE_Capacity!AG637)","v":0},{"$f":"IF(ISERR(DE_Capacity!AI637),\"0\",IF(DE_Capacity!AI637=\" \",\"0\",DE_Capacity!AI637))","v":"0"},{"$f":"IF(ISERR(DE_Capacity!AK637),\"0\",IF(DE_Capacity!AK637=\" \",\"0\",DE_Capacity!AK637))","v":"0"}]
[null,"Indicator",null,"Description",null,null,null,null,null,"Average"]
[]
[null,null,null,"Maximum Value ==>",null,null,null,null,null,{"$f":"+DE_Capacity!$C$523","v":4}]
[]
[null,{"$f":"IF(+Calculations!B41=0,\" \",+Calculations!B41)","v":" "},null,{"$f":"IF(Calculations!C41=0,\" \",Calculations!C41)","v":" "},null,null,null,null,null,{"$f":"IF(ISERR(Calculations!F41),\" \",Calculations!F41)","v":" "}]
[null,{"$f":"IF(+Calculations!B42=0,\" \",+Calculations!B42)","v":" "},null,{"$f":"IF(Calculations!C42=0,\" \",Calculations!C42)","v":" "},null,null,null,null,null,{"$f":"IF(ISERR(Calculations!F42),\" \",Calculations!F42)","v":" "}]
[null,{"$f":"IF(+Calculations!B43=0,\" \",+Calculations!B43)","v":" "},null,{"$f":"IF(Calculations!C43=0,\" \",Calculations!C43)","v":" "},null,null,null,null,null,{"$f":"IF(ISERR(Calculations!F43),\" \",Calculations!F43)","v":" "}]
[null,{"$f":"IF(+Calculations!B44=0,\" \",+Calculations!B44)","v":" "},null,{"$f":"IF(Calculations!C44=0,\" \",Calculations!C44)","v":" "},null,null,null,null,null,{"$f":"IF(ISERR(Calculations!F44),\" \",Calculations!F44)","v":" "}]
[null,{"$f":"IF(+Calculations!B45=0,\" \",+Calculations!B45)","v":" "},null,{"$f":"IF(Calculations!C45=0,\" \",Calculations!C45)","v":" "},null,null,null,null,null,{"$f":"IF(ISERR(Calculations!F45),\" \",Calculations!F45)","v":" "}]
[null,{"$f":"IF(+Calculations!B46=0,\" \",+Calculations!B46)","v":" "},null,{"$f":"IF(Calculations!C46=0,\" \",Calculations!C46)","v":" "},null,null,null,null,null,{"$f":"IF(ISERR(Calculations!F46),\" \",Calculations!F46)","v":" "}]
[null,{"$f":"IF(+Calculations!B47=0,\" \",+Calculations!B47)","v":" "},null,{"$f":"IF(Calculations!C47=0,\" \",Calculations!C47)","v":" "},null,null,null,null,null,{"$f":"IF(ISERR(Calculations!F47),\" \",Calculations!F47)","v":" "}]
[null,{"$f":"IF(+Calculations!B48=0,\" \",+Calculations!B48)","v":" "},null,{"$f":"IF(Calculations!C48=0,\" \",Calculations!C48)","v":" "},null,null,null,null,null,{"$f":"IF(ISERR(Calculations!F48),\" \",Calculations!F48)","v":" "}]
[null,{"$f":"IF(+Calculations!B49=0,\" \",+Calculations!B49)","v":" "},null,{"$f":"IF(Calculations!C49=0,\" \",Calculations!C49)","v":" "},null,null,null,null,null,{"$f":"IF(ISERR(Calculations!F49),\" \",Calculations!F49)","v":" "}]
[null,{"$f":"IF(+Calculations!B50=0,\" \",+Calculations!B50)","v":" "},null,{"$f":"IF(Calculations!C50=0,\" \",Calculations!C50)","v":" "},null,null,null,null,null,{"$f":"IF(ISERR(Calculations!F50),\" \",Calculations!F50)","v":" "}]
[null,{"$f":"IF(+Calculations!B51=0,\" \",+Calculations!B51)","v":" "},null,{"$f":"IF(Calculations!C51=0,\" \",Calculations!C51)","v":" "},null,null,null,null,null,{"$f":"IF(ISERR(Calculations!F51),\" \",Calculations!F51)","v":" "}]
[null,{"$f":"IF(+Calculations!B52=0,\" \",+Calculations!B52)","v":" "},null,{"$f":"IF(Calculations!C52=0,\" \",Calculations!C52)","v":" "},null,null,null,null,null,{"$f":"IF(ISERR(Calculations!F52),\" \",Calculations!F52)","v":" "}]
[null,{"$f":"IF(+Calculations!B53=0,\" \",+Calculations!B53)","v":" "},null,{"$f":"IF(Calculations!C53=0,\" \",Calculations!C53)","v":" "},null,null,null,null,null,{"$f":"IF(ISERR(Calculations!F53),\" \",Calculations!F53)","v":" "}]
[null,{"$f":"IF(+Calculations!B54=0,\" \",+Calculations!B54)","v":" "},null,{"$f":"IF(Calculations!C54=0,\" \",Calculations!C54)","v":" "},null,null,null,null,null,{"$f":"IF(ISERR(Calculations!F54),\" \",Calculations!F54)","v":" "}]
[null,{"$f":"IF(+Calculations!B55=0,\" \",+Calculations!B55)","v":" "},null,{"$f":"IF(Calculations!C55=0,\" \",Calculations!C55)","v":" "},null,null,null,null,null,{"$f":"IF(ISERR(Calculations!F55),\" \",Calculations!F55)","v":" "}]

{"sheet":"IV","index":10,"n_rows":43,"n_cols":104,"rows_kept":43,"cut":false,"hidden":false,"merged":[[36,3,36,7],[1,1,1,9],[24,3,24,7],[26,3,26,7],[28,3,28,7],[29,3,29,7],[30,3,30,7],[31,3,31,7],[32,3,32,7],[33,3,33,7],[34,3,34,7],[35,3,35,7],[45,1,50,9],[37,3,37,7],[38,3,38,7],[39,3,39,7],[40,3,40,7],[41,3,41,7],[42,3,42,7]]}
[]
[null,{"$f":"+'DE_Areas & Ind'!U6","v":0}]
[]
[null," Ranking Capacity",null,null,{"$f":"IF(DE_Capacity!AII507='DE_Areas & Ind'!$U$7,DE_Capacity!AII510,(IF(DE_Capacity!AIJ507='DE_Areas & Ind'!$U$7,DE_Capacity!AIJ510,(IF(DE_Capacity!AIK507='DE_Areas & Ind'!$U$7,DE_Capacity!AIK510,(IF(DE_Capacity!AIL507='DE_Areas & Ind'!$U$7,DE_Capacity!AIL510,(IF(DE_Capacity!AIM507='DE_Areas & Ind'!$U$7,DE_Capacity!AIM510,(IF(DE_Capacity!AIN507='DE_Areas & Ind'!$U$7,DE_Capacity!AIN510,(IF(DE_Capacity!AIO507='DE_Areas & Ind'!$U$7,DE_Capacity!AIO510,(IF(DE_Capacity!AIP507='DE_Areas & Ind'!$U$7,DE_Capacity!AIP510,(IF(DE_Capacity!AIQ507='DE_Areas & Ind'!$U$7,DE_Capacity!AIQ510,(IF(DE_Capacity!AIR507='DE_Areas & Ind'!$U$7,DE_Capacity!AIR510,\" \")))))))))))))))))))","v":{"$error":"#VALUE!"}}]
[]
[null,null,null,null,null,null,null,null,null,null,null,null,null,null,null,null,null,null,null,null,null,null,null,null,null,null,null,null,null,null,null,null,null,null,null,null,null,null,null,null,null,null,null,null,null,null,null,null,null,null,null,null,null,null,null,null,null,null,null,null,null,null,null,null,null,null,null,null,null,null,null,null,null,null,null,null,null,null,null,null,null,null,null,null,null,null,null,null,null,null,null,null,null,null,null,null,null,null,"Mediana","Mínimo","Máximo",null,"Min_Adj","Max_Adj"]
[null,null,null,null,null,null,null,null,null,null,null,null,null,null,null,null,null,null,null,null,null,null,null,null,null,null,null,null,null,null,null,null,null,null,null,null,null,null,null,null,null,null,null,null,null,null,null,null,null,null,null,null,null,null,null,null,null,null,null,null,null,null,null,null,null,null,null,null,null,null,null,null,null,null,null,null,null,null,null,null,null,null,null,null,null,null,null,null,null,null,null,null,null,null,null,null,null,null,{"$f":"MEDIAN(CE10:CE24)","v":{"$error":"#NUM!"}},{"$f":"MIN(CE10:CE24)","v":0},{"$f":"MAX(CE10:CE24)","v":0}]
[null,null,null,null,null,null,null,null,null,null,null,null,null,null,null,null,null,null,null,null,null,null,null,null,null,null,null,null,null,null,null,null,null,null,null,null,null,null,null,null,null,null,null,null,null,null,null,null,null,null,null,null,null,null,null,null,null,null,null,null,null,null,null,null,null,null,null,null,null,null,null,null,null,null,null,null,null,null,null,null,null,null,null,null,null,null,null,null,null,null,null,null,null,null,null,null,null,null,{"$f":"MEDIAN(CF10:CF24)","v":{"$error":"#NUM!"}},{"$f":"MIN(CF10:CF24)","v":0},{"$f":"MAX(CF10:CF24)","v":0}]
[null,null,null,null,null,null,null,null,null,null,null,null,null,null,null,null,null,null,null,null,null,null,null,null,null,null,null,null,null,null,null,null,null,null,null,null,null,null,null,null,null,null,null,null,null,null,null,null,null,null,null,null,null,null,null,null,null,null,null,null,null,null,null,null,null,null,null,null,null,null,null,null,null,null,null,null,null,null,"Capacidad","Consenso",null,null,"Capacidad","Consenso"]
[null,null,null,null,null,null,null,null,null,null,null,null,null,null,null,null,null,null,null,null,null,null,null,null,null,null,null,null,null,null,null,null,null,null,null,null,null,null,null,null,null,null,null,null,null,null,null,null,null,null,null,null,null,null,null,null,null,null,null,null,null,null,null,null,null,null,null,null,null,null,null,null,null,null,null,null,null,{"$f":"IF(DE_Capacity!AV623=\" \",\" \",DE_Capacity!AV623)","v":0},{"$f":"IF(ISERR(DE_Capacity!AX623),\"0\",IF(DE_Capacity!AX623=\" \",\"0\",DE_Capacity!AX623))","v":"0"},{"$f":"IF(ISERR(DE_Capacity!AZ623),\"0\",IF(DE_Capacity!AZ623=\" \",\"0\",DE_Capacity!AZ623))","v":"0"}]
[null,null,null,null,null,null,null,null,null,null,null,null,null,null,null,null,null,null,null,null,null,null,null,null,null,null,null,null,null,null,null,null,null,null,null,null,null,null,null,null,null,null,null,null,null,null,null,null,null,null,null,null,null,null,null,null,null,null,null,null,null,null,null,null,null,null,null,null,null,null,null,null,null,null,null,null,null,{"$f":"IF(DE_Capacity!AV624=\" \",\" \",DE_Capacity!AV624)","v":0},{"$f":"IF(ISERR(DE_Capacity!AX624),\"0\",IF(DE_Capacity!AX624=\" \",\"0\",DE_Capacity!AX624))","v":"0"},{"$f":"IF(ISERR(DE_Capacity!AZ624),\"0\",IF(DE_Capacity!AZ624=\" \",\"0\",DE_Capacity!AZ624))","v":"0"}]
[null,null,null,null,null,null,null,null,null,null,null,null,null,null,null,null,null,null,null,null,null,null,null,null,null,null,null,null,null,null,null,null,null,null,null,null,null,null,null,null,null,null,null,null,null,null,null,null,null,null,null,null,null,null,null,null,null,null,null,null,null,null,null,null,null,null,null,null,null,null,null,null,null,null,null,null,null,{"$f":"IF(DE_Capacity!AV625=\" \",\" \",DE_Capacity!AV625)","v":0},{"$f":"IF(ISERR(DE_Capacity!AX625),\"0\",IF(DE_Capacity!AX625=\" \",\"0\",DE_Capacity!AX625))","v":"0"},{"$f":"IF(ISERR(DE_Capacity!AZ625),\"0\",IF(DE_Capacity!AZ625=\" \",\"0\",DE_Capacity!AZ625))","v":"0"}]
[null,null,null,null,null,null,null,null,null,null,null,null,null,null,null,null,null,null,null,null,null,null,null,null,null,null,null,null,null,null,null,null,null,null,null,null,null,null,null,null,null,null,null,null,null,null,null,null,null,null,null,null,null,null,null,null,null,null,null,null,null,null,null,null,null,null,null,null,null,null,null,null,null,null,null,null,null,{"$f":"IF(DE_Capacity!AV626=\" \",\" \",DE_Capacity!AV626)","v":0},{"$f":"IF(ISERR(DE_Capacity!AX626),\"0\",IF(DE_Capacity!AX626=\" \",\"0\",DE_Capacity!AX626))","v":"0"},{"$f":"IF(ISERR(DE_Capacity!AZ626),\"0\",IF(DE_Capacity!AZ626=\" \",\"0\",DE_Capacity!AZ626))","v":"0"}]
[null,null,null,null,null,null,null,null,null,null,null,null,null,null,null,null,null,null,null,null,null,null,null,null,null,null,null,null,null,null,null,null,null,null,null,null,null,null,null,null,null,null,null,null,null,null,null,null,null,null,null,null,null,null,null,null,null,null,null,null,null,null,null,null,null,null,null,null,null,null,null,null,null,null,null,null,null,{"$f":"IF(DE_Capacity!AV627=\" \",\" \",DE_Capacity!AV627)","v":0},{"$f":"IF(ISERR(DE_Capacity!AX627),\"0\",IF(DE_Capacity!AX627=\" \",\"0\",DE_Capacity!AX627))","v":"0"},{"$f":"IF(ISERR(DE_Capacity!AZ627),\"0\",IF(DE_Capacity!AZ627=\" \",\"0\",DE_Capacity!AZ627))","v":"0"}]
[null,null,null,null,null,null,null,null,null,null,null,null,null,null,null,null,null,null,null,null,null,null,null,null,null,null,null,null,null,null,null,null,null,null,null,null,null,null,null,null,null,null,null,null,null,null,null,null,null,null,null,null,null,null,null,null,null,null,null,null,null,null,null,null,null,null,null,null,null,null,null,null,null,null,null,null,null,{"$f":"IF(DE_Capacity!AV628=\" \",\" \",DE_Capacity!AV628)","v":0},{"$f":"IF(ISERR(DE_Capacity!AX628),\"0\",IF(DE_Capacity!AX628=\" \",\"0\",DE_Capacity!AX628))","v":"0"},{"$f":"IF(ISERR(DE_Capacity!AZ628),\"0\",IF(DE_Capacity!AZ628=\" \",\"0\",DE_Capacity!AZ628))","v":"0"}]
[null,null,null,null,null,null,null,null,null,null,null,null,null,null,null,null,null,null,null,null,null,null,null,null,null,null,null,null,null,null,null,null,null,null,null,null,null,null,null,null,null,null,null,null,null,null,null,null,null,null,null,null,null,null,null,null,null,null,null,null,null,null,null,null,null,null,null,null,null,null,null,null,null,null,null,null,null,{"$f":"IF(DE_Capacity!AV629=\" \",\" \",DE_Capacity!AV629)","v":0},{"$f":"IF(ISERR(DE_Capacity!AX629),\"0\",IF(DE_Capacity!AX629=\" \",\"0\",DE_Capacity!AX629))","v":"0"},{"$f":"IF(ISERR(DE_Capacity!AZ629),\"0\",IF(DE_Capacity!AZ629=\" \",\"0\",DE_Capacity!AZ629))","v":"0"}]
[null,null,null,null,null,null,null,null,null,null,null,null,null,null,null,null,null,null,null,null,null,null,null,null,null,null,null,null,null,null,null,null,null,null,null,null,null,null,null,null,null,null,null,null,null,null,null,null,null,null,null,null,null,null,null,null,null,null,null,null,null,null,null,null,null,null,null,null,null,null,null,null,null,null,null,null,null,{"$f":"IF(DE_Capacity!AV630=\" \",\" \",DE_Capacity!AV630)","v":0},{"$f":"IF(ISERR(DE_Capacity!AX630),\"0\",IF(DE_Capacity!AX630=\" \",\"0\",DE_Capacity!AX630))","v":"0"},{"$f":"IF(ISERR(DE_Capacity!AZ630),\"0\",IF(DE_Capacity!AZ630=\" \",\"0\",DE_Capacity!AZ630))","v":"0"}]
[null,null,null,null,null,null,null,null,null,null,null,null,null,null,null,null,null,null,null,null,null,null,null,null,null,null,null,null,null,null,null,null,null,null,null,null,null,null,null,null,null,null,null,null,null,null,null,null,null,null,null,null,null,null,null,null,null,null,null,null,null,null,null,null,null,null,null,null,null,null,null,null,null,null,null,null,null,{"$f":"IF(DE_Capacity!AV631=\" \",\" \",DE_Capacity!AV631)","v":0},{"$f":"IF(ISERR(DE_Capacity!AX631),\"0\",IF(DE_Capacity!AX631=\" \",\"0\",DE_Capacity!AX631))","v":"0"},{"$f":"IF(ISERR(DE_Capacity!AZ631),\"0\",IF(DE_Capacity!AZ631=\" \",\"0\",DE_Capacity!AZ631))","v":"0"}]
[null,null,null,null,null,null,null,null,null,null,null,null,null,null,null,null,null,null,null,null,null,null,null,null,null,null,null,null,null,null,null,null,null,null,null,null,null,null,null,null,null,null,null,null,null,null,null,null,null,null,null,null,null,null,null,null,null,null,null,null,null,null,null,null,null,null,null,null,null,null,null,null,null,null,null,null,null,{"$f":"IF(DE_Capacity!AV632=\" \",\" \",DE_Capacity!AV632)","v":0},{"$f":"IF(ISERR(DE_Capacity!AX632),\"0\",IF(DE_Capacity!AX632=\" \",\"0\",DE_Capacity!AX632))","v":"0"},{"$f":"IF(ISERR(DE_Capacity!AZ632),\"0\",IF(DE_Capacity!AZ632=\" \",\"0\",DE_Capacity!AZ632))","v":"0"}]
[null,null,null,null,null,null,null,null,null,null,null,null,null,null,null,null,null,null,null,null,null,null,null,null,null,null,null,null,null,null,null,null,null,null,null,null,null,null,null,null,null,null,null,null,null,null,null,null,null,null,null,null,null,null,null,null,null,null,null,null,null,null,null,null,null,null,null,null,null,null,null,null,null,null,null,null,null,{"$f":"IF(DE_Capacity!AV633=\" \",\" \",DE_Capacity!AV633)","v":0},{"$f":"IF(ISERR(DE_Capacity!AX633),\"0\",IF(DE_Capacity!AX633=\" \",\"0\",DE_Capacity!AX633))","v":"0"},{"$f":"IF(ISERR(DE_Capacity!AZ633),\"0\",IF(DE_Capacity!AZ633=\" \",\"0\",DE_Capacity!AZ633))","v":"0"}]
[null,null,null,null,null,null,null,null,null,null,null,null,null,null,null,null,null,null,null,null,null,null,null,null,null,null,null,null,null,null,null,null,null,null,null,null,null,null,null,null,null,null,null,null,null,null,null,null,null,null,null,null,null,null,null,null,null,null,null,null,null,null,null,null,null,null,null,null,null,null,null,null,null,null,null,null,null,{"$f":"IF(DE_Capacity!AV634=\" \",\" \",DE_Capacity!AV634)","v":0},{"$f":"IF(ISERR(DE_Capacity!AX634),\"0\",IF(DE_Capacity!AX634=\" \",\"0\",DE_Capacity!AX634))","v":"0"},{"$f":"IF(ISERR(DE_Capacity!AZ634),\"0\",IF(DE_Capacity!AZ634=\" \",\"0\",DE_Capacity!AZ634))","v":"0"}]
[null,null,null,null,null,null,null,null,null,null,null,null,null,null,null,null,null,null,null,null,null,null,null,null,null,null,null,null,null,null,null,null,null,null,null,null,null,null,null,null,null,null,null,null,null,null,null,null,null,null,null,null,null,null,null,null,null,null,null,null,null,null,null,null,null,null,null,null,null,null,null,null,null,null,null,null,null,{"$f":"IF(DE_Capacity!AV635=\" \",\" \",DE_Capacity!AV635)","v":0},{"$f":"IF(ISERR(DE_Capacity!AX635),\"0\",IF(DE_Capacity!AX635=\" \",\"0\",DE_Capacity!AX635))","v":"0"},{"$f":"IF(ISERR(DE_Capacity!AZ635),\"0\",IF(DE_Capacity!AZ635=\" \",\"0\",DE_Capacity!AZ635))","v":"0"}]
[null,"Detail",null,null,null,null,null,null,null,null,null,null,null,null,null,null,null,null,null,null,null,null,null,null,null,null,null,null,null,null,null,null,null,null,null,null,null,null,null,null,null,null,null,null,null,null,null,null,null,null,null,null,null,null,null,null,null,null,null,null,null,null,null,null,null,null,null,null,null,null,null,null,null,null,null,null,null,{"$f":"IF(DE_Capacity!AV636=\" \",\" \",DE_Capacity!AV636)","v":0},{"$f":"IF(ISERR(DE_Capacity!AX636),\"0\",IF(DE_Capacity!AX636=\" \",\"0\",DE_Capacity!AX636))","v":"0"},{"$f":"IF(ISERR(DE_Capacity!AZ636),\"0\",IF(DE_Capacity!AZ636=\" \",\"0\",DE_Capacity!AZ636))","v":"0"}]
[null,null,null,null,null,null,null,null,null,null,null,null,null,null,null,null,null,null,null,null,null,null,null,null,null,null,null,null,null,null,null,null,null,null,null,null,null,null,null,null,null,null,null,null,null,null,null,null,null,null,null,null,null,null,null,null,null,null,null,null,null,null,null,null,null,null,null,null,null,null,null,null,null,null,null,null,null,{"$f":"IF(DE_Capacity!AV637=\" \",\" \",DE_Capacity!AV637)","v":0},{"$f":"IF(ISERR(DE_Capacity!AX637),\"0\",IF(DE_Capacity!AX637=\" \",\"0\",DE_Capacity!AX637))","v":"0"},{"$f":"IF(ISERR(DE_Capacity!AZ637),\"0\",IF(DE_Capacity!AZ637=\" \",\"0\",DE_Capacity!AZ637))","v":"0"}]
[null,"Indicator",null,"Description",null,null,null,null,null,"Average"]
[]
[null,null,null,"Maximum Value ==>",null,null,null,null,null,{"$f":"+DE_Capacity!$C$523","v":4}]
[]
[null,{"$f":"IF(+Calculations!B56=0,\" \",+Calculations!B56)","v":" "},null,{"$f":"IF(Calculations!C56=0,\" \",Calculations!C56)","v":" "},null,null,null,null,null,{"$f":"IF(ISERR(Calculations!F56),\" \",Calculations!F56)","v":" "}]
[null,{"$f":"IF(+Calculations!B57=0,\" \",+Calculations!B57)","v":" "},null,{"$f":"IF(Calculations!C57=0,\" \",Calculations!C57)","v":" "},null,null,null,null,null,{"$f":"IF(ISERR(Calculations!F57),\" \",Calculations!F57)","v":" "}]
[null,{"$f":"IF(+Calculations!B58=0,\" \",+Calculations!B58)","v":" "},null,{"$f":"IF(Calculations!C58=0,\" \",Calculations!C58)","v":" "},null,null,null,null,null,{"$f":"IF(ISERR(Calculations!F58),\" \",Calculations!F58)","v":" "}]
[null,{"$f":"IF(+Calculations!B59=0,\" \",+Calculations!B59)","v":" "},null,{"$f":"IF(Calculations!C59=0,\" \",Calculations!C59)","v":" "},null,null,null,null,null,{"$f":"IF(ISERR(Calculations!F59),\" \",Calculations!F59)","v":" "}]
[null,{"$f":"IF(+Calculations!B60=0,\" \",+Calculations!B60)","v":" "},null,{"$f":"IF(Calculations!C60=0,\" \",Calculations!C60)","v":" "},null,null,null,null,null,{"$f":"IF(ISERR(Calculations!F60),\" \",Calculations!F60)","v":" "}]
[null,{"$f":"IF(+Calculations!B61=0,\" \",+Calculations!B61)","v":" "},null,{"$f":"IF(Calculations!C61=0,\" \",Calculations!C61)","v":" "},null,null,null,null,null,{"$f":"IF(ISERR(Calculations!F61),\" \",Calculations!F61)","v":" "}]
[null,{"$f":"IF(+Calculations!B62=0,\" \",+Calculations!B62)","v":" "},null,{"$f":"IF(Calculations!C62=0,\" \",Calculations!C62)","v":" "},null,null,null,null,null,{"$f":"IF(ISERR(Calculations!F62),\" \",Calculations!F62)","v":" "}]
[null,{"$f":"IF(+Calculations!B63=0,\" \",+Calculations!B63)","v":" "},null,{"$f":"IF(Calculations!C63=0,\" \",Calculations!C63)","v":" "},null,null,null,null,null,{"$f":"IF(ISERR(Calculations!F63),\" \",Calculations!F63)","v":" "}]
[null,{"$f":"IF(+Calculations!B64=0,\" \",+Calculations!B64)","v":" "},null,{"$f":"IF(Calculations!C64=0,\" \",Calculations!C64)","v":" "},null,null,null,null,null,{"$f":"IF(ISERR(Calculations!F64),\" \",Calculations!F64)","v":" "}]
[null,{"$f":"IF(+Calculations!B65=0,\" \",+Calculations!B65)","v":" "},null,{"$f":"IF(Calculations!C65=0,\" \",Calculations!C65)","v":" "},null,null,null,null,null,{"$f":"IF(ISERR(Calculations!F65),\" \",Calculations!F65)","v":" "}]
[null,{"$f":"IF(+Calculations!B66=0,\" \",+Calculations!B66)","v":" "},null,{"$f":"IF(Calculations!C66=0,\" \",Calculations!C66)","v":" "},null,null,null,null,null,{"$f":"IF(ISERR(Calculations!F66),\" \",Calculations!F66)","v":" "}]
[null,{"$f":"IF(+Calculations!B67=0,\" \",+Calculations!B67)","v":" "},null,{"$f":"IF(Calculations!C67=0,\" \",Calculations!C67)","v":" "},null,null,null,null,null,{"$f":"IF(ISERR(Calculations!F67),\" \",Calculations!F67)","v":" "}]
[null,{"$f":"IF(+Calculations!B68=0,\" \",+Calculations!B68)","v":" "},null,{"$f":"IF(Calculations!C68=0,\" \",Calculations!C68)","v":" "},null,null,null,null,null,{"$f":"IF(ISERR(Calculations!F68),\" \",Calculations!F68)","v":" "}]
[null,{"$f":"IF(+Calculations!B69=0,\" \",+Calculations!B69)","v":" "},null,{"$f":"IF(Calculations!C69=0,\" \",Calculations!C69)","v":" "},null,null,null,null,null,{"$f":"IF(ISERR(Calculations!F69),\" \",Calculations!F69)","v":" "}]
[null,{"$f":"IF(+Calculations!B70=0,\" \",+Calculations!B70)","v":" "},null,{"$f":"IF(Calculations!C70=0,\" \",Calculations!C70)","v":" "},null,null,null,null,null,{"$f":"IF(ISERR(Calculations!F70),\" \",Calculations!F70)","v":" "}]

{"sheet":"V","index":11,"n_rows":43,"n_cols":104,"rows_kept":43,"cut":false,"hidden":false,"merged":[[36,3,36,7],[1,1,1,9],[24,3,24,7],[26,3,26,7],[28,3,28,7],[29,3,29,7],[30,3,30,7],[31,3,31,7],[32,3,32,7],[33,3,33,7],[34,3,34,7],[35,3,35,7],[45,1,50,9],[37,3,37,7],[38,3,38,7],[39,3,39,7],[40,3,40,7],[41,3,41,7],[42,3,42,7]]}
[]
[null,{"$f":"+'DE_Areas & Ind'!AA6","v":0}]
[]
[null," Ranking Capacity",null,null,{"$f":"IF(DE_Capacity!AII507='DE_Areas & Ind'!$AA$7,DE_Capacity!AII510,(IF(DE_Capacity!AIJ507='DE_Areas & Ind'!$AA$7,DE_Capacity!AIJ510,(IF(DE_Capacity!AIK507='DE_Areas & Ind'!$AA$7,DE_Capacity!AIK510,(IF(DE_Capacity!AIL507='DE_Areas & Ind'!$AA$7,DE_Capacity!AIL510,(IF(DE_Capacity!AIM507='DE_Areas & Ind'!$AA$7,DE_Capacity!AIM510,(IF(DE_Capacity!AIN507='DE_Areas & Ind'!$AA$7,DE_Capacity!AIN510,(IF(DE_Capacity!AIO507='DE_Areas & Ind'!$AA$7,DE_Capacity!AIO510,(IF(DE_Capacity!AIP507='DE_Areas & Ind'!$AA$7,DE_Capacity!AIP510,(IF(DE_Capacity!AIQ507='DE_Areas & Ind'!$AA$7,DE_Capacity!AIQ510,(IF(DE_Capacity!AIR507='DE_Areas & Ind'!$AA$7,DE_Capacity!AIR510,\" \")))))))))))))))))))","v":{"$error":"#VALUE!"}}]
[]
[null,null,null,null,null,null,null,null,null,null,null,null,null,null,null,null,null,null,null,null,null,null,null,null,null,null,null,null,null,null,null,null,null,null,null,null,null,null,null,null,null,null,null,null,null,null,null,null,null,null,null,null,null,null,null,null,null,null,null,null,null,null,null,null,null,null,null,null,null,null,null,null,null,null,null,null,null,null,null,null,null,null,null,null,null,null,null,null,null,null,null,null,null,null,null,null,null,null,"Mediana","Mínimo","Máximo",null,"Min_Adj","Max_Adj"]
[null,null,null,null,null,null,null,null,null,null,null,null,null,null,null,null,null,null,null,null,null,null,null,null,null,null,null,null,null,null,null,null,null,null,null,null,null,null,null,null,null,null,null,null,null,null,null,null,null,null,null,null,null,null,null,null,null,null,null,null,null,null,null,null,null,null,null,null,null,null,null,null,null,null,null,null,null,null,null,null,null,null,null,null,null,null,null,null,null,null,null,null,null,null,null,null,null,null,{"$f":"MEDIAN(CE10:CE24)","v":{"$error":"#NUM!"}},{"$f":"MIN(CE10:CE24)","v":0},{"$f":"MAX(CE10:CE24)","v":0}]
[null,null,null,null,null,null,null,null,null,null,null,null,null,null,null,null,null,null,null,null,null,null,null,null,null,null,null,null,null,null,null,null,null,null,null,null,null,null,null,null,null,null,null,null,null,null,null,null,null,null,null,null,null,null,null,null,null,null,null,null,null,null,null,null,null,null,null,null,null,null,null,null,null,null,null,null,null,null,null,null,null,null,null,null,null,null,null,null,null,null,null,null,null,null,null,null,null,null,{"$f":"MEDIAN(CF10:CF24)","v":{"$error":"#NUM!"}},{"$f":"MIN(CF10:CF24)","v":0},{"$f":"MAX(CF10:CF24)","v":0}]
[null,null,null,null,null,null,null,null,null,null,null,null,null,null,null,null,null,null,null,null,null,null,null,null,null,null,null,null,null,null,null,null,null,null,null,null,null,null,null,null,null,null,null,null,null,null,null,null,null,null,null,null,null,null,null,null,null,null,null,null,null,null,null,null,null,null,null,null,null,null,null,null,null,null,null,null,null,null,"Capacidad","Consenso",null,null,"Capacidad","Consenso"]
[null,null,null,null,null,null,null,null,null,null,null,null,null,null,null,null,null,null,null,null,null,null,null,null,null,null,null,null,null,null,null,null,null,null,null,null,null,null,null,null,null,null,null,null,null,null,null,null,null,null,null,null,null,null,null,null,null,null,null,null,null,null,null,null,null,null,null,null,null,null,null,null,null,null,null,null,null,{"$f":"IF(DE_Capacity!BK623=\" \",\" \",DE_Capacity!BK623)","v":0},{"$f":"IF(ISERR(DE_Capacity!BM623),\"0\",IF(DE_Capacity!BM623=\" \",\"0\",DE_Capacity!BM623))","v":"0"},{"$f":"IF(ISERR(DE_Capacity!BO623),\"0\",IF(DE_Capacity!BO623=\" \",\"0\",DE_Capacity!BO623))","v":"0"}]
[null,null,null,null,null,null,null,null,null,null,null,null,null,null,null,null,null,null,null,null,null,null,null,null,null,null,null,null,null,null,null,null,null,null,null,null,null,null,null,null,null,null,null,null,null,null,null,null,null,null,null,null,null,null,null,null,null,null,null,null,null,null,null,null,null,null,null,null,null,null,null,null,null,null,null,null,null,{"$f":"IF(DE_Capacity!BK624=\" \",\" \",DE_Capacity!BK624)","v":0},{"$f":"IF(ISERR(DE_Capacity!BM624),\"0\",IF(DE_Capacity!BM624=\" \",\"0\",DE_Capacity!BM624))","v":"0"},{"$f":"IF(ISERR(DE_Capacity!BO624),\"0\",IF(DE_Capacity!BO624=\" \",\"0\",DE_Capacity!BO624))","v":"0"}]
[null,null,null,null,null,null,null,null,null,null,null,null,null,null,null,null,null,null,null,null,null,null,null,null,null,null,null,null,null,null,null,null,null,null,null,null,null,null,null,null,null,null,null,null,null,null,null,null,null,null,null,null,null,null,null,null,null,null,null,null,null,null,null,null,null,null,null,null,null,null,null,null,null,null,null,null,null,{"$f":"IF(DE_Capacity!BK625=\" \",\" \",DE_Capacity!BK625)","v":0},{"$f":"IF(ISERR(DE_Capacity!BM625),\"0\",IF(DE_Capacity!BM625=\" \",\"0\",DE_Capacity!BM625))","v":"0"},{"$f":"IF(ISERR(DE_Capacity!BO625),\"0\",IF(DE_Capacity!BO625=\" \",\"0\",DE_Capacity!BO625))","v":"0"}]
[null,null,null,null,null,null,null,null,null,null,null,null,null,null,null,null,null,null,null,null,null,null,null,null,null,null,null,null,null,null,null,null,null,null,null,null,null,null,null,null,null,null,null,null,null,null,null,null,null,null,null,null,null,null,null,null,null,null,null,null,null,null,null,null,null,null,null,null,null,null,null,null,null,null,null,null,null,{"$f":"IF(DE_Capacity!BK626=\" \",\" \",DE_Capacity!BK626)","v":0},{"$f":"IF(ISERR(DE_Capacity!BM626),\"0\",IF(DE_Capacity!BM626=\" \",\"0\",DE_Capacity!BM626))","v":"0"},{"$f":"IF(ISERR(DE_Capacity!BO626),\"0\",IF(DE_Capacity!BO626=\" \",\"0\",DE_Capacity!BO626))","v":"0"}]
[null,null,null,null,null,null,null,null,null,null,null,null,null,null,null,null,null,null,null,null,null,null,null,null,null,null,null,null,null,null,null,null,null,null,null,null,null,null,null,null,null,null,null,null,null,null,null,null,null,null,null,null,null,null,null,null,null,null,null,null,null,null,null,null,null,null,null,null,null,null,null,null,null,null,null,null,null,{"$f":"IF(DE_Capacity!BK627=\" \",\" \",DE_Capacity!BK627)","v":0},{"$f":"IF(ISERR(DE_Capacity!BM627),\"0\",IF(DE_Capacity!BM627=\" \",\"0\",DE_Capacity!BM627))","v":"0"},{"$f":"IF(ISERR(DE_Capacity!BO627),\"0\",IF(DE_Capacity!BO627=\" \",\"0\",DE_Capacity!BO627))","v":"0"}]
[null,null,null,null,null,null,null,null,null,null,null,null,null,null,null,null,null,null,null,null,null,null,null,null,null,null,null,null,null,null,null,null,null,null,null,null,null,null,null,null,null,null,null,null,null,null,null,null,null,null,null,null,null,null,null,null,null,null,null,null,null,null,null,null,null,null,null,null,null,null,null,null,null,null,null,null,null,{"$f":"IF(DE_Capacity!BK628=\" \",\" \",DE_Capacity!BK628)","v":0},{"$f":"IF(ISERR(DE_Capacity!BM628),\"0\",IF(DE_Capacity!BM628=\" \",\"0\",DE_Capacity!BM628))","v":"0"},{"$f":"IF(ISERR(DE_Capacity!BO628),\"0\",IF(DE_Capacity!BO628=\" \",\"0\",DE_Capacity!BO628))","v":"0"}]
[null,null,null,null,null,null,null,null,null,null,null,null,null,null,null,null,null,null,null,null,null,null,null,null,null,null,null,null,null,null,null,null,null,null,null,null,null,null,null,null,null,null,null,null,null,null,null,null,null,null,null,null,null,null,null,null,null,null,null,null,null,null,null,null,null,null,null,null,null,null,null,null,null,null,null,null,null,{"$f":"IF(DE_Capacity!BK629=\" \",\" \",DE_Capacity!BK629)","v":0},{"$f":"IF(ISERR(DE_Capacity!BM629),\"0\",IF(DE_Capacity!BM629=\" \",\"0\",DE_Capacity!BM629))","v":"0"},{"$f":"IF(ISERR(DE_Capacity!BO629),\"0\",IF(DE_Capacity!BO629=\" \",\"0\",DE_Capacity!BO629))","v":"0"}]
[null,null,null,null,null,null,null,null,null,null,null,null,null,null,null,null,null,null,null,null,null,null,null,null,null,null,null,null,null,null,null,null,null,null,null,null,null,null,null,null,null,null,null,null,null,null,null,null,null,null,null,null,null,null,null,null,null,null,null,null,null,null,null,null,null,null,null,null,null,null,null,null,null,null,null,null,null,{"$f":"IF(DE_Capacity!BK630=\" \",\" \",DE_Capacity!BK630)","v":0},{"$f":"IF(ISERR(DE_Capacity!BM630),\"0\",IF(DE_Capacity!BM630=\" \",\"0\",DE_Capacity!BM630))","v":"0"},{"$f":"IF(ISERR(DE_Capacity!BO630),\"0\",IF(DE_Capacity!BO630=\" \",\"0\",DE_Capacity!BO630))","v":"0"}]
[null,null,null,null,null,null,null,null,null,null,null,null,null,null,null,null,null,null,null,null,null,null,null,null,null,null,null,null,null,null,null,null,null,null,null,null,null,null,null,null,null,null,null,null,null,null,null,null,null,null,null,null,null,null,null,null,null,null,null,null,null,null,null,null,null,null,null,null,null,null,null,null,null,null,null,null,null,{"$f":"IF(DE_Capacity!BK631=\" \",\" \",DE_Capacity!BK631)","v":0},{"$f":"IF(ISERR(DE_Capacity!BM631),\"0\",IF(DE_Capacity!BM631=\" \",\"0\",DE_Capacity!BM631))","v":"0"},{"$f":"IF(ISERR(DE_Capacity!BO631),\"0\",IF(DE_Capacity!BO631=\" \",\"0\",DE_Capacity!BO631))","v":"0"}]
[null,null,null,null,null,null,null,null,null,null,null,null,null,null,null,null,null,null,null,null,null,null,null,null,null,null,null,null,null,null,null,null,null,null,null,null,null,null,null,null,null,null,null,null,null,null,null,null,null,null,null,null,null,null,null,null,null,null,null,null,null,null,null,null,null,null,null,null,null,null,null,null,null,null,null,null,null,{"$f":"IF(DE_Capacity!BK632=\" \",\" \",DE_Capacity!BK632)","v":0},{"$f":"IF(ISERR(DE_Capacity!BM632),\"0\",IF(DE_Capacity!BM632=\" \",\"0\",DE_Capacity!BM632))","v":"0"},{"$f":"IF(ISERR(DE_Capacity!BO632),\"0\",IF(DE_Capacity!BO632=\" \",\"0\",DE_Capacity!BO632))","v":"0"}]
[null,null,null,null,null,null,null,null,null,null,null,null,null,null,null,null,null,null,null,null,null,null,null,null,null,null,null,null,null,null,null,null,null,null,null,null,null,null,null,null,null,null,null,null,null,null,null,null,null,null,null,null,null,null,null,null,null,null,null,null,null,null,null,null,null,null,null,null,null,null,null,null,null,null,null,null,null,{"$f":"IF(DE_Capacity!BK633=\" \",\" \",DE_Capacity!BK633)","v":0},{"$f":"IF(ISERR(DE_Capacity!BM633),\"0\",IF(DE_Capacity!BM633=\" \",\"0\",DE_Capacity!BM633))","v":"0"},{"$f":"IF(ISERR(DE_Capacity!BO633),\"0\",IF(DE_Capacity!BO633=\" \",\"0\",DE_Capacity!BO633))","v":"0"}]
[null,null,null,null,null,null,null,null,null,null,null,null,null,null,null,null,null,null,null,null,null,null,null,null,null,null,null,null,null,null,null,null,null,null,null,null,null,null,null,null,null,null,null,null,null,null,null,null,null,null,null,null,null,null,null,null,null,null,null,null,null,null,null,null,null,null,null,null,null,null,null,null,null,null,null,null,null,{"$f":"IF(DE_Capacity!BK634=\" \",\" \",DE_Capacity!BK634)","v":0},{"$f":"IF(ISERR(DE_Capacity!BM634),\"0\",IF(DE_Capacity!BM634=\" \",\"0\",DE_Capacity!BM634))","v":"0"},{"$f":"IF(ISERR(DE_Capacity!BO634),\"0\",IF(DE_Capacity!BO634=\" \",\"0\",DE_Capacity!BO634))","v":"0"}]
[null,null,null,null,null,null,null,null,null,null,null,null,null,null,null,null,null,null,null,null,null,null,null,null,null,null,null,null,null,null,null,null,null,null,null,null,null,null,null,null,null,null,null,null,null,null,null,null,null,null,null,null,null,null,null,null,null,null,null,null,null,null,null,null,null,null,null,null,null,null,null,null,null,null,null,null,null,{"$f":"IF(DE_Capacity!BK635=\" \",\" \",DE_Capacity!BK635)","v":0},{"$f":"IF(ISERR(DE_Capacity!BM635),\"0\",IF(DE_Capacity!BM635=\" \",\"0\",DE_Capacity!BM635))","v":"0"},{"$f":"IF(ISERR(DE_Capacity!BO635),\"0\",IF(DE_Capacity!BO635=\" \",\"0\",DE_Capacity!BO635))","v":"0"}]
[null,"Detail",null,null,null,null,null,null,null,null,null,null,null,null,null,null,null,null,null,null,null,null,null,null,null,null,null,null,null,null,null,null,null,null,null,null,null,null,null,null,null,null,null,null,null,null,null,null,null,null,null,null,null,null,null,null,null,null,null,null,null,null,null,null,null,null,null,null,null,null,null,null,null,null,null,null,null,{"$f":"IF(DE_Capacity!BK636=\" \",\" \",DE_Capacity!BK636)","v":0},{"$f":"IF(ISERR(DE_Capacity!BM636),\"0\",IF(DE_Capacity!BM636=\" \",\"0\",DE_Capacity!BM636))","v":"0"},{"$f":"IF(ISERR(DE_Capacity!BO636),\"0\",IF(DE_Capacity!BO636=\" \",\"0\",DE_Capacity!BO636))","v":"0"}]
[null,null,null,null,null,null,null,null,null,null,null,null,null,null,null,null,null,null,null,null,null,null,null,null,null,null,null,null,null,null,null,null,null,null,null,null,null,null,null,null,null,null,null,null,null,null,null,null,null,null,null,null,null,null,null,null,null,null,null,null,null,null,null,null,null,null,null,null,null,null,null,null,null,null,null,null,null,{"$f":"IF(DE_Capacity!BK637=\" \",\" \",DE_Capacity!BK637)","v":0},{"$f":"IF(ISERR(DE_Capacity!BM637),\"0\",IF(DE_Capacity!BM637=\" \",\"0\",DE_Capacity!BM637))","v":"0"},{"$f":"IF(ISERR(DE_Capacity!BO637),\"0\",IF(DE_Capacity!BO637=\" \",\"0\",DE_Capacity!BO637))","v":"0"}]
[null,"Indicator",null,"Description",null,null,null,null,null,"Average"]
[]
[null,null,null,"Maximum Value ==>",null,null,null,null,null,{"$f":"+DE_Capacity!$C$523","v":4}]
[]
[null,{"$f":"IF(+Calculations!B71=0,\" \",+Calculations!B71)","v":" "},null,{"$f":"IF(Calculations!C71=0,\" \",Calculations!C71)","v":" "},null,null,null,null,null,{"$f":"IF(ISERR(Calculations!F71),\" \",Calculations!F71)","v":" "}]
[null,{"$f":"IF(+Calculations!B72=0,\" \",+Calculations!B72)","v":" "},null,{"$f":"IF(Calculations!C72=0,\" \",Calculations!C72)","v":" "},null,null,null,null,null,{"$f":"IF(ISERR(Calculations!F72),\" \",Calculations!F72)","v":" "}]
[null,{"$f":"IF(+Calculations!B73=0,\" \",+Calculations!B73)","v":" "},null,{"$f":"IF(Calculations!C73=0,\" \",Calculations!C73)","v":" "},null,null,null,null,null,{"$f":"IF(ISERR(Calculations!F73),\" \",Calculations!F73)","v":" "}]
[null,{"$f":"IF(+Calculations!B74=0,\" \",+Calculations!B74)","v":" "},null,{"$f":"IF(Calculations!C74=0,\" \",Calculations!C74)","v":" "},null,null,null,null,null,{"$f":"IF(ISERR(Calculations!F74),\" \",Calculations!F74)","v":" "}]
[null,{"$f":"IF(+Calculations!B75=0,\" \",+Calculations!B75)","v":" "},null,{"$f":"IF(Calculations!C75=0,\" \",Calculations!C75)","v":" "},null,null,null,null,null,{"$f":"IF(ISERR(Calculations!F75),\" \",Calculations!F75)","v":" "}]
[null,{"$f":"IF(+Calculations!B76=0,\" \",+Calculations!B76)","v":" "},null,{"$f":"IF(Calculations!C76=0,\" \",Calculations!C76)","v":" "},null,null,null,null,null,{"$f":"IF(ISERR(Calculations!F76),\" \",Calculations!F76)","v":" "}]
[null,{"$f":"IF(+Calculations!B77=0,\" \",+Calculations!B77)","v":" "},null,{"$f":"IF(Calculations!C77=0,\" \",Calculations!C77)","v":" "},null,null,null,null,null,{"$f":"IF(ISERR(Calculations!F77),\" \",Calculations!F77)","v":" "}]
[null,{"$f":"IF(+Calculations!B78=0,\" \",+Calculations!B78)","v":" "},null,{"$f":"IF(Calculations!C78=0,\" \",Calculations!C78)","v":" "},null,null,null,null,null,{"$f":"IF(ISERR(Calculations!F78),\" \",Calculations!F78)","v":" "}]
[null,{"$f":"IF(+Calculations!B79=0,\" \",+Calculations!B79)","v":" "},null,{"$f":"IF(Calculations!C79=0,\" \",Calculations!C79)","v":" "},null,null,null,null,null,{"$f":"IF(ISERR(Calculations!F79),\" \",Calculations!F79)","v":" "}]
[null,{"$f":"IF(+Calculations!B80=0,\" \",+Calculations!B80)","v":" "},null,{"$f":"IF(Calculations!C80=0,\" \",Calculations!C80)","v":" "},null,null,null,null,null,{"$f":"IF(ISERR(Calculations!F80),\" \",Calculations!F80)","v":" "}]
[null,{"$f":"IF(+Calculations!B81=0,\" \",+Calculations!B81)","v":" "},null,{"$f":"IF(Calculations!C81=0,\" \",Calculations!C81)","v":" "},null,null,null,null,null,{"$f":"IF(ISERR(Calculations!F81),\" \",Calculations!F81)","v":" "}]
[null,{"$f":"IF(+Calculations!B82=0,\" \",+Calculations!B82)","v":" "},null,{"$f":"IF(Calculations!C82=0,\" \",Calculations!C82)","v":" "},null,null,null,null,null,{"$f":"IF(ISERR(Calculations!F82),\" \",Calculations!F82)","v":" "}]
[null,{"$f":"IF(+Calculations!B83=0,\" \",+Calculations!B83)","v":" "},null,{"$f":"IF(Calculations!C83=0,\" \",Calculations!C83)","v":" "},null,null,null,null,null,{"$f":"IF(ISERR(Calculations!F83),\" \",Calculations!F83)","v":" "}]
[null,{"$f":"IF(+Calculations!B84=0,\" \",+Calculations!B84)","v":" "},null,{"$f":"IF(Calculations!C84=0,\" \",Calculations!C84)","v":" "},null,null,null,null,null,{"$f":"IF(ISERR(Calculations!F84),\" \",Calculations!F84)","v":" "}]
[null,{"$f":"IF(+Calculations!B85=0,\" \",+Calculations!B85)","v":" "},null,{"$f":"IF(Calculations!C85=0,\" \",Calculations!C85)","v":" "},null,null,null,null,null,{"$f":"IF(ISERR(Calculations!F85),\" \",Calculations!F85)","v":" "}]

{"sheet":"VI","index":12,"n_rows":45,"n_cols":104,"rows_kept":45,"cut":false,"hidden":false,"merged":[[36,3,36,7],[1,1,1,9],[24,3,24,7],[26,3,26,7],[28,3,28,7],[29,3,29,7],[30,3,30,7],[31,3,31,7],[32,3,32,7],[33,3,33,7],[34,3,34,7],[35,3,35,7],[45,1,50,9],[37,3,37,7],[38,3,38,7],[39,3,39,7],[40,3,40,7],[41,3,41,7],[42,3,42,7]]}
[]
[null,{"$f":"+'DE_Areas & Ind'!C28","v":0}]
[]
[null," Ranking Capacity",null,null,{"$f":"IF(DE_Capacity!AII507='DE_Areas & Ind'!$C$29,DE_Capacity!AII510,(IF(DE_Capacity!AIJ507='DE_Areas & Ind'!$C$29,DE_Capacity!AIJ510,(IF(DE_Capacity!AIK507='DE_Areas & Ind'!$C$29,DE_Capacity!AIK510,(IF(DE_Capacity!AIL507='DE_Areas & Ind'!$C$29,DE_Capacity!AIL510,(IF(DE_Capacity!AIM507='DE_Areas & Ind'!$C$29,DE_Capacity!AIM510,(IF(DE_Capacity!AIN507='DE_Areas & Ind'!$C$29,DE_Capacity!AIN510,(IF(DE_Capacity!AIO507='DE_Areas & Ind'!$C$29,DE_Capacity!AIO510,(IF(DE_Capacity!AIP507='DE_Areas & Ind'!$C$29,DE_Capacity!AIP510,(IF(DE_Capacity!AIQ507='DE_Areas & Ind'!$C$29,DE_Capacity!AIQ510,(IF(DE_Capacity!AIR507='DE_Areas & Ind'!$C$29,DE_Capacity!AIR510,\" \")))))))))))))))))))","v":{"$error":"#VALUE!"}}]
[]
[null,null,null,null,null,null,null,null,null,null,null,null,null,null,null,null,null,null,null,null,null,null,null,null,null,null,null,null,null,null,null,null,null,null,null,null,null,null,null,null,null,null,null,null,null,null,null,null,null,null,null,null,null,null,null,null,null,null,null,null,null,null,null,null,null,null,null,null,null,null,null,null,null,null,null,null,null,null,null,null,null,null,null,null,null,null,null,null,null,null,null,null,null,null,null,null,null,null,"Mediana","Mínimo","Máximo",null,"Min_Adj","Max_Adj"]
[null,null,null,null,null,null,null,null,null,null,null,null,null,null,null,null,null,null,null,null,null,null,null,null,null,null,null,null,null,null,null,null,null,null,null,null,null,null,null,null,null,null,null,null,null,null,null,null,null,null,null,null,null,null,null,null,null,null,null,null,null,null,null,null,null,null,null,null,null,null,null,null,null,null,null,null,null,null,null,null,null,null,null,null,null,null,null,null,null,null,null,null,null,null,null,null,null,null,{"$f":"MEDIAN(CE10:CE24)","v":{"$error":"#NUM!"}},{"$f":"MIN(CE10:CE24)","v":0},{"$f":"MAX(CE10:CE24)","v":0}]
[null,null,null,null,null,null,null,null,null,null,null,null,null,null,null,null,null,null,null,null,null,null,null,null,null,null,null,null,null,null,null,null,null,null,null,null,null,null,null,null,null,null,null,null,null,null,null,null,null,null,null,null,null,null,null,null,null,null,null,null,null,null,null,null,null,null,null,null,null,null,null,null,null,null,null,null,null,null,null,null,null,null,null,null,null,null,null,null,null,null,null,null,null,null,null,null,null,null,{"$f":"MEDIAN(CF10:CF24)","v":{"$error":"#NUM!"}},{"$f":"MIN(CF10:CF24)","v":0},{"$f":"MAX(CF10:CF24)","v":0}]
[null,null,null,null,null,null,null,null,null,null,null,null,null,null,null,null,null,null,null,null,null,null,null,null,null,null,null,null,null,null,null,null,null,null,null,null,null,null,null,null,null,null,null,null,null,null,null,null,null,null,null,null,null,null,null,null,null,null,null,null,null,null,null,null,null,null,null,null,null,null,null,null,null,null,null,null,null,null,"Capacidad","Consenso",null,null,"Capacidad","Consenso"]
[null,null,null,null,null,null,null,null,null,null,null,null,null,null,null,null,null,null,null,null,null,null,null,null,null,null,null,null,null,null,null,null,null,null,null,null,null,null,null,null,null,null,null,null,null,null,null,null,null,null,null,null,null,null,null,null,null,null,null,null,null,null,null,null,null,null,null,null,null,null,null,null,null,null,null,null,null,{"$f":"+DE_Capacity!BZ623","v":0},{"$f":"IF(ISERR(DE_Capacity!CB623),\"0\",IF(DE_Capacity!CB623=\" \",\"0\",DE_Capacity!CB623))","v":"0"},{"$f":"IF(ISERR(DE_Capacity!CD623),\"0\",IF(DE_Capacity!CD623=\" \",\"0\",DE_Capacity!CD623))","v":"0"}]
[null,null,null,null,null,null,null,null,null,null,null,null,null,null,null,null,null,null,null,null,null,null,null,null,null,null,null,null,null,null,null,null,null,null,null,null,null,null,null,null,null,null,null,null,null,null,null,null,null,null,null,null,null,null,null,null,null,null,null,null,null,null,null,null,null,null,null,null,null,null,null,null,null,null,null,null,null,{"$f":"+DE_Capacity!BZ624","v":0},{"$f":"IF(ISERR(DE_Capacity!CB624),\"0\",IF(DE_Capacity!CB624=\" \",\"0\",DE_Capacity!CB624))","v":"0"},{"$f":"IF(ISERR(DE_Capacity!CD624),\"0\",IF(DE_Capacity!CD624=\" \",\"0\",DE_Capacity!CD624))","v":"0"}]
[null,null,null,null,null,null,null,null,null,null,null,null,null,null,null,null,null,null,null,null,null,null,null,null,null,null,null,null,null,null,null,null,null,null,null,null,null,null,null,null,null,null,null,null,null,null,null,null,null,null,null,null,null,null,null,null,null,null,null,null,null,null,null,null,null,null,null,null,null,null,null,null,null,null,null,null,null,{"$f":"+DE_Capacity!BZ625","v":0},{"$f":"IF(ISERR(DE_Capacity!CB625),\"0\",IF(DE_Capacity!CB625=\" \",\"0\",DE_Capacity!CB625))","v":"0"},{"$f":"IF(ISERR(DE_Capacity!CD625),\"0\",IF(DE_Capacity!CD625=\" \",\"0\",DE_Capacity!CD625))","v":"0"}]
[null,null,null,null,null,null,null,null,null,null,null,null,null,null,null,null,null,null,null,null,null,null,null,null,null,null,null,null,null,null,null,null,null,null,null,null,null,null,null,null,null,null,null,null,null,null,null,null,null,null,null,null,null,null,null,null,null,null,null,null,null,null,null,null,null,null,null,null,null,null,null,null,null,null,null,null,null,{"$f":"+DE_Capacity!BZ626","v":0},{"$f":"IF(ISERR(DE_Capacity!CB626),\"0\",IF(DE_Capacity!CB626=\" \",\"0\",DE_Capacity!CB626))","v":"0"},{"$f":"IF(ISERR(DE_Capacity!CD626),\"0\",IF(DE_Capacity!CD626=\" \",\"0\",DE_Capacity!CD626))","v":"0"}]
[null,null,null,null,null,null,null,null,null,null,null,null,null,null,null,null,null,null,null,null,null,null,null,null,null,null,null,null,null,null,null,null,null,null,null,null,null,null,null,null,null,null,null,null,null,null,null,null,null,null,null,null,null,null,null,null,null,null,null,null,null,null,null,null,null,null,null,null,null,null,null,null,null,null,null,null,null,{"$f":"+DE_Capacity!BZ627","v":0},{"$f":"IF(ISERR(DE_Capacity!CB627),\"0\",IF(DE_Capacity!CB627=\" \",\"0\",DE_Capacity!CB627))","v":"0"},{"$f":"IF(ISERR(DE_Capacity!CD627),\"0\",IF(DE_Capacity!CD627=\" \",\"0\",DE_Capacity!CD627))","v":"0"}]
[null,null,null,null,null,null,null,null,null,null,null,null,null,null,null,null,null,null,null,null,null,null,null,null,null,null,null,null,null,null,null,null,null,null,null,null,null,null,null,null,null,null,null,null,null,null,null,null,null,null,null,null,null,null,null,null,null,null,null,null,null,null,null,null,null,null,null,null,null,null,null,null,null,null,null,null,null,{"$f":"+DE_Capacity!BZ628","v":0},{"$f":"IF(ISERR(DE_Capacity!CB628),\"0\",IF(DE_Capacity!CB628=\" \",\"0\",DE_Capacity!CB628))","v":"0"},{"$f":"IF(ISERR(DE_Capacity!CD628),\"0\",IF(DE_Capacity!CD628=\" \",\"0\",DE_Capacity!CD628))","v":"0"}]
[null,null,null,null,null,null,null,null,null,null,null,null,null,null,null,null,null,null,null,null,null,null,null,null,null,null,null,null,null,null,null,null,null,null,null,null,null,null,null,null,null,null,null,null,null,null,null,null,null,null,null,null,null,null,null,null,null,null,null,null,null,null,null,null,null,null,null,null,null,null,null,null,null,null,null,null,null,{"$f":"+DE_Capacity!BZ629","v":0},{"$f":"IF(ISERR(DE_Capacity!CB629),\"0\",IF(DE_Capacity!CB629=\" \",\"0\",DE_Capacity!CB629))","v":"0"},{"$f":"IF(ISERR(DE_Capacity!CD629),\"0\",IF(DE_Capacity!CD629=\" \",\"0\",DE_Capacity!CD629))","v":"0"}]
[null,null,null,null,null,null,null,null,null,null,null,null,null,null,null,null,null,null,null,null,null,null,null,null,null,null,null,null,null,null,null,null,null,null,null,null,null,null,null,null,null,null,null,null,null,null,null,null,null,null,null,null,null,null,null,null,null,null,null,null,null,null,null,null,null,null,null,null,null,null,null,null,null,null,null,null,null,{"$f":"+DE_Capacity!BZ630","v":0},{"$f":"IF(ISERR(DE_Capacity!CB630),\"0\",IF(DE_Capacity!CB630=\" \",\"0\",DE_Capacity!CB630))","v":"0"},{"$f":"IF(ISERR(DE_Capacity!CD630),\"0\",IF(DE_Capacity!CD630=\" \",\"0\",DE_Capacity!CD630))","v":"0"}]
[null,null,null,null,null,null,null,null,null,null,null,null,null,null,null,null,null,null,null,null,null,null,null,null,null,null,null,null,null,null,null,null,null,null,null,null,null,null,null,null,null,null,null,null,null,null,null,null,null,null,null,null,null,null,null,null,null,null,null,null,null,null,null,null,null,null,null,null,null,null,null,null,null,null,null,null,null,{"$f":"+DE_Capacity!BZ631","v":0},{"$f":"IF(ISERR(DE_Capacity!CB631),\"0\",IF(DE_Capacity!CB631=\" \",\"0\",DE_Capacity!CB631))","v":"0"},{"$f":"IF(ISERR(DE_Capacity!CD631),\"0\",IF(DE_Capacity!CD631=\" \",\"0\",DE_Capacity!CD631))","v":"0"}]
[null,null,null,null,null,null,null,null,null,null,null,null,null,null,null,null,null,null,null,null,null,null,null,null,null,null,null,null,null,null,null,null,null,null,null,null,null,null,null,null,null,null,null,null,null,null,null,null,null,null,null,null,null,null,null,null,null,null,null,null,null,null,null,null,null,null,null,null,null,null,null,null,null,null,null,null,null,{"$f":"+DE_Capacity!BZ632","v":0},{"$f":"IF(ISERR(DE_Capacity!CB632),\"0\",IF(DE_Capacity!CB632=\" \",\"0\",DE_Capacity!CB632))","v":"0"},{"$f":"IF(ISERR(DE_Capacity!CD632),\"0\",IF(DE_Capacity!CD632=\" \",\"0\",DE_Capacity!CD632))","v":"0"}]
[null,null,null,null,null,null,null,null,null,null,null,null,null,null,null,null,null,null,null,null,null,null,null,null,null,null,null,null,null,null,null,null,null,null,null,null,null,null,null,null,null,null,null,null,null,null,null,null,null,null,null,null,null,null,null,null,null,null,null,null,null,null,null,null,null,null,null,null,null,null,null,null,null,null,null,null,null,{"$f":"+DE_Capacity!BZ633","v":0},{"$f":"IF(ISERR(DE_Capacity!CB633),\"0\",IF(DE_Capacity!CB633=\" \",\"0\",DE_Capacity!CB633))","v":"0"},{"$f":"IF(ISERR(DE_Capacity!CD633),\"0\",IF(DE_Capacity!CD633=\" \",\"0\",DE_Capacity!CD633))","v":"0"}]
[null,null,null,null,null,null,null,null,null,null,null,null,null,null,null,null,null,null,null,null,null,null,null,null,null,null,null,null,null,null,null,null,null,null,null,null,null,null,null,null,null,null,null,null,null,null,null,null,null,null,null,null,null,null,null,null,null,null,null,null,null,null,null,null,null,null,null,null,null,null,null,null,null,null,null,null,null,{"$f":"+DE_Capacity!BZ634","v":0},{"$f":"IF(ISERR(DE_Capacity!CB634),\"0\",IF(DE_Capacity!CB634=\" \",\"0\",DE_Capacity!CB634))","v":"0"},{"$f":"IF(ISERR(DE_Capacity!CD634),\"0\",IF(DE_Capacity!CD634=\" \",\"0\",DE_Capacity!CD634))","v":"0"}]
[null,null,null,null,null,null,null,null,null,null,null,null,null,null,null,null,null,null,null,null,null,null,null,null,null,null,null,null,null,null,null,null,null,null,null,null,null,null,null,null,null,null,null,null,null,null,null,null,null,null,null,null,null,null,null,null,null,null,null,null,null,null,null,null,null,null,null,null,null,null,null,null,null,null,null,null,null,{"$f":"+DE_Capacity!BZ635","v":0},{"$f":"IF(ISERR(DE_Capacity!CB635),\"0\",IF(DE_Capacity!CB635=\" \",\"0\",DE_Capacity!CB635))","v":"0"},{"$f":"IF(ISERR(DE_Capacity!CD635),\"0\",IF(DE_Capacity!CD635=\" \",\"0\",DE_Capacity!CD635))","v":"0"}]
[null,"Detail",null,null,null,null,null,null,null,null,null,null,null,null,null,null,null,null,null,null,null,null,null,null,null,null,null,null,null,null,null,null,null,null,null,null,null,null,null,null,null,null,null,null,null,null,null,null,null,null,null,null,null,null,null,null,null,null,null,null,null,null,null,null,null,null,null,null,null,null,null,null,null,null,null,null,null,{"$f":"+DE_Capacity!BZ636","v":0},{"$f":"IF(ISERR(DE_Capacity!CB636),\"0\",IF(DE_Capacity!CB636=\" \",\"0\",DE_Capacity!CB636))","v":"0"},{"$f":"IF(ISERR(DE_Capacity!CD636),\"0\",IF(DE_Capacity!CD636=\" \",\"0\",DE_Capacity!CD636))","v":"0"}]
[null,null,null,null,null,null,null,null,null,null,null,null,null,null,null,null,null,null,null,null,null,null,null,null,null,null,null,null,null,null,null,null,null,null,null,null,null,null,null,null,null,null,null,null,null,null,null,null,null,null,null,null,null,null,null,null,null,null,null,null,null,null,null,null,null,null,null,null,null,null,null,null,null,null,null,null,null,{"$f":"+DE_Capacity!BZ637","v":0},{"$f":"IF(ISERR(DE_Capacity!CB637),\"0\",IF(DE_Capacity!CB637=\" \",\"0\",DE_Capacity!CB637))","v":"0"},{"$f":"IF(ISERR(DE_Capacity!CD637),\"0\",IF(DE_Capacity!CD637=\" \",\"0\",DE_Capacity!CD637))","v":"0"}]
[null,"Indicator",null,"Description",null,null,null,null,null,"Average"]
[]
[null,null,null,"Maximum Value ==>",null,null,null,null,null,{"$f":"+DE_Capacity!$C$523","v":4}]
[]
[null,{"$f":"IF(+Calculations!B86=0,\" \",+Calculations!B86)","v":" "},null,{"$f":"IF(+Calculations!C86=0,\" \",+Calculations!C86)","v":" "},null,null,null,null,null,{"$f":"IF(ISERR(+Calculations!F86),\" \",+Calculations!F86)","v":" "}]
[null,{"$f":"IF(+Calculations!B87=0,\" \",+Calculations!B87)","v":" "},null,{"$f":"IF(+Calculations!C87=0,\" \",+Calculations!C87)","v":" "},null,null,null,null,null,{"$f":"IF(ISERR(+Calculations!F87),\" \",+Calculations!F87)","v":" "}]
[null,{"$f":"IF(+Calculations!B88=0,\" \",+Calculations!B88)","v":" "},null,{"$f":"IF(+Calculations!C88=0,\" \",+Calculations!C88)","v":" "},null,null,null,null,null,{"$f":"IF(ISERR(+Calculations!F88),\" \",+Calculations!F88)","v":" "}]
[null,{"$f":"IF(+Calculations!B89=0,\" \",+Calculations!B89)","v":" "},null,{"$f":"IF(+Calculations!C89=0,\" \",+Calculations!C89)","v":" "},null,null,null,null,null,{"$f":"IF(ISERR(+Calculations!F89),\" \",+Calculations!F89)","v":" "}]
[null,{"$f":"IF(+Calculations!B90=0,\" \",+Calculations!B90)","v":" "},null,{"$f":"IF(+Calculations!C90=0,\" \",+Calculations!C90)","v":" "},null,null,null,null,null,{"$f":"IF(ISERR(+Calculations!F90),\" \",+Calculations!F90)","v":" "}]
[null,{"$f":"IF(+Calculations!B91=0,\" \",+Calculations!B91)","v":" "},null,{"$f":"IF(+Calculations!C91=0,\" \",+Calculations!C91)","v":" "},null,null,null,null,null,{"$f":"IF(ISERR(+Calculations!F91),\" \",+Calculations!F91)","v":" "}]
[null,{"$f":"IF(+Calculations!B92=0,\" \",+Calculations!B92)","v":" "},null,{"$f":"IF(+Calculations!C92=0,\" \",+Calculations!C92)","v":" "},null,null,null,null,null,{"$f":"IF(ISERR(+Calculations!F92),\" \",+Calculations!F92)","v":" "}]
[null,{"$f":"IF(+Calculations!B93=0,\" \",+Calculations!B93)","v":" "},null,{"$f":"IF(+Calculations!C93=0,\" \",+Calculations!C93)","v":" "},null,null,null,null,null,{"$f":"IF(ISERR(+Calculations!F93),\" \",+Calculations!F93)","v":" "}]
[null,{"$f":"IF(+Calculations!B94=0,\" \",+Calculations!B94)","v":" "},null,{"$f":"IF(+Calculations!C94=0,\" \",+Calculations!C94)","v":" "},null,null,null,null,null,{"$f":"IF(ISERR(+Calculations!F94),\" \",+Calculations!F94)","v":" "}]
[null,{"$f":"IF(+Calculations!B95=0,\" \",+Calculations!B95)","v":" "},null,{"$f":"IF(+Calculations!C95=0,\" \",+Calculations!C95)","v":" "},null,null,null,null,null,{"$f":"IF(ISERR(+Calculations!F95),\" \",+Calculations!F95)","v":" "}]
[null,{"$f":"IF(+Calculations!B96=0,\" \",+Calculations!B96)","v":" "},null,{"$f":"IF(+Calculations!C96=0,\" \",+Calculations!C96)","v":" "},null,null,null,null,null,{"$f":"IF(ISERR(+Calculations!F96),\" \",+Calculations!F96)","v":" "}]
[null,{"$f":"IF(+Calculations!B97=0,\" \",+Calculations!B97)","v":" "},null,{"$f":"IF(+Calculations!C97=0,\" \",+Calculations!C97)","v":" "},null,null,null,null,null,{"$f":"IF(ISERR(+Calculations!F97),\" \",+Calculations!F97)","v":" "}]
[null,{"$f":"IF(+Calculations!B98=0,\" \",+Calculations!B98)","v":" "},null,{"$f":"IF(+Calculations!C98=0,\" \",+Calculations!C98)","v":" "},null,null,null,null,null,{"$f":"IF(ISERR(+Calculations!F98),\" \",+Calculations!F98)","v":" "}]
[null,{"$f":"IF(+Calculations!B99=0,\" \",+Calculations!B99)","v":" "},null,{"$f":"IF(+Calculations!C99=0,\" \",+Calculations!C99)","v":" "},null,null,null,null,null,{"$f":"IF(ISERR(+Calculations!F99),\" \",+Calculations!F99)","v":" "}]
[null,{"$f":"IF(+Calculations!B100=0,\" \",+Calculations!B100)","v":" "},null,{"$f":"IF(+Calculations!C100=0,\" \",+Calculations!C100)","v":" "},null,null,null,null,null,{"$f":"IF(ISERR(+Calculations!F100),\" \",+Calculations!F100)","v":" "}]
[]
[null,"Comments"]

{"sheet":"VII","index":13,"n_rows":43,"n_cols":104,"rows_kept":43,"cut":false,"hidden":false,"merged":[[36,3,36,7],[1,1,1,9],[24,3,24,7],[26,3,26,7],[28,3,28,7],[29,3,29,7],[30,3,30,7],[31,3,31,7],[32,3,32,7],[33,3,33,7],[34,3,34,7],[35,3,35,7],[45,1,50,9],[37,3,37,7],[38,3,38,7],[39,3,39,7],[40,3,40,7],[41,3,41,7],[42,3,42,7]]}
[]
[null,{"$f":"+'DE_Areas & Ind'!I28","v":0}]
[]
[null," Ranking Capacity",null,null,{"$f":"IF(DE_Capacity!AII507='DE_Areas & Ind'!$I$29,DE_Capacity!AII510,(IF(DE_Capacity!AIJ507='DE_Areas & Ind'!$I$29,DE_Capacity!AIJ510,(IF(DE_Capacity!AIK507='DE_Areas & Ind'!$I$29,DE_Capacity!AIK510,(IF(DE_Capacity!AIL507='DE_Areas & Ind'!$I$29,DE_Capacity!AIL510,(IF(DE_Capacity!AIM507='DE_Areas & Ind'!$I$29,DE_Capacity!AIM510,(IF(DE_Capacity!AIN507='DE_Areas & Ind'!$I$29,DE_Capacity!AIN510,(IF(DE_Capacity!AIO507='DE_Areas & Ind'!$I$29,DE_Capacity!AIO510,(IF(DE_Capacity!AIP507='DE_Areas & Ind'!$I$29,DE_Capacity!AIP510,(IF(DE_Capacity!AIQ507='DE_Areas & Ind'!$I$29,DE_Capacity!AIQ510,(IF(DE_Capacity!AIR507='DE_Areas & Ind'!$I$29,DE_Capacity!AIR510,\" \")))))))))))))))))))","v":{"$error":"#VALUE!"}}]
[]
[null,null,null,null,null,null,null,null,null,null,null,null,null,null,null,null,null,null,null,null,null,null,null,null,null,null,null,null,null,null,null,null,null,null,null,null,null,null,null,null,null,null,null,null,null,null,null,null,null,null,null,null,null,null,null,null,null,null,null,null,null,null,null,null,null,null,null,null,null,null,null,null,null,null,null,null,null,null,null,null,null,null,null,null,null,null,null,null,null,null,null,null,null,null,null,null,null,null,"Mediana","Mínimo","Máximo",null,"Min_Adj","Max_Adj"]
[null,null,null,null,null,null,null,null,null,null,null,null,null,null,null,null,null,null,null,null,null,null,null,null,null,null,null,null,null,null,null,null,null,null,null,null,null,null,null,null,null,null,null,null,null,null,null,null,null,null,null,null,null,null,null,null,null,null,null,null,null,null,null,null,null,null,null,null,null,null,null,null,null,null,null,null,null,null,null,null,null,null,null,null,null,null,null,null,null,null,null,null,null,null,null,null,null,null,{"$f":"MEDIAN(CE10:CE24)","v":{"$error":"#NUM!"}},{"$f":"MIN(CE10:CE24)","v":0},{"$f":"MAX(CE10:CE24)","v":0}]
[null,null,null,null,null,null,null,null,null,null,null,null,null,null,null,null,null,null,null,null,null,null,null,null,null,null,null,null,null,null,null,null,null,null,null,null,null,null,null,null,null,null,null,null,null,null,null,null,null,null,null,null,null,null,null,null,null,null,null,null,null,null,null,null,null,null,null,null,null,null,null,null,null,null,null,null,null,null,null,null,null,null,null,null,null,null,null,null,null,null,null,null,null,null,null,null,null,null,{"$f":"MEDIAN(CF10:CF24)","v":{"$error":"#NUM!"}},{"$f":"MIN(CF10:CF24)","v":0},{"$f":"MAX(CF10:CF24)","v":0}]
[null,null,null,null,null,null,null,null,null,null,null,null,null,null,null,null,null,null,null,null,null,null,null,null,null,null,null,null,null,null,null,null,null,null,null,null,null,null,null,null,null,null,null,null,null,null,null,null,null,null,null,null,null,null,null,null,null,null,null,null,null,null,null,null,null,null,null,null,null,null,null,null,null,null,null,null,null,null,"Capacidad","Consenso",null,null,"Capacidad","Consenso"]
[null,null,null,null,null,null,null,null,null,null,null,null,null,null,null,null,null,null,null,null,null,null,null,null,null,null,null,null,null,null,null,null,null,null,null,null,null,null,null,null,null,null,null,null,null,null,null,null,null,null,null,null,null,null,null,null,null,null,null,null,null,null,null,null,null,null,null,null,null,null,null,null,null,null,null,null,null,{"$f":"IF(DE_Capacity!CO623=\" \",\" \",DE_Capacity!CO623)","v":0},{"$f":"IF(ISERR(DE_Capacity!CQ623),\"0\",IF(DE_Capacity!CQ623=\" \",\"0\",DE_Capacity!CQ623))","v":"0"},{"$f":"IF(ISERR(DE_Capacity!CS623),\"0\",IF(DE_Capacity!CS623=\" \",\"0\",DE_Capacity!CS623))","v":"0"}]
[null,null,null,null,null,null,null,null,null,null,null,null,null,null,null,null,null,null,null,null,null,null,null,null,null,null,null,null,null,null,null,null,null,null,null,null,null,null,null,null,null,null,null,null,null,null,null,null,null,null,null,null,null,null,null,null,null,null,null,null,null,null,null,null,null,null,null,null,null,null,null,null,null,null,null,null,null,{"$f":"IF(DE_Capacity!CO624=\" \",\" \",DE_Capacity!CO624)","v":0},{"$f":"IF(ISERR(DE_Capacity!CQ624),\"0\",IF(DE_Capacity!CQ624=\" \",\"0\",DE_Capacity!CQ624))","v":"0"},{"$f":"IF(ISERR(DE_Capacity!CS624),\"0\",IF(DE_Capacity!CS624=\" \",\"0\",DE_Capacity!CS624))","v":"0"}]
[null,null,null,null,null,null,null,null,null,null,null,null,null,null,null,null,null,null,null,null,null,null,null,null,null,null,null,null,null,null,null,null,null,null,null,null,null,null,null,null,null,null,null,null,null,null,null,null,null,null,null,null,null,null,null,null,null,null,null,null,null,null,null,null,null,null,null,null,null,null,null,null,null,null,null,null,null,{"$f":"IF(DE_Capacity!CO625=\" \",\" \",DE_Capacity!CO625)","v":0},{"$f":"IF(ISERR(DE_Capacity!CQ625),\"0\",IF(DE_Capacity!CQ625=\" \",\"0\",DE_Capacity!CQ625))","v":"0"},{"$f":"IF(ISERR(DE_Capacity!CS625),\"0\",IF(DE_Capacity!CS625=\" \",\"0\",DE_Capacity!CS625))","v":"0"}]
[null,null,null,null,null,null,null,null,null,null,null,null,null,null,null,null,null,null,null,null,null,null,null,null,null,null,null,null,null,null,null,null,null,null,null,null,null,null,null,null,null,null,null,null,null,null,null,null,null,null,null,null,null,null,null,null,null,null,null,null,null,null,null,null,null,null,null,null,null,null,null,null,null,null,null,null,null,{"$f":"IF(DE_Capacity!CO626=\" \",\" \",DE_Capacity!CO626)","v":0},{"$f":"IF(ISERR(DE_Capacity!CQ626),\"0\",IF(DE_Capacity!CQ626=\" \",\"0\",DE_Capacity!CQ626))","v":"0"},{"$f":"IF(ISERR(DE_Capacity!CS626),\"0\",IF(DE_Capacity!CS626=\" \",\"0\",DE_Capacity!CS626))","v":"0"}]
[null,null,null,null,null,null,null,null,null,null,null,null,null,null,null,null,null,null,null,null,null,null,null,null,null,null,null,null,null,null,null,null,null,null,null,null,null,null,null,null,null,null,null,null,null,null,null,null,null,null,null,null,null,null,null,null,null,null,null,null,null,null,null,null,null,null,null,null,null,null,null,null,null,null,null,null,null,{"$f":"IF(DE_Capacity!CO627=\" \",\" \",DE_Capacity!CO627)","v":0},{"$f":"IF(ISERR(DE_Capacity!CQ627),\"0\",IF(DE_Capacity!CQ627=\" \",\"0\",DE_Capacity!CQ627))","v":"0"},{"$f":"IF(ISERR(DE_Capacity!CS627),\"0\",IF(DE_Capacity!CS627=\" \",\"0\",DE_Capacity!CS627))","v":"0"}]
[null,null,null,null,null,null,null,null,null,null,null,null,null,null,null,null,null,null,null,null,null,null,null,null,null,null,null,null,null,null,null,null,null,null,null,null,null,null,null,null,null,null,null,null,null,null,null,null,null,null,null,null,null,null,null,null,null,null,null,null,null,null,null,null,null,null,null,null,null,null,null,null,null,null,null,null,null,{"$f":"IF(DE_Capacity!CO628=\" \",\" \",DE_Capacity!CO628)","v":0},{"$f":"IF(ISERR(DE_Capacity!CQ628),\"0\",IF(DE_Capacity!CQ628=\" \",\"0\",DE_Capacity!CQ628))","v":"0"},{"$f":"IF(ISERR(DE_Capacity!CS628),\"0\",IF(DE_Capacity!CS628=\" \",\"0\",DE_Capacity!CS628))","v":"0"}]
[null,null,null,null,null,null,null,null,null,null,null,null,null,null,null,null,null,null,null,null,null,null,null,null,null,null,null,null,null,null,null,null,null,null,null,null,null,null,null,null,null,null,null,null,null,null,null,null,null,null,null,null,null,null,null,null,null,null,null,null,null,null,null,null,null,null,null,null,null,null,null,null,null,null,null,null,null,{"$f":"IF(DE_Capacity!CO629=\" \",\" \",DE_Capacity!CO629)","v":0},{"$f":"IF(ISERR(DE_Capacity!CQ629),\"0\",IF(DE_Capacity!CQ629=\" \",\"0\",DE_Capacity!CQ629))","v":"0"},{"$f":"IF(ISERR(DE_Capacity!CS629),\"0\",IF(DE_Capacity!CS629=\" \",\"0\",DE_Capacity!CS629))","v":"0"}]
[null,null,null,null,null,null,null,null,null,null,null,null,null,null,null,null,null,null,null,null,null,null,null,null,null,null,null,null,null,null,null,null,null,null,null,null,null,null,null,null,null,null,null,null,null,null,null,null,null,null,null,null,null,null,null,null,null,null,null,null,null,null,null,null,null,null,null,null,null,null,null,null,null,null,null,null,null,{"$f":"IF(DE_Capacity!CO630=\" \",\" \",DE_Capacity!CO630)","v":0},{"$f":"IF(ISERR(DE_Capacity!CQ630),\"0\",IF(DE_Capacity!CQ630=\" \",\"0\",DE_Capacity!CQ630))","v":"0"},{"$f":"IF(ISERR(DE_Capacity!CS630),\"0\",IF(DE_Capacity!CS630=\" \",\"0\",DE_Capacity!CS630))","v":"0"}]
[null,null,null,null,null,null,null,null,null,null,null,null,null,null,null,null,null,null,null,null,null,null,null,null,null,null,null,null,null,null,null,null,null,null,null,null,null,null,null,null,null,null,null,null,null,null,null,null,null,null,null,null,null,null,null,null,null,null,null,null,null,null,null,null,null,null,null,null,null,null,null,null,null,null,null,null,null,{"$f":"IF(DE_Capacity!CO631=\" \",\" \",DE_Capacity!CO631)","v":0},{"$f":"IF(ISERR(DE_Capacity!CQ631),\"0\",IF(DE_Capacity!CQ631=\" \",\"0\",DE_Capacity!CQ631))","v":"0"},{"$f":"IF(ISERR(DE_Capacity!CS631),\"0\",IF(DE_Capacity!CS631=\" \",\"0\",DE_Capacity!CS631))","v":"0"}]
[null,null,null,null,null,null,null,null,null,null,null,null,null,null,null,null,null,null,null,null,null,null,null,null,null,null,null,null,null,null,null,null,null,null,null,null,null,null,null,null,null,null,null,null,null,null,null,null,null,null,null,null,null,null,null,null,null,null,null,null,null,null,null,null,null,null,null,null,null,null,null,null,null,null,null,null,null,{"$f":"IF(DE_Capacity!CO632=\" \",\" \",DE_Capacity!CO632)","v":0},{"$f":"IF(ISERR(DE_Capacity!CQ632),\"0\",IF(DE_Capacity!CQ632=\" \",\"0\",DE_Capacity!CQ632))","v":"0"},{"$f":"IF(ISERR(DE_Capacity!CS632),\"0\",IF(DE_Capacity!CS632=\" \",\"0\",DE_Capacity!CS632))","v":"0"}]
[null,null,null,null,null,null,null,null,null,null,null,null,null,null,null,null,null,null,null,null,null,null,null,null,null,null,null,null,null,null,null,null,null,null,null,null,null,null,null,null,null,null,null,null,null,null,null,null,null,null,null,null,null,null,null,null,null,null,null,null,null,null,null,null,null,null,null,null,null,null,null,null,null,null,null,null,null,{"$f":"IF(DE_Capacity!CO633=\" \",\" \",DE_Capacity!CO633)","v":0},{"$f":"IF(ISERR(DE_Capacity!CQ633),\"0\",IF(DE_Capacity!CQ633=\" \",\"0\",DE_Capacity!CQ633))","v":"0"},{"$f":"IF(ISERR(DE_Capacity!CS633),\"0\",IF(DE_Capacity!CS633=\" \",\"0\",DE_Capacity!CS633))","v":"0"}]
[null,null,null,null,null,null,null,null,null,null,null,null,null,null,null,null,null,null,null,null,null,null,null,null,null,null,null,null,null,null,null,null,null,null,null,null,null,null,null,null,null,null,null,null,null,null,null,null,null,null,null,null,null,null,null,null,null,null,null,null,null,null,null,null,null,null,null,null,null,null,null,null,null,null,null,null,null,{"$f":"IF(DE_Capacity!CO634=\" \",\" \",DE_Capacity!CO634)","v":0},{"$f":"IF(ISERR(DE_Capacity!CQ634),\"0\",IF(DE_Capacity!CQ634=\" \",\"0\",DE_Capacity!CQ634))","v":"0"},{"$f":"IF(ISERR(DE_Capacity!CS634),\"0\",IF(DE_Capacity!CS634=\" \",\"0\",DE_Capacity!CS634))","v":"0"}]
[null,null,null,null,null,null,null,null,null,null,null,null,null,null,null,null,null,null,null,null,null,null,null,null,null,null,null,null,null,null,null,null,null,null,null,null,null,null,null,null,null,null,null,null,null,null,null,null,null,null,null,null,null,null,null,null,null,null,null,null,null,null,null,null,null,null,null,null,null,null,null,null,null,null,null,null,null,{"$f":"IF(DE_Capacity!CO635=\" \",\" \",DE_Capacity!CO635)","v":0},{"$f":"IF(ISERR(DE_Capacity!CQ635),\"0\",IF(DE_Capacity!CQ635=\" \",\"0\",DE_Capacity!CQ635))","v":"0"},{"$f":"IF(ISERR(DE_Capacity!CS635),\"0\",IF(DE_Capacity!CS635=\" \",\"0\",DE_Capacity!CS635))","v":"0"}]
[null,"Detail",null,null,null,null,null,null,null,null,null,null,null,null,null,null,null,null,null,null,null,null,null,null,null,null,null,null,null,null,null,null,null,null,null,null,null,null,null,null,null,null,null,null,null,null,null,null,null,null,null,null,null,null,null,null,null,null,null,null,null,null,null,null,null,null,null,null,null,null,null,null,null,null,null,null,null,{"$f":"IF(DE_Capacity!CO636=\" \",\" \",DE_Capacity!CO636)","v":0},{"$f":"IF(ISERR(DE_Capacity!CQ636),\"0\",IF(DE_Capacity!CQ636=\" \",\"0\",DE_Capacity!CQ636))","v":"0"},{"$f":"IF(ISERR(DE_Capacity!CS636),\"0\",IF(DE_Capacity!CS636=\" \",\"0\",DE_Capacity!CS636))","v":"0"}]
[null,null,null,null,null,null,null,null,null,null,null,null,null,null,null,null,null,null,null,null,null,null,null,null,null,null,null,null,null,null,null,null,null,null,null,null,null,null,null,null,null,null,null,null,null,null,null,null,null,null,null,null,null,null,null,null,null,null,null,null,null,null,null,null,null,null,null,null,null,null,null,null,null,null,null,null,null,{"$f":"IF(DE_Capacity!CO637=\" \",\" \",DE_Capacity!CO637)","v":0},{"$f":"IF(ISERR(DE_Capacity!CQ637),\"0\",IF(DE_Capacity!CQ637=\" \",\"0\",DE_Capacity!CQ637))","v":"0"},{"$f":"IF(ISERR(DE_Capacity!CS637),\"0\",IF(DE_Capacity!CS637=\" \",\"0\",DE_Capacity!CS637))","v":"0"}]
[null,"Indicator",null,"Description",null,null,null,null,null,"Average"]
[]
[null,null,null,"Maximum Value ==>",null,null,null,null,null,{"$f":"+DE_Capacity!$C$523","v":4}]
[]
[null,{"$f":"IF(+Calculations!B101=0,\" \",+Calculations!B101)","v":" "},null,{"$f":"IF(+Calculations!C101=0,\" \",+Calculations!C101)","v":" "},null,null,null,null,null,{"$f":"IF(ISERR(+Calculations!F101),\" \",+Calculations!F101)","v":" "}]
[null,{"$f":"IF(+Calculations!B102=0,\" \",+Calculations!B102)","v":" "},null,{"$f":"IF(+Calculations!C102=0,\" \",+Calculations!C102)","v":" "},null,null,null,null,null,{"$f":"IF(ISERR(+Calculations!F102),\" \",+Calculations!F102)","v":" "}]
[null,{"$f":"IF(+Calculations!B103=0,\" \",+Calculations!B103)","v":" "},null,{"$f":"IF(+Calculations!C103=0,\" \",+Calculations!C103)","v":" "},null,null,null,null,null,{"$f":"IF(ISERR(+Calculations!F103),\" \",+Calculations!F103)","v":" "}]
[null,{"$f":"IF(+Calculations!B104=0,\" \",+Calculations!B104)","v":" "},null,{"$f":"IF(+Calculations!C104=0,\" \",+Calculations!C104)","v":" "},null,null,null,null,null,{"$f":"IF(ISERR(+Calculations!F104),\" \",+Calculations!F104)","v":" "}]
[null,{"$f":"IF(+Calculations!B105=0,\" \",+Calculations!B105)","v":" "},null,{"$f":"IF(+Calculations!C105=0,\" \",+Calculations!C105)","v":" "},null,null,null,null,null,{"$f":"IF(ISERR(+Calculations!F105),\" \",+Calculations!F105)","v":" "}]
[null,{"$f":"IF(+Calculations!B106=0,\" \",+Calculations!B106)","v":" "},null,{"$f":"IF(+Calculations!C106=0,\" \",+Calculations!C106)","v":" "},null,null,null,null,null,{"$f":"IF(ISERR(+Calculations!F106),\" \",+Calculations!F106)","v":" "}]
[null,{"$f":"IF(+Calculations!B107=0,\" \",+Calculations!B107)","v":" "},null,{"$f":"IF(+Calculations!C107=0,\" \",+Calculations!C107)","v":" "},null,null,null,null,null,{"$f":"IF(ISERR(+Calculations!F107),\" \",+Calculations!F107)","v":" "}]
[null,{"$f":"IF(+Calculations!B108=0,\" \",+Calculations!B108)","v":" "},null,{"$f":"IF(+Calculations!C108=0,\" \",+Calculations!C108)","v":" "},null,null,null,null,null,{"$f":"IF(ISERR(+Calculations!F108),\" \",+Calculations!F108)","v":" "}]
[null,{"$f":"IF(+Calculations!B109=0,\" \",+Calculations!B109)","v":" "},null,{"$f":"IF(+Calculations!C109=0,\" \",+Calculations!C109)","v":" "},null,null,null,null,null,{"$f":"IF(ISERR(+Calculations!F109),\" \",+Calculations!F109)","v":" "}]
[null,{"$f":"IF(+Calculations!B110=0,\" \",+Calculations!B110)","v":" "},null,{"$f":"IF(+Calculations!C110=0,\" \",+Calculations!C110)","v":" "},null,null,null,null,null,{"$f":"IF(ISERR(+Calculations!F110),\" \",+Calculations!F110)","v":" "}]
[null,{"$f":"IF(+Calculations!B111=0,\" \",+Calculations!B111)","v":" "},null,{"$f":"IF(+Calculations!C111=0,\" \",+Calculations!C111)","v":" "},null,null,null,null,null,{"$f":"IF(ISERR(+Calculations!F111),\" \",+Calculations!F111)","v":" "}]
[null,{"$f":"IF(+Calculations!B112=0,\" \",+Calculations!B112)","v":" "},null,{"$f":"IF(+Calculations!C112=0,\" \",+Calculations!C112)","v":" "},null,null,null,null,null,{"$f":"IF(ISERR(+Calculations!F112),\" \",+Calculations!F112)","v":" "}]
[null,{"$f":"IF(+Calculations!B113=0,\" \",+Calculations!B113)","v":" "},null,{"$f":"IF(+Calculations!C113=0,\" \",+Calculations!C113)","v":" "},null,null,null,null,null,{"$f":"IF(ISERR(+Calculations!F113),\" \",+Calculations!F113)","v":" "}]
[null,{"$f":"IF(+Calculations!B114=0,\" \",+Calculations!B114)","v":" "},null,{"$f":"IF(+Calculations!C114=0,\" \",+Calculations!C114)","v":" "},null,null,null,null,null,{"$f":"IF(ISERR(+Calculations!F114),\" \",+Calculations!F114)","v":" "}]
[null,{"$f":"IF(+Calculations!B115=0,\" \",+Calculations!B115)","v":" "},null,{"$f":"IF(+Calculations!C115=0,\" \",+Calculations!C115)","v":" "},null,null,null,null,null,{"$f":"IF(ISERR(+Calculations!F115),\" \",+Calculations!F115)","v":" "}]

{"sheet":"VIII","index":14,"n_rows":45,"n_cols":104,"rows_kept":45,"cut":false,"hidden":false,"merged":[[36,3,36,7],[1,1,1,9],[24,3,24,7],[26,3,26,7],[28,3,28,7],[29,3,29,7],[30,3,30,7],[31,3,31,7],[32,3,32,7],[33,3,33,7],[34,3,34,7],[35,3,35,7],[45,1,50,9],[37,3,37,7],[38,3,38,7],[39,3,39,7],[40,3,40,7],[41,3,41,7],[42,3,42,7]]}
[]
[null,{"$f":"+'DE_Areas & Ind'!O28","v":0}]
[]
[null," Ranking Capacity",null,null,{"$f":"IF(DE_Capacity!AII507='DE_Areas & Ind'!$O$29,DE_Capacity!AII510,(IF(DE_Capacity!AIJ507='DE_Areas & Ind'!$O$29,DE_Capacity!AIJ510,(IF(DE_Capacity!AIK507='DE_Areas & Ind'!$O$29,DE_Capacity!AIK510,(IF(DE_Capacity!AIL507='DE_Areas & Ind'!$O$29,DE_Capacity!AIL510,(IF(DE_Capacity!AIM507='DE_Areas & Ind'!$O$29,DE_Capacity!AIM510,(IF(DE_Capacity!AIN507='DE_Areas & Ind'!$O$29,DE_Capacity!AIN510,(IF(DE_Capacity!AIO507='DE_Areas & Ind'!$O$29,DE_Capacity!AIO510,(IF(DE_Capacity!AIP507='DE_Areas & Ind'!$O$29,DE_Capacity!AIP510,(IF(DE_Capacity!AIQ507='DE_Areas & Ind'!$O$29,DE_Capacity!AIQ510,(IF(DE_Capacity!AIR507='DE_Areas & Ind'!$O$29,DE_Capacity!AIR510,\" \")))))))))))))))))))","v":{"$error":"#VALUE!"}}]
[]
[null,null,null,null,null,null,null,null,null,null,null,null,null,null,null,null,null,null,null,null,null,null,null,null,null,null,null,null,null,null,null,null,null,null,null,null,null,null,null,null,null,null,null,null,null,null,null,null,null,null,null,null,null,null,null,null,null,null,null,null,null,null,null,null,null,null,null,null,null,null,null,null,null,null,null,null,null,null,null,null,null,null,null,null,null,null,null,null,null,null,null,null,null,null,null,null,null,null,"Mediana","Mínimo","Máximo",null,"Min_Adj","Max_Adj"]
[null,null,null,null,null,null,null,null,null,null,null,null,null,null,null,null,null,null,null,null,null,null,null,null,null,null,null,null,null,null,null,null,null,null,null,null,null,null,null,null,null,null,null,null,null,null,null,null,null,null,null,null,null,null,null,null,null,null,null,null,null,null,null,null,null,null,null,null,null,null,null,null,null,null,null,null,null,null,null,null,null,null,null,null,null,null,null,null,null,null,null,null,null,null,null,null,null,null,{"$f":"MEDIAN(CE10:CE24)","v":{"$error":"#NUM!"}},{"$f":"MIN(CE10:CE24)","v":0},{"$f":"MAX(CE10:CE24)","v":0}]
[null,null,null,null,null,null,null,null,null,null,null,null,null,null,null,null,null,null,null,null,null,null,null,null,null,null,null,null,null,null,null,null,null,null,null,null,null,null,null,null,null,null,null,null,null,null,null,null,null,null,null,null,null,null,null,null,null,null,null,null,null,null,null,null,null,null,null,null,null,null,null,null,null,null,null,null,null,null,null,null,null,null,null,null,null,null,null,null,null,null,null,null,null,null,null,null,null,null,{"$f":"MEDIAN(CF10:CF24)","v":{"$error":"#NUM!"}},{"$f":"MIN(CF10:CF24)","v":0},{"$f":"MAX(CF10:CF24)","v":0}]
[null,null,null,null,null,null,null,null,null,null,null,null,null,null,null,null,null,null,null,null,null,null,null,null,null,null,null,null,null,null,null,null,null,null,null,null,null,null,null,null,null,null,null,null,null,null,null,null,null,null,null,null,null,null,null,null,null,null,null,null,null,null,null,null,null,null,null,null,null,null,null,null,null,null,null,null,null,null,"Capacidad","Consenso",null,null,"Capacidad","Consenso"]
[null,null,null,null,null,null,null,null,null,null,null,null,null,null,null,null,null,null,null,null,null,null,null,null,null,null,null,null,null,null,null,null,null,null,null,null,null,null,null,null,null,null,null,null,null,null,null,null,null,null,null,null,null,null,null,null,null,null,null,null,null,null,null,null,null,null,null,null,null,null,null,null,null,null,null,null,null,{"$f":"IF(DE_Capacity!DD623=\" \",\" \",DE_Capacity!DD623)","v":0},{"$f":"IF(ISERR(DE_Capacity!DF623),\"0\",IF(DE_Capacity!DF623=\" \",\"0\",DE_Capacity!DF623))","v":"0"},{"$f":"IF(ISERR(DE_Capacity!DH623),\"0\",IF(DE_Capacity!DH623=\" \",\"0\",DE_Capacity!DH623))","v":"0"}]
[null,null,null,null,null,null,null,null,null,null,null,null,null,null,null,null,null,null,null,null,null,null,null,null,null,null,null,null,null,null,null,null,null,null,null,null,null,null,null,null,null,null,null,null,null,null,null,null,null,null,null,null,null,null,null,null,null,null,null,null,null,null,null,null,null,null,null,null,null,null,null,null,null,null,null,null,null,{"$f":"IF(DE_Capacity!DD624=\" \",\" \",DE_Capacity!DD624)","v":0},{"$f":"IF(ISERR(DE_Capacity!DF624),\"0\",IF(DE_Capacity!DF624=\" \",\"0\",DE_Capacity!DF624))","v":"0"},{"$f":"IF(ISERR(DE_Capacity!DH624),\"0\",IF(DE_Capacity!DH624=\" \",\"0\",DE_Capacity!DH624))","v":"0"}]
[null,null,null,null,null,null,null,null,null,null,null,null,null,null,null,null,null,null,null,null,null,null,null,null,null,null,null,null,null,null,null,null,null,null,null,null,null,null,null,null,null,null,null,null,null,null,null,null,null,null,null,null,null,null,null,null,null,null,null,null,null,null,null,null,null,null,null,null,null,null,null,null,null,null,null,null,null,{"$f":"IF(DE_Capacity!DD625=\" \",\" \",DE_Capacity!DD625)","v":0},{"$f":"IF(ISERR(DE_Capacity!DF625),\"0\",IF(DE_Capacity!DF625=\" \",\"0\",DE_Capacity!DF625))","v":"0"},{"$f":"IF(ISERR(DE_Capacity!DH625),\"0\",IF(DE_Capacity!DH625=\" \",\"0\",DE_Capacity!DH625))","v":"0"}]
[null,null,null,null,null,null,null,null,null,null,null,null,null,null,null,null,null,null,null,null,null,null,null,null,null,null,null,null,null,null,null,null,null,null,null,null,null,null,null,null,null,null,null,null,null,null,null,null,null,null,null,null,null,null,null,null,null,null,null,null,null,null,null,null,null,null,null,null,null,null,null,null,null,null,null,null,null,{"$f":"IF(DE_Capacity!DD626=\" \",\" \",DE_Capacity!DD626)","v":0},{"$f":"IF(ISERR(DE_Capacity!DF626),\"0\",IF(DE_Capacity!DF626=\" \",\"0\",DE_Capacity!DF626))","v":"0"},{"$f":"IF(ISERR(DE_Capacity!DH626),\"0\",IF(DE_Capacity!DH626=\" \",\"0\",DE_Capacity!DH626))","v":"0"}]
[null,null,null,null,null,null,null,null,null,null,null,null,null,null,null,null,null,null,null,null,null,null,null,null,null,null,null,null,null,null,null,null,null,null,null,null,null,null,null,null,null,null,null,null,null,null,null,null,null,null,null,null,null,null,null,null,null,null,null,null,null,null,null,null,null,null,null,null,null,null,null,null,null,null,null,null,null,{"$f":"IF(DE_Capacity!DD627=\" \",\" \",DE_Capacity!DD627)","v":0},{"$f":"IF(ISERR(DE_Capacity!DF627),\"0\",IF(DE_Capacity!DF627=\" \",\"0\",DE_Capacity!DF627))","v":"0"},{"$f":"IF(ISERR(DE_Capacity!DH627),\"0\",IF(DE_Capacity!DH627=\" \",\"0\",DE_Capacity!DH627))","v":"0"}]
[null,null,null,null,null,null,null,null,null,null,null,null,null,null,null,null,null,null,null,null,null,null,null,null,null,null,null,null,null,null,null,null,null,null,null,null,null,null,null,null,null,null,null,null,null,null,null,null,null,null,null,null,null,null,null,null,null,null,null,null,null,null,null,null,null,null,null,null,null,null,null,null,null,null,null,null,null,{"$f":"IF(DE_Capacity!DD628=\" \",\" \",DE_Capacity!DD628)","v":0},{"$f":"IF(ISERR(DE_Capacity!DF628),\"0\",IF(DE_Capacity!DF628=\" \",\"0\",DE_Capacity!DF628))","v":"0"},{"$f":"IF(ISERR(DE_Capacity!DH628),\"0\",IF(DE_Capacity!DH628=\" \",\"0\",DE_Capacity!DH628))","v":"0"}]
[null,null,null,null,null,null,null,null,null,null,null,null,null,null,null,null,null,null,null,null,null,null,null,null,null,null,null,null,null,null,null,null,null,null,null,null,null,null,null,null,null,null,null,null,null,null,null,null,null,null,null,null,null,null,null,null,null,null,null,null,null,null,null,null,null,null,null,null,null,null,null,null,null,null,null,null,null,{"$f":"IF(DE_Capacity!DD629=\" \",\" \",DE_Capacity!DD629)","v":0},{"$f":"IF(ISERR(DE_Capacity!DF629),\"0\",IF(DE_Capacity!DF629=\" \",\"0\",DE_Capacity!DF629))","v":"0"},{"$f":"IF(ISERR(DE_Capacity!DH629),\"0\",IF(DE_Capacity!DH629=\" \",\"0\",DE_Capacity!DH629))","v":"0"}]
[null,null,null,null,null,null,null,null,null,null,null,null,null,null,null,null,null,null,null,null,null,null,null,null,null,null,null,null,null,null,null,null,null,null,null,null,null,null,null,null,null,null,null,null,null,null,null,null,null,null,null,null,null,null,null,null,null,null,null,null,null,null,null,null,null,null,null,null,null,null,null,null,null,null,null,null,null,{"$f":"IF(DE_Capacity!DD630=\" \",\" \",DE_Capacity!DD630)","v":0},{"$f":"IF(ISERR(DE_Capacity!DF630),\"0\",IF(DE_Capacity!DF630=\" \",\"0\",DE_Capacity!DF630))","v":"0"},{"$f":"IF(ISERR(DE_Capacity!DH630),\"0\",IF(DE_Capacity!DH630=\" \",\"0\",DE_Capacity!DH630))","v":"0"}]
[null,null,null,null,null,null,null,null,null,null,null,null,null,null,null,null,null,null,null,null,null,null,null,null,null,null,null,null,null,null,null,null,null,null,null,null,null,null,null,null,null,null,null,null,null,null,null,null,null,null,null,null,null,null,null,null,null,null,null,null,null,null,null,null,null,null,null,null,null,null,null,null,null,null,null,null,null,{"$f":"IF(DE_Capacity!DD631=\" \",\" \",DE_Capacity!DD631)","v":0},{"$f":"IF(ISERR(DE_Capacity!DF631),\"0\",IF(DE_Capacity!DF631=\" \",\"0\",DE_Capacity!DF631))","v":"0"},{"$f":"IF(ISERR(DE_Capacity!DH631),\"0\",IF(DE_Capacity!DH631=\" \",\"0\",DE_Capacity!DH631))","v":"0"}]
[null,null,null,null,null,null,null,null,null,null,null,null,null,null,null,null,null,null,null,null,null,null,null,null,null,null,null,null,null,null,null,null,null,null,null,null,null,null,null,null,null,null,null,null,null,null,null,null,null,null,null,null,null,null,null,null,null,null,null,null,null,null,null,null,null,null,null,null,null,null,null,null,null,null,null,null,null,{"$f":"IF(DE_Capacity!DD632=\" \",\" \",DE_Capacity!DD632)","v":0},{"$f":"IF(ISERR(DE_Capacity!DF632),\"0\",IF(DE_Capacity!DF632=\" \",\"0\",DE_Capacity!DF632))","v":"0"},{"$f":"IF(ISERR(DE_Capacity!DH632),\"0\",IF(DE_Capacity!DH632=\" \",\"0\",DE_Capacity!DH632))","v":"0"}]
[null,null,null,null,null,null,null,null,null,null,null,null,null,null,null,null,null,null,null,null,null,null,null,null,null,null,null,null,null,null,null,null,null,null,null,null,null,null,null,null,null,null,null,null,null,null,null,null,null,null,null,null,null,null,null,null,null,null,null,null,null,null,null,null,null,null,null,null,null,null,null,null,null,null,null,null,null,{"$f":"IF(DE_Capacity!DD633=\" \",\" \",DE_Capacity!DD633)","v":0},{"$f":"IF(ISERR(DE_Capacity!DF633),\"0\",IF(DE_Capacity!DF633=\" \",\"0\",DE_Capacity!DF633))","v":"0"},{"$f":"IF(ISERR(DE_Capacity!DH633),\"0\",IF(DE_Capacity!DH633=\" \",\"0\",DE_Capacity!DH633))","v":"0"}]
[null,null,null,null,null,null,null,null,null,null,null,null,null,null,null,null,null,null,null,null,null,null,null,null,null,null,null,null,null,null,null,null,null,null,null,null,null,null,null,null,null,null,null,null,null,null,null,null,null,null,null,null,null,null,null,null,null,null,null,null,null,null,null,null,null,null,null,null,null,null,null,null,null,null,null,null,null,{"$f":"IF(DE_Capacity!DD634=\" \",\" \",DE_Capacity!DD634)","v":0},{"$f":"IF(ISERR(DE_Capacity!DF634),\"0\",IF(DE_Capacity!DF634=\" \",\"0\",DE_Capacity!DF634))","v":"0"},{"$f":"IF(ISERR(DE_Capacity!DH634),\"0\",IF(DE_Capacity!DH634=\" \",\"0\",DE_Capacity!DH634))","v":"0"}]
[null,null,null,null,null,null,null,null,null,null,null,null,null,null,null,null,null,null,null,null,null,null,null,null,null,null,null,null,null,null,null,null,null,null,null,null,null,null,null,null,null,null,null,null,null,null,null,null,null,null,null,null,null,null,null,null,null,null,null,null,null,null,null,null,null,null,null,null,null,null,null,null,null,null,null,null,null,{"$f":"IF(DE_Capacity!DD635=\" \",\" \",DE_Capacity!DD635)","v":0},{"$f":"IF(ISERR(DE_Capacity!DF635),\"0\",IF(DE_Capacity!DF635=\" \",\"0\",DE_Capacity!DF635))","v":"0"},{"$f":"IF(ISERR(DE_Capacity!DH635),\"0\",IF(DE_Capacity!DH635=\" \",\"0\",DE_Capacity!DH635))","v":"0"}]
[null,"Detail",null,null,null,null,null,null,null,null,null,null,null,null,null,null,null,null,null,null,null,null,null,null,null,null,null,null,null,null,null,null,null,null,null,null,null,null,null,null,null,null,null,null,null,null,null,null,null,null,null,null,null,null,null,null,null,null,null,null,null,null,null,null,null,null,null,null,null,null,null,null,null,null,null,null,null,{"$f":"IF(DE_Capacity!DD636=\" \",\" \",DE_Capacity!DD636)","v":0},{"$f":"IF(ISERR(DE_Capacity!DF636),\"0\",IF(DE_Capacity!DF636=\" \",\"0\",DE_Capacity!DF636))","v":"0"},{"$f":"IF(ISERR(DE_Capacity!DH636),\"0\",IF(DE_Capacity!DH636=\" \",\"0\",DE_Capacity!DH636))","v":"0"}]
[null,null,null,null,null,null,null,null,null,null,null,null,null,null,null,null,null,null,null,null,null,null,null,null,null,null,null,null,null,null,null,null,null,null,null,null,null,null,null,null,null,null,null,null,null,null,null,null,null,null,null,null,null,null,null,null,null,null,null,null,null,null,null,null,null,null,null,null,null,null,null,null,null,null,null,null,null,{"$f":"IF(DE_Capacity!DD637=\" \",\" \",DE_Capacity!DD637)","v":0},{"$f":"IF(ISERR(DE_Capacity!DF637),\"0\",IF(DE_Capacity!DF637=\" \",\"0\",DE_Capacity!DF637))","v":"0"},{"$f":"IF(ISERR(DE_Capacity!DH637),\"0\",IF(DE_Capacity!DH637=\" \",\"0\",DE_Capacity!DH637))","v":"0"}]
[null,"Indicator",null,"Description",null,null,null,null,null,"Average"]
[]
[null,null,null,"Maximum Value ==>",null,null,null,null,null,{"$f":"+DE_Capacity!$C$523","v":4}]
[]
[null,{"$f":"IF(+Calculations!B116=0,\" \",+Calculations!B116)","v":" "},null,{"$f":"IF(+Calculations!C116=0,\" \",+Calculations!C116)","v":" "},null,null,null,null,null,{"$f":"IF(ISERR(+Calculations!F116),\" \",+Calculations!F116)","v":" "}]
[null,{"$f":"IF(+Calculations!B117=0,\" \",+Calculations!B117)","v":" "},null,{"$f":"IF(+Calculations!C117=0,\" \",+Calculations!C117)","v":" "},null,null,null,null,null,{"$f":"IF(ISERR(+Calculations!F117),\" \",+Calculations!F117)","v":" "}]
[null,{"$f":"IF(+Calculations!B118=0,\" \",+Calculations!B118)","v":" "},null,{"$f":"IF(+Calculations!C118=0,\" \",+Calculations!C118)","v":" "},null,null,null,null,null,{"$f":"IF(ISERR(+Calculations!F118),\" \",+Calculations!F118)","v":" "}]
[null,{"$f":"IF(+Calculations!B119=0,\" \",+Calculations!B119)","v":" "},null,{"$f":"IF(+Calculations!C119=0,\" \",+Calculations!C119)","v":" "},null,null,null,null,null,{"$f":"IF(ISERR(+Calculations!F119),\" \",+Calculations!F119)","v":" "}]
[null,{"$f":"IF(+Calculations!B120=0,\" \",+Calculations!B120)","v":" "},null,{"$f":"IF(+Calculations!C120=0,\" \",+Calculations!C120)","v":" "},null,null,null,null,null,{"$f":"IF(ISERR(+Calculations!F120),\" \",+Calculations!F120)","v":" "}]
[null,{"$f":"IF(+Calculations!B121=0,\" \",+Calculations!B121)","v":" "},null,{"$f":"IF(+Calculations!C121=0,\" \",+Calculations!C121)","v":" "},null,null,null,null,null,{"$f":"IF(ISERR(+Calculations!F121),\" \",+Calculations!F121)","v":" "}]
[null,{"$f":"IF(+Calculations!B122=0,\" \",+Calculations!B122)","v":" "},null,{"$f":"IF(+Calculations!C122=0,\" \",+Calculations!C122)","v":" "},null,null,null,null,null,{"$f":"IF(ISERR(+Calculations!F122),\" \",+Calculations!F122)","v":" "}]
[null,{"$f":"IF(+Calculations!B123=0,\" \",+Calculations!B123)","v":" "},null,{"$f":"IF(+Calculations!C123=0,\" \",+Calculations!C123)","v":" "},null,null,null,null,null,{"$f":"IF(ISERR(+Calculations!F123),\" \",+Calculations!F123)","v":" "}]
[null,{"$f":"IF(+Calculations!B124=0,\" \",+Calculations!B124)","v":" "},null,{"$f":"IF(+Calculations!C124=0,\" \",+Calculations!C124)","v":" "},null,null,null,null,null,{"$f":"IF(ISERR(+Calculations!F124),\" \",+Calculations!F124)","v":" "}]
[null,{"$f":"IF(+Calculations!B125=0,\" \",+Calculations!B125)","v":" "},null,{"$f":"IF(+Calculations!C125=0,\" \",+Calculations!C125)","v":" "},null,null,null,null,null,{"$f":"IF(ISERR(+Calculations!F125),\" \",+Calculations!F125)","v":" "}]
[null,{"$f":"IF(+Calculations!B126=0,\" \",+Calculations!B126)","v":" "},null,{"$f":"IF(+Calculations!C126=0,\" \",+Calculations!C126)","v":" "},null,null,null,null,null,{"$f":"IF(ISERR(+Calculations!F126),\" \",+Calculations!F126)","v":" "}]
[null,{"$f":"IF(+Calculations!B127=0,\" \",+Calculations!B127)","v":" "},null,{"$f":"IF(+Calculations!C127=0,\" \",+Calculations!C127)","v":" "},null,null,null,null,null,{"$f":"IF(ISERR(+Calculations!F127),\" \",+Calculations!F127)","v":" "}]
[null,{"$f":"IF(+Calculations!B128=0,\" \",+Calculations!B128)","v":" "},null,{"$f":"IF(+Calculations!C128=0,\" \",+Calculations!C128)","v":" "},null,null,null,null,null,{"$f":"IF(ISERR(+Calculations!F128),\" \",+Calculations!F128)","v":" "}]
[null,{"$f":"IF(+Calculations!B129=0,\" \",+Calculations!B129)","v":" "},null,{"$f":"IF(+Calculations!C129=0,\" \",+Calculations!C129)","v":" "},null,null,null,null,null,{"$f":"IF(ISERR(+Calculations!F129),\" \",+Calculations!F129)","v":" "}]
[null,{"$f":"IF(+Calculations!B130=0,\" \",+Calculations!B130)","v":" "},null,{"$f":"IF(+Calculations!C130=0,\" \",+Calculations!C130)","v":" "},null,null,null,null,null,{"$f":"IF(ISERR(+Calculations!F130),\" \",+Calculations!F130)","v":" "}]
[]
[null,"Comments"]

{"sheet":"IX","index":15,"n_rows":43,"n_cols":104,"rows_kept":43,"cut":false,"hidden":false,"merged":[[36,3,36,7],[1,1,1,9],[24,3,24,7],[26,3,26,7],[28,3,28,7],[29,3,29,7],[30,3,30,7],[31,3,31,7],[32,3,32,7],[33,3,33,7],[34,3,34,7],[35,3,35,7],[45,1,50,9],[37,3,37,7],[38,3,38,7],[39,3,39,7],[40,3,40,7],[41,3,41,7],[42,3,42,7]]}
[]
[null,{"$f":"+'DE_Areas & Ind'!U28","v":0}]
[]
[null," Ranking Capacity",null,null,{"$f":"IF(DE_Capacity!AII507='DE_Areas & Ind'!$U$29,DE_Capacity!AII510,(IF(DE_Capacity!AIJ507='DE_Areas & Ind'!$U$29,DE_Capacity!AIJ510,(IF(DE_Capacity!AIK507='DE_Areas & Ind'!$U$29,DE_Capacity!AIK510,(IF(DE_Capacity!AIL507='DE_Areas & Ind'!$U$29,DE_Capacity!AIL510,(IF(DE_Capacity!AIM507='DE_Areas & Ind'!$U$29,DE_Capacity!AIM510,(IF(DE_Capacity!AIN507='DE_Areas & Ind'!$U$29,DE_Capacity!AIN510,(IF(DE_Capacity!AIO507='DE_Areas & Ind'!$U$29,DE_Capacity!AIO510,(IF(DE_Capacity!AIP507='DE_Areas & Ind'!$U$29,DE_Capacity!AIP510,(IF(DE_Capacity!AIQ507='DE_Areas & Ind'!$U$29,DE_Capacity!AIQ510,(IF(DE_Capacity!AIR507='DE_Areas & Ind'!$U$29,DE_Capacity!AIR510,\" \")))))))))))))))))))","v":{"$error":"#VALUE!"}}]
[]
[null,null,null,null,null,null,null,null,null,null,null,null,null,null,null,null,null,null,null,null,null,null,null,null,null,null,null,null,null,null,null,null,null,null,null,null,null,null,null,null,null,null,null,null,null,null,null,null,null,null,null,null,null,null,null,null,null,null,null,null,null,null,null,null,null,null,null,null,null,null,null,null,null,null,null,null,null,null,null,null,null,null,null,null,null,null,null,null,null,null,null,null,null,null,null,null,null,null,"Mediana","Mínimo","Máximo",null,"Min_Adj","Max_Adj"]
[null,null,null,null,null,null,null,null,null,null,null,null,null,null,null,null,null,null,null,null,null,null,null,null,null,null,null,null,null,null,null,null,null,null,null,null,null,null,null,null,null,null,null,null,null,null,null,null,null,null,null,null,null,null,null,null,null,null,null,null,null,null,null,null,null,null,null,null,null,null,null,null,null,null,null,null,null,null,null,null,null,null,null,null,null,null,null,null,null,null,null,null,null,null,null,null,null,null,{"$f":"MEDIAN(CE10:CE24)","v":{"$error":"#NUM!"}},{"$f":"MIN(CE10:CE24)","v":0},{"$f":"MAX(CE10:CE24)","v":0}]
[null,null,null,null,null,null,null,null,null,null,null,null,null,null,null,null,null,null,null,null,null,null,null,null,null,null,null,null,null,null,null,null,null,null,null,null,null,null,null,null,null,null,null,null,null,null,null,null,null,null,null,null,null,null,null,null,null,null,null,null,null,null,null,null,null,null,null,null,null,null,null,null,null,null,null,null,null,null,null,null,null,null,null,null,null,null,null,null,null,null,null,null,null,null,null,null,null,null,{"$f":"MEDIAN(CF10:CF24)","v":{"$error":"#NUM!"}},{"$f":"MIN(CF10:CF24)","v":0},{"$f":"MAX(CF10:CF24)","v":0}]
[null,null,null,null,null,null,null,null,null,null,null,null,null,null,null,null,null,null,null,null,null,null,null,null,null,null,null,null,null,null,null,null,null,null,null,null,null,null,null,null,null,null,null,null,null,null,null,null,null,null,null,null,null,null,null,null,null,null,null,null,null,null,null,null,null,null,null,null,null,null,null,null,null,null,null,null,null,null,"Capacidad","Consenso",null,null,"Capacidad","Consenso"]
[null,null,null,null,null,null,null,null,null,null,null,null,null,null,null,null,null,null,null,null,null,null,null,null,null,null,null,null,null,null,null,null,null,null,null,null,null,null,null,null,null,null,null,null,null,null,null,null,null,null,null,null,null,null,null,null,null,null,null,null,null,null,null,null,null,null,null,null,null,null,null,null,null,null,null,null,null,{"$f":"IF(DE_Capacity!DS623=\" \",\" \",DE_Capacity!DS623)","v":0},{"$f":"IF(ISERR(DE_Capacity!DU623),\"0\",IF(DE_Capacity!DU623=\" \",\"0\",DE_Capacity!DU623))","v":"0"},{"$f":"IF(ISERR(DE_Capacity!DW623),\"0\",IF(DE_Capacity!DW623=\" \",\"0\",DE_Capacity!DW623))","v":"0"}]
[null,null,null,null,null,null,null,null,null,null,null,null,null,null,null,null,null,null,null,null,null,null,null,null,null,null,null,null,null,null,null,null,null,null,null,null,null,null,null,null,null,null,null,null,null,null,null,null,null,null,null,null,null,null,null,null,null,null,null,null,null,null,null,null,null,null,null,null,null,null,null,null,null,null,null,null,null,{"$f":"IF(DE_Capacity!DS624=\" \",\" \",DE_Capacity!DS624)","v":0},{"$f":"IF(ISERR(DE_Capacity!DU624),\"0\",IF(DE_Capacity!DU624=\" \",\"0\",DE_Capacity!DU624))","v":"0"},{"$f":"IF(ISERR(DE_Capacity!DW624),\"0\",IF(DE_Capacity!DW624=\" \",\"0\",DE_Capacity!DW624))","v":"0"}]
[null,null,null,null,null,null,null,null,null,null,null,null,null,null,null,null,null,null,null,null,null,null,null,null,null,null,null,null,null,null,null,null,null,null,null,null,null,null,null,null,null,null,null,null,null,null,null,null,null,null,null,null,null,null,null,null,null,null,null,null,null,null,null,null,null,null,null,null,null,null,null,null,null,null,null,null,null,{"$f":"IF(DE_Capacity!DS625=\" \",\" \",DE_Capacity!DS625)","v":0},{"$f":"IF(ISERR(DE_Capacity!DU625),\"0\",IF(DE_Capacity!DU625=\" \",\"0\",DE_Capacity!DU625))","v":"0"},{"$f":"IF(ISERR(DE_Capacity!DW625),\"0\",IF(DE_Capacity!DW625=\" \",\"0\",DE_Capacity!DW625))","v":"0"}]
[null,null,null,null,null,null,null,null,null,null,null,null,null,null,null,null,null,null,null,null,null,null,null,null,null,null,null,null,null,null,null,null,null,null,null,null,null,null,null,null,null,null,null,null,null,null,null,null,null,null,null,null,null,null,null,null,null,null,null,null,null,null,null,null,null,null,null,null,null,null,null,null,null,null,null,null,null,{"$f":"IF(DE_Capacity!DS626=\" \",\" \",DE_Capacity!DS626)","v":0},{"$f":"IF(ISERR(DE_Capacity!DU626),\"0\",IF(DE_Capacity!DU626=\" \",\"0\",DE_Capacity!DU626))","v":"0"},{"$f":"IF(ISERR(DE_Capacity!DW626),\"0\",IF(DE_Capacity!DW626=\" \",\"0\",DE_Capacity!DW626))","v":"0"}]
[null,null,null,null,null,null,null,null,null,null,null,null,null,null,null,null,null,null,null,null,null,null,null,null,null,null,null,null,null,null,null,null,null,null,null,null,null,null,null,null,null,null,null,null,null,null,null,null,null,null,null,null,null,null,null,null,null,null,null,null,null,null,null,null,null,null,null,null,null,null,null,null,null,null,null,null,null,{"$f":"IF(DE_Capacity!DS627=\" \",\" \",DE_Capacity!DS627)","v":0},{"$f":"IF(ISERR(DE_Capacity!DU627),\"0\",IF(DE_Capacity!DU627=\" \",\"0\",DE_Capacity!DU627))","v":"0"},{"$f":"IF(ISERR(DE_Capacity!DW627),\"0\",IF(DE_Capacity!DW627=\" \",\"0\",DE_Capacity!DW627))","v":"0"}]
[null,null,null,null,null,null,null,null,null,null,null,null,null,null,null,null,null,null,null,null,null,null,null,null,null,null,null,null,null,null,null,null,null,null,null,null,null,null,null,null,null,null,null,null,null,null,null,null,null,null,null,null,null,null,null,null,null,null,null,null,null,null,null,null,null,null,null,null,null,null,null,null,null,null,null,null,null,{"$f":"IF(DE_Capacity!DS628=\" \",\" \",DE_Capacity!DS628)","v":0},{"$f":"IF(ISERR(DE_Capacity!DU628),\"0\",IF(DE_Capacity!DU628=\" \",\"0\",DE_Capacity!DU628))","v":"0"},{"$f":"IF(ISERR(DE_Capacity!DW628),\"0\",IF(DE_Capacity!DW628=\" \",\"0\",DE_Capacity!DW628))","v":"0"}]
[null,null,null,null,null,null,null,null,null,null,null,null,null,null,null,null,null,null,null,null,null,null,null,null,null,null,null,null,null,null,null,null,null,null,null,null,null,null,null,null,null,null,null,null,null,null,null,null,null,null,null,null,null,null,null,null,null,null,null,null,null,null,null,null,null,null,null,null,null,null,null,null,null,null,null,null,null,{"$f":"IF(DE_Capacity!DS629=\" \",\" \",DE_Capacity!DS629)","v":0},{"$f":"IF(ISERR(DE_Capacity!DU629),\"0\",IF(DE_Capacity!DU629=\" \",\"0\",DE_Capacity!DU629))","v":"0"},{"$f":"IF(ISERR(DE_Capacity!DW629),\"0\",IF(DE_Capacity!DW629=\" \",\"0\",DE_Capacity!DW629))","v":"0"}]
[null,null,null,null,null,null,null,null,null,null,null,null,null,null,null,null,null,null,null,null,null,null,null,null,null,null,null,null,null,null,null,null,null,null,null,null,null,null,null,null,null,null,null,null,null,null,null,null,null,null,null,null,null,null,null,null,null,null,null,null,null,null,null,null,null,null,null,null,null,null,null,null,null,null,null,null,null,{"$f":"IF(DE_Capacity!DS630=\" \",\" \",DE_Capacity!DS630)","v":0},{"$f":"IF(ISERR(DE_Capacity!DU630),\"0\",IF(DE_Capacity!DU630=\" \",\"0\",DE_Capacity!DU630))","v":"0"},{"$f":"IF(ISERR(DE_Capacity!DW630),\"0\",IF(DE_Capacity!DW630=\" \",\"0\",DE_Capacity!DW630))","v":"0"}]
[null,null,null,null,null,null,null,null,null,null,null,null,null,null,null,null,null,null,null,null,null,null,null,null,null,null,null,null,null,null,null,null,null,null,null,null,null,null,null,null,null,null,null,null,null,null,null,null,null,null,null,null,null,null,null,null,null,null,null,null,null,null,null,null,null,null,null,null,null,null,null,null,null,null,null,null,null,{"$f":"IF(DE_Capacity!DS631=\" \",\" \",DE_Capacity!DS631)","v":0},{"$f":"IF(ISERR(DE_Capacity!DU631),\"0\",IF(DE_Capacity!DU631=\" \",\"0\",DE_Capacity!DU631))","v":"0"},{"$f":"IF(ISERR(DE_Capacity!DW631),\"0\",IF(DE_Capacity!DW631=\" \",\"0\",DE_Capacity!DW631))","v":"0"}]
[null,null,null,null,null,null,null,null,null,null,null,null,null,null,null,null,null,null,null,null,null,null,null,null,null,null,null,null,null,null,null,null,null,null,null,null,null,null,null,null,null,null,null,null,null,null,null,null,null,null,null,null,null,null,null,null,null,null,null,null,null,null,null,null,null,null,null,null,null,null,null,null,null,null,null,null,null,{"$f":"IF(DE_Capacity!DS632=\" \",\" \",DE_Capacity!DS632)","v":0},{"$f":"IF(ISERR(DE_Capacity!DU632),\"0\",IF(DE_Capacity!DU632=\" \",\"0\",DE_Capacity!DU632))","v":"0"},{"$f":"IF(ISERR(DE_Capacity!DW632),\"0\",IF(DE_Capacity!DW632=\" \",\"0\",DE_Capacity!DW632))","v":"0"}]
[null,null,null,null,null,null,null,null,null,null,null,null,null,null,null,null,null,null,null,null,null,null,null,null,null,null,null,null,null,null,null,null,null,null,null,null,null,null,null,null,null,null,null,null,null,null,null,null,null,null,null,null,null,null,null,null,null,null,null,null,null,null,null,null,null,null,null,null,null,null,null,null,null,null,null,null,null,{"$f":"IF(DE_Capacity!DS633=\" \",\" \",DE_Capacity!DS633)","v":0},{"$f":"IF(ISERR(DE_Capacity!DU633),\"0\",IF(DE_Capacity!DU633=\" \",\"0\",DE_Capacity!DU633))","v":"0"},{"$f":"IF(ISERR(DE_Capacity!DW633),\"0\",IF(DE_Capacity!DW633=\" \",\"0\",DE_Capacity!DW633))","v":"0"}]
[null,null,null,null,null,null,null,null,null,null,null,null,null,null,null,null,null,null,null,null,null,null,null,null,null,null,null,null,null,null,null,null,null,null,null,null,null,null,null,null,null,null,null,null,null,null,null,null,null,null,null,null,null,null,null,null,null,null,null,null,null,null,null,null,null,null,null,null,null,null,null,null,null,null,null,null,null,{"$f":"IF(DE_Capacity!DS634=\" \",\" \",DE_Capacity!DS634)","v":0},{"$f":"IF(ISERR(DE_Capacity!DU634),\"0\",IF(DE_Capacity!DU634=\" \",\"0\",DE_Capacity!DU634))","v":"0"},{"$f":"IF(ISERR(DE_Capacity!DW634),\"0\",IF(DE_Capacity!DW634=\" \",\"0\",DE_Capacity!DW634))","v":"0"}]
[null,null,null,null,null,null,null,null,null,null,null,null,null,null,null,null,null,null,null,null,null,null,null,null,null,null,null,null,null,null,null,null,null,null,null,null,null,null,null,null,null,null,null,null,null,null,null,null,null,null,null,null,null,null,null,null,null,null,null,null,null,null,null,null,null,null,null,null,null,null,null,null,null,null,null,null,null,{"$f":"IF(DE_Capacity!DS635=\" \",\" \",DE_Capacity!DS635)","v":0},{"$f":"IF(ISERR(DE_Capacity!DU635),\"0\",IF(DE_Capacity!DU635=\" \",\"0\",DE_Capacity!DU635))","v":"0"},{"$f":"IF(ISERR(DE_Capacity!DW635),\"0\",IF(DE_Capacity!DW635=\" \",\"0\",DE_Capacity!DW635))","v":"0"}]
[null,"Detail",null,null,null,null,null,null,null,null,null,null,null,null,null,null,null,null,null,null,null,null,null,null,null,null,null,null,null,null,null,null,null,null,null,null,null,null,null,null,null,null,null,null,null,null,null,null,null,null,null,null,null,null,null,null,null,null,null,null,null,null,null,null,null,null,null,null,null,null,null,null,null,null,null,null,null,{"$f":"IF(DE_Capacity!DS636=\" \",\" \",DE_Capacity!DS636)","v":0},{"$f":"IF(ISERR(DE_Capacity!DU636),\"0\",IF(DE_Capacity!DU636=\" \",\"0\",DE_Capacity!DU636))","v":"0"},{"$f":"IF(ISERR(DE_Capacity!DW636),\"0\",IF(DE_Capacity!DW636=\" \",\"0\",DE_Capacity!DW636))","v":"0"}]
[null,null,null,null,null,null,null,null,null,null,null,null,null,null,null,null,null,null,null,null,null,null,null,null,null,null,null,null,null,null,null,null,null,null,null,null,null,null,null,null,null,null,null,null,null,null,null,null,null,null,null,null,null,null,null,null,null,null,null,null,null,null,null,null,null,null,null,null,null,null,null,null,null,null,null,null,null,{"$f":"IF(DE_Capacity!DS637=\" \",\" \",DE_Capacity!DS637)","v":0},{"$f":"IF(ISERR(DE_Capacity!DU637),\"0\",IF(DE_Capacity!DU637=\" \",\"0\",DE_Capacity!DU637))","v":"0"},{"$f":"IF(ISERR(DE_Capacity!DW637),\"0\",IF(DE_Capacity!DW637=\" \",\"0\",DE_Capacity!DW637))","v":"0"}]
[null,"Indicator",null,"Description",null,null,null,null,null,"Average"]
[]
[null,null,null,"Maximum Value ==>",null,null,null,null,null,{"$f":"+DE_Capacity!$C$523","v":4}]
[]
[null,{"$f":"IF(+Calculations!B131=0,\" \",+Calculations!B131)","v":" "},null,{"$f":"IF(+Calculations!C131=0,\" \",+Calculations!C131)","v":" "},null,null,null,null,null,{"$f":"IF(ISERR(+Calculations!F131),\" \",+Calculations!F131)","v":" "}]
[null,{"$f":"IF(+Calculations!B132=0,\" \",+Calculations!B132)","v":" "},null,{"$f":"IF(+Calculations!C132=0,\" \",+Calculations!C132)","v":" "},null,null,null,null,null,{"$f":"IF(ISERR(+Calculations!F132),\" \",+Calculations!F132)","v":" "}]
[null,{"$f":"IF(+Calculations!B133=0,\" \",+Calculations!B133)","v":" "},null,{"$f":"IF(+Calculations!C133=0,\" \",+Calculations!C133)","v":" "},null,null,null,null,null,{"$f":"IF(ISERR(+Calculations!F133),\" \",+Calculations!F133)","v":" "}]
[null,{"$f":"IF(+Calculations!B134=0,\" \",+Calculations!B134)","v":" "},null,{"$f":"IF(+Calculations!C134=0,\" \",+Calculations!C134)","v":" "},null,null,null,null,null,{"$f":"IF(ISERR(+Calculations!F134),\" \",+Calculations!F134)","v":" "}]
[null,{"$f":"IF(+Calculations!B135=0,\" \",+Calculations!B135)","v":" "},null,{"$f":"IF(+Calculations!C135=0,\" \",+Calculations!C135)","v":" "},null,null,null,null,null,{"$f":"IF(ISERR(+Calculations!F135),\" \",+Calculations!F135)","v":" "}]
[null,{"$f":"IF(+Calculations!B136=0,\" \",+Calculations!B136)","v":" "},null,{"$f":"IF(+Calculations!C136=0,\" \",+Calculations!C136)","v":" "},null,null,null,null,null,{"$f":"IF(ISERR(+Calculations!F136),\" \",+Calculations!F136)","v":" "}]
[null,{"$f":"IF(+Calculations!B137=0,\" \",+Calculations!B137)","v":" "},null,{"$f":"IF(+Calculations!C137=0,\" \",+Calculations!C137)","v":" "},null,null,null,null,null,{"$f":"IF(ISERR(+Calculations!F137),\" \",+Calculations!F137)","v":" "}]
[null,{"$f":"IF(+Calculations!B138=0,\" \",+Calculations!B138)","v":" "},null,{"$f":"IF(+Calculations!C138=0,\" \",+Calculations!C138)","v":" "},null,null,null,null,null,{"$f":"IF(ISERR(+Calculations!F138),\" \",+Calculations!F138)","v":" "}]
[null,{"$f":"IF(+Calculations!B139=0,\" \",+Calculations!B139)","v":" "},null,{"$f":"IF(+Calculations!C139=0,\" \",+Calculations!C139)","v":" "},null,null,null,null,null,{"$f":"IF(ISERR(+Calculations!F139),\" \",+Calculations!F139)","v":" "}]
[null,{"$f":"IF(+Calculations!B140=0,\" \",+Calculations!B140)","v":" "},null,{"$f":"IF(+Calculations!C140=0,\" \",+Calculations!C140)","v":" "},null,null,null,null,null,{"$f":"IF(ISERR(+Calculations!F140),\" \",+Calculations!F140)","v":" "}]
[null,{"$f":"IF(+Calculations!B141=0,\" \",+Calculations!B141)","v":" "},null,{"$f":"IF(+Calculations!C141=0,\" \",+Calculations!C141)","v":" "},null,null,null,null,null,{"$f":"IF(ISERR(+Calculations!F141),\" \",+Calculations!F141)","v":" "}]
[null,{"$f":"IF(+Calculations!B142=0,\" \",+Calculations!B142)","v":" "},null,{"$f":"IF(+Calculations!C142=0,\" \",+Calculations!C142)","v":" "},null,null,null,null,null,{"$f":"IF(ISERR(+Calculations!F142),\" \",+Calculations!F142)","v":" "}]
[null,{"$f":"IF(+Calculations!B143=0,\" \",+Calculations!B143)","v":" "},null,{"$f":"IF(+Calculations!C143=0,\" \",+Calculations!C143)","v":" "},null,null,null,null,null,{"$f":"IF(ISERR(+Calculations!F143),\" \",+Calculations!F143)","v":" "}]
[null,{"$f":"IF(+Calculations!B144=0,\" \",+Calculations!B144)","v":" "},null,{"$f":"IF(+Calculations!C144=0,\" \",+Calculations!C144)","v":" "},null,null,null,null,null,{"$f":"IF(ISERR(+Calculations!F144),\" \",+Calculations!F144)","v":" "}]
[null,{"$f":"IF(+Calculations!B145=0,\" \",+Calculations!B145)","v":" "},null,{"$f":"IF(+Calculations!C145=0,\" \",+Calculations!C145)","v":" "},null,null,null,null,null,{"$f":"IF(ISERR(+Calculations!F145),\" \",+Calculations!F145)","v":" "}]

{"sheet":"X","index":16,"n_rows":43,"n_cols":104,"rows_kept":43,"cut":false,"hidden":false,"merged":[[36,3,36,7],[1,1,1,9],[24,3,24,7],[26,3,26,7],[28,3,28,7],[29,3,29,7],[30,3,30,7],[31,3,31,7],[32,3,32,7],[33,3,33,7],[34,3,34,7],[35,3,35,7],[45,1,50,9],[37,3,37,7],[38,3,38,7],[39,3,39,7],[40,3,40,7],[41,3,41,7],[42,3,42,7]]}
[]
[null,{"$f":"+'DE_Areas & Ind'!AA28","v":0}]
[]
[null,"Capacity Ranking",null,null,{"$f":"IF(DE_Capacity!AII507='DE_Areas & Ind'!$AA$29,DE_Capacity!AII510,(IF(DE_Capacity!AIJ507='DE_Areas & Ind'!$AA$29,DE_Capacity!AIJ510,(IF(DE_Capacity!AIK507='DE_Areas & Ind'!$AA$29,DE_Capacity!AIK510,(IF(DE_Capacity!AIL507='DE_Areas & Ind'!$AA$29,DE_Capacity!AIL510,(IF(DE_Capacity!AIM507='DE_Areas & Ind'!$AA$29,DE_Capacity!AIM510,(IF(DE_Capacity!AIN507='DE_Areas & Ind'!$AA$29,DE_Capacity!AIN510,(IF(DE_Capacity!AIO507='DE_Areas & Ind'!$AA$29,DE_Capacity!AIO510,(IF(DE_Capacity!AIP507='DE_Areas & Ind'!$AA$29,DE_Capacity!AIP510,(IF(DE_Capacity!AIQ507='DE_Areas & Ind'!$AA$29,DE_Capacity!AIQ510,(IF(DE_Capacity!AIR507='DE_Areas & Ind'!$AA$29,DE_Capacity!AIR510,\" \")))))))))))))))))))","v":{"$error":"#VALUE!"}}]
[]
[null,null,null,null,null,null,null,null,null,null,null,null,null,null,null,null,null,null,null,null,null,null,null,null,null,null,null,null,null,null,null,null,null,null,null,null,null,null,null,null,null,null,null,null,null,null,null,null,null,null,null,null,null,null,null,null,null,null,null,null,null,null,null,null,null,null,null,null,null,null,null,null,null,null,null,null,null,null,null,null,null,null,null,null,null,null,null,null,null,null,null,null,null,null,null,null,null,null,"Mediana","Mínimo","Máximo",null,"Min_Adj","Max_Adj"]
[null,null,null,null,null,null,null,null,null,null,null,null,null,null,null,null,null,null,null,null,null,null,null,null,null,null,null,null,null,null,null,null,null,null,null,null,null,null,null,null,null,null,null,null,null,null,null,null,null,null,null,null,null,null,null,null,null,null,null,null,null,null,null,null,null,null,null,null,null,null,null,null,null,null,null,null,null,null,null,null,null,null,null,null,null,null,null,null,null,null,null,null,null,null,null,null,null,null,{"$f":"MEDIAN(CE10:CE24)","v":{"$error":"#NUM!"}},{"$f":"MIN(CE10:CE24)","v":0},{"$f":"MAX(CE10:CE24)","v":0}]
[null,null,null,null,null,null,null,null,null,null,null,null,null,null,null,null,null,null,null,null,null,null,null,null,null,null,null,null,null,null,null,null,null,null,null,null,null,null,null,null,null,null,null,null,null,null,null,null,null,null,null,null,null,null,null,null,null,null,null,null,null,null,null,null,null,null,null,null,null,null,null,null,null,null,null,null,null,null,null,null,null,null,null,null,null,null,null,null,null,null,null,null,null,null,null,null,null,null,{"$f":"MEDIAN(CF10:CF24)","v":{"$error":"#NUM!"}},{"$f":"MIN(CF10:CF24)","v":0},{"$f":"MAX(CF10:CF24)","v":0}]
[null,null,null,null,null,null,null,null,null,null,null,null,null,null,null,null,null,null,null,null,null,null,null,null,null,null,null,null,null,null,null,null,null,null,null,null,null,null,null,null,null,null,null,null,null,null,null,null,null,null,null,null,null,null,null,null,null,null,null,null,null,null,null,null,null,null,null,null,null,null,null,null,null,null,null,null,null,null,"Capacidad","Consenso",null,null,"Capacidad","Consenso"]
[null,null,null,null,null,null,null,null,null,null,null,null,null,null,null,null,null,null,null,null,null,null,null,null,null,null,null,null,null,null,null,null,null,null,null,null,null,null,null,null,null,null,null,null,null,null,null,null,null,null,null,null,null,null,null,null,null,null,null,null,null,null,null,null,null,null,null,null,null,null,null,null,null,null,null,null,null,{"$f":"IF(DE_Capacity!EH623=\" \",\" \",DE_Capacity!EH623)","v":0},{"$f":"IF(ISERR(DE_Capacity!EJ623),\"0\",IF(DE_Capacity!EJ623=\" \",\"0\",DE_Capacity!EJ623))","v":"0"},{"$f":"IF(ISERR(DE_Capacity!EL623),\"0\",IF(DE_Capacity!EL623=\" \",\"0\",DE_Capacity!EL623))","v":"0"}]
[null,null,null,null,null,null,null,null,null,null,null,null,null,null,null,null,null,null,null,null,null,null,null,null,null,null,null,null,null,null,null,null,null,null,null,null,null,null,null,null,null,null,null,null,null,null,null,null,null,null,null,null,null,null,null,null,null,null,null,null,null,null,null,null,null,null,null,null,null,null,null,null,null,null,null,null,null,{"$f":"IF(DE_Capacity!EH624=\" \",\" \",DE_Capacity!EH624)","v":0},{"$f":"IF(ISERR(DE_Capacity!EJ624),\"0\",IF(DE_Capacity!EJ624=\" \",\"0\",DE_Capacity!EJ624))","v":"0"},{"$f":"IF(ISERR(DE_Capacity!EL624),\"0\",IF(DE_Capacity!EL624=\" \",\"0\",DE_Capacity!EL624))","v":"0"}]
[null,null,null,null,null,null,null,null,null,null,null,null,null,null,null,null,null,null,null,null,null,null,null,null,null,null,null,null,null,null,null,null,null,null,null,null,null,null,null,null,null,null,null,null,null,null,null,null,null,null,null,null,null,null,null,null,null,null,null,null,null,null,null,null,null,null,null,null,null,null,null,null,null,null,null,null,null,{"$f":"IF(DE_Capacity!EH625=\" \",\" \",DE_Capacity!EH625)","v":0},{"$f":"IF(ISERR(DE_Capacity!EJ625),\"0\",IF(DE_Capacity!EJ625=\" \",\"0\",DE_Capacity!EJ625))","v":"0"},{"$f":"IF(ISERR(DE_Capacity!EL625),\"0\",IF(DE_Capacity!EL625=\" \",\"0\",DE_Capacity!EL625))","v":"0"}]
[null,null,null,null,null,null,null,null,null,null,null,null,null,null,null,null,null,null,null,null,null,null,null,null,null,null,null,null,null,null,null,null,null,null,null,null,null,null,null,null,null,null,null,null,null,null,null,null,null,null,null,null,null,null,null,null,null,null,null,null,null,null,null,null,null,null,null,null,null,null,null,null,null,null,null,null,null,{"$f":"IF(DE_Capacity!EH626=\" \",\" \",DE_Capacity!EH626)","v":0},{"$f":"IF(ISERR(DE_Capacity!EJ626),\"0\",IF(DE_Capacity!EJ626=\" \",\"0\",DE_Capacity!EJ626))","v":"0"},{"$f":"IF(ISERR(DE_Capacity!EL626),\"0\",IF(DE_Capacity!EL626=\" \",\"0\",DE_Capacity!EL626))","v":"0"}]
[null,null,null,null,null,null,null,null,null,null,null,null,null,null,null,null,null,null,null,null,null,null,null,null,null,null,null,null,null,null,null,null,null,null,null,null,null,null,null,null,null,null,null,null,null,null,null,null,null,null,null,null,null,null,null,null,null,null,null,null,null,null,null,null,null,null,null,null,null,null,null,null,null,null,null,null,null,{"$f":"IF(DE_Capacity!EH627=\" \",\" \",DE_Capacity!EH627)","v":0},{"$f":"IF(ISERR(DE_Capacity!EJ627),\"0\",IF(DE_Capacity!EJ627=\" \",\"0\",DE_Capacity!EJ627))","v":"0"},{"$f":"IF(ISERR(DE_Capacity!EL627),\"0\",IF(DE_Capacity!EL627=\" \",\"0\",DE_Capacity!EL627))","v":"0"}]
[null,null,null,null,null,null,null,null,null,null,null,null,null,null,null,null,null,null,null,null,null,null,null,null,null,null,null,null,null,null,null,null,null,null,null,null,null,null,null,null,null,null,null,null,null,null,null,null,null,null,null,null,null,null,null,null,null,null,null,null,null,null,null,null,null,null,null,null,null,null,null,null,null,null,null,null,null,{"$f":"IF(DE_Capacity!EH628=\" \",\" \",DE_Capacity!EH628)","v":0},{"$f":"IF(ISERR(DE_Capacity!EJ628),\"0\",IF(DE_Capacity!EJ628=\" \",\"0\",DE_Capacity!EJ628))","v":"0"},{"$f":"IF(ISERR(DE_Capacity!EL628),\"0\",IF(DE_Capacity!EL628=\" \",\"0\",DE_Capacity!EL628))","v":"0"}]
[null,null,null,null,null,null,null,null,null,null,null,null,null,null,null,null,null,null,null,null,null,null,null,null,null,null,null,null,null,null,null,null,null,null,null,null,null,null,null,null,null,null,null,null,null,null,null,null,null,null,null,null,null,null,null,null,null,null,null,null,null,null,null,null,null,null,null,null,null,null,null,null,null,null,null,null,null,{"$f":"IF(DE_Capacity!EH629=\" \",\" \",DE_Capacity!EH629)","v":0},{"$f":"IF(ISERR(DE_Capacity!EJ629),\"0\",IF(DE_Capacity!EJ629=\" \",\"0\",DE_Capacity!EJ629))","v":"0"},{"$f":"IF(ISERR(DE_Capacity!EL629),\"0\",IF(DE_Capacity!EL629=\" \",\"0\",DE_Capacity!EL629))","v":"0"}]
[null,null,null,null,null,null,null,null,null,null,null,null,null,null,null,null,null,null,null,null,null,null,null,null,null,null,null,null,null,null,null,null,null,null,null,null,null,null,null,null,null,null,null,null,null,null,null,null,null,null,null,null,null,null,null,null,null,null,null,null,null,null,null,null,null,null,null,null,null,null,null,null,null,null,null,null,null,{"$f":"IF(DE_Capacity!EH630=\" \",\" \",DE_Capacity!EH630)","v":0},{"$f":"IF(ISERR(DE_Capacity!EJ630),\"0\",IF(DE_Capacity!EJ630=\" \",\"0\",DE_Capacity!EJ630))","v":"0"},{"$f":"IF(ISERR(DE_Capacity!EL630),\"0\",IF(DE_Capacity!EL630=\" \",\"0\",DE_Capacity!EL630))","v":"0"}]
[null,null,null,null,null,null,null,null,null,null,null,null,null,null,null,null,null,null,null,null,null,null,null,null,null,null,null,null,null,null,null,null,null,null,null,null,null,null,null,null,null,null,null,null,null,null,null,null,null,null,null,null,null,null,null,null,null,null,null,null,null,null,null,null,null,null,null,null,null,null,null,null,null,null,null,null,null,{"$f":"IF(DE_Capacity!EH631=\" \",\" \",DE_Capacity!EH631)","v":0},{"$f":"IF(ISERR(DE_Capacity!EJ631),\"0\",IF(DE_Capacity!EJ631=\" \",\"0\",DE_Capacity!EJ631))","v":"0"},{"$f":"IF(ISERR(DE_Capacity!EL631),\"0\",IF(DE_Capacity!EL631=\" \",\"0\",DE_Capacity!EL631))","v":"0"}]
[null,null,null,null,null,null,null,null,null,null,null,null,null,null,null,null,null,null,null,null,null,null,null,null,null,null,null,null,null,null,null,null,null,null,null,null,null,null,null,null,null,null,null,null,null,null,null,null,null,null,null,null,null,null,null,null,null,null,null,null,null,null,null,null,null,null,null,null,null,null,null,null,null,null,null,null,null,{"$f":"IF(DE_Capacity!EH632=\" \",\" \",DE_Capacity!EH632)","v":0},{"$f":"IF(ISERR(DE_Capacity!EJ632),\"0\",IF(DE_Capacity!EJ632=\" \",\"0\",DE_Capacity!EJ632))","v":"0"},{"$f":"IF(ISERR(DE_Capacity!EL632),\"0\",IF(DE_Capacity!EL632=\" \",\"0\",DE_Capacity!EL632))","v":"0"}]
[null,null,null,null,null,null,null,null,null,null,null,null,null,null,null,null,null,null,null,null,null,null,null,null,null,null,null,null,null,null,null,null,null,null,null,null,null,null,null,null,null,null,null,null,null,null,null,null,null,null,null,null,null,null,null,null,null,null,null,null,null,null,null,null,null,null,null,null,null,null,null,null,null,null,null,null,null,{"$f":"IF(DE_Capacity!EH633=\" \",\" \",DE_Capacity!EH633)","v":0},{"$f":"IF(ISERR(DE_Capacity!EJ633),\"0\",IF(DE_Capacity!EJ633=\" \",\"0\",DE_Capacity!EJ633))","v":"0"},{"$f":"IF(ISERR(DE_Capacity!EL633),\"0\",IF(DE_Capacity!EL633=\" \",\"0\",DE_Capacity!EL633))","v":"0"}]
[null,null,null,null,null,null,null,null,null,null,null,null,null,null,null,null,null,null,null,null,null,null,null,null,null,null,null,null,null,null,null,null,null,null,null,null,null,null,null,null,null,null,null,null,null,null,null,null,null,null,null,null,null,null,null,null,null,null,null,null,null,null,null,null,null,null,null,null,null,null,null,null,null,null,null,null,null,{"$f":"IF(DE_Capacity!EH634=\" \",\" \",DE_Capacity!EH634)","v":0},{"$f":"IF(ISERR(DE_Capacity!EJ634),\"0\",IF(DE_Capacity!EJ634=\" \",\"0\",DE_Capacity!EJ634))","v":"0"},{"$f":"IF(ISERR(DE_Capacity!EL634),\"0\",IF(DE_Capacity!EL634=\" \",\"0\",DE_Capacity!EL634))","v":"0"}]
[null,null,null,null,null,null,null,null,null,null,null,null,null,null,null,null,null,null,null,null,null,null,null,null,null,null,null,null,null,null,null,null,null,null,null,null,null,null,null,null,null,null,null,null,null,null,null,null,null,null,null,null,null,null,null,null,null,null,null,null,null,null,null,null,null,null,null,null,null,null,null,null,null,null,null,null,null,{"$f":"IF(DE_Capacity!EH635=\" \",\" \",DE_Capacity!EH635)","v":0},{"$f":"IF(ISERR(DE_Capacity!EJ635),\"0\",IF(DE_Capacity!EJ635=\" \",\"0\",DE_Capacity!EJ635))","v":"0"},{"$f":"IF(ISERR(DE_Capacity!EL635),\"0\",IF(DE_Capacity!EL635=\" \",\"0\",DE_Capacity!EL635))","v":"0"}]
[null,"Detail",null,null,null,null,null,null,null,null,null,null,null,null,null,null,null,null,null,null,null,null,null,null,null,null,null,null,null,null,null,null,null,null,null,null,null,null,null,null,null,null,null,null,null,null,null,null,null,null,null,null,null,null,null,null,null,null,null,null,null,null,null,null,null,null,null,null,null,null,null,null,null,null,null,null,null,{"$f":"IF(DE_Capacity!EH636=\" \",\" \",DE_Capacity!EH636)","v":0},{"$f":"IF(ISERR(DE_Capacity!EJ636),\"0\",IF(DE_Capacity!EJ636=\" \",\"0\",DE_Capacity!EJ636))","v":"0"},{"$f":"IF(ISERR(DE_Capacity!EL636),\"0\",IF(DE_Capacity!EL636=\" \",\"0\",DE_Capacity!EL636))","v":"0"}]
[null,null,null,null,null,null,null,null,null,null,null,null,null,null,null,null,null,null,null,null,null,null,null,null,null,null,null,null,null,null,null,null,null,null,null,null,null,null,null,null,null,null,null,null,null,null,null,null,null,null,null,null,null,null,null,null,null,null,null,null,null,null,null,null,null,null,null,null,null,null,null,null,null,null,null,null,null,{"$f":"IF(DE_Capacity!EH637=\" \",\" \",DE_Capacity!EH637)","v":0},{"$f":"IF(ISERR(DE_Capacity!EJ637),\"0\",IF(DE_Capacity!EJ637=\" \",\"0\",DE_Capacity!EJ637))","v":"0"},{"$f":"IF(ISERR(DE_Capacity!EL637),\"0\",IF(DE_Capacity!EL637=\" \",\"0\",DE_Capacity!EL637))","v":"0"}]
[null,"Indicator",null,"Description",null,null,null,null,null,"Average"]
[]
[null,null,null,"Maximum Value ==>",null,null,null,null,null,{"$f":"+DE_Capacity!$C$523","v":4}]
[]
[null,{"$f":"IF(+Calculations!B146=0,\" \",+Calculations!B146)","v":" "},null,{"$f":"IF(+Calculations!C146=0,\" \",+Calculations!C146)","v":" "},null,null,null,null,null,{"$f":"IF(ISERR(+Calculations!F146),\" \",+Calculations!F146)","v":" "}]
[null,{"$f":"IF(+Calculations!B147=0,\" \",+Calculations!B147)","v":" "},null,{"$f":"IF(+Calculations!C147=0,\" \",+Calculations!C147)","v":" "},null,null,null,null,null,{"$f":"IF(ISERR(+Calculations!F147),\" \",+Calculations!F147)","v":" "}]
[null,{"$f":"IF(+Calculations!B148=0,\" \",+Calculations!B148)","v":" "},null,{"$f":"IF(+Calculations!C148=0,\" \",+Calculations!C148)","v":" "},null,null,null,null,null,{"$f":"IF(ISERR(+Calculations!F148),\" \",+Calculations!F148)","v":" "}]
[null,{"$f":"IF(+Calculations!B149=0,\" \",+Calculations!B149)","v":" "},null,{"$f":"IF(+Calculations!C149=0,\" \",+Calculations!C149)","v":" "},null,null,null,null,null,{"$f":"IF(ISERR(+Calculations!F149),\" \",+Calculations!F149)","v":" "}]
[null,{"$f":"IF(+Calculations!B150=0,\" \",+Calculations!B150)","v":" "},null,{"$f":"IF(+Calculations!C150=0,\" \",+Calculations!C150)","v":" "},null,null,null,null,null,{"$f":"IF(ISERR(+Calculations!F150),\" \",+Calculations!F150)","v":" "}]
[null,{"$f":"IF(+Calculations!B151=0,\" \",+Calculations!B151)","v":" "},null,{"$f":"IF(+Calculations!C151=0,\" \",+Calculations!C151)","v":" "},null,null,null,null,null,{"$f":"IF(ISERR(+Calculations!F151),\" \",+Calculations!F151)","v":" "}]
[null,{"$f":"IF(+Calculations!B152=0,\" \",+Calculations!B152)","v":" "},null,{"$f":"IF(+Calculations!C152=0,\" \",+Calculations!C152)","v":" "},null,null,null,null,null,{"$f":"IF(ISERR(+Calculations!F152),\" \",+Calculations!F152)","v":" "}]
[null,{"$f":"IF(+Calculations!B153=0,\" \",+Calculations!B153)","v":" "},null,{"$f":"IF(+Calculations!C153=0,\" \",+Calculations!C153)","v":" "},null,null,null,null,null,{"$f":"IF(ISERR(+Calculations!F153),\" \",+Calculations!F153)","v":" "}]
[null,{"$f":"IF(+Calculations!B154=0,\" \",+Calculations!B154)","v":" "},null,{"$f":"IF(+Calculations!C154=0,\" \",+Calculations!C154)","v":" "},null,null,null,null,null,{"$f":"IF(ISERR(+Calculations!F154),\" \",+Calculations!F154)","v":" "}]
[null,{"$f":"IF(+Calculations!B155=0,\" \",+Calculations!B155)","v":" "},null,{"$f":"IF(+Calculations!C155=0,\" \",+Calculations!C155)","v":" "},null,null,null,null,null,{"$f":"IF(ISERR(+Calculations!F155),\" \",+Calculations!F155)","v":" "}]
[null,{"$f":"IF(+Calculations!B156=0,\" \",+Calculations!B156)","v":" "},null,{"$f":"IF(+Calculations!C156=0,\" \",+Calculations!C156)","v":" "},null,null,null,null,null,{"$f":"IF(ISERR(+Calculations!F156),\" \",+Calculations!F156)","v":" "}]
[null,{"$f":"IF(+Calculations!B157=0,\" \",+Calculations!B157)","v":" "},null,{"$f":"IF(+Calculations!C157=0,\" \",+Calculations!C157)","v":" "},null,null,null,null,null,{"$f":"IF(ISERR(+Calculations!F157),\" \",+Calculations!F157)","v":" "}]
[null,{"$f":"IF(+Calculations!B158=0,\" \",+Calculations!B158)","v":" "},null,{"$f":"IF(+Calculations!C158=0,\" \",+Calculations!C158)","v":" "},null,null,null,null,null,{"$f":"IF(ISERR(+Calculations!F158),\" \",+Calculations!F158)","v":" "}]
[null,{"$f":"IF(+Calculations!B159=0,\" \",+Calculations!B159)","v":" "},null,{"$f":"IF(+Calculations!C159=0,\" \",+Calculations!C159)","v":" "},null,null,null,null,null,{"$f":"IF(ISERR(+Calculations!F159),\" \",+Calculations!F159)","v":" "}]
[null,{"$f":"IF(+Calculations!B160=0,\" \",+Calculations!B160)","v":" "},null,{"$f":"IF(+Calculations!C160=0,\" \",+Calculations!C160)","v":" "},null,null,null,null,null,{"$f":"IF(ISERR(+Calculations!F160),\" \",+Calculations!F160)","v":" "}]

{"sheet":"Improvement","index":17,"n_rows":2,"n_cols":2,"rows_kept":2,"cut":false,"hidden":false,"merged":[[1,1,1,12]]}
[]
[null,"Aspects for Improvement"]

{"sheet":"Detail","index":18,"n_rows":310,"n_cols":2,"rows_kept":310,"cut":false,"hidden":false,"merged":[[235,2,235,24],[312,2,312,24],[4,2,4,24],[1,1,1,26],[81,2,81,24],[158,2,158,24],[78,1,78,26],[155,1,155,26],[232,1,232,26],[309,1,309,26]]}
[]
[null,"Indicators & Scores"]
[]
[]
[]
[]
[]
[]
[]
[]
[]
[]
[]
[]
[]
[]
[]
[]
[]
[]
[]
[]
[]
[]
[]
[]
[]
[]
[]
[]
[]
[]
[]
[]
[]
[]
[]
[]
[]
[]
[]
[]
[]
[]
[]
[]
[]
[]
[]
[]
[]
[]
[]
[]
[]
[]
[]
[]
[]
[]
[]
[]
[]
[]
[]
[]
[]
[]
[]
[]
[]
[]
[]
[]
[]
[]
[]
[]
[null,"Indicators & Scores"]
[]
[]
[]
[]
[]
[]
[]
[]
[]
[]
[]
[]
[]
[]
[]
[]
[]
[]
[]
[]
[]
[]
[]
[]
[]
[]
[]
[]
[]
[]
[]
[]
[]
[]
[]
[]
[]
[]
[]
[]
[]
[]
[]
[]
[]
[]
[]
[]
[]
[]
[]
[]
[]
[]
[]
[]
[]
[]
[]
[]
[]
[]
[]
[]
[]
[]
[]
[]
[]
[]
[]
[]
[]
[]
[]
[]
[null,"Indicators & Scores"]
[]
[]
[]
[]
[]
[]
[]
[]
[]
[]
[]
[]
[]
[]
[]
[]
[]
[]
[]
[]
[]
[]
[]
[]
[]
[]
[]
[]
[]
[]
[]
[]
[]
[]
[]
[]
[]
[]
[]
[]
[]
[]
[]
[]
[]
[]
[]
[]
[]
[]
[]
[]
[]
[]
[]
[]
[]
[]
[]
[]
[]
[]
[]
[]
[]
[]
[]
[]
[]
[]
[]
[]
[]
[]
[]
[]
[null,"Indicators & Scores"]
[]
[]
[]
[]
[]
[]
[]
[]
[]
[]
[]
[]
[]
[]
[]
[]
[]
[]
[]
[]
[]
[]
[]
[]
[]
[]
[]
[]
[]
[]
[]
[]
[]
[]
[]
[]
[]
[]
[]
[]
[]
[]
[]
[]
[]
[]
[]
[]
[]
[]
[]
[]
[]
[]
[]
[]
[]
[]
[]
[]
[]
[]
[]
[]
[]
[]
[]
[]
[]
[]
[]
[]
[]
[]
[]
[]
[null,"Indicators & Scores"]

{"sheet":"Spread","index":19,"n_rows":1009,"n_cols":4,"rows_kept":1009,"cut":false,"hidden":false,"merged":[[106,1,106,3],[3,1,3,3],[4,1,4,3],[1,1,1,3],[103,1,103,3],[105,1,105,3],[514,1,514,3],[205,1,205,3],[207,1,207,3],[208,1,208,3],[307,1,307,3],[309,1,309,3],[310,1,310,3],[409,1,409,3],[411,1,411,3],[412,1,412,3],[511,1,511,3],[513,1,513,3],[922,1,922,3],[613,1,613,3],[615,1,615,3],[616,1,616,3],[715,1,715,3],[717,1,717,3],[718,1,718,3],[817,1,817,3],[819,1,819,3],[820,1,820,3],[919,1,919,3],[921,1,921,3]]}
[]
[null,"Spread of Responses by Area "]
[]
[null,{"$f":"+'DE_Areas & Ind'!$C$5","v":"Area I"}]
[null,{"$f":"+'DE_Areas & Ind'!$C$6","v":0}]
[]
[null,{"$f":"+Calculations!$C$11","v":0},null,{"$f":"+Calculations!$C$19","v":0}]
[]
[]
[]
[]
[]
[]
[]
[]
[]
[]
[]
[null,{"$f":"+Calculations!$C$12","v":0},null,{"$f":"+Calculations!$C$20","v":0}]
[]
[]
[]
[]
[]
[]
[]
[]
[]
[]
[]
[null,{"$f":"+Calculations!$C$13","v":0},null,{"$f":"+Calculations!$C$21","v":0}]
[]
[]
[]
[]
[]
[]
[]
[]
[]
[]
[]
[null,{"$f":"+Calculations!$C$14","v":0},null,{"$f":"+Calculations!$C$22","v":0}]
[]
[]
[]
[]
[]
[]
[]
[]
[]
[]
[]
[null,{"$f":"+Calculations!$C$15","v":0},null,{"$f":"+Calculations!$C$23","v":0}]
[]
[]
[]
[]
[]
[]
[]
[]
[]
[]
[]
[null,{"$f":"+Calculations!$C$16","v":0},null,{"$f":"+Calculations!$C$24","v":0}]
[]
[]
[]
[]
[]
[]
[]
[]
[]
[]
[]
[null,{"$f":"+Calculations!$C$17","v":0},null,{"$f":"+Calculations!$C$25","v":0}]
[]
[]
[]
[]
[]
[]
[]
[]
[]
[]
[]
[null,{"$f":"+Calculations!$C$18","v":0}]
[]
[]
[]
[]
[]
[]
[]
[]
[]
[]
[]
[]
[null,"Spread of Responses by Area "]
[]
[null,{"$f":"+'DE_Areas & Ind'!$I$5","v":"Area II"}]
[null,{"$f":"+'DE_Areas & Ind'!$I$6","v":0}]
[]
[null,{"$f":"+Calculations!$C$26","v":0},null,{"$f":"+Calculations!$C$34","v":0}]
[]
[]
[]
[]
[]
[]
[]
[]
[]
[]
[]
[null,{"$f":"+Calculations!$C$27","v":0},null,{"$f":"+Calculations!$C$35","v":0}]
[]
[]
[]
[]
[]
[]
[]
[]
[]
[]
[]
[null,{"$f":"+Calculations!$C$28","v":0},null,{"$f":"+Calculations!$C$36","v":0}]
[]
[]
[]
[]
[]
[]
[]
[]
[]
[]
[]
[null,{"$f":"+Calculations!$C$29","v":0},null,{"$f":"+Calculations!$C$37","v":0}]
[]
[]
[]
[]
[]
[]
[]
[]
[]
[]
[]
[null,{"$f":"+Calculations!$C$30","v":0},null,{"$f":"+Calculations!$C$38","v":0}]
[]
[]
[]
[]
[]
[]
[]
[]
[]
[]
[]
[null,{"$f":"+Calculations!$C$31","v":0},null,{"$f":"+Calculations!$C$39","v":0}]
[]
[]
[]
[]
[]
[]
[]
[]
[]
[]
[]
[null,{"$f":"+Calculations!$C$32","v":0},null,{"$f":"+Calculations!$C$40","v":0}]
[]
[]
[]
[]
[]
[]
[]
[]
[]
[]
[]
[null,{"$f":"+Calculations!$C$33","v":0}]
[]
[]
[]
[]
[]
[]
[]
[]
[]
[]
[]
[]
[null,"Spread of Responses by Area "]
[]
[null,{"$f":"+'DE_Areas & Ind'!$O$5","v":"Area III"}]
[null,{"$f":"+'DE_Areas & Ind'!$O$6","v":0}]
[]
[null,{"$f":"+Calculations!$C$41","v":0},null,{"$f":"+Calculations!$C$49","v":0}]
[]
[]
[]
[]
[]
[]
[]
[]
[]
[]
[]
[null,{"$f":"+Calculations!$C$42","v":0},null,{"$f":"+Calculations!$C$50","v":0}]
[]
[]
[]
[]
[]
[]
[]
[]
[]
[]
[]
[null,{"$f":"+Calculations!$C$43","v":0},null,{"$f":"+Calculations!$C$51","v":0}]
[]
[]
[]
[]
[]
[]
[]
[]
[]
[]
[]
[null,{"$f":"+Calculations!$C$44","v":0},null,{"$f":"+Calculations!$C$52","v":0}]
[]
[]
[]
[]
[]
[]
[]
[]
[]
[]
[]
[null,{"$f":"+Calculations!$C$45","v":0},null,{"$f":"+Calculations!$C$53","v":0}]
[]
[]
[]
[]
[]
[]
[]
[]
[]
[]
[]
[null,{"$f":"+Calculations!$C$46","v":0},null,{"$f":"+Calculations!$C$54","v":0}]
[]
[]
[]
[]
[]
[]
[]
[]
[]
[]
[]
[null,{"$f":"+Calculations!$C$47","v":0},null,{"$f":"+Calculations!$C$55","v":0}]
[]
[]
[]
[]
[]
[]
[]
[]
[]
[]
[]
[null,{"$f":"+Calculations!$C$48","v":0}]
[]
[]
[]
[]
[]
[]
[]
[]
[]
[]
[]
[]
[null,"Spread of Responses by Area "]
[]
[null,{"$f":"+'DE_Areas & Ind'!$U$5","v":"Area IV"}]
[null,{"$f":"+'DE_Areas & Ind'!$U$6","v":0}]
[]
[null,{"$f":"+Calculations!$C$56","v":0},null,{"$f":"+Calculations!$C$64","v":0}]
[]
[]
[]
[]
[]
[]
[]
[]
[]
[]
[]
[null,{"$f":"+Calculations!$C$57","v":0},null,{"$f":"+Calculations!$C$65","v":0}]
[]
[]
[]
[]
[]
[]
[]
[]
[]
[]
[]
[null,{"$f":"+Calculations!$C$58","v":0},null,{"$f":"+Calculations!$C$66","v":0}]
[]
[]
[]
[]
[]
[]
[]
[]
[]
[]
[]
[null,{"$f":"+Calculations!$C$59","v":0},null,{"$f":"+Calculations!$C$67","v":0}]
[]
[]
[]
[]
[]
[]
[]
[]
[]
[]
[]
[null,{"$f":"+Calculations!$C$60","v":0},null,{"$f":"+Calculations!$C$68","v":0}]
[]
[]
[]
[]
[]
[]
[]
[]
[]
[]
[]
[null,{"$f":"+Calculations!$C$61","v":0},null,{"$f":"+Calculations!$C$69","v":0}]
[]
[]
[]
[]
[]
[]
[]
[]
[]
[]
[]
[null,{"$f":"+Calculations!$C$62","v":0},null,{"$f":"+Calculations!$C$70","v":0}]
[]
[]
[]
[]
[]
[]
[]
[]
[]
[]
[]
[null,{"$f":"+Calculations!$C$63","v":0}]
[]
[]
[]
[]
[]
[]
[]
[]
[]
[]
[]
[]
[null,"Spread of Responses by Area "]
[]
[null,{"$f":"+'DE_Areas & Ind'!$AA$5","v":"Area V"}]
[null,{"$f":"+'DE_Areas & Ind'!$AA$6","v":0}]
[]
[null,{"$f":"+Calculations!$C$71","v":0},null,{"$f":"+Calculations!$C$79","v":0}]
[]
[]
[]
[]
[]
[]
[]
[]
[]
[]
[]
[null,{"$f":"+Calculations!$C$72","v":0},null,{"$f":"+Calculations!$C$80","v":0}]
[]
[]
[]
[]
[]
[]
[]
[]
[]
[]
[]
[null,{"$f":"+Calculations!$C$73","v":0},null,{"$f":"+Calculations!$C$81","v":0}]
[]
[]
[]
[]
[]
[]
[]
[]
[]
[]
[]
[null,{"$f":"+Calculations!$C$74","v":0},null,{"$f":"+Calculations!$C$82","v":0}]
[]
[]
[]
[]
[]
[]
[]
[]
[]
[]
[]
[null,{"$f":"+Calculations!$C$75","v":0},null,{"$f":"+Calculations!$C$83","v":0}]
[]
[]
[]
[]
[]
[]
[]
[]
[]
[]
[]
[null,{"$f":"+Calculations!$C$76","v":0},null,{"$f":"+Calculations!$C$84","v":0}]
[]
[]
[]
[]
[]
[]
[]
[]
[]
[]
[]
[null,{"$f":"+Calculations!$C$77","v":0},null,{"$f":"+Calculations!$C$85","v":0}]
[]
[]
[]
[]
[]
[]
[]
[]
[]
[]
[]
[null,{"$f":"+Calculations!$C$78","v":0}]
[]
[]
[]
[]
[]
[]
[]
[]
[]
[]
[]
[]
[null,"Spread of Responses by Area "]
[]
[null,{"$f":"+'DE_Areas & Ind'!$C$27","v":"Area VI"}]
[null,{"$f":"+'DE_Areas & Ind'!$C$28","v":0}]
[]
[null,{"$f":"+Calculations!$C$86","v":0},null,{"$f":"+Calculations!$C$94","v":0}]
[]
[]
[]
[]
[]
[]
[]
[]
[]
[]
[]
[null,{"$f":"+Calculations!$C$87","v":0},null,{"$f":"+Calculations!$C$95","v":0}]
[]
[]
[]
[]
[]
[]
[]
[]
[]
[]
[]
[null,{"$f":"+Calculations!$C$88","v":0},null,{"$f":"+Calculations!$C$96","v":0}]
[]
[]
[]
[]
[]
[]
[]
[]
[]
[]
[]
[null,{"$f":"+Calculations!$C$89","v":0},null,{"$f":"+Calculations!$C$97","v":0}]
[]
[]
[]
[]
[]
[]
[]
[]
[]
[]
[]
[null,{"$f":"+Calculations!$C$90","v":0},null,{"$f":"+Calculations!$C$98","v":0}]
[]
[]
[]
[]
[]
[]
[]
[]
[]
[]
[]
[null,{"$f":"+Calculations!$C$91","v":0},null,{"$f":"+Calculations!$C$99","v":0}]
[]
[]
[]
[]
[]
[]
[]
[]
[]
[]
[]
[null,{"$f":"+Calculations!$C$92","v":0},null,{"$f":"+Calculations!$C$100","v":0}]
[]
[]
[]
[]
[]
[]
[]
[]
[]
[]
[]
[null,{"$f":"+Calculations!$C$93","v":0}]
[]
[]
[]
[]
[]
[]
[]
[]
[]
[]
[]
[]
[null,"Spread of Responses by Area "]
[]
[null,{"$f":"+'DE_Areas & Ind'!$I$27","v":"Area VII"}]
[null,{"$f":"+'DE_Areas & Ind'!$I$28","v":0}]
[]
[null,{"$f":"+Calculations!$C$101","v":0},null,{"$f":"+Calculations!$C$109","v":0}]
[]
[]
[]
[]
[]
[]
[]
[]
[]
[]
[]
[null,{"$f":"+Calculations!$C$102","v":0},null,{"$f":"+Calculations!$C$110","v":0}]
[]
[]
[]
[]
[]
[]
[]
[]
[]
[]
[]
[null,{"$f":"+Calculations!$C$103","v":0},null,{"$f":"+Calculations!$C$111","v":0}]
[]
[]
[]
[]
[]
[]
[]
[]
[]
[]
[]
[null,{"$f":"+Calculations!$C$104","v":0},null,{"$f":"+Calculations!$C$112","v":0}]
[]
[]
[]
[]
[]
[]
[]
[]
[]
[]
[]
[null,{"$f":"+Calculations!$C$105","v":0},null,{"$f":"+Calculations!$C$113","v":0}]
[]
[]
[]
[]
[]
[]
[]
[]
[]
[]
[]
[null,{"$f":"+Calculations!$C$106","v":0},null,{"$f":"+Calculations!$C$114","v":0}]
[]
[]
[]
[]
[]
[]
[]
[]
[]
[]
[]
[null,{"$f":"+Calculations!$C$107","v":0},null,{"$f":"+Calculations!$C$115","v":0}]
[]
[]
[]
[]
[]
[]
[]
[]
[]
[]
[]
[null,{"$f":"+Calculations!$C$108","v":0}]
[]
[]
[]
[]
[]
[]
[]
[]
[]
[]
[]
[]
[null,"Spread of Responses by Area "]
[]
[null,{"$f":"+'DE_Areas & Ind'!$O$27","v":"Area VIII"}]
[null,{"$f":"+'DE_Areas & Ind'!$O$28","v":0}]
[]
[null,{"$f":"+Calculations!$C$116","v":0},null,{"$f":"+Calculations!$C$124","v":0}]
[]
[]
[]
[]
[]
[]
[]
[]
[]
[]
[]
[null,{"$f":"+Calculations!$C$117","v":0},null,{"$f":"+Calculations!$C$125","v":0}]
[]
[]
[]
[]
[]
[]
[]
[]
[]
[]
[]
[null,{"$f":"+Calculations!$C$118","v":0},null,{"$f":"+Calculations!$C$126","v":0}]
[]
[]
[]
[]
[]
[]
[]
[]
[]
[]
[]
[null,{"$f":"+Calculations!$C$119","v":0},null,{"$f":"+Calculations!$C$127","v":0}]
[]
[]
[]
[]
[]
[]
[]
[]
[]
[]
[]
[null,{"$f":"+Calculations!$C$120","v":0},null,{"$f":"+Calculations!$C$128","v":0}]
[]
[]
[]
[]
[]
[]
[]
[]
[]
[]
[]
[null,{"$f":"+Calculations!$C$121","v":0},null,{"$f":"+Calculations!$C$129","v":0}]
[]
[]
[]
[]
[]
[]
[]
[]
[]
[]
[]
[null,{"$f":"+Calculations!$C$122","v":0},null,{"$f":"+Calculations!$C$130","v":0}]
[]
[]
[]
[]
[]
[]
[]
[]
[]
[]
[]
[null,{"$f":"+Calculations!$C$123","v":0}]
[]
[]
[]
[]
[]
[]
[]
[]
[]
[]
[]
[]
[null,"Spread of Responses by Area "]
[]
[null,{"$f":"+'DE_Areas & Ind'!$U$27","v":"Area IX"}]
[null,{"$f":"+'DE_Areas & Ind'!$U$28","v":0}]
[]
[null,{"$f":"+Calculations!$C$131","v":0},null,{"$f":"+Calculations!$C$139","v":0}]
[]
[]
[]
[]
[]
[]
[]
[]
[]
[]
[]
[null,{"$f":"+Calculations!$C$132","v":0},null,{"$f":"+Calculations!$C$140","v":0}]
[]
[]
[]
[]
[]
[]
[]
[]
[]
[]
[]
[null,{"$f":"+Calculations!$C$133","v":0},null,{"$f":"+Calculations!$C$141","v":0}]
[]
[]
[]
[]
[]
[]
[]
[]
[]
[]
[]
[null,{"$f":"+Calculations!$C$134","v":0},null,{"$f":"+Calculations!$C$142","v":0}]
[]
[]
[]
[]
[]
[]
[]
[]
[]
[]
[]
[null,{"$f":"+Calculations!$C$135","v":0},null,{"$f":"+Calculations!$C$143","v":0}]
[]
[]
[]
[]
[]
[]
[]
[]
[]
[]
[]
[null,{"$f":"+Calculations!$C$136","v":0},null,{"$f":"+Calculations!$C$144","v":0}]
[]
[]
[]
[]
[]
[]
[]
[]
[]
[]
[]
[null,{"$f":"+Calculations!$C$137","v":0},null,{"$f":"+Calculations!$C$145","v":0}]
[]
[]
[]
[]
[]
[]
[]
[]
[]
[]
[]
[null,{"$f":"+Calculations!$C$138","v":0}]
[]
[]
[]
[]
[]
[]
[]
[]
[]
[]
[]
[]
[null,"Spread of Responses by Area "]
[]
[null,{"$f":"+'DE_Areas & Ind'!$AA$27","v":"Area X"}]
[null,{"$f":"+'DE_Areas & Ind'!$AA$28","v":0}]
[]
[null,{"$f":"+Calculations!$C$146","v":0},null,{"$f":"+Calculations!$C$154","v":0}]
[]
[]
[]
[]
[]
[]
[]
[]
[]
[]
[]
[null,{"$f":"+Calculations!$C$146","v":0},null,{"$f":"+Calculations!$C$155","v":0}]
[]
[]
[]
[]
[]
[]
[]
[]
[]
[]
[]
[null,{"$f":"+Calculations!$C$148","v":0},null,{"$f":"+Calculations!$C$156","v":0}]
[]
[]
[]
[]
[]
[]
[]
[]
[]
[]
[]
[null,{"$f":"+Calculations!$C$149","v":0},null,{"$f":"+Calculations!$C$157","v":0}]
[]
[]
[]
[]
[]
[]
[]
[]
[]
[]
[]
[null,{"$f":"+Calculations!$C$150","v":0},null,{"$f":"+Calculations!$C$158","v":0}]
[]
[]
[]
[]
[]
[]
[]
[]
[]
[]
[]
[null,{"$f":"+Calculations!$C$151","v":0},null,{"$f":"+Calculations!$C$159","v":0}]
[]
[]
[]
[]
[]
[]
[]
[]
[]
[]
[]
[null,{"$f":"+Calculations!$C$152","v":0},null,{"$f":"+Calculations!$C$160","v":0}]
[]
[]
[]
[]
[]
[]
[]
[]
[]
[]
[]
[null,{"$f":"+Calculations!$C$153","v":0}]

{"sheet":"Chart_","index":20,"n_rows":285,"n_cols":130,"rows_kept":285,"cut":false,"hidden":false,"merged":[[2,88,2,93],[2,98,2,103],[2,108,2,113],[2,118,2,123],[59,30,59,34],[59,40,59,44],[59,50,59,54],[59,60,59,64],[59,70,59,74],[59,80,59,84],[2,28,2,33],[2,38,2,43],[2,48,2,53],[2,58,2,63],[2,68,2,73],[2,78,2,83],[59,90,59,94],[59,100,59,104],[59,110,59,114],[59,120,59,124],[61,120,61,124],[63,30,63,34],[63,40,63,44],[63,50,63,54],[63,60,63,64],[63,70,63,74],[63,80,63,84],[63,90,63,94],[63,100,63,104],[63,110,63,114],[63,120,63,124],[61,30,61,34],[61,40,61,44],[61,50,61,54],[61,60,61,64],[61,70,61,74],[61,80,61,84],[61,90,61,94],[61,100,61,104],[61,110,61,114],[64,120,64,124],[65,30,65,34],[65,40,65,44],[65,50,65,54],[65,60,65,64],[65,70,65,74],[65,80,65,84],[65,90,65,94],[65,100,65,104],[65,110,65,114],[65,120,65,124],[64,30,64,34],[64,40,64,44],[64,50,64,54],[64,60,64,64],[64,70,64,74],[64,80,64,84],[64,90,64,94],[64,100,64,104],[64,110,64,114],[66,120,66,124],[67,30,67,34],[67,40,67,44],[67,50,67,54],[67,60,67,64],[67,70,67,74],[67,80,67,84],[67,90,67,94],[67,100,67,104],[67,110,67,114],[67,120,67,124],[66,30,66,34],[66,40,66,44],[66,50,66,54],[66,60,66,64],[66,70,66,74],[66,80,66,84],[66,90,66,94],[66,100,66,104],[66,110,66,114],[68,120,68,124],[69,30,69,34],[69,40,69,44],[69,50,69,54],[69,60,69,64],[69,70,69,74],[69,80,69,84],[69,90,69,94],[69,100,69,104],[69,110,69,114],[69,120,69,124],[68,30,68,34],[68,40,68,44],[68,50,68,54],[68,60,68,64],[68,70,68,74],[68,80,68,84],[68,90,68,94],[68,100,68,104],[68,110,68,114],[70,120,70,124],[71,30,71,34],[71,40,71,44],[71,50,71,54],[71,60,71,64],[71,70,71,74],[71,80,71,84],[71,90,71,94],[71,100,71,104],[71,110,71,114],[71,120,71,124],[70,30,70,34],[70,40,70,44],[70,50,70,54],[70,60,70,64],[70,70,70,74],[70,80,70,84],[70,90,70,94],[70,100,70,104],[70,110,70,114],[72,120,72,124],[73,30,73,34],[73,40,73,44],[73,50,73,54],[73,60,73,64],[73,70,73,74],[73,80,73,84],[73,90,73,94],[73,100,73,104],[73,110,73,114],[73,120,73,124],[72,30,72,34],[72,40,72,44],[72,50,72,54],[72,60,72,64],[72,70,72,74],[72,80,72,84],[72,90,72,94],[72,100,72,104],[72,110,72,114],[74,120,74,124],[75,30,75,34],[75,40,75,44],[75,50,75,54],[75,60,75,64],[75,70,75,74],[75,80,75,84],[75,90,75,94],[75,100,75,104],[75,110,75,114],[75,120,75,124],[74,30,74,34],[74,40,74,44],[74,50,74,54],[74,60,74,64],[74,70,74,74],[74,80,74,84],[74,90,74,94],[74,100,74,104],[74,110,74,114],[76,120,76,124],[77,30,77,34],[77,40,77,44],[77,50,77,54],[77,60,77,64],[77,70,77,74],[77,80,77,84],[77,90,77,94],[77,100,77,104],[77,110,77,114],[77,120,77,124],[76,30,76,34],[76,40,76,44],[76,50,76,54],[76,60,76,64],[76,70,76,74],[76,80,76,84],[76,90,76,94],[76,100,76,104],[76,110,76,114],[364,120,364,124],[366,30,366,34],[366,40,366,44],[366,50,366,54],[366,60,366,64],[366,70,366,74],[366,80,366,84],[366,90,366,94],[366,100,366,104],[366,110,366,114],[366,120,366,124],[364,30,364,34],[364,40,364,44],[364,50,364,54],[364,60,364,64],[364,70,364,74],[364,80,364,84],[364,90,364,94],[364,100,364,104],[364,110,364,114],[368,120,368,124],[369,30,369,34],[369,40,369,44],[369,50,369,54],[369,60,369,64],[369,70,369,74],[369,80,369,84],[369,90,369,94],[369,100,369,104],[369,110,369,114],[369,120,369,124],[368,30,368,34],[368,40,368,44],[368,50,368,54],[368,60,368,64],[368,70,368,74],[368,80,368,84],[368,90,368,94],[368,100,368,104],[368,110,368,114],[370,120,370,124],[371,30,371,34],[371,40,371,44],[371,50,371,54],[371,60,371,64],[371,70,371,74],[371,80,371,84],[371,90,371,94],[371,100,371,104],[371,110,371,114],[371,120,371,124],[370,30,370,34],[370,40,370,44],[370,50,370,54],[370,60,370,64],[370,70,370,74],[370,80,370,84],[370,90,370,94],[370,100,370,104],[370,110,370,114],[372,120,372,124],[373,30,373,34],[373,40,373,44],[373,50,373,54],[373,60,373,64],[373,70,373,74],[373,80,373,84],[373,90,373,94],[373,100,373,104],[373,110,373,114],[373,120,373,124],[372,30,372,34],[372,40,372,44],[372,50,372,54],[372,60,372,64],[372,70,372,74],[372,80,372,84],[372,90,372,94],[372,100,372,104],[372,110,372,114],[374,120,374,124],[375,30,375,34],[375,40,375,44],[375,50,375,54],[375,60,375,64],[375,70,375,74],[375,80,375,84],[375,90,375,94],[375,100,375,104],[375,110,375,114],[375,120,375,124],[374,30,374,34],[374,40,374,44],[374,50,374,54],[374,60,374,64],[374,70,374,74],[374,80,374,84],[374,90,374,94],[374,100,374,104],[374,110,374,114],[378,100,378,104],[378,110,378,114],[376,120,376,124],[377,30,377,34],[377,40,377,44],[377,50,377,54],[377,60,377,64],[377,70,377,74],[377,80,377,84],[377,90,377,94],[377,100,377,104],[377,110,377,114],[377,120,377,124],[376,30,376,34],[376,40,376,44],[376,50,376,54],[376,60,376,64],[376,70,376,74],[376,80,376,84],[376,90,376,94],[376,100,376,104],[376,110,376,114],[380,60,380,64],[380,70,380,74],[380,80,380,84],[380,90,380,94],[380,100,380,104],[380,110,380,114],[378,120,378,124],[379,30,379,34],[379,40,379,44],[379,50,379,54],[379,60,379,64],[379,70,379,74],[379,80,379,84],[379,90,379,94],[379,100,379,104],[379,110,379,114],[379,120,379,124],[378,30,378,34],[378,40,378,44],[378,50,378,54],[378,60,378,64],[378,70,378,74],[378,80,378,84],[378,90,378,94],[380,120,380,124],[381,30,381,34],[381,40,381,44],[381,50,381,54],[381,60,381,64],[381,70,381,74],[381,80,381,84],[382,90,382,94],[382,100,382,104],[382,110,382,114],[382,120,382,124],[381,90,381,94],[381,100,381,104],[381,110,381,114],[381,120,381,124],[382,30,382,34],[382,40,382,44],[382,50,382,54],[382,60,382,64],[382,70,382,74],[382,80,382,84],[380,30,380,34],[380,40,380,44],[380,50,380,54]]}
[]
[]
[null,null,null,null,null,null,null,null,null,null,null,null,null,null,null,null,null,null,null,null,null,null,null,null,null,null,null,null,{"$f":"+I!B2","v":0},null,null,null,null,null,null,null,null,null,{"$f":"+II!$B$2","v":0},null,null,null,null,null,null,null,null,null,{"$f":"+III!B2","v":0},null,null,null,null,null,null,null,null,null,{"$f":"+IV!B2","v":0},null,null,null,null,null,null,null,null,null,{"$f":"+V!B2","v":0},null,null,null,null,null,null,null,null,null,{"$f":"+VI!B2","v":0},null,null,null,null,null,null,null,null,null,{"$f":"+VII!B2","v":0},null,null,null,null,null,null,null,null,null,{"$f":"+VIII!B2","v":0},null,null,null,null,null,null,null,null,null,{"$f":"+IX!B2","v":0},null,null,null,null,null,null,null,null,null,{"$f":"+X!B2","v":0},null,null,null,null,null,null,null,null,null,null,{"$f":"+Detail!$B$2","v":"Indicators & Scores"}]
[]
[]
[]
[]
[]
[]
[]
[]
[]
[]
[]
[]
[]
[]
[]
[]
[]
[]
[]
[]
[]
[]
[]
[]
[]
[]
[]
[]
[]
[]
[]
[]
[]
[]
[]
[]
[]
[]
[]
[]
[]
[]
[]
[]
[]
[]
[]
[]
[]
[]
[]
[]
[]
[]
[]
[]
[]
[]
[]
[]
[]
[]
[]
[]
[]
[]
[null,null,null,null,null,null,null,null,null,null,null,null,null,null,null,null,null,null,null,null,null,null,null,null,null,null,null,null,null,null,null,null,null,null,null,null,null,null,null,null,null,null,null,null,null,null,null,null,null,null,null,null,null,null,null,null,null,null,null,null,null,null,null,null,null,null,null,null,null,null,null,null,null,null,null,null,null,null,null,null,null,null,null,null,null,null,null,null,null,null,null,null,null,null,null,null,null,null,null,null,null,null,null,null,null,null,null,null,null,null,null,null,null,null,null,null,null,null,null,null,null,null,null,null,null,null,null,null,null,{"$f":"+DZ3","v":"Indicators & Scores"}]
[]
[]
[]
[]
[]
[]
[]
[]
[]
[]
[]
[]
[]
[]
[]
[]
[]
[]
[]
[]
[]
[]
[]
[]
[]
[]
[]
[]
[]
[]
[]
[]
[]
[]
[]
[]
[]
[]
[]
[]
[]
[]
[]
[]
[]
[]
[]
[]
[]
[]
[]
[]
[]
[]
[]
[]
[]
[]
[]
[]
[]
[]
[]
[null,null,null,null,null,null,null,null,null,null,null,null,null,null,null,null,null,null,null,null,null,null,null,null,null,null,null,null,null,null,null,null,null,null,null,null,null,null,null,null,null,null,null,null,null,null,null,null,null,null,null,null,null,null,null,null,null,null,null,null,null,null,null,null,null,null,null,null,null,null,null,null,null,null,null,null,null,null,null,null,null,null,null,null,null,null,null,null,null,null,null,null,null,null,null,null,null,null,null,null,null,null,null,null,null,null,null,null,null,null,null,null,null,null,null,null,null,null,null,null,null,null,null,null,null,null,null,null,null,{"$f":"+DZ70","v":"Indicators & Scores"}]
[]
[]
[]
[]
[]
[]
[]
[]
[]
[]
[]
[]
[]
[]
[]
[]
[]
[]
[]
[]
[]
[]
[]
[]
[]
[]
[]
[]
[]
[]
[]
[]
[]
[]
[]
[]
[]
[]
[]
[]
[]
[]
[]
[]
[]
[]
[]
[]
[]
[]
[]
[]
[]
[]
[]
[]
[]
[]
[]
[]
[]
[]
[]
[]
[]
[]
[]
[]
[]
[]
[]
[]
[]
[]
[]
[null,null,null,null,null,null,null,null,null,null,null,null,null,null,null,null,null,null,null,null,null,null,null,null,null,null,null,null,null,null,null,null,null,null,null,null,null,null,null,null,null,null,null,null,null,null,null,null,null,null,null,null,null,null,null,null,null,null,null,null,null,null,null,null,null,null,null,null,null,null,null,null,null,null,null,null,null,null,null,null,null,null,null,null,null,null,null,null,null,null,null,null,null,null,null,null,null,null,null,null,null,null,null,null,null,null,null,null,null,null,null,null,null,null,null,null,null,null,null,null,null,null,null,null,null,null,null,null,null,{"$f":"+DZ134","v":"Indicators & Scores"}]
[]
[]
[]
[]
[]
[]
[]
[]
[]
[]
[]
[]
[]
[]
[]
[]
[]
[]
[]
[]
[]
[]
[]
[]
[]
[]
[]
[]
[]
[]
[]
[]
[]
[]
[]
[]
[]
[]
[]
[]
[]
[]
[]
[]
[]
[]
[]
[]
[]
[]
[]
[]
[]
[]
[]
[]
[]
[]
[]
[]
[]
[]
[]
[]
[]
[]
[]
[]
[]
[]
[]
[]
[]
[]
[null,null,null,null,null,null,null,null,null,null,null,null,null,null,null,null,null,null,null,null,null,null,null,null,null,null,null,null,null,null,null,null,null,null,null,null,null,null,null,null,null,null,null,null,null,null,null,null,null,null,null,null,null,null,null,null,null,null,null,null,null,null,null,null,null,null,null,null,null,null,null,null,null,null,null,null,null,null,null,null,null,null,null,null,null,null,null,null,null,null,null,null,null,null,null,null,null,null,null,null,null,null,null,null,null,null,null,null,null,null,null,null,null,null,null,null,null,null,null,null,null,null,null,null,null,null,null,null,null,{"$f":"+DZ210","v":"Indicators & Scores"}]